{"text_format":"3","workbook":"xlsx","n_sheets":14,"sheets":["CGr 6 8yrs","CGr 6 <11","CGr 6 >12","NGr 5 >12","CGr 5 9yrs","CGr 5 <11","NGr 4 <11","NGr 4 >12","RegGr 3 <11","RegGr 3 >12","RegGr 2","RegGr 1","average vault","E Dev 4 9yrs"],"not_rendered":{"macros":1,"defined_names":300},"read":"whole","date_system":"1900"}

{"sheet":"CGr 6 8yrs","index":0,"n_rows":81,"n_cols":55,"rows_kept":81,"merged":[[0,3,0,8],[0,12,0,14],[0,18,0,20],[0,24,0,26],[0,30,0,32],[0,36,0,37],[2,45,2,54],[45,44,45,45],[45,48,45,49],[45,52,45,53],[56,44,56,45]]}
[{"$nulls":3},"VAULT",{"$nulls":8},"BARS",{"$nulls":5},"BEAM",{"$nulls":5},"FLOOR",{"$nulls":5},"RANGE",{"$nulls":5},"AA"]
["No","GYMNAST","CLUB","V1 SV","V1","V2 SV","V2","SCORE","POS","idx","sort","ties","SV","SCORE","POS","idx","sort","ties","SV","SCORE","POS","idx","sort","ties","SV","SCORE","POS","idx","sort","ties","SV","SCORE","POS","idx","sort","ties","TOTAL","POS","idx","sort","ties"]
[null,"Club Grade 6 - 8 years",{"$nulls":41},{"$f":"B3","v":"Club Grade 6 - 8 years"},null,"summary results for presentation"]
[1,"Eva Keeligan","SD",{"v":4,"d":"4.0"},11.85,{"v":0,"d":"0.0"},{"v":0,"d":"0.00"},{"$f":"MAX(E4, G4)","v":11.85},{"$f":"VLOOKUP(H4, K$4:L$65, 2,FALSE)","v":10},{"$f":"IF(ISNUMBER(J3), J3+1, 1)","v":1},{"$f":"LARGE(H$4:H$65,J4)","v":12.65},{"$f":"IF(K4=K3, L3, L3+1)","v":1},{"v":4,"d":"4.0"},{"v":11.1,"d":"11.10"},{"$f":"VLOOKUP(N4, Q$4:R$65, 2,FALSE)","v":22},{"$f":"IF(ISNUMBER(P3), P3+1, 1)","v":1},{"$f":"LARGE(N$4:N$65,P4)","v":13.4},{"$f":"IF(Q4=Q3, R3, R3+1)","v":1},3.5,{"v":10.3,"d":"10.30"},{"$f":"VLOOKUP(T4, W$4:X$65, 2,FALSE)","v":20},{"$f":"IF(ISNUMBER(V3), V3+1, 1)","v":1},{"$f":"LARGE(T$4:T$65,V4)","v":12.85},{"$f":"IF(W4=W3, X3, X3+1)","v":1},3.5,{"v":10.9,"d":"10.90"},{"$f":"VLOOKUP(Z4, AC$4:AD$65, 2,FALSE)","v":13},{"$f":"IF(ISNUMBER(AB3), AB3+1, 1)","v":1},{"$f":"LARGE(Z$4:Z$65,AB4)","v":12.25},{"$f":"IF(AC4=AC3, AD3, AD3+1)","v":1},{"v":4,"d":"4.0"},10.55,{"$f":"VLOOKUP(AF4, AI$4:AJ$65, 2,FALSE)","v":15},{"$f":"IF(ISNUMBER(AH3), AH3+1, 1)","v":1},{"$f":"LARGE(AF$4:AF$65,AH4)","v":12.85},{"$f":"IF(AI4=AI3, AJ3, AJ3+1)","v":1},{"$f":"SUMIF(D$2:AJ$2, \"SCORE\", D4:AJ4)","v":{"v":54.7,"d":"54.70"}},{"$f":"VLOOKUP(AK4, AN$4:AO$65, 2,FALSE)","v":19},{"$f":"IF(ISNUMBER(AM3), AM3+1, 1)","v":1},{"$f":"LARGE($AK$4:$AK$65,$AM4)","v":62.1},{"$f":"IF(AN4=AN3, AO3, AO3+1)","v":1},null,null,"6th Place",{"$f":"IFERROR(INDEX(vault,MATCH(AR5,gymnasts,0)), \"\")","v":{"v":12.2,"d":"12.20"}},"5th Place",{"$f":"IFERROR(INDEX(vault,MATCH(AT5,gymnasts,0)), \"\")","v":12.25},"4th Place",{"$f":"IFERROR(INDEX(vault,MATCH(AV5,gymnasts,0)), \"\")","v":{"v":12.3,"d":"12.30"}},"3rd Place",{"$f":"IFERROR(INDEX(vault,MATCH(AX5,gymnasts,0)), \"\")","v":12.35},"2nd Place",{"$f":"IFERROR(INDEX(vault,MATCH(AZ5,gymnasts,0)), \"\")","v":{"v":12.5,"d":"12.50"}},"1st Place",{"$f":"IFERROR(INDEX(vault,MATCH(BB5,gymnasts,0)), \"\")","v":12.65}]
[2,"Lottie Carey","SD",{"v":4,"d":"4.0"},12.05,{"v":0,"d":"0.0"},{"v":0,"d":"0.00"},{"$f":"MAX(E5, G5)","v":12.05},{"$f":"VLOOKUP(H5, K$4:L$65, 2,FALSE)","v":8},2,{"$f":"LARGE(H$4:H$65,J5)","v":12.5},{"$f":"IF(K5=K4, L4, L4+1)","v":2},{"v":4,"d":"4.0"},12.95,{"$f":"VLOOKUP(N5, Q$4:R$65, 2,FALSE)","v":4},2,{"$f":"LARGE(N$4:N$65,P5)","v":13.35},{"$f":"IF(Q5=Q4, R4, R4+1)","v":2},{"v":4,"d":"4.0"},12.85,{"$f":"VLOOKUP(T5, W$4:X$65, 2,FALSE)","v":1},2,{"$f":"LARGE(T$4:T$65,V5)","v":12.8},{"$f":"IF(W5=W4, X4, X4+1)","v":2},{"v":4,"d":"4.0"},12.25,{"$f":"VLOOKUP(Z5, AC$4:AD$65, 2,FALSE)","v":1},2,{"$f":"LARGE(Z$4:Z$65,AB5)","v":12.2},{"$f":"IF(AC5=AC4, AD4, AD4+1)","v":2},{"v":4,"d":"4.0"},{"v":12,"d":"12.00"},{"$f":"VLOOKUP(AF5, AI$4:AJ$65, 2,FALSE)","v":6},2,{"$f":"LARGE(AF$4:AF$65,AH5)","v":12.7},{"$f":"IF(AI5=AI4, AJ4, AJ4+1)","v":2},{"v":62.1,"d":"62.10"},{"$f":"VLOOKUP(AK5, AN$4:AO$65, 2,FALSE)","v":1},2,{"$f":"LARGE($AK$4:$AK$65,$AM5)","v":61.9},{"$f":"IF(AN5=AN4, AO4, AO4+1)","v":2},null,"Vault",{"$f":"IFERROR(INDEX(gymnasts, SMALL(IF(VALUE(LEFT(AR$32, 1))=vaultPos, ROW(vaultPos)-MIN(ROW(vaultPos))+1, \"\"), ROW()-4)), \"\")","v":"Gabrille Rae"},{"$f":"IFERROR( INDEX(entries, MATCH(AR5, gymnasts, 0), 2), \"\")","v":"CNGA"},{"$f":"IFERROR(INDEX(gymnasts, SMALL(IF(VALUE(LEFT(AT$32, 1))=vaultPos, ROW(vaultPos)-MIN(ROW(vaultPos))+1, \"\"), ROW()-4)), \"\")","v":"Niamh Morris"},{"$f":"IFERROR( INDEX(entries, MATCH(AT5, gymnasts, 0), 2), \"\")","v":"Redcar"},{"$f":"IFERROR(INDEX(gymnasts, SMALL(IF(VALUE(LEFT(AV$32, 1))=vaultPos, ROW(vaultPos)-MIN(ROW(vaultPos))+1, \"\"), ROW()-4)), \"\")","v":"Lara Cowie"},{"$f":"IFERROR( INDEX(entries, MATCH(AV5, gymnasts, 0), 2), \"\")","v":"CNGA"},{"$f":"IFERROR(INDEX(gymnasts, SMALL(IF(VALUE(LEFT(AX$32, 1))=vaultPos, ROW(vaultPos)-MIN(ROW(vaultPos))+1, \"\"), ROW()-4)), \"\")","v":"Isabel Gallagher"},{"$f":"IFERROR( INDEX(entries, MATCH(AX5, gymnasts, 0), 2), \"\")","v":"CNGA"},{"$f":"IFERROR(INDEX(gymnasts, SMALL(IF(VALUE(LEFT(AZ$32, 1))=vaultPos, ROW(vaultPos)-MIN(ROW(vaultPos))+1, \"\"), ROW()-4)), \"\")","v":"Madeleine Petitjean"},{"$f":"IFERROR( INDEX(entries, MATCH(AZ5, gymnasts, 0), 2), \"\")","v":"Darlington"},{"$f":"IFERROR(INDEX(gymnasts, SMALL(IF(VALUE(LEFT(BB$32, 1))=vaultPos, ROW(vaultPos)-MIN(ROW(vaultPos))+1, \"\"), ROW()-4)), \"\")","v":"Charlotte Campbell"},{"$f":"IFERROR( INDEX(entries, MATCH(BB5, gymnasts, 0), 2), \"\")","v":"Hartlepool"}]
[3,"Sofia Metcalfe","SD",{"v":4,"d":"4.0"},11.75,{"v":0,"d":"0.0"},{"v":0,"d":"0.00"},11.75,12,3,12.5,2,{"v":4,"d":"4.0"},{"v":12.9,"d":"12.90"},5,3,13.05,3,{"v":4,"d":"4.0"},11.15,16,3,12.6,3,{"v":4,"d":"4.0"},11.95,4,3,12.15,3,{"v":4,"d":"4.0"},{"v":12.7,"d":"12.70"},2,3,12.5,3,60.45,6,3,61.800000000000004,3,null,null,"Marcy Armstrong",{"$f":"IFERROR( INDEX(entries, MATCH(AR6, gymnasts, 0), 2), \"\")","v":"Carlisle"},"Maya Ward",{"$f":"IFERROR( INDEX(entries, MATCH(AT6, gymnasts, 0), 2), \"\")","v":"Carlisle"},"",{"$f":"IFERROR( INDEX(entries, MATCH(AV6, gymnasts, 0), 2), \"\")","v":""},"",{"$f":"IFERROR( INDEX(entries, MATCH(AX6, gymnasts, 0), 2), \"\")","v":""},"Eva Marcu",{"$f":"IFERROR( INDEX(entries, MATCH(AZ6, gymnasts, 0), 2), \"\")","v":"North Lakes"},"",""]
[4,"Lyla Bradley","SD",{"v":4,"d":"4.0"},11.75,{"v":0,"d":"0.0"},{"v":0,"d":"0.00"},11.75,12,4,12.35,3,{"v":4,"d":"4.0"},"11,30",{"$error":"#N/A"},4,12.95,4,{"v":4,"d":"4.0"},11.85,10,4,12.35,4,{"v":4,"d":"4.0"},{"v":11.5,"d":"11.50"},9,4,11.95,4,{"v":4,"d":"4.0"},11.25,8,4,12.4,4,57.65,12,4,61.25,4,null,null,"","","","","","","","","","","",""]
[5,"Emilie Kennedy","Redcar",{"v":4,"d":"4.0"},{"v":12.1,"d":"12.10"},{"v":0,"d":"0.0"},{"v":0,"d":"0.00"},{"v":12.1,"d":"12.10"},7,5,12.3,4,{"v":4,"d":"4.0"},12.85,6,5,12.9,5,{"v":4,"d":"4.0"},{"v":12.1,"d":"12.10"},7,5,12.2,5,3.5,{"v":9,"d":"9.00"},22,5,11.9,5,{"v":4,"d":"4.0"},10.75,13,5,12.25,5,{"v":56.8,"d":"56.80"},15,5,60.5,5,null,null,"","","","","","","","","","","",""]
[6,"Ava Golden","Redcar",{"v":4,"d":"4.0"},11.95,{"v":0,"d":"0.0"},{"v":0,"d":"0.00"},11.95,9,6,12.25,5,{"v":4,"d":"4.0"},{"v":12.2,"d":"12.20"},11,6,12.85,6,{"v":4,"d":"4.0"},{"v":12.2,"d":"12.20"},5,6,12.2,5,{"v":4,"d":"4.0"},{"v":10.6,"d":"10.60"},16,6,11.9,5,{"v":4,"d":"4.0"},{"v":10.8,"d":"10.80"},12,6,12,6,57.75,11,6,60.45,6,null,null,"","","","","","","","","","","",""]
[7,"Niamh Morris","Redcar",{"v":4,"d":"4.0"},12.25,{"v":0,"d":"0.0"},{"v":0,"d":"0.00"},12.25,5,7,12.25,5,{"v":4,"d":"4.0"},13.05,3,7,12.85,6,{"v":4,"d":"4.0"},{"v":12.6,"d":"12.60"},3,7,12.15,6,{"v":4,"d":"4.0"},{"v":11.9,"d":"11.90"},5,7,11.85,6,3.5,{"v":10.7,"d":"10.70"},14,7,11.4,7,{"v":60.5,"d":"60.50"},5,7,59.2,7,null,null,"","","","","","","","","","","",""]
[8,"Florence Fox","Richmondshire",{"v":4,"d":"4.0"},{"v":11.1,"d":"11.10"},{"v":0,"d":"0.0"},{"v":0,"d":"0.00"},{"v":11.1,"d":"11.10"},17,8,12.2,6,{"v":4,"d":"4.0"},11.55,16,8,12.55,7,{"v":4,"d":"4.0"},9.75,23,8,12.15,6,3.5,9.05,21,8,11.75,7,{"v":4,"d":"4.0"},{"v":9.2,"d":"9.20"},21,8,11.25,8,{"v":50.650000000000006,"d":"50.65"},25,8,58.699999999999996,8,null,null,"6th Place",{"$f":"IFERROR(INDEX(bars,MATCH(AR12,gymnasts,0)), \"\")","v":""},"5th Place",{"$f":"IFERROR(INDEX(bars,MATCH(AT12,gymnasts,0)), \"\")","v":""},"4th Place",{"$f":"IFERROR(INDEX(bars,MATCH(AV12,gymnasts,0)), \"\")","v":""},"3rd Place",{"$f":"IFERROR(INDEX(bars,MATCH(AX12,gymnasts,0)), \"\")","v":""},"2nd Place",{"$f":"IFERROR(INDEX(bars,MATCH(AZ12,gymnasts,0)), \"\")","v":""},"1st Place",{"$f":"IFERROR(INDEX(bars,MATCH(BB12,gymnasts,0)), \"\")","v":""}]
[9,"Connie Wilford","Richmondshire",{"v":4,"d":"4.0"},{"v":11.6,"d":"11.60"},{"v":0,"d":"0.0"},{"v":0,"d":"0.00"},{"v":11.6,"d":"11.60"},13,9,12.2,6,{"v":4,"d":"4.0"},11.25,21,9,12.45,8,{"v":4,"d":"4.0"},10.65,19,9,12.1,7,{"v":4,"d":"4.0"},10.75,14,9,11.75,7,3.5,4.25,28,9,11.15,9,{"v":48.5,"d":"48.50"},27,9,58.49999999999999,9,null,"Bars",{"$f":"IFERROR(INDEX(gymnasts, SMALL(IF(VALUE(LEFT(AR$32, 1))=BarPos, ROW(BarPos)-MIN(ROW(BarPos))+1, \"\"), ROW()-11)), \"\")","v":""},{"$f":"IFERROR( INDEX(entries, MATCH(AR12, gymnasts, 0), 2), \"\")","v":""},{"$f":"IFERROR(INDEX(gymnasts, SMALL(IF(VALUE(LEFT(AT$32, 1))=BarPos, ROW(BarPos)-MIN(ROW(BarPos))+1, \"\"), ROW()-11)), \"\")","v":""},{"$f":"IFERROR( INDEX(entries, MATCH(AT12, gymnasts, 0), 2), \"\")","v":""},{"$f":"IFERROR(INDEX(gymnasts, SMALL(IF(VALUE(LEFT(AV$32, 1))=BarPos, ROW(BarPos)-MIN(ROW(BarPos))+1, \"\"), ROW()-11)), \"\")","v":""},{"$f":"IFERROR( INDEX(entries, MATCH(AV12, gymnasts, 0), 2), \"\")","v":""},{"$f":"IFERROR(INDEX(gymnasts, SMALL(IF(VALUE(LEFT(AX$32, 1))=BarPos, ROW(BarPos)-MIN(ROW(BarPos))+1, \"\"), ROW()-11)), \"\")","v":""},{"$f":"IFERROR( INDEX(entries, MATCH(AX12, gymnasts, 0), 2), \"\")","v":""},{"$f":"IFERROR(INDEX(gymnasts, SMALL(IF(VALUE(LEFT(AZ$32, 1))=BarPos, ROW(BarPos)-MIN(ROW(BarPos))+1, \"\"), ROW()-11)), \"\")","v":""},{"$f":"IFERROR( INDEX(entries, MATCH(AZ12, gymnasts, 0), 2), \"\")","v":""},{"$f":"IFERROR(INDEX(gymnasts, SMALL(IF(VALUE(LEFT(BB$32, 1))=BarPos, ROW(BarPos)-MIN(ROW(BarPos))+1, \"\"), ROW()-11)), \"\")","v":""},{"$f":"IFERROR( INDEX(entries, MATCH(BB12, gymnasts, 0), 2), \"\")","v":""}]
[10,"Effie Wilson","Richmondshire",{"v":4,"d":"4.0"},{"v":11.8,"d":"11.80"},{"v":0,"d":"0.0"},{"v":0,"d":"0.00"},{"v":11.8,"d":"11.80"},11,10,12.1,7,{"v":4,"d":"4.0"},{"v":10.8,"d":"10.80"},23,10,12.3,9,{"v":3,"d":"3.0"},{"v":9.9,"d":"9.90"},22,10,12.1,7,3.5,{"v":8.5,"d":"8.50"},23,10,11.7,8,{"v":3,"d":"3.0"},{"v":9,"d":"9.00"},22,10,11.05,10,{"v":50,"d":"50.00"},26,10,58.349999999999994,10,null,null,"",{"$f":"IFERROR( INDEX(entries, MATCH(AR13, gymnasts, 0), 2), \"\")","v":""},"",{"$f":"IFERROR( INDEX(entries, MATCH(AT13, gymnasts, 0), 2), \"\")","v":""},"",{"$f":"IFERROR( INDEX(entries, MATCH(AV13, gymnasts, 0), 2), \"\")","v":""},"",{"$f":"IFERROR( INDEX(entries, MATCH(AX13, gymnasts, 0), 2), \"\")","v":""},"",{"$f":"IFERROR( INDEX(entries, MATCH(AZ13, gymnasts, 0), 2), \"\")","v":""},"",""]
[11,"Lola Corner","Richmondshire",{"v":4,"d":"4.0"},11.45,{"v":0,"d":"0.0"},{"v":0,"d":"0.00"},11.45,15,11,12.1,7,{"v":4,"d":"4.0"},{"v":10.7,"d":"10.70"},24,11,12.25,10,{"v":3,"d":"3.0"},{"v":10,"d":"10.00"},21,11,12.05,8,{"v":4,"d":"4.0"},{"v":10.3,"d":"10.30"},18,11,11.5,9,3.5,9.95,18,11,10.85,11,{"v":52.400000000000006,"d":"52.40"},24,11,57.75,11,null,null,"","","","","","","","","","","",""]
[12,"Aaleia Paton","CNGA",{"v":4,"d":"4.0"},{"v":11.8,"d":"11.80"},{"v":0,"d":"0.0"},{"v":0,"d":"0.00"},{"v":11.8,"d":"11.80"},11,12,12.05,8,{"v":4,"d":"4.0"},12.85,6,12,12.2,11,{"v":4,"d":"4.0"},{"v":12.8,"d":"12.80"},2,12,12,9,{"v":4,"d":"4.0"},{"v":11.3,"d":"11.30"},10,12,11.3,10,{"v":4,"d":"4.0"},{"v":12.5,"d":"12.50"},3,12,10.8,12,61.25,4,12,57.65,12,null,null,"","","","","","","","","","","",""]
[13,"Elsie Reavely","CNGA",{"v":4,"d":"4.0"},{"v":11.5,"d":"11.50"},{"v":0,"d":"0.0"},{"v":0,"d":"0.00"},{"v":11.5,"d":"11.50"},14,13,12.05,8,{"v":4,"d":"4.0"},12.25,10,13,12.15,12,3.5,11.65,12,13,11.85,10,{"v":4,"d":"4.0"},10.75,14,13,11.25,11,{"v":4,"d":"4.0"},10.85,11,13,10.75,13,{"v":57,"d":"57.00"},14,13,57.300000000000004,13,null,null,"","","","","","","","","","","",""]
[14,"Gabrille Rae","CNGA",{"v":4,"d":"4.0"},{"v":12.2,"d":"12.20"},{"v":0,"d":"0.0"},{"v":0,"d":"0.00"},{"v":12.2,"d":"12.20"},6,14,11.95,9,{"v":4,"d":"4.0"},12.55,7,14,12.05,13,{"v":4,"d":"4.0"},{"v":12,"d":"12.00"},9,14,11.8,11,{"v":4,"d":"4.0"},{"v":12.2,"d":"12.20"},2,14,11.1,12,{"v":4,"d":"4.0"},12.85,1,14,10.7,14,{"v":61.800000000000004,"d":"61.80"},3,14,57,14,null,null,"","","","","","","","","","","",""]
[15,"Isabel Gallagher","CNGA",{"v":4,"d":"4.0"},12.35,{"v":0,"d":"0.0"},{"v":0,"d":"0.00"},12.35,3,15,11.85,10,{"v":4,"d":"4.0"},{"v":12.3,"d":"12.30"},9,15,11.75,14,{"v":4,"d":"4.0"},{"v":9.7,"d":"9.70"},24,15,11.8,11,{"v":4,"d":"4.0"},11.75,7,15,10.9,13,3.5,{"v":12.4,"d":"12.40"},4,15,10.7,14,{"v":58.49999999999999,"d":"58.50"},9,15,56.8,15,null,null,"6th Place",{"$f":"IFERROR(INDEX(beam,MATCH(AR19,gymnasts,0)), \"\")","v":12.15},"5th Place",{"$f":"IFERROR(INDEX(beam,MATCH(AT19,gymnasts,0)), \"\")","v":{"v":12.2,"d":"12.20"}},"4th Place",{"$f":"IFERROR(INDEX(beam,MATCH(AV19,gymnasts,0)), \"\")","v":12.35},"3rd Place",{"$f":"IFERROR(INDEX(beam,MATCH(AX19,gymnasts,0)), \"\")","v":{"v":12.6,"d":"12.60"}},"2nd Place",{"$f":"IFERROR(INDEX(beam,MATCH(AZ19,gymnasts,0)), \"\")","v":{"v":12.8,"d":"12.80"}},"1st Place",{"$f":"IFERROR(INDEX(beam,MATCH(BB19,gymnasts,0)), \"\")","v":12.85}]
[16,"Lara Cowie","CNGA",{"v":4,"d":"4.0"},{"v":12.3,"d":"12.30"},{"v":0,"d":"0.0"},{"v":0,"d":"0.00"},{"v":12.3,"d":"12.30"},4,16,11.85,10,{"v":4,"d":"4.0"},13.35,2,16,11.75,14,{"v":4,"d":"4.0"},{"v":12.1,"d":"12.10"},7,16,11.65,12,{"v":4,"d":"4.0"},{"v":11.9,"d":"11.90"},5,16,10.9,13,{"v":4,"d":"4.0"},12.25,5,16,10.55,15,{"v":61.9,"d":"61.90"},2,16,55.75,16,null,"Beam",{"$f":"IFERROR(INDEX(gymnasts, SMALL(IF(VALUE(LEFT(AR$32, 1))=BeamPos, ROW(BeamPos)-MIN(ROW(BeamPos))+1, \"\"), ROW()-18)), \"\")","v":"Izzy Easby"},{"$f":"IFERROR( INDEX(entries, MATCH(AR19, gymnasts, 0), 2), \"\")","v":"Darlington"},{"$f":"IFERROR(INDEX(gymnasts, SMALL(IF(VALUE(LEFT(AT$32, 1))=BeamPos, ROW(BeamPos)-MIN(ROW(BeamPos))+1, \"\"), ROW()-18)), \"\")","v":"Ava Golden"},{"$f":"IFERROR( INDEX(entries, MATCH(AT19, gymnasts, 0), 2), \"\")","v":"Redcar"},{"$f":"IFERROR(INDEX(gymnasts, SMALL(IF(VALUE(LEFT(AV$32, 1))=BeamPos, ROW(BeamPos)-MIN(ROW(BeamPos))+1, \"\"), ROW()-18)), \"\")","v":"Maya Ward"},{"$f":"IFERROR( INDEX(entries, MATCH(AV19, gymnasts, 0), 2), \"\")","v":"Carlisle"},{"$f":"IFERROR(INDEX(gymnasts, SMALL(IF(VALUE(LEFT(AX$32, 1))=BeamPos, ROW(BeamPos)-MIN(ROW(BeamPos))+1, \"\"), ROW()-18)), \"\")","v":"Niamh Morris"},{"$f":"IFERROR( INDEX(entries, MATCH(AX19, gymnasts, 0), 2), \"\")","v":"Redcar"},{"$f":"IFERROR(INDEX(gymnasts, SMALL(IF(VALUE(LEFT(AZ$32, 1))=BeamPos, ROW(BeamPos)-MIN(ROW(BeamPos))+1, \"\"), ROW()-18)), \"\")","v":"Aaleia Paton"},{"$f":"IFERROR( INDEX(entries, MATCH(AZ19, gymnasts, 0), 2), \"\")","v":"CNGA"},{"$f":"IFERROR(INDEX(gymnasts, SMALL(IF(VALUE(LEFT(BB$32, 1))=BeamPos, ROW(BeamPos)-MIN(ROW(BeamPos))+1, \"\"), ROW()-18)), \"\")","v":"Lottie Carey"},{"$f":"IFERROR( INDEX(entries, MATCH(BB19, gymnasts, 0), 2), \"\")","v":"SD"}]
[17,"Lucy Taylor","Darlington",{"v":4,"d":"4.0"},{"v":12.1,"d":"12.10"},{"v":0,"d":"0.0"},{"v":0,"d":"0.00"},{"v":12.1,"d":"12.10"},7,17,11.8,11,{"v":4,"d":"4.0"},11.75,14,17,11.7,15,{"v":4,"d":"4.0"},{"v":11.5,"d":"11.50"},15,17,11.6,13,3.5,{"v":8.1,"d":"8.10"},24,17,10.75,14,{"v":4,"d":"4.0"},11.15,9,17,10.25,16,{"v":54.6,"d":"54.60"},20,17,55.25,17,null,null,"Annie Pape",{"$f":"IFERROR( INDEX(entries, MATCH(AR20, gymnasts, 0), 2), \"\")","v":"Carlisle"},"Eva Marcu",{"$f":"IFERROR( INDEX(entries, MATCH(AT20, gymnasts, 0), 2), \"\")","v":"North Lakes"},"",{"$f":"IFERROR( INDEX(entries, MATCH(AV20, gymnasts, 0), 2), \"\")","v":""},"",{"$f":"IFERROR( INDEX(entries, MATCH(AX20, gymnasts, 0), 2), \"\")","v":""},"",{"$f":"IFERROR( INDEX(entries, MATCH(AZ20, gymnasts, 0), 2), \"\")","v":""},"",""]
[18,"Madeleine Petitjean","Darlington",{"v":4,"d":"4.0"},{"v":12.5,"d":"12.50"},{"v":0,"d":"0.0"},{"v":0,"d":"0.00"},{"v":12.5,"d":"12.50"},2,18,11.8,11,{"v":4,"d":"4.0"},{"v":10.6,"d":"10.60"},25,18,11.55,16,3.5,11.55,14,18,11.55,14,{"v":4,"d":"4.0"},11.25,11,18,10.75,14,{"v":2,"d":"2.0"},7.95,25,18,10,17,{"v":53.85000000000001,"d":"53.85"},23,18,54.900000000000006,18,null,null,"","","","","","","","","","","",""]
[19,"Connie Dulson","Darlington",{"v":0,"d":"0.0"},{"v":0,"d":"0.00"},{"v":0,"d":"0.0"},{"v":0,"d":"0.00"},{"v":0,"d":"0.00"},19,19,11.8,11,{"v":0,"d":"0.0"},{"v":0,"d":"0.00"},27,19,11.5,17,{"v":0,"d":"0.0"},{"v":0,"d":"0.00"},26,19,11.5,15,{"v":0,"d":"0.0"},{"v":0,"d":"0.00"},25,19,10.75,14,{"v":0,"d":"0.0"},{"v":0,"d":"0.00"},29,19,9.95,18,{"v":0,"d":"0.00"},29,19,54.7,19,null,null,"","","","","","","","","","","",""]
[20,"Imogen Bruce","Darlington",{"v":4,"d":"4.0"},{"v":11.2,"d":"11.20"},{"v":0,"d":"0.0"},{"v":0,"d":"0.00"},{"v":11.2,"d":"11.20"},16,20,11.8,11,{"v":4,"d":"4.0"},11.35,19,20,11.45,18,{"v":1,"d":"1.0"},{"v":8.4,"d":"8.40"},25,20,11.5,15,{"v":4,"d":"4.0"},10.25,19,20,10.7,15,2.5,4.45,27,20,9.7,19,45.65,28,20,54.699999999999996,19,"F",null,"","","","","","","","","","","",""]
[21,"Izzy Easby","Darlington",{"v":4,"d":"4.0"},{"v":11.8,"d":"11.80"},{"v":0,"d":"0.0"},{"v":0,"d":"0.00"},{"v":11.8,"d":"11.80"},11,21,11.8,11,{"v":4,"d":"4.0"},12.05,13,21,11.35,19,{"v":4,"d":"4.0"},12.15,6,21,11.15,16,{"v":4,"d":"4.0"},12.15,3,21,10.6,16,3.5,11.05,10,21,9.35,20,{"v":59.2,"d":"59.20"},7,21,54.60000000000001,20,null,null,"","","","","","","","","","","",""]
[22,"Maya Ward","Carlisle",{"v":4,"d":"4.0"},12.25,{"v":0,"d":"0.0"},{"v":0,"d":"0.00"},12.25,5,22,11.8,11,{"v":4,"d":"4.0"},{"v":11.5,"d":"11.50"},17,22,11.3,20,{"v":4,"d":"4.0"},12.35,4,22,11.05,17,{"v":4,"d":"4.0"},11.85,6,22,10.45,17,2.5,9.35,20,22,9.35,20,{"v":57.300000000000004,"d":"57.30"},13,22,54.6,20,null,null,"6th Place",{"$f":"IFERROR(INDEX(floor,MATCH(AR26,gymnasts,0)), \"\")","v":11.85},"5th Place",{"$f":"IFERROR(INDEX(floor,MATCH(AT26,gymnasts,0)), \"\")","v":{"v":11.9,"d":"11.90"}},"4th Place",{"$f":"IFERROR(INDEX(floor,MATCH(AV26,gymnasts,0)), \"\")","v":11.95},"3rd Place",{"$f":"IFERROR(INDEX(floor,MATCH(AX26,gymnasts,0)), \"\")","v":12.15},"2nd Place",{"$f":"IFERROR(INDEX(floor,MATCH(AZ26,gymnasts,0)), \"\")","v":{"v":12.2,"d":"12.20"}},"1st Place",{"$f":"IFERROR(INDEX(floor,MATCH(BB26,gymnasts,0)), \"\")","v":12.25}]
[23,"Annie Pape","Carlisle",{"v":4,"d":"4.0"},{"v":11.8,"d":"11.80"},{"v":0,"d":"0.0"},{"v":0,"d":"0.00"},{"v":11.8,"d":"11.80"},11,23,11.75,12,{"v":4,"d":"4.0"},12.45,8,23,11.25,21,{"v":4,"d":"4.0"},12.15,6,23,10.85,18,{"v":4,"d":"4.0"},{"v":11.7,"d":"11.70"},8,23,10.3,18,3.5,10.25,16,23,9.2,21,{"v":58.349999999999994,"d":"58.35"},10,23,54.4,21,null,"Floor",{"$f":"IFERROR(INDEX(gymnasts, SMALL(IF(VALUE(LEFT(AR$32, 1))=FloorPos, ROW(FloorPos)-MIN(ROW(FloorPos))+1, \"\"), ROW()-25)), \"\")","v":"Maya Ward"},{"$f":"IFERROR( INDEX(entries, MATCH(AR26, gymnasts, 0), 2), \"\")","v":"Carlisle"},{"$f":"IFERROR(INDEX(gymnasts, SMALL(IF(VALUE(LEFT(AT$32, 1))=FloorPos, ROW(FloorPos)-MIN(ROW(FloorPos))+1, \"\"), ROW()-25)), \"\")","v":"Niamh Morris"},{"$f":"IFERROR( INDEX(entries, MATCH(AT26, gymnasts, 0), 2), \"\")","v":"Redcar"},{"$f":"IFERROR(INDEX(gymnasts, SMALL(IF(VALUE(LEFT(AV$32, 1))=FloorPos, ROW(FloorPos)-MIN(ROW(FloorPos))+1, \"\"), ROW()-25)), \"\")","v":"Sofia Metcalfe"},{"$f":"IFERROR( INDEX(entries, MATCH(AV26, gymnasts, 0), 2), \"\")","v":"SD"},{"$f":"IFERROR(INDEX(gymnasts, SMALL(IF(VALUE(LEFT(AX$32, 1))=FloorPos, ROW(FloorPos)-MIN(ROW(FloorPos))+1, \"\"), ROW()-25)), \"\")","v":"Izzy Easby"},{"$f":"IFERROR( INDEX(entries, MATCH(AX26, gymnasts, 0), 2), \"\")","v":"Darlington"},{"$f":"IFERROR(INDEX(gymnasts, SMALL(IF(VALUE(LEFT(AZ$32, 1))=FloorPos, ROW(FloorPos)-MIN(ROW(FloorPos))+1, \"\"), ROW()-25)), \"\")","v":"Gabrille Rae"},{"$f":"IFERROR( INDEX(entries, MATCH(AZ26, gymnasts, 0), 2), \"\")","v":"CNGA"},{"$f":"IFERROR(INDEX(gymnasts, SMALL(IF(VALUE(LEFT(BB$32, 1))=FloorPos, ROW(FloorPos)-MIN(ROW(FloorPos))+1, \"\"), ROW()-25)), \"\")","v":"Lottie Carey"},{"$f":"IFERROR( INDEX(entries, MATCH(BB26, gymnasts, 0), 2), \"\")","v":"SD"}]
[24,"Kylah Miller","Carlisle",{"v":4,"d":"4.0"},11.85,{"v":0,"d":"0.0"},{"v":0,"d":"0.00"},11.85,10,24,11.75,12,{"v":4,"d":"4.0"},{"v":11.7,"d":"11.70"},15,24,11.1,22,{"v":4,"d":"4.0"},{"v":11.5,"d":"11.50"},15,24,10.65,19,{"v":4,"d":"4.0"},11.75,7,24,10.25,19,{"v":2,"d":"2.0"},{"v":7.5,"d":"7.50"},26,24,9,22,{"v":54.3,"d":"54.30"},22,24,54.3,22,null,null,"",{"$f":"IFERROR( INDEX(entries, MATCH(AR27, gymnasts, 0), 2), \"\")","v":""},"Lara Cowie",{"$f":"IFERROR( INDEX(entries, MATCH(AT27, gymnasts, 0), 2), \"\")","v":"CNGA"},"",{"$f":"IFERROR( INDEX(entries, MATCH(AV27, gymnasts, 0), 2), \"\")","v":""},"",{"$f":"IFERROR( INDEX(entries, MATCH(AX27, gymnasts, 0), 2), \"\")","v":""},"",{"$f":"IFERROR( INDEX(entries, MATCH(AZ27, gymnasts, 0), 2), \"\")","v":""},"",""]
[25,"Marcy Armstrong","Carlisle",{"v":4,"d":"4.0"},{"v":12.2,"d":"12.20"},{"v":0,"d":"0.0"},{"v":0,"d":"0.00"},{"v":12.2,"d":"12.20"},6,25,11.6,13,{"v":4,"d":"4.0"},{"v":10.6,"d":"10.60"},25,25,10.8,23,{"v":4,"d":"4.0"},12.05,8,25,10.3,20,{"v":4,"d":"4.0"},{"v":10.7,"d":"10.70"},15,25,10.25,19,{"v":3,"d":"3.0"},{"v":9.7,"d":"9.70"},19,25,8.85,23,55.25,17,25,53.85000000000001,23,null,null,"","","","","","","","","","","",""]
[26,"Adrianna Warwick","Wansbeck",{"v":4,"d":"4.0"},12.05,{"v":0,"d":"0.0"},{"v":0,"d":"0.00"},12.05,8,26,11.5,14,{"v":4,"d":"4.0"},11.75,14,26,10.7,24,{"v":4,"d":"4.0"},{"v":11.6,"d":"11.60"},13,26,10,21,{"v":4,"d":"4.0"},10.45,17,26,9.45,20,{"v":3,"d":"3.0"},8.85,23,26,8.55,24,{"v":54.699999999999996,"d":"54.70"},19,26,52.400000000000006,24,null,null,"","","","","","","","","","","",""]
[27,"Hattie Hunter","Gymtopia",{"v":4,"d":"4.0"},{"v":10.9,"d":"10.90"},{"v":0,"d":"0.0"},{"v":0,"d":"0.00"},{"v":10.9,"d":"10.90"},18,27,11.45,15,{"v":4,"d":"4.0"},12.15,12,27,10.6,25,{"v":4,"d":"4.0"},{"v":11.8,"d":"11.80"},11,27,9.9,22,{"v":4,"d":"4.0"},{"v":10.9,"d":"10.90"},13,27,9.05,21,{"v":4,"d":"4.0"},{"v":10,"d":"10.00"},17,27,7.95,25,55.75,16,27,50.650000000000006,25,null,null,"","","","","","","","","","","",""]
[28,"Charlotte Bage","Hartlepool",{"v":4,"d":"4.0"},{"v":11.8,"d":"11.80"},{"v":0,"d":"0.0"},{"v":0,"d":"0.00"},{"v":11.8,"d":"11.80"},11,28,11.2,16,{"v":4,"d":"4.0"},{"v":11.3,"d":"11.30"},20,28,10.6,25,3.5,10.85,18,28,9.75,23,{"v":4,"d":"4.0"},10.25,19,28,9,22,{"v":4,"d":"4.0"},{"v":10.7,"d":"10.70"},14,28,7.5,26,{"v":54.900000000000006,"d":"54.90"},18,28,50,26,null,null,"","","","","","","","","","","",""]
[29,"Charlotte Campbell","Hartlepool",{"v":4,"d":"4.0"},12.65,{"v":0,"d":"0.0"},{"v":0,"d":"0.00"},12.65,1,29,11.1,17,{"v":4,"d":"4.0"},{"v":13.4,"d":"13.40"},1,29,10.25,26,{"v":4,"d":"4.0"},{"v":11.8,"d":"11.80"},11,29,9.7,24,3.5,9.45,20,29,8.5,23,{"v":4,"d":"4.0"},{"v":11.4,"d":"11.40"},7,29,4.45,27,{"v":58.699999999999996,"d":"58.70"},8,29,48.5,27,null,null,"6th Place",{"$f":"IFERROR(INDEX(range,MATCH(AR33,gymnasts,0)), \"\")","v":{"v":12,"d":"12.00"}},"5th Place",{"$f":"IFERROR(INDEX(range,MATCH(AT33,gymnasts,0)), \"\")","v":12.25},"4th Place",{"$f":"IFERROR(INDEX(range,MATCH(AV33,gymnasts,0)), \"\")","v":{"v":12.4,"d":"12.40"}},"3rd Place",{"$f":"IFERROR(INDEX(range,MATCH(AX33,gymnasts,0)), \"\")","v":{"v":12.5,"d":"12.50"}},"2nd Place",{"$f":"IFERROR(INDEX(range,MATCH(AZ33,gymnasts,0)), \"\")","v":{"v":12.7,"d":"12.70"}},"1st Place",{"$f":"IFERROR(INDEX(range,MATCH(BB33,gymnasts,0)), \"\")","v":12.85}]
[30,"Evie Howarth","Kendal",{"v":0,"d":"0.0"},{"v":0,"d":"0.00"},{"v":0,"d":"0.0"},{"v":0,"d":"0.00"},{"v":0,"d":"0.00"},19,30,10.9,18,{"v":0,"d":"0.0"},{"v":0,"d":"0.00"},27,30,0,27,{"v":0,"d":"0.0"},{"v":0,"d":"0.00"},26,30,8.4,25,{"v":0,"d":"0.0"},{"v":0,"d":"0.00"},25,30,8.1,24,{"v":0,"d":"0.0"},{"v":0,"d":"0.00"},29,30,4.25,28,{"v":0,"d":"0.00"},29,30,45.65,28,null,"Range",{"$f":"IFERROR(INDEX(gymnasts, SMALL(IF(VALUE(LEFT(AR$32, 1))=RangePos, ROW(RangePos)-MIN(ROW(RangePos))+1, \"\"), ROW()-32)), \"\")","v":"Lottie Carey"},{"$f":"IFERROR( INDEX(entries, MATCH(AR33, gymnasts, 0), 2), \"\")","v":"SD"},{"$f":"IFERROR(INDEX(gymnasts, SMALL(IF(VALUE(LEFT(AT$32, 1))=RangePos, ROW(RangePos)-MIN(ROW(RangePos))+1, \"\"), ROW()-32)), \"\")","v":"Lara Cowie"},{"$f":"IFERROR( INDEX(entries, MATCH(AT33, gymnasts, 0), 2), \"\")","v":"CNGA"},{"$f":"IFERROR(INDEX(gymnasts, SMALL(IF(VALUE(LEFT(AV$32, 1))=RangePos, ROW(RangePos)-MIN(ROW(RangePos))+1, \"\"), ROW()-32)), \"\")","v":"Isabel Gallagher"},{"$f":"IFERROR( INDEX(entries, MATCH(AV33, gymnasts, 0), 2), \"\")","v":"CNGA"},{"$f":"IFERROR(INDEX(gymnasts, SMALL(IF(VALUE(LEFT(AX$32, 1))=RangePos, ROW(RangePos)-MIN(ROW(RangePos))+1, \"\"), ROW()-32)), \"\")","v":"Aaleia Paton"},{"$f":"IFERROR( INDEX(entries, MATCH(AX33, gymnasts, 0), 2), \"\")","v":"CNGA"},{"$f":"IFERROR(INDEX(gymnasts, SMALL(IF(VALUE(LEFT(AZ$32, 1))=RangePos, ROW(RangePos)-MIN(ROW(RangePos))+1, \"\"), ROW()-32)), \"\")","v":"Sofia Metcalfe"},{"$f":"IFERROR( INDEX(entries, MATCH(AZ33, gymnasts, 0), 2), \"\")","v":"SD"},{"$f":"IFERROR(INDEX(gymnasts, SMALL(IF(VALUE(LEFT(BB$32, 1))=RangePos, ROW(RangePos)-MIN(ROW(RangePos))+1, \"\"), ROW()-32)), \"\")","v":"Gabrille Rae"},{"$f":"IFERROR( INDEX(entries, MATCH(BB33, gymnasts, 0), 2), \"\")","v":"CNGA"}]
[31,"Eva Marcu","North Lakes",{"v":4,"d":"4.0"},{"v":12.5,"d":"12.50"},{"v":0,"d":"0.0"},{"v":0,"d":"0.00"},{"v":12.5,"d":"12.50"},2,31,0,19,{"v":4,"d":"4.0"},10.25,26,31,0,27,{"v":4,"d":"4.0"},{"v":12.2,"d":"12.20"},5,31,0,26,3.5,{"v":11.1,"d":"11.10"},12,31,0,25,3.5,8.55,24,31,0,29,{"v":54.60000000000001,"d":"54.60"},20,31,0,29,null,null,"",{"$f":"IFERROR( INDEX(entries, MATCH(AR34, gymnasts, 0), 2), \"\")","v":""},"",{"$f":"IFERROR( INDEX(entries, MATCH(AT34, gymnasts, 0), 2), \"\")","v":""},"",{"$f":"IFERROR( INDEX(entries, MATCH(AV34, gymnasts, 0), 2), \"\")","v":""},"",{"$f":"IFERROR( INDEX(entries, MATCH(AX34, gymnasts, 0), 2), \"\")","v":""},"",{"$f":"IFERROR( INDEX(entries, MATCH(AZ34, gymnasts, 0), 2), \"\")","v":""},"",""]
[32,"India Cooper-Smith","North Lakes",{"v":4,"d":"4.0"},{"v":11.8,"d":"11.80"},{"v":0,"d":"0.0"},{"v":0,"d":"0.00"},{"v":11.8,"d":"11.80"},11,32,0,19,{"v":4,"d":"4.0"},11.45,18,32,0,27,{"v":4,"d":"4.0"},11.05,17,32,0,26,{"v":4,"d":"4.0"},10.75,14,32,0,25,{"v":3,"d":"3.0"},9.35,20,32,0,29,{"v":54.4,"d":"54.40"},21,32,0,29,null,null,"","","","","","","","","","","",""]
[{"$nulls":3},{"v":0,"d":"0.0"},{"v":0,"d":"0.00"},{"v":0,"d":"0.0"},{"v":0,"d":"0.00"},{"v":0,"d":"0.00"},19,33,0,19,{"v":0,"d":"0.0"},{"v":0,"d":"0.00"},27,33,0,27,{"v":0,"d":"0.0"},{"v":0,"d":"0.00"},26,33,0,26,{"v":0,"d":"0.0"},{"v":0,"d":"0.00"},25,33,0,25,{"v":0,"d":"0.0"},{"v":0,"d":"0.00"},29,33,0,29,{"$f":"SUMIF(D$2:AJ$2, \"SCORE\", D36:AJ36)","v":{"v":0,"d":"0.00"}},29,33,0,29,null,null,"","","","","","","","","","","",""]
[{"$nulls":3},{"v":0,"d":"0.0"},{"v":0,"d":"0.00"},{"v":0,"d":"0.0"},{"v":0,"d":"0.00"},{"v":0,"d":"0.00"},19,34,0,19,{"v":0,"d":"0.0"},{"v":0,"d":"0.00"},27,34,0,27,{"v":0,"d":"0.0"},{"v":0,"d":"0.00"},26,34,0,26,{"v":0,"d":"0.0"},{"v":0,"d":"0.00"},25,34,0,25,{"v":0,"d":"0.0"},{"v":0,"d":"0.00"},29,34,0,29,{"v":0,"d":"0.00"},29,34,0,29,null,null,"","","","","","","","","","","",""]
[{"$nulls":3},{"v":0,"d":"0.0"},{"v":0,"d":"0.00"},{"v":0,"d":"0.0"},{"v":0,"d":"0.00"},{"v":0,"d":"0.00"},19,35,0,19,{"v":0,"d":"0.0"},{"v":0,"d":"0.00"},27,35,0,27,{"v":0,"d":"0.0"},{"v":0,"d":"0.00"},26,35,0,26,{"v":0,"d":"0.0"},{"v":0,"d":"0.00"},25,35,0,25,{"v":0,"d":"0.0"},{"v":0,"d":"0.00"},29,35,0,29,{"v":0,"d":"0.00"},29,35,0,29,null,null,"","","","","","","","","","","",""]
[{"$nulls":3},{"v":0,"d":"0.0"},{"v":0,"d":"0.00"},{"v":0,"d":"0.0"},{"v":0,"d":"0.00"},{"v":0,"d":"0.00"},19,36,0,19,{"v":0,"d":"0.0"},{"v":0,"d":"0.00"},27,36,0,27,{"v":0,"d":"0.0"},{"v":0,"d":"0.00"},26,36,0,26,{"v":0,"d":"0.0"},{"v":0,"d":"0.00"},25,36,0,25,{"v":0,"d":"0.0"},{"v":0,"d":"0.00"},29,36,0,29,{"v":0,"d":"0.00"},29,36,0,29,null,null,"6th Place",{"$f":"IFERROR(INDEX(AAscores,MATCH(AR40,gymnasts,0)), \"\")","v":60.45},"5th Place",{"$f":"IFERROR(INDEX(AAscores,MATCH(AT40,gymnasts,0)), \"\")","v":{"v":60.5,"d":"60.50"}},"4th Place",{"$f":"IFERROR(INDEX(AAscores,MATCH(AV40,gymnasts,0)), \"\")","v":61.25},"3rd Place",{"$f":"IFERROR(INDEX(AAscores,MATCH(AX40,gymnasts,0)), \"\")","v":{"v":61.800000000000004,"d":"61.80"}},"2nd Place",{"$f":"IFERROR(INDEX(AAscores,MATCH(AZ40,gymnasts,0)), \"\")","v":{"v":61.9,"d":"61.90"}},"1st Place",{"$f":"IFERROR(INDEX(AAscores,MATCH(BB40,gymnasts,0)), \"\")","v":{"v":62.1,"d":"62.10"}}]
[{"$nulls":3},{"v":0,"d":"0.0"},{"v":0,"d":"0.00"},{"v":0,"d":"0.0"},{"v":0,"d":"0.00"},{"v":0,"d":"0.00"},19,37,0,19,{"v":0,"d":"0.0"},{"v":0,"d":"0.00"},27,37,0,27,{"v":0,"d":"0.0"},{"v":0,"d":"0.00"},26,37,0,26,{"v":0,"d":"0.0"},{"v":0,"d":"0.00"},25,37,0,25,{"v":0,"d":"0.0"},{"v":0,"d":"0.00"},29,37,0,29,{"v":0,"d":"0.00"},29,37,0,29,null,"AA",{"$f":"IFERROR(INDEX(gymnasts, SMALL(IF(VALUE(LEFT(AR$39, 1))=AApos, ROW(AApos)-MIN(ROW(AApos))+1, \"\"), ROW()-39)), \"\")","v":"Sofia Metcalfe"},{"$f":"IFERROR( INDEX(entries, MATCH(AR40, gymnasts, 0), 2), \"\")","v":"SD"},{"$f":"IFERROR(INDEX(gymnasts, SMALL(IF(VALUE(LEFT(AT$39, 1))=AApos, ROW(AApos)-MIN(ROW(AApos))+1, \"\"), ROW()-39)), \"\")","v":"Niamh Morris"},{"$f":"IFERROR( INDEX(entries, MATCH(AT40, gymnasts, 0), 2), \"\")","v":"Redcar"},{"$f":"IFERROR(INDEX(gymnasts, SMALL(IF(VALUE(LEFT(AV$39, 1))=AApos, ROW(AApos)-MIN(ROW(AApos))+1, \"\"), ROW()-39)), \"\")","v":"Aaleia Paton"},{"$f":"IFERROR( INDEX(entries, MATCH(AV40, gymnasts, 0), 2), \"\")","v":"CNGA"},{"$f":"IFERROR(INDEX(gymnasts, SMALL(IF(VALUE(LEFT(AX$39, 1))=AApos, ROW(AApos)-MIN(ROW(AApos))+1, \"\"), ROW()-39)), \"\")","v":"Gabrille Rae"},{"$f":"IFERROR( INDEX(entries, MATCH(AX40, gymnasts, 0), 2), \"\")","v":"CNGA"},{"$f":"IFERROR(INDEX(gymnasts, SMALL(IF(VALUE(LEFT(AZ$39, 1))=AApos, ROW(AApos)-MIN(ROW(AApos))+1, \"\"), ROW()-39)), \"\")","v":"Lara Cowie"},{"$f":"IFERROR( INDEX(entries, MATCH(AZ40, gymnasts, 0), 2), \"\")","v":"CNGA"},{"$f":"IFERROR(INDEX(gymnasts, SMALL(IF(VALUE(LEFT(BB$39, 1))=AApos, ROW(AApos)-MIN(ROW(AApos))+1, \"\"), ROW()-39)), \"\")","v":"Lottie Carey"},{"$f":"IFERROR( INDEX(entries, MATCH(BB40, gymnasts, 0), 2), \"\")","v":"SD"}]
[{"$nulls":3},{"v":0,"d":"0.0"},{"v":0,"d":"0.00"},{"v":0,"d":"0.0"},{"v":0,"d":"0.00"},{"v":0,"d":"0.00"},19,38,0,19,{"v":0,"d":"0.0"},{"v":0,"d":"0.00"},27,38,0,27,{"v":0,"d":"0.0"},{"v":0,"d":"0.00"},26,38,0,26,{"v":0,"d":"0.0"},{"v":0,"d":"0.00"},25,38,0,25,{"v":0,"d":"0.0"},{"v":0,"d":"0.00"},29,38,0,29,{"v":0,"d":"0.00"},29,38,0,29,null,null,"",{"$f":"IFERROR( INDEX(entries, MATCH(AR41, gymnasts, 0), 2), \"\")","v":""},"",{"$f":"IFERROR( INDEX(entries, MATCH(AT41, gymnasts, 0), 2), \"\")","v":""},"",{"$f":"IFERROR( INDEX(entries, MATCH(AV41, gymnasts, 0), 2), \"\")","v":""},"",{"$f":"IFERROR( INDEX(entries, MATCH(AX41, gymnasts, 0), 2), \"\")","v":""},"",{"$f":"IFERROR( INDEX(entries, MATCH(AZ41, gymnasts, 0), 2), \"\")","v":""},"",""]
[{"$nulls":3},{"v":0,"d":"0.0"},{"v":0,"d":"0.00"},{"v":0,"d":"0.0"},{"v":0,"d":"0.00"},{"v":0,"d":"0.00"},19,39,0,19,{"v":0,"d":"0.0"},{"v":0,"d":"0.00"},27,39,0,27,{"v":0,"d":"0.0"},{"v":0,"d":"0.00"},26,39,0,26,{"v":0,"d":"0.0"},{"v":0,"d":"0.00"},25,39,0,25,{"v":0,"d":"0.0"},{"v":0,"d":"0.00"},29,39,0,29,{"v":0,"d":"0.00"},29,39,0,29,null,null,"","","","","","","","","","","",""]
[{"$nulls":3},{"v":0,"d":"0.0"},{"v":0,"d":"0.00"},{"v":0,"d":"0.0"},{"v":0,"d":"0.00"},{"v":0,"d":"0.00"},19,40,0,19,{"v":0,"d":"0.0"},{"v":0,"d":"0.00"},27,40,0,27,{"v":0,"d":"0.0"},{"v":0,"d":"0.00"},26,40,0,26,{"v":0,"d":"0.0"},{"v":0,"d":"0.00"},25,40,0,25,{"v":0,"d":"0.0"},{"v":0,"d":"0.00"},29,40,0,29,{"v":0,"d":"0.00"},29,40,0,29,null,null,"","","","","","","","","","","",""]
[{"$nulls":3},{"v":0,"d":"0.0"},{"v":0,"d":"0.00"},{"v":0,"d":"0.0"},{"v":0,"d":"0.00"},{"v":0,"d":"0.00"},19,41,0,19,{"v":0,"d":"0.0"},{"v":0,"d":"0.00"},27,41,0,27,{"v":0,"d":"0.0"},{"v":0,"d":"0.00"},26,41,0,26,{"v":0,"d":"0.0"},{"v":0,"d":"0.00"},25,41,0,25,{"v":0,"d":"0.0"},{"v":0,"d":"0.00"},29,41,0,29,{"v":0,"d":"0.00"},29,41,0,29,null,null,"","","","","","","","","","","",""]
[{"$nulls":3},{"v":0,"d":"0.0"},{"v":0,"d":"0.00"},{"v":0,"d":"0.0"},{"v":0,"d":"0.00"},{"v":0,"d":"0.00"},19,42,0,19,{"v":0,"d":"0.0"},{"v":0,"d":"0.00"},27,42,0,27,{"v":0,"d":"0.0"},{"v":0,"d":"0.00"},26,42,0,26,{"v":0,"d":"0.0"},{"v":0,"d":"0.00"},25,42,0,25,{"v":0,"d":"0.0"},{"v":0,"d":"0.00"},29,42,0,29,{"v":0,"d":"0.00"},29,42,0,29,null,null,"","","","","","","","","","","",""]
[{"$nulls":3},{"v":0,"d":"0.0"},{"v":0,"d":"0.00"},{"v":0,"d":"0.0"},{"v":0,"d":"0.00"},{"v":0,"d":"0.00"},19,43,0,19,{"v":0,"d":"0.0"},{"v":0,"d":"0.00"},27,43,0,27,{"v":0,"d":"0.0"},{"v":0,"d":"0.00"},26,43,0,26,{"v":0,"d":"0.0"},{"v":0,"d":"0.00"},25,43,0,25,{"v":0,"d":"0.0"},{"v":0,"d":"0.00"},29,43,0,29,{"v":0,"d":"0.00"},29,43,0,29,null,"Team","3rd place Team",{"$f":"IF(COUNTIF(AR47, 0), \"\", INDEX(teamTotals, MATCH(AR47, teams, 0)))","v":{"v":175.04999999999998,"d":"175.05"}},null,null,"2nd Place Team",{"$f":"IF(COUNTIF(AV47, 0), \"\", INDEX(teamTotals, MATCH(AV47, teams, 0)))","v":{"v":180.09999999999997,"d":"180.10"}},null,null,"1st Place Team",{"$f":"IF(COUNTIF(AZ47, 0), \"\", INDEX(teamTotals, MATCH(AZ47, teams, 0)))","v":{"v":186.1,"d":"186.10"}}]
[{"$nulls":3},{"v":0,"d":"0.0"},{"v":0,"d":"0.00"},{"v":0,"d":"0.0"},{"v":0,"d":"0.00"},{"v":0,"d":"0.00"},19,44,0,19,{"v":0,"d":"0.0"},{"v":0,"d":"0.00"},27,44,0,27,{"v":0,"d":"0.0"},{"v":0,"d":"0.00"},26,44,0,26,{"v":0,"d":"0.0"},{"v":0,"d":"0.00"},25,44,0,25,{"v":0,"d":"0.0"},{"v":0,"d":"0.00"},29,44,0,29,{"v":0,"d":"0.00"},29,44,0,29,null,null,{"$f":"IFERROR(INDEX(teams, SMALL(IF(VALUE(LEFT(AR$46, 1))=teamPos, ROW(teamPos)-MIN(ROW(teamPos))+1, \"\"), ROW()-46)), \"\")","v":"Redcar"},{"$f":"IFERROR(IF(COUNTIF(AR47, 0), \"\", INDEX(gymnasts, SMALL(IF(AR$47=club, ROW(club)-MIN(ROW(club))+1, \"\"), ROW()-46))), \"\")","v":"Emilie Kennedy"},null,null,{"$f":"IFERROR(INDEX(teams, SMALL(IF(VALUE(LEFT(AV$46, 1))=teamPos, ROW(teamPos)-MIN(ROW(teamPos))+1, \"\"), ROW()-46)), \"\")","v":"SD"},{"$f":"IFERROR(IF(COUNTIF(AV47, 0), \"\", INDEX(gymnasts, SMALL(IF(AV$47=club, ROW(club)-MIN(ROW(club))+1, \"\"), ROW()-46))), \"\")","v":"Eva Keeligan"},null,null,{"$f":"IFERROR(INDEX(teams, SMALL(IF(VALUE(LEFT(AZ$46, 1))=teamPos, ROW(teamPos)-MIN(ROW(teamPos))+1, \"\"), ROW()-46)), \"\")","v":"CNGA"},{"$f":"IFERROR(IF(COUNTIF(AZ47, 0), \"\", INDEX(gymnasts, SMALL(IF(AZ$47=club, ROW(club)-MIN(ROW(club))+1, \"\"), ROW()-46))), \"\")","v":"Aaleia Paton"}]
[{"$nulls":3},{"v":0,"d":"0.0"},{"v":0,"d":"0.00"},{"v":0,"d":"0.0"},{"v":0,"d":"0.00"},{"v":0,"d":"0.00"},19,45,0,19,{"v":0,"d":"0.0"},{"v":0,"d":"0.00"},27,45,0,27,{"v":0,"d":"0.0"},{"v":0,"d":"0.00"},26,45,0,26,{"v":0,"d":"0.0"},{"v":0,"d":"0.00"},25,45,0,25,{"v":0,"d":"0.0"},{"v":0,"d":"0.00"},29,45,0,29,{"v":0,"d":"0.00"},29,45,0,29,{"$nulls":3},{"$f":"IFERROR(IF(COUNTIF(AR48, 0), \"\", INDEX(gymnasts, SMALL(IF(AR$47=club, ROW(club)-MIN(ROW(club))+1, \"\"), ROW()-46))), \"\")","v":"Ava Golden"},{"$nulls":3},{"$f":"IFERROR(IF(COUNTIF(AV48, 0), \"\", INDEX(gymnasts, SMALL(IF(AV$47=club, ROW(club)-MIN(ROW(club))+1, \"\"), ROW()-46))), \"\")","v":"Lottie Carey"},{"$nulls":3},{"$f":"IFERROR(IF(COUNTIF(AZ48, 0), \"\", INDEX(gymnasts, SMALL(IF(AZ$47=club, ROW(club)-MIN(ROW(club))+1, \"\"), ROW()-46))), \"\")","v":"Elsie Reavely"}]
[{"$nulls":3},{"v":0,"d":"0.0"},{"v":0,"d":"0.00"},{"v":0,"d":"0.0"},{"v":0,"d":"0.00"},{"v":0,"d":"0.00"},19,46,0,19,{"v":0,"d":"0.0"},{"v":0,"d":"0.00"},27,46,0,27,{"v":0,"d":"0.0"},{"v":0,"d":"0.00"},26,46,0,26,{"v":0,"d":"0.0"},{"v":0,"d":"0.00"},25,46,0,25,{"v":0,"d":"0.0"},{"v":0,"d":"0.00"},29,46,0,29,{"v":0,"d":"0.00"},29,46,0,29,{"$nulls":3},{"$f":"IFERROR(IF(COUNTIF(AR49, 0), \"\", INDEX(gymnasts, SMALL(IF(AR$47=club, ROW(club)-MIN(ROW(club))+1, \"\"), ROW()-46))), \"\")","v":"Niamh Morris"},{"$nulls":3},{"$f":"IFERROR(IF(COUNTIF(AV49, 0), \"\", INDEX(gymnasts, SMALL(IF(AV$47=club, ROW(club)-MIN(ROW(club))+1, \"\"), ROW()-46))), \"\")","v":"Sofia Metcalfe"},{"$nulls":3},{"$f":"IFERROR(IF(COUNTIF(AZ49, 0), \"\", INDEX(gymnasts, SMALL(IF(AZ$47=club, ROW(club)-MIN(ROW(club))+1, \"\"), ROW()-46))), \"\")","v":"Gabrille Rae"}]
[{"$nulls":3},{"v":0,"d":"0.0"},{"v":0,"d":"0.00"},{"v":0,"d":"0.0"},{"v":0,"d":"0.00"},{"v":0,"d":"0.00"},19,47,0,19,{"v":0,"d":"0.0"},{"v":0,"d":"0.00"},27,47,0,27,{"v":0,"d":"0.0"},{"v":0,"d":"0.00"},26,47,0,26,{"v":0,"d":"0.0"},{"v":0,"d":"0.00"},25,47,0,25,{"v":0,"d":"0.0"},{"v":0,"d":"0.00"},29,47,0,29,{"v":0,"d":"0.00"},29,47,0,29,{"$nulls":3},{"$f":"IFERROR(IF(COUNTIF(AR50, 0), \"\", INDEX(gymnasts, SMALL(IF(AR$47=club, ROW(club)-MIN(ROW(club))+1, \"\"), ROW()-46))), \"\")","v":""},{"$nulls":3},{"$f":"IFERROR(IF(COUNTIF(AV50, 0), \"\", INDEX(gymnasts, SMALL(IF(AV$47=club, ROW(club)-MIN(ROW(club))+1, \"\"), ROW()-46))), \"\")","v":"Lyla Bradley"},{"$nulls":3},{"$f":"IFERROR(IF(COUNTIF(AZ50, 0), \"\", INDEX(gymnasts, SMALL(IF(AZ$47=club, ROW(club)-MIN(ROW(club))+1, \"\"), ROW()-46))), \"\")","v":"Isabel Gallagher"}]
[{"$nulls":3},{"v":0,"d":"0.0"},{"v":0,"d":"0.00"},{"v":0,"d":"0.0"},{"v":0,"d":"0.00"},{"v":0,"d":"0.00"},19,48,0,19,{"v":0,"d":"0.0"},{"v":0,"d":"0.00"},27,48,0,27,{"v":0,"d":"0.0"},{"v":0,"d":"0.00"},26,48,0,26,{"v":0,"d":"0.0"},{"v":0,"d":"0.00"},25,48,0,25,{"v":0,"d":"0.0"},{"v":0,"d":"0.00"},29,48,0,29,{"v":0,"d":"0.00"},29,48,0,29,{"$nulls":3},{"$f":"IFERROR(IF(COUNTIF(AR51, 0), \"\", INDEX(gymnasts, SMALL(IF(AR$47=club, ROW(club)-MIN(ROW(club))+1, \"\"), ROW()-46))), \"\")","v":""},{"$nulls":3},{"$f":"IFERROR(IF(COUNTIF(AV51, 0), \"\", INDEX(gymnasts, SMALL(IF(AV$47=club, ROW(club)-MIN(ROW(club))+1, \"\"), ROW()-46))), \"\")","v":""},{"$nulls":3},{"$f":"IFERROR(IF(COUNTIF(AZ51, 0), \"\", INDEX(gymnasts, SMALL(IF(AZ$47=club, ROW(club)-MIN(ROW(club))+1, \"\"), ROW()-46))), \"\")","v":"Lara Cowie"}]
[{"$nulls":3},{"v":0,"d":"0.0"},{"v":0,"d":"0.00"},{"v":0,"d":"0.0"},{"v":0,"d":"0.00"},{"v":0,"d":"0.00"},19,49,0,19,{"v":0,"d":"0.0"},{"v":0,"d":"0.00"},27,49,0,27,{"v":0,"d":"0.0"},{"v":0,"d":"0.00"},26,49,0,26,{"v":0,"d":"0.0"},{"v":0,"d":"0.00"},25,49,0,25,{"v":0,"d":"0.0"},{"v":0,"d":"0.00"},29,49,0,29,{"v":0,"d":"0.00"},29,49,0,29,null,null,{"$f":"IFERROR(INDEX(teams, SMALL(IF(VALUE(LEFT(AR$46, 1))=teamPos, ROW(teamPos)-MIN(ROW(teamPos))+1, \"\"), ROW()-50)), \"\")","v":""},{"$f":"IFERROR(IF(COUNTIF(AR$52, 0), \"\", INDEX(gymnasts, SMALL(IF(AR$52=club, ROW(club)-MIN(ROW(club))+1, \"\"), ROW()-51))), \"\")","v":0},null,null,{"$f":"IFERROR(INDEX(teams, SMALL(IF(VALUE(LEFT(AV$46, 1))=teamPos, ROW(teamPos)-MIN(ROW(teamPos))+1, \"\"), ROW()-50)), \"\")","v":""},{"$f":"IFERROR(IF(COUNTIF(AV$52, 0), \"\", INDEX(gymnasts, SMALL(IF(AV$52=club, ROW(club)-MIN(ROW(club))+1, \"\"), ROW()-51))), \"\")","v":0},null,null,{"$f":"IFERROR(INDEX(teams, SMALL(IF(VALUE(LEFT(AZ$46, 1))=teamPos, ROW(teamPos)-MIN(ROW(teamPos))+1, \"\"), ROW()-50)), \"\")","v":""},{"$f":"IFERROR(IF(COUNTIF(AZ$52, 0), \"\", INDEX(gymnasts, SMALL(IF(AZ$52=club, ROW(club)-MIN(ROW(club))+1, \"\"), ROW()-51))), \"\")","v":0}]
[{"$nulls":3},{"v":0,"d":"0.0"},{"v":0,"d":"0.00"},{"v":0,"d":"0.0"},{"v":0,"d":"0.00"},{"v":0,"d":"0.00"},19,50,0,19,{"v":0,"d":"0.0"},{"v":0,"d":"0.00"},27,50,0,27,{"v":0,"d":"0.0"},{"v":0,"d":"0.00"},26,50,0,26,{"v":0,"d":"0.0"},{"v":0,"d":"0.00"},25,50,0,25,{"v":0,"d":"0.0"},{"v":0,"d":"0.00"},29,50,0,29,{"v":0,"d":"0.00"},29,50,0,29,{"$nulls":3},{"$f":"IFERROR(IF(COUNTIF(AR$52, 0), \"\", INDEX(gymnasts, SMALL(IF(AR$52=club, ROW(club)-MIN(ROW(club))+1, \"\"), ROW()-51))), \"\")","v":0},{"$nulls":3},{"$f":"IFERROR(IF(COUNTIF(AV$52, 0), \"\", INDEX(gymnasts, SMALL(IF(AV$52=club, ROW(club)-MIN(ROW(club))+1, \"\"), ROW()-51))), \"\")","v":0},{"$nulls":3},{"$f":"IFERROR(IF(COUNTIF(AZ$52, 0), \"\", INDEX(gymnasts, SMALL(IF(AZ$52=club, ROW(club)-MIN(ROW(club))+1, \"\"), ROW()-51))), \"\")","v":0}]
[{"$nulls":3},{"v":0,"d":"0.0"},{"v":0,"d":"0.00"},{"v":0,"d":"0.0"},{"v":0,"d":"0.00"},{"v":0,"d":"0.00"},19,51,0,19,{"v":0,"d":"0.0"},{"v":0,"d":"0.00"},27,51,0,27,{"v":0,"d":"0.0"},{"v":0,"d":"0.00"},26,51,0,26,{"v":0,"d":"0.0"},{"v":0,"d":"0.00"},25,51,0,25,{"v":0,"d":"0.0"},{"v":0,"d":"0.00"},29,51,0,29,{"v":0,"d":"0.00"},29,51,0,29,{"$nulls":3},{"$f":"IFERROR(IF(COUNTIF(AR$52, 0), \"\", INDEX(gymnasts, SMALL(IF(AR$52=club, ROW(club)-MIN(ROW(club))+1, \"\"), ROW()-51))), \"\")","v":0},{"$nulls":3},{"$f":"IFERROR(IF(COUNTIF(AV$52, 0), \"\", INDEX(gymnasts, SMALL(IF(AV$52=club, ROW(club)-MIN(ROW(club))+1, \"\"), ROW()-51))), \"\")","v":0},{"$nulls":3},{"$f":"IFERROR(IF(COUNTIF(AZ$52, 0), \"\", INDEX(gymnasts, SMALL(IF(AZ$52=club, ROW(club)-MIN(ROW(club))+1, \"\"), ROW()-51))), \"\")","v":0}]
[{"$nulls":3},{"v":0,"d":"0.0"},{"v":0,"d":"0.00"},{"v":0,"d":"0.0"},{"v":0,"d":"0.00"},{"v":0,"d":"0.00"},19,52,0,19,{"v":0,"d":"0.0"},{"v":0,"d":"0.00"},27,52,0,27,{"v":0,"d":"0.0"},{"v":0,"d":"0.00"},26,52,0,26,{"v":0,"d":"0.0"},{"v":0,"d":"0.00"},25,52,0,25,{"v":0,"d":"0.0"},{"v":0,"d":"0.00"},29,52,0,29,{"v":0,"d":"0.00"},29,52,0,29,{"$nulls":3},{"$f":"IFERROR(IF(COUNTIF(AR$52, 0), \"\", INDEX(gymnasts, SMALL(IF(AR$52=club, ROW(club)-MIN(ROW(club))+1, \"\"), ROW()-51))), \"\")","v":0},{"$nulls":3},{"$f":"IFERROR(IF(COUNTIF(AV$52, 0), \"\", INDEX(gymnasts, SMALL(IF(AV$52=club, ROW(club)-MIN(ROW(club))+1, \"\"), ROW()-51))), \"\")","v":0},{"$nulls":3},{"$f":"IFERROR(IF(COUNTIF(AZ$52, 0), \"\", INDEX(gymnasts, SMALL(IF(AZ$52=club, ROW(club)-MIN(ROW(club))+1, \"\"), ROW()-51))), \"\")","v":0}]
[{"$nulls":3},{"v":0,"d":"0.0"},{"v":0,"d":"0.00"},{"v":0,"d":"0.0"},{"v":0,"d":"0.00"},{"v":0,"d":"0.00"},19,53,0,19,{"v":0,"d":"0.0"},{"v":0,"d":"0.00"},27,53,0,27,{"v":0,"d":"0.0"},{"v":0,"d":"0.00"},26,53,0,26,{"v":0,"d":"0.0"},{"v":0,"d":"0.00"},25,53,0,25,{"v":0,"d":"0.0"},{"v":0,"d":"0.00"},29,53,0,29,{"v":0,"d":"0.00"},29,53,0,29,{"$nulls":3},{"$f":"IFERROR(IF(ISTEXT(AR$52), INDEX(gymnasts, SMALL(IF(AR$52=club, ROW(club)-MIN(ROW(club))+1, \"\"), ROW()-51)), \"\"), \"\")","v":0},{"$nulls":3},{"$f":"IFERROR(IF(ISTEXT(AV$52), INDEX(gymnasts, SMALL(IF(AV$52=club, ROW(club)-MIN(ROW(club))+1, \"\"), ROW()-51)), \"\"), \"\")","v":0},{"$nulls":3},{"$f":"IFERROR(IF(ISTEXT(AZ$52), INDEX(gymnasts, SMALL(IF(AZ$52=club, ROW(club)-MIN(ROW(club))+1, \"\"), ROW()-51)), \"\"), \"\")","v":0}]
[{"$nulls":3},{"v":0,"d":"0.0"},{"v":0,"d":"0.00"},{"v":0,"d":"0.0"},{"v":0,"d":"0.00"},{"v":0,"d":"0.00"},19,54,0,19,{"v":0,"d":"0.0"},{"v":0,"d":"0.00"},27,54,0,27,{"v":0,"d":"0.0"},{"v":0,"d":"0.00"},26,54,0,26,{"v":0,"d":"0.0"},{"v":0,"d":"0.00"},25,54,0,25,{"v":0,"d":"0.0"},{"v":0,"d":"0.00"},29,54,0,29,{"v":0,"d":"0.00"},29,54,0,29]
[{"$nulls":3},{"v":0,"d":"0.0"},{"v":0,"d":"0.00"},{"v":0,"d":"0.0"},{"v":0,"d":"0.00"},{"v":0,"d":"0.00"},19,55,0,19,{"v":0,"d":"0.0"},{"v":0,"d":"0.00"},27,55,0,27,{"v":0,"d":"0.0"},{"v":0,"d":"0.00"},26,55,0,26,{"v":0,"d":"0.0"},{"v":0,"d":"0.00"},25,55,0,25,{"v":0,"d":"0.0"},{"v":0,"d":"0.00"},29,55,0,29,{"v":0,"d":"0.00"},29,55,0,29]
[{"$nulls":3},{"v":0,"d":"0.0"},{"v":0,"d":"0.00"},{"v":0,"d":"0.0"},{"v":0,"d":"0.00"},{"v":0,"d":"0.00"},19,56,0,19,{"v":0,"d":"0.0"},{"v":0,"d":"0.00"},27,56,0,27,{"v":0,"d":"0.0"},{"v":0,"d":"0.00"},26,56,0,26,{"v":0,"d":"0.0"},{"v":0,"d":"0.00"},25,56,0,25,{"v":0,"d":"0.0"},{"v":0,"d":"0.00"},29,56,0,29,{"v":0,"d":"0.00"},29,56,0,29]
[{"$nulls":3},{"v":0,"d":"0.0"},{"v":0,"d":"0.00"},{"v":0,"d":"0.0"},{"v":0,"d":"0.00"},{"v":0,"d":"0.00"},19,57,0,19,{"v":0,"d":"0.0"},{"v":0,"d":"0.00"},27,57,0,27,{"v":0,"d":"0.0"},{"v":0,"d":"0.00"},26,57,0,26,{"v":0,"d":"0.0"},{"v":0,"d":"0.00"},25,57,0,25,{"v":0,"d":"0.0"},{"v":0,"d":"0.00"},29,57,0,29,{"v":0,"d":"0.00"},29,57,0,29]
[{"$nulls":3},{"v":0,"d":"0.0"},{"v":0,"d":"0.00"},{"v":0,"d":"0.0"},{"v":0,"d":"0.00"},{"v":0,"d":"0.00"},19,58,0,19,{"v":0,"d":"0.0"},{"v":0,"d":"0.00"},27,58,0,27,{"v":0,"d":"0.0"},{"v":0,"d":"0.00"},26,58,0,26,{"v":0,"d":"0.0"},{"v":0,"d":"0.00"},25,58,0,25,{"v":0,"d":"0.0"},{"v":0,"d":"0.00"},29,58,0,29,{"v":0,"d":"0.00"},29,58,0,29]
[{"$nulls":3},{"v":0,"d":"0.0"},{"v":0,"d":"0.00"},{"v":0,"d":"0.0"},{"v":0,"d":"0.00"},{"v":0,"d":"0.00"},19,59,0,19,{"v":0,"d":"0.0"},{"v":0,"d":"0.00"},27,59,0,27,{"v":0,"d":"0.0"},{"v":0,"d":"0.00"},26,59,0,26,{"v":0,"d":"0.0"},{"v":0,"d":"0.00"},25,59,0,25,{"v":0,"d":"0.0"},{"v":0,"d":"0.00"},29,59,0,29,{"v":0,"d":"0.00"},29,59,0,29]
[{"$nulls":3},{"v":0,"d":"0.0"},{"v":0,"d":"0.00"},{"v":0,"d":"0.0"},{"v":0,"d":"0.00"},{"v":0,"d":"0.00"},19,60,0,19,{"v":0,"d":"0.0"},{"v":0,"d":"0.00"},27,60,0,27,{"v":0,"d":"0.0"},{"v":0,"d":"0.00"},26,60,0,26,{"v":0,"d":"0.0"},{"v":0,"d":"0.00"},25,60,0,25,{"v":0,"d":"0.0"},{"v":0,"d":"0.00"},29,60,0,29,{"v":0,"d":"0.00"},29,60,0,29]
[{"$nulls":3},{"v":0,"d":"0.0"},{"v":0,"d":"0.00"},{"v":0,"d":"0.0"},{"v":0,"d":"0.00"},{"v":0,"d":"0.00"},19,61,0,19,{"v":0,"d":"0.0"},{"v":0,"d":"0.00"},27,61,0,27,{"v":0,"d":"0.0"},{"v":0,"d":"0.00"},26,61,0,26,{"v":0,"d":"0.0"},{"v":0,"d":"0.00"},25,61,0,25,{"v":0,"d":"0.0"},{"v":0,"d":"0.00"},29,61,0,29,{"v":0,"d":"0.00"},29,61,0,29]
[{"$nulls":3},{"v":0,"d":"0.0"},{"v":0,"d":"0.00"},{"v":0,"d":"0.0"},{"v":0,"d":"0.00"},{"v":0,"d":"0.00"},19,62,0,19,{"v":0,"d":"0.0"},{"v":0,"d":"0.00"},27,62,{"$error":"#NUM!"},{"$error":"#NUM!"},{"v":0,"d":"0.0"},{"v":0,"d":"0.00"},26,62,0,26,{"v":0,"d":"0.0"},{"v":0,"d":"0.00"},25,62,0,25,{"v":0,"d":"0.0"},{"v":0,"d":"0.00"},29,62,0,29,{"v":0,"d":"0.00"},29,62,0,29]
[null,"Teams"]
[null,{"$f":"IF(AND(COUNTIF(club,C67)>=3,COUNTIF(club,C67)<=5),\"TEAM\",IF(COUNTIF(club,C67)>5,\"Too Many!!!!!\",\"NO TEAM\"))","v":"TEAM"},"SD",{"$nulls":4},{"$f":"IF($B67=\"NO TEAM\", 0, SUM(LARGE(IF(club=$C67, vault), ROW($1:$3))))","v":35.65},{"$nulls":5},{"$f":"IF($B67=\"NO TEAM\", 0, SUM(LARGE(IF(club=$C67, bars), ROW($1:$3))))","v":36.95},{"$nulls":5},{"$f":"IF($B67=\"NO TEAM\", 0, SUM(LARGE(IF(club=$C67, beam), ROW($1:$3))))","v":35.85},{"$nulls":5},{"$f":"IF($B67=\"NO TEAM\", 0, SUM(LARGE(IF(club=$C67, floor), ROW($1:$3))))","v":{"v":35.7,"d":"35.70"}},{"$nulls":5},{"$f":"IF($B67=\"NO TEAM\", 0, SUM(LARGE(IF(club=$C67, range), ROW($1:$3))))","v":35.95},{"$nulls":4},{"$f":"IF(B67=\"TEAM\", SUMIF(D$2:AJ$2, \"SCORE\", D67:AJ67), 0)","v":{"v":180.09999999999997,"d":"180.10"}},{"$f":"VLOOKUP(AK67,AN$67:AO$81, 2,FALSE)","v":2},{"$f":"IF(ISNUMBER(AM66), AM66+1, 1)","v":1},{"$f":"LARGE((AK$67:AK$81), $AM67)","v":186.1},{"$f":"IF(AN67=AN66, AO66, AO66+1)","v":1}]
[null,{"$f":"IF(AND(COUNTIF(club,C68)>=3,COUNTIF(club,C68)<=5),\"TEAM\",IF(COUNTIF(club,C68)>5,\"Too Many!!!!!\",\"NO TEAM\"))","v":"TEAM"},"Redcar",{"$nulls":4},{"$f":"IF($B68=\"NO TEAM\", 0, SUM(LARGE(IF(club=$C68, vault), ROW($1:$3))))","v":{"v":36.3,"d":"36.30"}},{"$nulls":5},{"$f":"IF($B68=\"NO TEAM\", 0, SUM(LARGE(IF(club=$C68, bars), ROW($1:$3))))","v":{"v":38.099999999999994,"d":"38.10"}},{"$nulls":5},{"$f":"IF($B68=\"NO TEAM\", 0, SUM(LARGE(IF(club=$C68, beam), ROW($1:$3))))","v":{"v":36.9,"d":"36.90"}},{"$nulls":5},{"$f":"IF($B68=\"NO TEAM\", 0, SUM(LARGE(IF(club=$C68, floor), ROW($1:$3))))","v":{"v":31.5,"d":"31.50"}},{"$nulls":5},{"$f":"IF($B68=\"NO TEAM\", 0, SUM(LARGE(IF(club=$C68, range), ROW($1:$3))))","v":32.25},{"$nulls":4},{"v":175.04999999999998,"d":"175.05"},{"$f":"VLOOKUP(AK68,AN$67:AO$81, 2,FALSE)","v":3},{"$f":"IF(ISNUMBER(AM67), AM67+1, 1)","v":2},{"$f":"LARGE((AK$67:AK$81), $AM68)","v":180.09999999999997},{"$f":"IF(AN68=AN67, AO67, AO67+1)","v":2}]
[null,{"$f":"IF(AND(COUNTIF(club,C69)>=3,COUNTIF(club,C69)<=5),\"TEAM\",IF(COUNTIF(club,C69)>5,\"Too Many!!!!!\",\"NO TEAM\"))","v":"TEAM"},"Richmondshire",{"$nulls":4},{"$f":"IF($B69=\"NO TEAM\", 0, SUM(LARGE(IF(club=$C69, vault), ROW($1:$3))))","v":{"v":34.849999999999994,"d":"34.85"}},{"$nulls":5},{"$f":"IF($B69=\"NO TEAM\", 0, SUM(LARGE(IF(club=$C69, bars), ROW($1:$3))))","v":{"v":33.6,"d":"33.60"}},{"$nulls":5},{"$f":"IF($B69=\"NO TEAM\", 0, SUM(LARGE(IF(club=$C69, beam), ROW($1:$3))))","v":{"v":30.549999999999997,"d":"30.55"}},{"$nulls":5},{"$f":"IF($B69=\"NO TEAM\", 0, SUM(LARGE(IF(club=$C69, floor), ROW($1:$3))))","v":{"v":30.1,"d":"30.10"}},{"$nulls":5},{"$f":"IF($B69=\"NO TEAM\", 0, SUM(LARGE(IF(club=$C69, range), ROW($1:$3))))","v":28.15},{"$nulls":4},157.25,6,3,175.04999999999998,3]
[null,{"$f":"IF(AND(COUNTIF(club,C70)>=3,COUNTIF(club,C70)<=5),\"TEAM\",IF(COUNTIF(club,C70)>5,\"Too Many!!!!!\",\"NO TEAM\"))","v":"TEAM"},"CNGA",{"$nulls":4},{"$f":"IF($B70=\"NO TEAM\", 0, SUM(LARGE(IF(club=$C70, vault), ROW($1:$3))))","v":{"v":36.849999999999994,"d":"36.85"}},{"$nulls":5},{"$f":"IF($B70=\"NO TEAM\", 0, SUM(LARGE(IF(club=$C70, bars), ROW($1:$3))))","v":38.75},{"$nulls":5},{"$f":"IF($B70=\"NO TEAM\", 0, SUM(LARGE(IF(club=$C70, beam), ROW($1:$3))))","v":{"v":36.9,"d":"36.90"}},{"$nulls":5},{"$f":"IF($B70=\"NO TEAM\", 0, SUM(LARGE(IF(club=$C70, floor), ROW($1:$3))))","v":35.85},{"$nulls":5},{"$f":"IF($B70=\"NO TEAM\", 0, SUM(LARGE(IF(club=$C70, range), ROW($1:$3))))","v":37.75},{"$nulls":4},{"v":186.1,"d":"186.10"},1,4,173.09999999999997,4]
[null,{"$f":"IF(AND(COUNTIF(club,C71)>=3,COUNTIF(club,C71)<=5),\"TEAM\",IF(COUNTIF(club,C71)>5,\"Too Many!!!!!\",\"NO TEAM\"))","v":"TEAM"},"Darlington",{"$nulls":4},{"$f":"IF($B71=\"NO TEAM\", 0, SUM(LARGE(IF(club=$C71, vault), ROW($1:$3))))","v":{"v":36.400000000000006,"d":"36.40"}},{"$nulls":5},{"$f":"IF($B71=\"NO TEAM\", 0, SUM(LARGE(IF(club=$C71, bars), ROW($1:$3))))","v":35.15},{"$nulls":5},{"$f":"IF($B71=\"NO TEAM\", 0, SUM(LARGE(IF(club=$C71, beam), ROW($1:$3))))","v":{"v":35.2,"d":"35.20"}},{"$nulls":5},{"$f":"IF($B71=\"NO TEAM\", 0, SUM(LARGE(IF(club=$C71, floor), ROW($1:$3))))","v":33.65},{"$nulls":5},{"$f":"IF($B71=\"NO TEAM\", 0, SUM(LARGE(IF(club=$C71, range), ROW($1:$3))))","v":{"v":30.150000000000002,"d":"30.15"}},{"$nulls":4},170.55,5,5,170.55,5]
[null,{"$f":"IF(AND(COUNTIF(club,C72)>=3,COUNTIF(club,C72)<=5),\"TEAM\",IF(COUNTIF(club,C72)>5,\"Too Many!!!!!\",\"NO TEAM\"))","v":"TEAM"},"Carlisle",{"$nulls":4},{"$f":"IF($B72=\"NO TEAM\", 0, SUM(LARGE(IF(club=$C72, vault), ROW($1:$3))))","v":{"v":36.3,"d":"36.30"}},{"$nulls":5},{"$f":"IF($B72=\"NO TEAM\", 0, SUM(LARGE(IF(club=$C72, bars), ROW($1:$3))))","v":35.65},{"$nulls":5},{"$f":"IF($B72=\"NO TEAM\", 0, SUM(LARGE(IF(club=$C72, beam), ROW($1:$3))))","v":36.55},{"$nulls":5},{"$f":"IF($B72=\"NO TEAM\", 0, SUM(LARGE(IF(club=$C72, floor), ROW($1:$3))))","v":{"v":35.3,"d":"35.30"}},{"$nulls":5},{"$f":"IF($B72=\"NO TEAM\", 0, SUM(LARGE(IF(club=$C72, range), ROW($1:$3))))","v":{"v":29.299999999999997,"d":"29.30"}},{"$nulls":4},{"v":173.09999999999997,"d":"173.10"},4,6,157.25,6]
[null,{"$f":"IF(AND(COUNTIF(club,C73)>=3,COUNTIF(club,C73)<=5),\"TEAM\",IF(COUNTIF(club,C73)>5,\"Too Many!!!!!\",\"NO TEAM\"))","v":"NO TEAM"},{"$nulls":5},{"$f":"IF($B73=\"NO TEAM\", 0, SUM(LARGE(IF(club=$C73, vault), ROW($1:$3))))","v":{"v":0,"d":"0.00"}},{"$nulls":5},{"$f":"IF($B73=\"NO TEAM\", 0, SUM(LARGE(IF(club=$C73, bars), ROW($1:$3))))","v":{"v":0,"d":"0.00"}},{"$nulls":5},{"$f":"IF($B73=\"NO TEAM\", 0, SUM(LARGE(IF(club=$C73, beam), ROW($1:$3))))","v":{"v":0,"d":"0.00"}},{"$nulls":5},{"$f":"IF($B73=\"NO TEAM\", 0, SUM(LARGE(IF(club=$C73, floor), ROW($1:$3))))","v":{"v":0,"d":"0.00"}},{"$nulls":5},{"$f":"IF($B73=\"NO TEAM\", 0, SUM(LARGE(IF(club=$C73, range), ROW($1:$3))))","v":{"v":0,"d":"0.00"}},{"$nulls":4},{"v":0,"d":"0.00"},7,7,0,7]
[null,{"$f":"IF(AND(COUNTIF(club,C74)>=3,COUNTIF(club,C74)<=5),\"TEAM\",IF(COUNTIF(club,C74)>5,\"Too Many!!!!!\",\"NO TEAM\"))","v":"NO TEAM"},{"$nulls":5},{"$f":"IF($B74=\"NO TEAM\", 0, SUM(LARGE(IF(club=$C74, vault), ROW($1:$3))))","v":{"v":0,"d":"0.00"}},{"$nulls":5},{"$f":"IF($B74=\"NO TEAM\", 0, SUM(LARGE(IF(club=$C74, bars), ROW($1:$3))))","v":{"v":0,"d":"0.00"}},{"$nulls":5},{"$f":"IF($B74=\"NO TEAM\", 0, SUM(LARGE(IF(club=$C74, beam), ROW($1:$3))))","v":{"v":0,"d":"0.00"}},{"$nulls":5},{"$f":"IF($B74=\"NO TEAM\", 0, SUM(LARGE(IF(club=$C74, floor), ROW($1:$3))))","v":{"v":0,"d":"0.00"}},{"$nulls":5},{"$f":"IF($B74=\"NO TEAM\", 0, SUM(LARGE(IF(club=$C74, range), ROW($1:$3))))","v":{"v":0,"d":"0.00"}},{"$nulls":4},{"v":0,"d":"0.00"},7,8,0,7]
[null,{"$f":"IF(AND(COUNTIF(club,C75)>=3,COUNTIF(club,C75)<=5),\"TEAM\",IF(COUNTIF(club,C75)>5,\"Too Many!!!!!\",\"NO TEAM\"))","v":"NO TEAM"},{"$nulls":5},{"$f":"IF($B75=\"NO TEAM\", 0, SUM(LARGE(IF(club=$C75, vault), ROW($1:$3))))","v":{"v":0,"d":"0.00"}},{"$nulls":5},{"$f":"IF($B75=\"NO TEAM\", 0, SUM(LARGE(IF(club=$C75, bars), ROW($1:$3))))","v":{"v":0,"d":"0.00"}},{"$nulls":5},{"$f":"IF($B75=\"NO TEAM\", 0, SUM(LARGE(IF(club=$C75, beam), ROW($1:$3))))","v":{"v":0,"d":"0.00"}},{"$nulls":5},{"$f":"IF($B75=\"NO TEAM\", 0, SUM(LARGE(IF(club=$C75, floor), ROW($1:$3))))","v":{"v":0,"d":"0.00"}},{"$nulls":5},{"$f":"IF($B75=\"NO TEAM\", 0, SUM(LARGE(IF(club=$C75, range), ROW($1:$3))))","v":{"v":0,"d":"0.00"}},{"$nulls":4},{"v":0,"d":"0.00"},7,9,0,7]
[null,{"$f":"IF(AND(COUNTIF(club,C76)>=3,COUNTIF(club,C76)<=5),\"TEAM\",IF(COUNTIF(club,C76)>5,\"Too Many!!!!!\",\"NO TEAM\"))","v":"NO TEAM"},{"$nulls":5},{"$f":"IF($B76=\"NO TEAM\", 0, SUM(LARGE(IF(club=$C76, vault), ROW($1:$3))))","v":{"v":0,"d":"0.00"}},{"$nulls":5},{"$f":"IF($B76=\"NO TEAM\", 0, SUM(LARGE(IF(club=$C76, bars), ROW($1:$3))))","v":{"v":0,"d":"0.00"}},{"$nulls":5},{"$f":"IF($B76=\"NO TEAM\", 0, SUM(LARGE(IF(club=$C76, beam), ROW($1:$3))))","v":{"v":0,"d":"0.00"}},{"$nulls":5},{"$f":"IF($B76=\"NO TEAM\", 0, SUM(LARGE(IF(club=$C76, floor), ROW($1:$3))))","v":{"v":0,"d":"0.00"}},{"$nulls":5},{"$f":"IF($B76=\"NO TEAM\", 0, SUM(LARGE(IF(club=$C76, range), ROW($1:$3))))","v":{"v":0,"d":"0.00"}},{"$nulls":4},{"v":0,"d":"0.00"},7,10,0,7]
[null,{"$f":"IF(AND(COUNTIF(club,C77)>=3,COUNTIF(club,C77)<=5),\"TEAM\",IF(COUNTIF(club,C77)>5,\"Too Many!!!!!\",\"NO TEAM\"))","v":"NO TEAM"},{"$nulls":5},{"$f":"IF($B77=\"NO TEAM\", 0, SUM(LARGE(IF(club=$C77, vault), ROW($1:$3))))","v":{"v":0,"d":"0.00"}},{"$nulls":5},{"$f":"IF($B77=\"NO TEAM\", 0, SUM(LARGE(IF(club=$C77, bars), ROW($1:$3))))","v":{"v":0,"d":"0.00"}},{"$nulls":5},{"$f":"IF($B77=\"NO TEAM\", 0, SUM(LARGE(IF(club=$C77, beam), ROW($1:$3))))","v":{"v":0,"d":"0.00"}},{"$nulls":5},{"$f":"IF($B77=\"NO TEAM\", 0, SUM(LARGE(IF(club=$C77, floor), ROW($1:$3))))","v":{"v":0,"d":"0.00"}},{"$nulls":5},{"$f":"IF($B77=\"NO TEAM\", 0, SUM(LARGE(IF(club=$C77, range), ROW($1:$3))))","v":{"v":0,"d":"0.00"}},{"$nulls":4},{"v":0,"d":"0.00"},7,11,0,7]
[null,{"$f":"IF(AND(COUNTIF(club,C78)>=3,COUNTIF(club,C78)<=5),\"TEAM\",IF(COUNTIF(club,C78)>5,\"Too Many!!!!!\",\"NO TEAM\"))","v":"NO TEAM"},{"$nulls":5},{"$f":"IF($B78=\"NO TEAM\", 0, SUM(LARGE(IF(club=$C78, vault), ROW($1:$3))))","v":{"v":0,"d":"0.00"}},{"$nulls":5},{"$f":"IF($B78=\"NO TEAM\", 0, SUM(LARGE(IF(club=$C78, bars), ROW($1:$3))))","v":{"v":0,"d":"0.00"}},{"$nulls":5},{"$f":"IF($B78=\"NO TEAM\", 0, SUM(LARGE(IF(club=$C78, beam), ROW($1:$3))))","v":{"v":0,"d":"0.00"}},{"$nulls":5},{"$f":"IF($B78=\"NO TEAM\", 0, SUM(LARGE(IF(club=$C78, floor), ROW($1:$3))))","v":{"v":0,"d":"0.00"}},{"$nulls":5},{"$f":"IF($B78=\"NO TEAM\", 0, SUM(LARGE(IF(club=$C78, range), ROW($1:$3))))","v":{"v":0,"d":"0.00"}},{"$nulls":4},{"v":0,"d":"0.00"},7,12,0,7]
[null,{"$f":"IF(AND(COUNTIF(club,C79)>=3,COUNTIF(club,C79)<=5),\"TEAM\",IF(COUNTIF(club,C79)>5,\"Too Many!!!!!\",\"NO TEAM\"))","v":"NO TEAM"},{"$nulls":5},{"$f":"IF($B79=\"NO TEAM\", 0, SUM(LARGE(IF(club=$C79, vault), ROW($1:$3))))","v":{"v":0,"d":"0.00"}},{"$nulls":5},{"$f":"SUM(LARGE(IF(club=$C79, bars), ROW($1:$3)))","v":{"v":0,"d":"0.00"}},{"$nulls":5},{"$f":"SUM(LARGE(IF(club=$C79, beam), ROW($1:$3)))","v":{"v":0,"d":"0.00"}},{"$nulls":5},{"$f":"SUM(LARGE(IF(club=$C79, floor), ROW($1:$3)))","v":{"v":0,"d":"0.00"}},{"$nulls":5},{"$f":"SUM(LARGE(IF(club=$C79, range), ROW($1:$3)))","v":{"v":0,"d":"0.00"}},{"$nulls":4},{"v":0,"d":"0.00"},7,13,0,7]
[null,{"$f":"IF(AND(COUNTIF(club,C80)>=3,COUNTIF(club,C80)<=5),\"TEAM\",IF(COUNTIF(club,C80)>5,\"Too Many!!!!!\",\"NO TEAM\"))","v":"NO TEAM"},{"$nulls":5},{"$f":"IF($B80=\"NO TEAM\", 0, SUM(LARGE(IF(club=$C80, vault), ROW($1:$3))))","v":{"v":0,"d":"0.00"}},{"$nulls":5},{"$f":"SUM(LARGE(IF(club=$C80, bars), ROW($1:$3)))","v":{"v":0,"d":"0.00"}},{"$nulls":5},{"$f":"SUM(LARGE(IF(club=$C80, beam), ROW($1:$3)))","v":{"v":0,"d":"0.00"}},{"$nulls":5},{"$f":"SUM(LARGE(IF(club=$C80, floor), ROW($1:$3)))","v":{"v":0,"d":"0.00"}},{"$nulls":5},{"$f":"SUM(LARGE(IF(club=$C80, range), ROW($1:$3)))","v":{"v":0,"d":"0.00"}},{"$nulls":4},{"v":0,"d":"0.00"},7,14,0,7]
[null,{"$f":"IF(AND(COUNTIF(club,C81)>=3,COUNTIF(club,C81)<=5),\"TEAM\",IF(COUNTIF(club,C81)>5,\"Too Many!!!!!\",\"NO TEAM\"))","v":"NO TEAM"},{"$nulls":5},{"$f":"IF($B81=\"NO TEAM\", 0, SUM(LARGE(IF(club=$C81, vault), ROW($1:$3))))","v":{"v":0,"d":"0.00"}},{"$nulls":5},{"$f":"SUM(LARGE(IF(club=$C81, bars), ROW($1:$3)))","v":{"v":0,"d":"0.00"}},{"$nulls":5},{"$f":"SUM(LARGE(IF(club=$C81, beam), ROW($1:$3)))","v":{"v":0,"d":"0.00"}},{"$nulls":5},{"$f":"SUM(LARGE(IF(club=$C81, floor), ROW($1:$3)))","v":{"v":0,"d":"0.00"}},{"$nulls":5},{"$f":"SUM(LARGE(IF(club=$C81, range), ROW($1:$3)))","v":{"v":0,"d":"0.00"}},{"$nulls":4},{"v":0,"d":"0.00"},7,15,0,7]

{"sheet":"CGr 6 <11","index":1,"n_rows":81,"n_cols":55,"rows_kept":81,"merged":[[0,3,0,8],[0,12,0,14],[0,18,0,20],[0,24,0,26],[0,30,0,32],[0,36,0,37],[2,45,2,54],[45,44,45,45],[45,48,45,49],[45,52,45,53],[56,44,56,45]]}
[{"$nulls":3},"VAULT",{"$nulls":8},"BARS",{"$nulls":5},"BEAM",{"$nulls":5},"FLOOR",{"$nulls":5},"RANGE",{"$nulls":5},"AA"]
["No","GYMNAST","CLUB","V1 SV","V1","V2 SV","V2","SCORE","POS","idx","sort","ties","SV","SCORE","POS","idx","sort","ties","SV","SCORE","POS","idx","sort","ties","SV","SCORE","POS","idx","sort","ties","SV","SCORE","POS","idx","sort","ties","TOTAL","POS","idx","sort","ties"]
[null,"Club Grade 6 - 11 & Under",{"$nulls":41},{"$f":"B3","v":"Club Grade 6 - 11 & Under"},null,"summary results for presentation"]
[33,"Ashleigh-Jo Wilkinson","SD 1",{"v":4,"d":"4.0"},{"v":12.4,"d":"12.40"},{"v":0,"d":"0.0"},{"v":0,"d":"0.00"},{"$f":"MAX(E4, G4)","v":{"v":12.4,"d":"12.40"}},{"$f":"VLOOKUP(H4, K$4:L$65, 2,FALSE)","v":1},{"$f":"IF(ISNUMBER(J3), J3+1, 1)","v":1},{"$f":"LARGE(H$4:H$65,J4)","v":12.4},{"$f":"IF(K4=K3, L3, L3+1)","v":1},{"v":4,"d":"4.0"},12.35,{"$f":"VLOOKUP(N4, Q$4:R$65, 2,FALSE)","v":5},{"$f":"IF(ISNUMBER(P3), P3+1, 1)","v":1},{"$f":"LARGE(N$4:N$65,P4)","v":13},{"$f":"IF(Q4=Q3, R3, R3+1)","v":1},{"v":4,"d":"4.0"},{"v":12.5,"d":"12.50"},{"$f":"VLOOKUP(T4, W$4:X$65, 2,FALSE)","v":3},{"$f":"IF(ISNUMBER(V3), V3+1, 1)","v":1},{"$f":"LARGE(T$4:T$65,V4)","v":13.15},{"$f":"IF(W4=W3, X3, X3+1)","v":1},{"v":4,"d":"4.0"},12.05,{"$f":"VLOOKUP(Z4, AC$4:AD$65, 2,FALSE)","v":6},{"$f":"IF(ISNUMBER(AB3), AB3+1, 1)","v":1},{"$f":"LARGE(Z$4:Z$65,AB4)","v":13.15},{"$f":"IF(AC4=AC3, AD3, AD3+1)","v":1},{"v":4,"d":"4.0"},{"v":12.4,"d":"12.40"},{"$f":"VLOOKUP(AF4, AI$4:AJ$65, 2,FALSE)","v":4},{"$f":"IF(ISNUMBER(AH3), AH3+1, 1)","v":1},{"$f":"LARGE(AF$4:AF$65,AH4)","v":13},{"$f":"IF(AI4=AI3, AJ3, AJ3+1)","v":1},{"$f":"SUMIF(D$2:AJ$2, \"SCORE\", D4:AJ4)","v":{"v":61.699999999999996,"d":"61.70"}},{"$f":"VLOOKUP(AK4, AN$4:AO$65, 2,FALSE)","v":3},{"$f":"IF(ISNUMBER(AM3), AM3+1, 1)","v":1},{"$f":"LARGE($AK$4:$AK$65,$AM4)","v":64.25},{"$f":"IF(AN4=AN3, AO3, AO3+1)","v":1},null,null,"6th Place",{"$f":"IFERROR(INDEX(vault,MATCH(AR5,gymnasts,0)), \"\")","v":{"v":12.1,"d":"12.10"}},"5th Place",{"$f":"IFERROR(INDEX(vault,MATCH(AT5,gymnasts,0)), \"\")","v":{"v":12.2,"d":"12.20"}},"4th Place",{"$f":"IFERROR(INDEX(vault,MATCH(AV5,gymnasts,0)), \"\")","v":12.25},"3rd Place",{"$f":"IFERROR(INDEX(vault,MATCH(AX5,gymnasts,0)), \"\")","v":{"v":12.3,"d":"12.30"}},"2nd Place",{"$f":"IFERROR(INDEX(vault,MATCH(AZ5,gymnasts,0)), \"\")","v":12.35},"1st Place",{"$f":"IFERROR(INDEX(vault,MATCH(BB5,gymnasts,0)), \"\")","v":{"v":12.4,"d":"12.40"}}]
[34,"Chloe Bailes","SD 1",{"v":4,"d":"4.0"},12.35,{"v":0,"d":"0.0"},{"v":0,"d":"0.00"},{"$f":"MAX(E5, G5)","v":12.35},{"$f":"VLOOKUP(H5, K$4:L$65, 2,FALSE)","v":2},2,{"$f":"LARGE(H$4:H$65,J5)","v":12.35},{"$f":"IF(K5=K4, L4, L4+1)","v":2},{"v":4,"d":"4.0"},{"v":12.6,"d":"12.60"},{"$f":"VLOOKUP(N5, Q$4:R$65, 2,FALSE)","v":3},2,{"$f":"LARGE(N$4:N$65,P5)","v":12.85},{"$f":"IF(Q5=Q4, R4, R4+1)","v":2},{"v":4,"d":"4.0"},{"v":12.3,"d":"12.30"},{"$f":"VLOOKUP(T5, W$4:X$65, 2,FALSE)","v":4},2,{"$f":"LARGE(T$4:T$65,V5)","v":12.6},{"$f":"IF(W5=W4, X4, X4+1)","v":2},{"v":4,"d":"4.0"},12.55,{"$f":"VLOOKUP(Z5, AC$4:AD$65, 2,FALSE)","v":2},2,{"$f":"LARGE(Z$4:Z$65,AB5)","v":12.55},{"$f":"IF(AC5=AC4, AD4, AD4+1)","v":2},{"v":4,"d":"4.0"},{"v":12.8,"d":"12.80"},{"$f":"VLOOKUP(AF5, AI$4:AJ$65, 2,FALSE)","v":2},2,{"$f":"LARGE(AF$4:AF$65,AH5)","v":12.8},{"$f":"IF(AI5=AI4, AJ4, AJ4+1)","v":2},{"v":62.599999999999994,"d":"62.60"},{"$f":"VLOOKUP(AK5, AN$4:AO$65, 2,FALSE)","v":2},2,{"$f":"LARGE($AK$4:$AK$65,$AM5)","v":62.599999999999994},{"$f":"IF(AN5=AN4, AO4, AO4+1)","v":2},null,"Vault",{"$f":"IFERROR(INDEX(gymnasts, SMALL(IF(VALUE(LEFT(AR$32, 1))=vaultPos, ROW(vaultPos)-MIN(ROW(vaultPos))+1, \"\"), ROW()-4)), \"\")","v":"Millie Fuller"},{"$f":"IFERROR( INDEX(entries, MATCH(AR5, gymnasts, 0), 2), \"\")","v":"Darlington"},{"$f":"IFERROR(INDEX(gymnasts, SMALL(IF(VALUE(LEFT(AT$32, 1))=vaultPos, ROW(vaultPos)-MIN(ROW(vaultPos))+1, \"\"), ROW()-4)), \"\")","v":"Amelia Hammond"},{"$f":"IFERROR( INDEX(entries, MATCH(AT5, gymnasts, 0), 2), \"\")","v":"SD 1"},{"$f":"IFERROR(INDEX(gymnasts, SMALL(IF(VALUE(LEFT(AV$32, 1))=vaultPos, ROW(vaultPos)-MIN(ROW(vaultPos))+1, \"\"), ROW()-4)), \"\")","v":"Zara Wilson"},{"$f":"IFERROR( INDEX(entries, MATCH(AV5, gymnasts, 0), 2), \"\")","v":"DC Gymnastics"},{"$f":"IFERROR(INDEX(gymnasts, SMALL(IF(VALUE(LEFT(AX$32, 1))=vaultPos, ROW(vaultPos)-MIN(ROW(vaultPos))+1, \"\"), ROW()-4)), \"\")","v":"Nicola Denham"},{"$f":"IFERROR( INDEX(entries, MATCH(AX5, gymnasts, 0), 2), \"\")","v":"Darlington"},{"$f":"IFERROR(INDEX(gymnasts, SMALL(IF(VALUE(LEFT(AZ$32, 1))=vaultPos, ROW(vaultPos)-MIN(ROW(vaultPos))+1, \"\"), ROW()-4)), \"\")","v":"Chloe Bailes"},{"$f":"IFERROR( INDEX(entries, MATCH(AZ5, gymnasts, 0), 2), \"\")","v":"SD 1"},{"$f":"IFERROR(INDEX(gymnasts, SMALL(IF(VALUE(LEFT(BB$32, 1))=vaultPos, ROW(vaultPos)-MIN(ROW(vaultPos))+1, \"\"), ROW()-4)), \"\")","v":"Ashleigh-Jo Wilkinson"},{"$f":"IFERROR( INDEX(entries, MATCH(BB5, gymnasts, 0), 2), \"\")","v":"SD 1"}]
[35,"Amelia Hammond","SD 1",{"v":4,"d":"4.0"},{"v":12.2,"d":"12.20"},{"v":0,"d":"0.0"},{"v":0,"d":"0.00"},{"v":12.2,"d":"12.20"},5,3,12.3,3,3.5,11.95,7,3,12.6,3,{"v":4,"d":"4.0"},{"v":11.7,"d":"11.70"},9,3,12.5,3,{"v":4,"d":"4.0"},{"v":12.3,"d":"12.30"},3,3,12.3,3,3.5,{"v":12.4,"d":"12.40"},4,3,12.6,3,{"v":60.54999999999999,"d":"60.55"},5,3,61.699999999999996,3,null,null,"Robyn Selby",{"$f":"IFERROR( INDEX(entries, MATCH(AR6, gymnasts, 0), 2), \"\")","v":"Darlington"},"Grace Jackson",{"$f":"IFERROR( INDEX(entries, MATCH(AT6, gymnasts, 0), 2), \"\")","v":"SD 1"},"",{"$f":"IFERROR( INDEX(entries, MATCH(AV6, gymnasts, 0), 2), \"\")","v":""},"Megan Atkinson",{"$f":"IFERROR( INDEX(entries, MATCH(AX6, gymnasts, 0), 2), \"\")","v":"Darlington"},"",{"$f":"IFERROR( INDEX(entries, MATCH(AZ6, gymnasts, 0), 2), \"\")","v":""},"",""]
[36,"Grace Jackson","SD 1",{"v":4,"d":"4.0"},{"v":12.2,"d":"12.20"},{"v":0,"d":"0.0"},{"v":0,"d":"0.00"},{"v":12.2,"d":"12.20"},5,4,12.3,3,{"v":4,"d":"4.0"},{"v":11.4,"d":"11.40"},11,4,12.4,4,{"v":4,"d":"4.0"},12.05,6,4,12.3,4,{"v":4,"d":"4.0"},12.05,6,4,12.25,4,{"v":4,"d":"4.0"},11.35,8,4,12.4,4,{"v":59.050000000000004,"d":"59.05"},7,4,61.15,4,null,null,"","","Annabelle Cammiss","Hartlepool","","","","","","","",""]
[37,"Isobel Mackie","SD 1",{"v":4,"d":"4.0"},{"v":12,"d":"12.00"},{"v":0,"d":"0.0"},{"v":0,"d":"0.00"},{"v":12,"d":"12.00"},8,5,12.25,4,{"v":4,"d":"4.0"},{"v":13,"d":"13.00"},1,5,12.35,5,{"v":4,"d":"4.0"},11.75,8,5,12.2,5,{"v":4,"d":"4.0"},{"v":11.8,"d":"11.80"},8,5,12.2,5,{"v":4,"d":"4.0"},{"v":12.6,"d":"12.60"},3,5,12.4,4,61.15,4,5,60.54999999999999,5,null,null,"","","","","","","","","","","",""]
[38,"Freya Boon","SD 2",{"v":4,"d":"4.0"},{"v":11.9,"d":"11.90"},{"v":0,"d":"0.0"},{"v":0,"d":"0.00"},{"v":11.9,"d":"11.90"},10,6,12.2,5,{"v":4,"d":"4.0"},{"v":11.9,"d":"11.90"},8,6,12.25,6,{"v":4,"d":"4.0"},11.85,7,6,12.05,6,{"v":4,"d":"4.0"},{"v":12.2,"d":"12.20"},5,6,12.05,6,1.5,8.85,17,6,12.35,5,{"v":56.699999999999996,"d":"56.70"},11,6,59.550000000000004,6,null,null,"","","","","","","","","","","",""]
[39,"Ruby Ellingham","SD 2",{"v":4,"d":"4.0"},{"v":12,"d":"12.00"},{"v":0,"d":"0.0"},{"v":0,"d":"0.00"},{"v":12,"d":"12.00"},8,7,12.2,5,{"v":4,"d":"4.0"},{"v":12.4,"d":"12.40"},4,7,11.95,7,{"v":4,"d":"4.0"},{"v":11.1,"d":"11.10"},13,7,11.85,7,{"v":4,"d":"4.0"},{"v":11.8,"d":"11.80"},8,7,12.05,6,{"v":3,"d":"3.0"},11.15,9,7,11.95,6,{"v":58.449999999999996,"d":"58.45"},8,7,59.050000000000004,7,null,null,"","","","","","","","","","","",""]
[40,"Poppy Clark","SD 2",{"v":4,"d":"4.0"},{"v":11.8,"d":"11.80"},{"v":0,"d":"0.0"},{"v":0,"d":"0.00"},{"v":11.8,"d":"11.80"},11,8,12.2,5,{"v":4,"d":"4.0"},{"v":11.7,"d":"11.70"},9,8,11.9,8,{"v":4,"d":"4.0"},10.65,15,8,11.75,8,{"v":4,"d":"4.0"},{"v":11.9,"d":"11.90"},7,8,11.9,7,3.5,{"v":10.5,"d":"10.50"},13,8,11.5,7,56.55,12,8,58.449999999999996,8,null,null,"6th Place",{"$f":"IFERROR(INDEX(bars,MATCH(AR12,gymnasts,0)), \"\")","v":12.25},"5th Place",{"$f":"IFERROR(INDEX(bars,MATCH(AT12,gymnasts,0)), \"\")","v":12.35},"4th Place",{"$f":"IFERROR(INDEX(bars,MATCH(AV12,gymnasts,0)), \"\")","v":{"v":12.4,"d":"12.40"}},"3rd Place",{"$f":"IFERROR(INDEX(bars,MATCH(AX12,gymnasts,0)), \"\")","v":{"v":12.6,"d":"12.60"}},"2nd Place",{"$f":"IFERROR(INDEX(bars,MATCH(AZ12,gymnasts,0)), \"\")","v":12.85},"1st Place",{"$f":"IFERROR(INDEX(bars,MATCH(BB12,gymnasts,0)), \"\")","v":{"v":13,"d":"13.00"}}]
[41,"Harriet Barker","SD 2",{"v":4,"d":"4.0"},{"v":11.7,"d":"11.70"},{"v":0,"d":"0.0"},{"v":0,"d":"0.00"},{"v":11.7,"d":"11.70"},13,9,12.1,6,{"v":4,"d":"4.0"},10.95,13,9,11.7,9,{"v":4,"d":"4.0"},{"v":11.2,"d":"11.20"},12,9,11.7,9,{"v":4,"d":"4.0"},11.15,11,9,11.9,7,3.5,{"v":10.7,"d":"10.70"},12,9,11.35,8,{"v":55.69999999999999,"d":"55.70"},13,9,58.05,9,null,"Bars",{"$f":"IFERROR(INDEX(gymnasts, SMALL(IF(VALUE(LEFT(AR$32, 1))=BarPos, ROW(BarPos)-MIN(ROW(BarPos))+1, \"\"), ROW()-11)), \"\")","v":"Megan Atkinson"},{"$f":"IFERROR( INDEX(entries, MATCH(AR12, gymnasts, 0), 2), \"\")","v":"Darlington"},{"$f":"IFERROR(INDEX(gymnasts, SMALL(IF(VALUE(LEFT(AT$32, 1))=BarPos, ROW(BarPos)-MIN(ROW(BarPos))+1, \"\"), ROW()-11)), \"\")","v":"Ashleigh-Jo Wilkinson"},{"$f":"IFERROR( INDEX(entries, MATCH(AT12, gymnasts, 0), 2), \"\")","v":"SD 1"},{"$f":"IFERROR(INDEX(gymnasts, SMALL(IF(VALUE(LEFT(AV$32, 1))=BarPos, ROW(BarPos)-MIN(ROW(BarPos))+1, \"\"), ROW()-11)), \"\")","v":"Ruby Ellingham"},{"$f":"IFERROR( INDEX(entries, MATCH(AV12, gymnasts, 0), 2), \"\")","v":"SD 2"},{"$f":"IFERROR(INDEX(gymnasts, SMALL(IF(VALUE(LEFT(AX$32, 1))=BarPos, ROW(BarPos)-MIN(ROW(BarPos))+1, \"\"), ROW()-11)), \"\")","v":"Chloe Bailes"},{"$f":"IFERROR( INDEX(entries, MATCH(AX12, gymnasts, 0), 2), \"\")","v":"SD 1"},{"$f":"IFERROR(INDEX(gymnasts, SMALL(IF(VALUE(LEFT(AZ$32, 1))=BarPos, ROW(BarPos)-MIN(ROW(BarPos))+1, \"\"), ROW()-11)), \"\")","v":"Robyn Selby"},{"$f":"IFERROR( INDEX(entries, MATCH(AZ12, gymnasts, 0), 2), \"\")","v":"Darlington"},{"$f":"IFERROR(INDEX(gymnasts, SMALL(IF(VALUE(LEFT(BB$32, 1))=BarPos, ROW(BarPos)-MIN(ROW(BarPos))+1, \"\"), ROW()-11)), \"\")","v":"Isobel Mackie"},{"$f":"IFERROR( INDEX(entries, MATCH(BB12, gymnasts, 0), 2), \"\")","v":"SD 1"}]
[42,"Zara Wilson","DC Gymnastics",{"v":4,"d":"4.0"},12.25,{"v":0,"d":"0.0"},{"v":0,"d":"0.00"},12.25,4,10,12.1,6,{"v":4,"d":"4.0"},10.65,15,10,11.5,10,{"v":4,"d":"4.0"},10.45,16,10,11.5,10,{"v":4,"d":"4.0"},{"v":10.6,"d":"10.60"},13,10,11.8,8,3.5,{"v":10.4,"d":"10.40"},14,10,11.15,9,{"v":54.349999999999994,"d":"54.35"},15,10,57.900000000000006,10,null,null,"",{"$f":"IFERROR( INDEX(entries, MATCH(AR13, gymnasts, 0), 2), \"\")","v":""},"",{"$f":"IFERROR( INDEX(entries, MATCH(AT13, gymnasts, 0), 2), \"\")","v":""},"",{"$f":"IFERROR( INDEX(entries, MATCH(AV13, gymnasts, 0), 2), \"\")","v":""},"",{"$f":"IFERROR( INDEX(entries, MATCH(AX13, gymnasts, 0), 2), \"\")","v":""},"",{"$f":"IFERROR( INDEX(entries, MATCH(AZ13, gymnasts, 0), 2), \"\")","v":""},"",""]
[43,"Flori McKenna","DC Gymnastics",{"v":4,"d":"4.0"},11.75,{"v":0,"d":"0.0"},{"v":0,"d":"0.00"},11.75,12,11,12.05,7,{"v":4,"d":"4.0"},{"v":9.9,"d":"9.90"},18,11,11.4,11,{"v":4,"d":"4.0"},9.35,18,11,11.45,11,{"v":4,"d":"4.0"},{"v":10.4,"d":"10.40"},14,11,11.8,8,{"v":4,"d":"4.0"},{"v":11.5,"d":"11.50"},7,11,11.1,10,{"v":52.9,"d":"52.90"},16,11,56.699999999999996,11,null,null,"","","","","","","","","","","",""]
[44,"Kitty Mykura","DC Gymnastics",{"v":4,"d":"4.0"},11.95,{"v":0,"d":"0.0"},{"v":0,"d":"0.00"},11.95,9,12,12,8,3.5,8.15,19,12,11.2,12,{"v":4,"d":"4.0"},{"v":9.8,"d":"9.80"},17,12,11.2,12,3.5,{"v":7.5,"d":"7.50"},15,12,11.75,9,{"v":4,"d":"4.0"},{"v":10.1,"d":"10.10"},16,12,11,11,{"v":47.50000000000001,"d":"47.50"},17,12,56.55,12,null,null,"","","","","","","","","","","",""]
[45,"Nicola Denham","Darlington",{"v":4,"d":"4.0"},{"v":12.3,"d":"12.30"},{"v":0,"d":"0.0"},{"v":0,"d":"0.00"},{"v":12.3,"d":"12.30"},3,13,12,8,{"v":4,"d":"4.0"},{"v":11.5,"d":"11.50"},10,13,10.95,13,{"v":4,"d":"4.0"},{"v":11.5,"d":"11.50"},10,13,11.1,13,{"v":4,"d":"4.0"},11.75,9,13,11.75,9,{"v":4,"d":"4.0"},{"v":11,"d":"11.00"},11,13,10.7,12,58.05,9,13,56.55,12,null,null,"","","","","","","","","","","",""]
[46,"Millie Fuller","Darlington",{"v":4,"d":"4.0"},{"v":12.1,"d":"12.10"},{"v":0,"d":"0.0"},{"v":0,"d":"0.00"},{"v":12.1,"d":"12.10"},6,14,11.95,9,{"v":4,"d":"4.0"},9.95,17,14,10.7,14,{"v":4,"d":"4.0"},{"v":10.8,"d":"10.80"},14,14,10.8,14,{"v":4,"d":"4.0"},11.75,9,14,11.3,10,{"v":4,"d":"4.0"},11.95,6,14,10.5,13,56.55,12,14,55.69999999999999,13,null,null,"","","","","","","","","","","",""]
[47,"Maggie Moore","Darlington",{"v":4,"d":"4.0"},12.05,{"v":0,"d":"0.0"},{"v":0,"d":"0.00"},12.05,7,15,11.9,10,{"v":4,"d":"4.0"},{"v":10.7,"d":"10.70"},14,15,10.65,15,{"v":4,"d":"4.0"},11.45,11,15,10.65,15,{"v":4,"d":"4.0"},{"v":11.3,"d":"11.30"},10,15,11.15,11,3.5,8.85,17,15,10.4,14,54.35,15,15,54.550000000000004,14,null,null,"6th Place",{"$f":"IFERROR(INDEX(beam,MATCH(AR19,gymnasts,0)), \"\")","v":12.05},"5th Place",{"$f":"IFERROR(INDEX(beam,MATCH(AT19,gymnasts,0)), \"\")","v":{"v":12.2,"d":"12.20"}},"4th Place",{"$f":"IFERROR(INDEX(beam,MATCH(AV19,gymnasts,0)), \"\")","v":{"v":12.3,"d":"12.30"}},"3rd Place",{"$f":"IFERROR(INDEX(beam,MATCH(AX19,gymnasts,0)), \"\")","v":{"v":12.5,"d":"12.50"}},"2nd Place",{"$f":"IFERROR(INDEX(beam,MATCH(AZ19,gymnasts,0)), \"\")","v":{"v":12.6,"d":"12.60"}},"1st Place",{"$f":"IFERROR(INDEX(beam,MATCH(BB19,gymnasts,0)), \"\")","v":13.15}]
[48,"Tendai Kushamba","Darlington 2",{"v":0,"d":"0.0"},{"v":0,"d":"0.00"},{"v":0,"d":"0.0"},{"v":0,"d":"0.00"},{"v":0,"d":"0.00"},15,16,11.8,11,{"v":0,"d":"0.0"},{"v":0,"d":"0.00"},20,16,10.15,16,{"v":0,"d":"0.0"},{"v":0,"d":"0.00"},20,16,10.45,16,{"v":0,"d":"0.0"},{"v":0,"d":"0.00"},16,16,10.95,12,{"v":0,"d":"0.0"},{"v":0,"d":"0.00"},18,16,10.2,15,{"v":0,"d":"0.00"},18,16,54.35,15,null,"Beam",{"$f":"IFERROR(INDEX(gymnasts, SMALL(IF(VALUE(LEFT(AR$32, 1))=BeamPos, ROW(BeamPos)-MIN(ROW(BeamPos))+1, \"\"), ROW()-18)), \"\")","v":"Grace Jackson"},{"$f":"IFERROR( INDEX(entries, MATCH(AR19, gymnasts, 0), 2), \"\")","v":"SD 1"},{"$f":"IFERROR(INDEX(gymnasts, SMALL(IF(VALUE(LEFT(AT$32, 1))=BeamPos, ROW(BeamPos)-MIN(ROW(BeamPos))+1, \"\"), ROW()-18)), \"\")","v":"Megan Atkinson"},{"$f":"IFERROR( INDEX(entries, MATCH(AT19, gymnasts, 0), 2), \"\")","v":"Darlington"},{"$f":"IFERROR(INDEX(gymnasts, SMALL(IF(VALUE(LEFT(AV$32, 1))=BeamPos, ROW(BeamPos)-MIN(ROW(BeamPos))+1, \"\"), ROW()-18)), \"\")","v":"Chloe Bailes"},{"$f":"IFERROR( INDEX(entries, MATCH(AV19, gymnasts, 0), 2), \"\")","v":"SD 1"},{"$f":"IFERROR(INDEX(gymnasts, SMALL(IF(VALUE(LEFT(AX$32, 1))=BeamPos, ROW(BeamPos)-MIN(ROW(BeamPos))+1, \"\"), ROW()-18)), \"\")","v":"Ashleigh-Jo Wilkinson"},{"$f":"IFERROR( INDEX(entries, MATCH(AX19, gymnasts, 0), 2), \"\")","v":"SD 1"},{"$f":"IFERROR(INDEX(gymnasts, SMALL(IF(VALUE(LEFT(AZ$32, 1))=BeamPos, ROW(BeamPos)-MIN(ROW(BeamPos))+1, \"\"), ROW()-18)), \"\")","v":"Annabelle Cammiss"},{"$f":"IFERROR( INDEX(entries, MATCH(AZ19, gymnasts, 0), 2), \"\")","v":"Hartlepool"},{"$f":"IFERROR(INDEX(gymnasts, SMALL(IF(VALUE(LEFT(BB$32, 1))=BeamPos, ROW(BeamPos)-MIN(ROW(BeamPos))+1, \"\"), ROW()-18)), \"\")","v":"Robyn Selby"},{"$f":"IFERROR( INDEX(entries, MATCH(BB19, gymnasts, 0), 2), \"\")","v":"Darlington"}]
[49,"Megan Atkinson","Darlington",{"v":4,"d":"4.0"},{"v":12.3,"d":"12.30"},{"v":0,"d":"0.0"},{"v":0,"d":"0.00"},{"v":12.3,"d":"12.30"},3,17,11.75,12,{"v":4,"d":"4.0"},12.25,6,17,9.95,17,{"v":4,"d":"4.0"},{"v":12.2,"d":"12.20"},5,17,9.8,17,{"v":4,"d":"4.0"},10.95,12,17,10.6,13,{"v":4,"d":"4.0"},{"v":10.2,"d":"10.20"},15,17,10.1,16,{"v":57.900000000000006,"d":"57.90"},10,17,54.349999999999994,15,null,null,"",{"$f":"IFERROR( INDEX(entries, MATCH(AR20, gymnasts, 0), 2), \"\")","v":""},"",{"$f":"IFERROR( INDEX(entries, MATCH(AT20, gymnasts, 0), 2), \"\")","v":""},"",{"$f":"IFERROR( INDEX(entries, MATCH(AV20, gymnasts, 0), 2), \"\")","v":""},"",{"$f":"IFERROR( INDEX(entries, MATCH(AX20, gymnasts, 0), 2), \"\")","v":""},"",{"$f":"IFERROR( INDEX(entries, MATCH(AZ20, gymnasts, 0), 2), \"\")","v":""},"",""]
[50,"Robyn Selby","Darlington",{"v":4,"d":"4.0"},{"v":12.1,"d":"12.10"},{"v":0,"d":"0.0"},{"v":0,"d":"0.00"},{"v":12.1,"d":"12.10"},6,18,11.7,13,{"v":4,"d":"4.0"},12.85,2,18,9.9,18,{"v":4,"d":"4.0"},13.15,1,18,9.35,18,{"v":4,"d":"4.0"},13.15,1,18,10.4,14,{"v":4,"d":"4.0"},{"v":13,"d":"13.00"},1,18,8.85,17,64.25,1,18,52.9,16,null,null,"","","","","","","","","","","",""]
[51,"Annabelle Cammiss","Hartlepool",{"v":4,"d":"4.0"},{"v":12.2,"d":"12.20"},{"v":0,"d":"0.0"},{"v":0,"d":"0.00"},{"v":12.2,"d":"12.20"},5,19,11.65,14,{"v":4,"d":"4.0"},10.15,16,19,8.15,19,{"v":4,"d":"4.0"},{"v":12.6,"d":"12.60"},2,19,8.7,19,{"v":4,"d":"4.0"},12.25,4,19,7.5,15,{"v":4,"d":"4.0"},12.35,5,19,8.85,17,{"v":59.550000000000004,"d":"59.55"},6,19,47.50000000000001,17,null,null,"","","","","","","","","","","",""]
[52,"Maggie-May Martin","Wansbeck",{"v":4,"d":"4.0"},11.65,{"v":0,"d":"0.0"},{"v":0,"d":"0.00"},11.65,14,20,0,15,{"v":4,"d":"4.0"},{"v":11.2,"d":"11.20"},12,20,0,20,3.5,{"v":8.7,"d":"8.70"},19,20,0,20,{"v":4,"d":"4.0"},{"v":11.9,"d":"11.90"},7,20,0,16,{"v":4,"d":"4.0"},{"v":11.1,"d":"11.10"},10,20,0,18,{"v":54.550000000000004,"d":"54.55"},14,20,0,18,null,null,"","","","","","","","","","","",""]
[{"$nulls":3},{"v":0,"d":"0.0"},{"v":0,"d":"0.00"},{"v":0,"d":"0.0"},{"v":0,"d":"0.00"},{"v":0,"d":"0.00"},15,21,0,15,{"v":0,"d":"0.0"},{"v":0,"d":"0.00"},20,21,0,20,{"v":0,"d":"0.0"},{"v":0,"d":"0.00"},20,21,0,20,{"v":0,"d":"0.0"},{"v":0,"d":"0.00"},16,21,0,16,{"v":0,"d":"0.0"},{"v":0,"d":"0.00"},18,21,0,18,{"v":0,"d":"0.00"},18,21,0,18,null,null,"","","","","","","","","","","",""]
[{"$nulls":3},{"v":0,"d":"0.0"},{"v":0,"d":"0.00"},{"v":0,"d":"0.0"},{"v":0,"d":"0.00"},{"v":0,"d":"0.00"},15,22,0,15,{"v":0,"d":"0.0"},{"v":0,"d":"0.00"},20,22,0,20,{"v":0,"d":"0.0"},{"v":0,"d":"0.00"},20,22,0,20,{"v":0,"d":"0.0"},{"v":0,"d":"0.00"},16,22,0,16,{"v":0,"d":"0.0"},{"v":0,"d":"0.00"},18,22,0,18,{"v":0,"d":"0.00"},18,22,0,18,null,null,"6th Place",{"$f":"IFERROR(INDEX(floor,MATCH(AR26,gymnasts,0)), \"\")","v":12.05},"5th Place",{"$f":"IFERROR(INDEX(floor,MATCH(AT26,gymnasts,0)), \"\")","v":{"v":12.2,"d":"12.20"}},"4th Place",{"$f":"IFERROR(INDEX(floor,MATCH(AV26,gymnasts,0)), \"\")","v":12.25},"3rd Place",{"$f":"IFERROR(INDEX(floor,MATCH(AX26,gymnasts,0)), \"\")","v":{"v":12.3,"d":"12.30"}},"2nd Place",{"$f":"IFERROR(INDEX(floor,MATCH(AZ26,gymnasts,0)), \"\")","v":12.55},"1st Place",{"$f":"IFERROR(INDEX(floor,MATCH(BB26,gymnasts,0)), \"\")","v":13.15}]
[{"$nulls":3},{"v":0,"d":"0.0"},{"v":0,"d":"0.00"},{"v":0,"d":"0.0"},{"v":0,"d":"0.00"},{"v":0,"d":"0.00"},15,23,0,15,{"v":0,"d":"0.0"},{"v":0,"d":"0.00"},20,23,0,20,{"v":0,"d":"0.0"},{"v":0,"d":"0.00"},20,23,0,20,{"v":0,"d":"0.0"},{"v":0,"d":"0.00"},16,23,0,16,{"v":0,"d":"0.0"},{"v":0,"d":"0.00"},18,23,0,18,{"v":0,"d":"0.00"},18,23,0,18,null,"Floor",{"$f":"IFERROR(INDEX(gymnasts, SMALL(IF(VALUE(LEFT(AR$32, 1))=FloorPos, ROW(FloorPos)-MIN(ROW(FloorPos))+1, \"\"), ROW()-25)), \"\")","v":"Ashleigh-Jo Wilkinson"},{"$f":"IFERROR( INDEX(entries, MATCH(AR26, gymnasts, 0), 2), \"\")","v":"SD 1"},{"$f":"IFERROR(INDEX(gymnasts, SMALL(IF(VALUE(LEFT(AT$32, 1))=FloorPos, ROW(FloorPos)-MIN(ROW(FloorPos))+1, \"\"), ROW()-25)), \"\")","v":"Freya Boon"},{"$f":"IFERROR( INDEX(entries, MATCH(AT26, gymnasts, 0), 2), \"\")","v":"SD 2"},{"$f":"IFERROR(INDEX(gymnasts, SMALL(IF(VALUE(LEFT(AV$32, 1))=FloorPos, ROW(FloorPos)-MIN(ROW(FloorPos))+1, \"\"), ROW()-25)), \"\")","v":"Annabelle Cammiss"},{"$f":"IFERROR( INDEX(entries, MATCH(AV26, gymnasts, 0), 2), \"\")","v":"Hartlepool"},{"$f":"IFERROR(INDEX(gymnasts, SMALL(IF(VALUE(LEFT(AX$32, 1))=FloorPos, ROW(FloorPos)-MIN(ROW(FloorPos))+1, \"\"), ROW()-25)), \"\")","v":"Amelia Hammond"},{"$f":"IFERROR( INDEX(entries, MATCH(AX26, gymnasts, 0), 2), \"\")","v":"SD 1"},{"$f":"IFERROR(INDEX(gymnasts, SMALL(IF(VALUE(LEFT(AZ$32, 1))=FloorPos, ROW(FloorPos)-MIN(ROW(FloorPos))+1, \"\"), ROW()-25)), \"\")","v":"Chloe Bailes"},{"$f":"IFERROR( INDEX(entries, MATCH(AZ26, gymnasts, 0), 2), \"\")","v":"SD 1"},{"$f":"IFERROR(INDEX(gymnasts, SMALL(IF(VALUE(LEFT(BB$32, 1))=FloorPos, ROW(FloorPos)-MIN(ROW(FloorPos))+1, \"\"), ROW()-25)), \"\")","v":"Robyn Selby"},{"$f":"IFERROR( INDEX(entries, MATCH(BB26, gymnasts, 0), 2), \"\")","v":"Darlington"}]
[{"$nulls":3},{"v":0,"d":"0.0"},{"v":0,"d":"0.00"},{"v":0,"d":"0.0"},{"v":0,"d":"0.00"},{"v":0,"d":"0.00"},15,24,0,15,{"v":0,"d":"0.0"},{"v":0,"d":"0.00"},20,24,0,20,{"v":0,"d":"0.0"},{"v":0,"d":"0.00"},20,24,0,20,{"v":0,"d":"0.0"},{"v":0,"d":"0.00"},16,24,0,16,{"v":0,"d":"0.0"},{"v":0,"d":"0.00"},18,24,0,18,{"v":0,"d":"0.00"},18,24,0,18,null,null,"Grace Jackson",{"$f":"IFERROR( INDEX(entries, MATCH(AR27, gymnasts, 0), 2), \"\")","v":"SD 1"},"",{"$f":"IFERROR( INDEX(entries, MATCH(AT27, gymnasts, 0), 2), \"\")","v":""},"",{"$f":"IFERROR( INDEX(entries, MATCH(AV27, gymnasts, 0), 2), \"\")","v":""},"",{"$f":"IFERROR( INDEX(entries, MATCH(AX27, gymnasts, 0), 2), \"\")","v":""},"",{"$f":"IFERROR( INDEX(entries, MATCH(AZ27, gymnasts, 0), 2), \"\")","v":""},"",""]
[{"$nulls":3},{"v":0,"d":"0.0"},{"v":0,"d":"0.00"},{"v":0,"d":"0.0"},{"v":0,"d":"0.00"},{"v":0,"d":"0.00"},15,25,0,15,{"v":0,"d":"0.0"},{"v":0,"d":"0.00"},20,25,0,20,{"v":0,"d":"0.0"},{"v":0,"d":"0.00"},20,25,0,20,{"v":0,"d":"0.0"},{"v":0,"d":"0.00"},16,25,0,16,{"v":0,"d":"0.0"},{"v":0,"d":"0.00"},18,25,0,18,{"v":0,"d":"0.00"},18,25,0,18,null,null,"","","","","","","","","","","",""]
[{"$nulls":3},{"v":0,"d":"0.0"},{"v":0,"d":"0.00"},{"v":0,"d":"0.0"},{"v":0,"d":"0.00"},{"v":0,"d":"0.00"},15,26,0,15,{"v":0,"d":"0.0"},{"v":0,"d":"0.00"},20,26,0,20,{"v":0,"d":"0.0"},{"v":0,"d":"0.00"},20,26,0,20,{"v":0,"d":"0.0"},{"v":0,"d":"0.00"},16,26,0,16,{"v":0,"d":"0.0"},{"v":0,"d":"0.00"},18,26,0,18,{"v":0,"d":"0.00"},18,26,0,18,null,null,"","","","","","","","","","","",""]
[{"$nulls":3},{"v":0,"d":"0.0"},{"v":0,"d":"0.00"},{"v":0,"d":"0.0"},{"v":0,"d":"0.00"},{"v":0,"d":"0.00"},15,27,0,15,{"v":0,"d":"0.0"},{"v":0,"d":"0.00"},20,27,0,20,{"v":0,"d":"0.0"},{"v":0,"d":"0.00"},20,27,0,20,{"v":0,"d":"0.0"},{"v":0,"d":"0.00"},16,27,0,16,{"v":0,"d":"0.0"},{"v":0,"d":"0.00"},18,27,0,18,{"v":0,"d":"0.00"},18,27,0,18,null,null,"","","","","","","","","","","",""]
[{"$nulls":3},{"v":0,"d":"0.0"},{"v":0,"d":"0.00"},{"v":0,"d":"0.0"},{"v":0,"d":"0.00"},{"v":0,"d":"0.00"},15,28,0,15,{"v":0,"d":"0.0"},{"v":0,"d":"0.00"},20,28,0,20,{"v":0,"d":"0.0"},{"v":0,"d":"0.00"},20,28,0,20,{"v":0,"d":"0.0"},{"v":0,"d":"0.00"},16,28,0,16,{"v":0,"d":"0.0"},{"v":0,"d":"0.00"},18,28,0,18,{"v":0,"d":"0.00"},18,28,0,18,null,null,"","","","","","","","","","","",""]
[{"$nulls":3},{"v":0,"d":"0.0"},{"v":0,"d":"0.00"},{"v":0,"d":"0.0"},{"v":0,"d":"0.00"},{"v":0,"d":"0.00"},15,29,0,15,{"v":0,"d":"0.0"},{"v":0,"d":"0.00"},20,29,0,20,{"v":0,"d":"0.0"},{"v":0,"d":"0.00"},20,29,0,20,{"v":0,"d":"0.0"},{"v":0,"d":"0.00"},16,29,0,16,{"v":0,"d":"0.0"},{"v":0,"d":"0.00"},18,29,0,18,{"v":0,"d":"0.00"},18,29,0,18,null,null,"6th Place",{"$f":"IFERROR(INDEX(range,MATCH(AR33,gymnasts,0)), \"\")","v":11.95},"5th Place",{"$f":"IFERROR(INDEX(range,MATCH(AT33,gymnasts,0)), \"\")","v":12.35},"4th Place",{"$f":"IFERROR(INDEX(range,MATCH(AV33,gymnasts,0)), \"\")","v":{"v":12.4,"d":"12.40"}},"3rd Place",{"$f":"IFERROR(INDEX(range,MATCH(AX33,gymnasts,0)), \"\")","v":{"v":12.6,"d":"12.60"}},"2nd Place",{"$f":"IFERROR(INDEX(range,MATCH(AZ33,gymnasts,0)), \"\")","v":{"v":12.8,"d":"12.80"}},"1st Place",{"$f":"IFERROR(INDEX(range,MATCH(BB33,gymnasts,0)), \"\")","v":{"v":13,"d":"13.00"}}]
[{"$nulls":3},{"v":0,"d":"0.0"},{"v":0,"d":"0.00"},{"v":0,"d":"0.0"},{"v":0,"d":"0.00"},{"v":0,"d":"0.00"},15,30,0,15,{"v":0,"d":"0.0"},{"v":0,"d":"0.00"},20,30,0,20,{"v":0,"d":"0.0"},{"v":0,"d":"0.00"},20,30,0,20,{"v":0,"d":"0.0"},{"v":0,"d":"0.00"},16,30,0,16,{"v":0,"d":"0.0"},{"v":0,"d":"0.00"},18,30,0,18,{"v":0,"d":"0.00"},18,30,0,18,null,"Range",{"$f":"IFERROR(INDEX(gymnasts, SMALL(IF(VALUE(LEFT(AR$32, 1))=RangePos, ROW(RangePos)-MIN(ROW(RangePos))+1, \"\"), ROW()-32)), \"\")","v":"Millie Fuller"},{"$f":"IFERROR( INDEX(entries, MATCH(AR33, gymnasts, 0), 2), \"\")","v":"Darlington"},{"$f":"IFERROR(INDEX(gymnasts, SMALL(IF(VALUE(LEFT(AT$32, 1))=RangePos, ROW(RangePos)-MIN(ROW(RangePos))+1, \"\"), ROW()-32)), \"\")","v":"Annabelle Cammiss"},{"$f":"IFERROR( INDEX(entries, MATCH(AT33, gymnasts, 0), 2), \"\")","v":"Hartlepool"},{"$f":"IFERROR(INDEX(gymnasts, SMALL(IF(VALUE(LEFT(AV$32, 1))=RangePos, ROW(RangePos)-MIN(ROW(RangePos))+1, \"\"), ROW()-32)), \"\")","v":"Ashleigh-Jo Wilkinson"},{"$f":"IFERROR( INDEX(entries, MATCH(AV33, gymnasts, 0), 2), \"\")","v":"SD 1"},{"$f":"IFERROR(INDEX(gymnasts, SMALL(IF(VALUE(LEFT(AX$32, 1))=RangePos, ROW(RangePos)-MIN(ROW(RangePos))+1, \"\"), ROW()-32)), \"\")","v":"Isobel Mackie"},{"$f":"IFERROR( INDEX(entries, MATCH(AX33, gymnasts, 0), 2), \"\")","v":"SD 1"},{"$f":"IFERROR(INDEX(gymnasts, SMALL(IF(VALUE(LEFT(AZ$32, 1))=RangePos, ROW(RangePos)-MIN(ROW(RangePos))+1, \"\"), ROW()-32)), \"\")","v":"Chloe Bailes"},{"$f":"IFERROR( INDEX(entries, MATCH(AZ33, gymnasts, 0), 2), \"\")","v":"SD 1"},{"$f":"IFERROR(INDEX(gymnasts, SMALL(IF(VALUE(LEFT(BB$32, 1))=RangePos, ROW(RangePos)-MIN(ROW(RangePos))+1, \"\"), ROW()-32)), \"\")","v":"Robyn Selby"},{"$f":"IFERROR( INDEX(entries, MATCH(BB33, gymnasts, 0), 2), \"\")","v":"Darlington"}]
[{"$nulls":3},{"v":0,"d":"0.0"},{"v":0,"d":"0.00"},{"v":0,"d":"0.0"},{"v":0,"d":"0.00"},{"v":0,"d":"0.00"},15,31,0,15,{"v":0,"d":"0.0"},{"v":0,"d":"0.00"},20,31,0,20,{"v":0,"d":"0.0"},{"v":0,"d":"0.00"},20,31,0,20,{"v":0,"d":"0.0"},{"v":0,"d":"0.00"},16,31,0,16,{"v":0,"d":"0.0"},{"v":0,"d":"0.00"},18,31,0,18,{"v":0,"d":"0.00"},18,31,0,18,null,null,"",{"$f":"IFERROR( INDEX(entries, MATCH(AR34, gymnasts, 0), 2), \"\")","v":""},"",{"$f":"IFERROR( INDEX(entries, MATCH(AT34, gymnasts, 0), 2), \"\")","v":""},"Amelia Hammond",{"$f":"IFERROR( INDEX(entries, MATCH(AV34, gymnasts, 0), 2), \"\")","v":"SD 1"},"",{"$f":"IFERROR( INDEX(entries, MATCH(AX34, gymnasts, 0), 2), \"\")","v":""},"",{"$f":"IFERROR( INDEX(entries, MATCH(AZ34, gymnasts, 0), 2), \"\")","v":""},"",""]
[{"$nulls":3},{"v":0,"d":"0.0"},{"v":0,"d":"0.00"},{"v":0,"d":"0.0"},{"v":0,"d":"0.00"},{"v":0,"d":"0.00"},15,32,0,15,{"v":0,"d":"0.0"},{"v":0,"d":"0.00"},20,32,0,20,{"v":0,"d":"0.0"},{"v":0,"d":"0.00"},20,32,0,20,{"v":0,"d":"0.0"},{"v":0,"d":"0.00"},16,32,0,16,{"v":0,"d":"0.0"},{"v":0,"d":"0.00"},18,32,0,18,{"v":0,"d":"0.00"},18,32,0,18,null,null,"","","","","","","","","","","",""]
[{"$nulls":3},{"v":0,"d":"0.0"},{"v":0,"d":"0.00"},{"v":0,"d":"0.0"},{"v":0,"d":"0.00"},{"v":0,"d":"0.00"},15,33,0,15,{"v":0,"d":"0.0"},{"v":0,"d":"0.00"},20,33,0,20,{"v":0,"d":"0.0"},{"v":0,"d":"0.00"},20,33,0,20,{"v":0,"d":"0.0"},{"v":0,"d":"0.00"},16,33,0,16,{"v":0,"d":"0.0"},{"v":0,"d":"0.00"},18,33,0,18,{"$f":"SUMIF(D$2:AJ$2, \"SCORE\", D36:AJ36)","v":{"v":0,"d":"0.00"}},18,33,0,18,null,null,"","","","","","","","","","","",""]
[{"$nulls":3},{"v":0,"d":"0.0"},{"v":0,"d":"0.00"},{"v":0,"d":"0.0"},{"v":0,"d":"0.00"},{"v":0,"d":"0.00"},15,34,0,15,{"v":0,"d":"0.0"},{"v":0,"d":"0.00"},20,34,0,20,{"v":0,"d":"0.0"},{"v":0,"d":"0.00"},20,34,0,20,{"v":0,"d":"0.0"},{"v":0,"d":"0.00"},16,34,0,16,{"v":0,"d":"0.0"},{"v":0,"d":"0.00"},18,34,0,18,{"v":0,"d":"0.00"},18,34,0,18,null,null,"","","","","","","","","","","",""]
[{"$nulls":3},{"v":0,"d":"0.0"},{"v":0,"d":"0.00"},{"v":0,"d":"0.0"},{"v":0,"d":"0.00"},{"v":0,"d":"0.00"},15,35,0,15,{"v":0,"d":"0.0"},{"v":0,"d":"0.00"},20,35,0,20,{"v":0,"d":"0.0"},{"v":0,"d":"0.00"},20,35,0,20,{"v":0,"d":"0.0"},{"v":0,"d":"0.00"},16,35,0,16,{"v":0,"d":"0.0"},{"v":0,"d":"0.00"},18,35,0,18,{"v":0,"d":"0.00"},18,35,0,18,null,null,"","","","","","","","","","","",""]
[{"$nulls":3},{"v":0,"d":"0.0"},{"v":0,"d":"0.00"},{"v":0,"d":"0.0"},{"v":0,"d":"0.00"},{"v":0,"d":"0.00"},15,36,0,15,{"v":0,"d":"0.0"},{"v":0,"d":"0.00"},20,36,0,20,{"v":0,"d":"0.0"},{"v":0,"d":"0.00"},20,36,0,20,{"v":0,"d":"0.0"},{"v":0,"d":"0.00"},16,36,0,16,{"v":0,"d":"0.0"},{"v":0,"d":"0.00"},18,36,0,18,{"v":0,"d":"0.00"},18,36,0,18,null,null,"6th Place",{"$f":"IFERROR(INDEX(AAscores,MATCH(AR40,gymnasts,0)), \"\")","v":{"v":59.550000000000004,"d":"59.55"}},"5th Place",{"$f":"IFERROR(INDEX(AAscores,MATCH(AT40,gymnasts,0)), \"\")","v":{"v":60.54999999999999,"d":"60.55"}},"4th Place",{"$f":"IFERROR(INDEX(AAscores,MATCH(AV40,gymnasts,0)), \"\")","v":61.15},"3rd Place",{"$f":"IFERROR(INDEX(AAscores,MATCH(AX40,gymnasts,0)), \"\")","v":{"v":61.699999999999996,"d":"61.70"}},"2nd Place",{"$f":"IFERROR(INDEX(AAscores,MATCH(AZ40,gymnasts,0)), \"\")","v":{"v":62.599999999999994,"d":"62.60"}},"1st Place",{"$f":"IFERROR(INDEX(AAscores,MATCH(BB40,gymnasts,0)), \"\")","v":64.25}]
[{"$nulls":3},{"v":0,"d":"0.0"},{"v":0,"d":"0.00"},{"v":0,"d":"0.0"},{"v":0,"d":"0.00"},{"v":0,"d":"0.00"},15,37,0,15,{"v":0,"d":"0.0"},{"v":0,"d":"0.00"},20,37,0,20,{"v":0,"d":"0.0"},{"v":0,"d":"0.00"},20,37,0,20,{"v":0,"d":"0.0"},{"v":0,"d":"0.00"},16,37,0,16,{"v":0,"d":"0.0"},{"v":0,"d":"0.00"},18,37,0,18,{"v":0,"d":"0.00"},18,37,0,18,null,"AA",{"$f":"IFERROR(INDEX(gymnasts, SMALL(IF(VALUE(LEFT(AR$39, 1))=AApos, ROW(AApos)-MIN(ROW(AApos))+1, \"\"), ROW()-39)), \"\")","v":"Annabelle Cammiss"},{"$f":"IFERROR( INDEX(entries, MATCH(AR40, gymnasts, 0), 2), \"\")","v":"Hartlepool"},{"$f":"IFERROR(INDEX(gymnasts, SMALL(IF(VALUE(LEFT(AT$39, 1))=AApos, ROW(AApos)-MIN(ROW(AApos))+1, \"\"), ROW()-39)), \"\")","v":"Amelia Hammond"},{"$f":"IFERROR( INDEX(entries, MATCH(AT40, gymnasts, 0), 2), \"\")","v":"SD 1"},{"$f":"IFERROR(INDEX(gymnasts, SMALL(IF(VALUE(LEFT(AV$39, 1))=AApos, ROW(AApos)-MIN(ROW(AApos))+1, \"\"), ROW()-39)), \"\")","v":"Isobel Mackie"},{"$f":"IFERROR( INDEX(entries, MATCH(AV40, gymnasts, 0), 2), \"\")","v":"SD 1"},{"$f":"IFERROR(INDEX(gymnasts, SMALL(IF(VALUE(LEFT(AX$39, 1))=AApos, ROW(AApos)-MIN(ROW(AApos))+1, \"\"), ROW()-39)), \"\")","v":"Ashleigh-Jo Wilkinson"},{"$f":"IFERROR( INDEX(entries, MATCH(AX40, gymnasts, 0), 2), \"\")","v":"SD 1"},{"$f":"IFERROR(INDEX(gymnasts, SMALL(IF(VALUE(LEFT(AZ$39, 1))=AApos, ROW(AApos)-MIN(ROW(AApos))+1, \"\"), ROW()-39)), \"\")","v":"Chloe Bailes"},{"$f":"IFERROR( INDEX(entries, MATCH(AZ40, gymnasts, 0), 2), \"\")","v":"SD 1"},{"$f":"IFERROR(INDEX(gymnasts, SMALL(IF(VALUE(LEFT(BB$39, 1))=AApos, ROW(AApos)-MIN(ROW(AApos))+1, \"\"), ROW()-39)), \"\")","v":"Robyn Selby"},{"$f":"IFERROR( INDEX(entries, MATCH(BB40, gymnasts, 0), 2), \"\")","v":"Darlington"}]
[{"$nulls":3},{"v":0,"d":"0.0"},{"v":0,"d":"0.00"},{"v":0,"d":"0.0"},{"v":0,"d":"0.00"},{"v":0,"d":"0.00"},15,38,0,15,{"v":0,"d":"0.0"},{"v":0,"d":"0.00"},20,38,0,20,{"v":0,"d":"0.0"},{"v":0,"d":"0.00"},20,38,0,20,{"v":0,"d":"0.0"},{"v":0,"d":"0.00"},16,38,0,16,{"v":0,"d":"0.0"},{"v":0,"d":"0.00"},18,38,0,18,{"v":0,"d":"0.00"},18,38,0,18,null,null,"",{"$f":"IFERROR( INDEX(entries, MATCH(AR41, gymnasts, 0), 2), \"\")","v":""},"",{"$f":"IFERROR( INDEX(entries, MATCH(AT41, gymnasts, 0), 2), \"\")","v":""},"",{"$f":"IFERROR( INDEX(entries, MATCH(AV41, gymnasts, 0), 2), \"\")","v":""},"",{"$f":"IFERROR( INDEX(entries, MATCH(AX41, gymnasts, 0), 2), \"\")","v":""},"",{"$f":"IFERROR( INDEX(entries, MATCH(AZ41, gymnasts, 0), 2), \"\")","v":""},"",""]
[{"$nulls":3},{"v":0,"d":"0.0"},{"v":0,"d":"0.00"},{"v":0,"d":"0.0"},{"v":0,"d":"0.00"},{"v":0,"d":"0.00"},15,39,0,15,{"v":0,"d":"0.0"},{"v":0,"d":"0.00"},20,39,0,20,{"v":0,"d":"0.0"},{"v":0,"d":"0.00"},20,39,0,20,{"v":0,"d":"0.0"},{"v":0,"d":"0.00"},16,39,0,16,{"v":0,"d":"0.0"},{"v":0,"d":"0.00"},18,39,0,18,{"v":0,"d":"0.00"},18,39,0,18,null,null,"","","","","","","","","","","",""]
[{"$nulls":3},{"v":0,"d":"0.0"},{"v":0,"d":"0.00"},{"v":0,"d":"0.0"},{"v":0,"d":"0.00"},{"v":0,"d":"0.00"},15,40,0,15,{"v":0,"d":"0.0"},{"v":0,"d":"0.00"},20,40,0,20,{"v":0,"d":"0.0"},{"v":0,"d":"0.00"},20,40,0,20,{"v":0,"d":"0.0"},{"v":0,"d":"0.00"},16,40,0,16,{"v":0,"d":"0.0"},{"v":0,"d":"0.00"},18,40,0,18,{"v":0,"d":"0.00"},18,40,0,18,null,null,"","","","","","","","","","","",""]
[{"$nulls":3},{"v":0,"d":"0.0"},{"v":0,"d":"0.00"},{"v":0,"d":"0.0"},{"v":0,"d":"0.00"},{"v":0,"d":"0.00"},15,41,0,15,{"v":0,"d":"0.0"},{"v":0,"d":"0.00"},20,41,0,20,{"v":0,"d":"0.0"},{"v":0,"d":"0.00"},20,41,0,20,{"v":0,"d":"0.0"},{"v":0,"d":"0.00"},16,41,0,16,{"v":0,"d":"0.0"},{"v":0,"d":"0.00"},18,41,0,18,{"v":0,"d":"0.00"},18,41,0,18,null,null,"","","","","","","","","","","",""]
[{"$nulls":3},{"v":0,"d":"0.0"},{"v":0,"d":"0.00"},{"v":0,"d":"0.0"},{"v":0,"d":"0.00"},{"v":0,"d":"0.00"},15,42,0,15,{"v":0,"d":"0.0"},{"v":0,"d":"0.00"},20,42,0,20,{"v":0,"d":"0.0"},{"v":0,"d":"0.00"},20,42,0,20,{"v":0,"d":"0.0"},{"v":0,"d":"0.00"},16,42,0,16,{"v":0,"d":"0.0"},{"v":0,"d":"0.00"},18,42,0,18,{"v":0,"d":"0.00"},18,42,0,18,null,null,"","","","","","","","","","","",""]
[{"$nulls":3},{"v":0,"d":"0.0"},{"v":0,"d":"0.00"},{"v":0,"d":"0.0"},{"v":0,"d":"0.00"},{"v":0,"d":"0.00"},15,43,0,15,{"v":0,"d":"0.0"},{"v":0,"d":"0.00"},20,43,0,20,{"v":0,"d":"0.0"},{"v":0,"d":"0.00"},20,43,0,20,{"v":0,"d":"0.0"},{"v":0,"d":"0.00"},16,43,0,16,{"v":0,"d":"0.0"},{"v":0,"d":"0.00"},18,43,0,18,{"v":0,"d":"0.00"},18,43,0,18,null,"Team","3rd place Team",{"$f":"IF(COUNTIF(AR47, 0), \"\", INDEX(teamTotals, MATCH(AR47, teams, 0)))","v":{"v":174.1,"d":"174.10"}},null,null,"2nd Place Team",{"$f":"IF(COUNTIF(AV47, 0), \"\", INDEX(teamTotals, MATCH(AV47, teams, 0)))","v":182.75},null,null,"1st Place Team",{"$f":"IF(COUNTIF(AZ47, 0), \"\", INDEX(teamTotals, MATCH(AZ47, teams, 0)))","v":186.45}]
[{"$nulls":3},{"v":0,"d":"0.0"},{"v":0,"d":"0.00"},{"v":0,"d":"0.0"},{"v":0,"d":"0.00"},{"v":0,"d":"0.00"},15,44,0,15,{"v":0,"d":"0.0"},{"v":0,"d":"0.00"},20,44,0,20,{"v":0,"d":"0.0"},{"v":0,"d":"0.00"},20,44,0,20,{"v":0,"d":"0.0"},{"v":0,"d":"0.00"},16,44,0,16,{"v":0,"d":"0.0"},{"v":0,"d":"0.00"},18,44,0,18,{"v":0,"d":"0.00"},18,44,0,18,null,null,{"$f":"IFERROR(INDEX(teams, SMALL(IF(VALUE(LEFT(AR$46, 1))=teamPos, ROW(teamPos)-MIN(ROW(teamPos))+1, \"\"), ROW()-46)), \"\")","v":"SD 2"},{"$f":"IFERROR(IF(COUNTIF(AR47, 0), \"\", INDEX(gymnasts, SMALL(IF(AR$47=club, ROW(club)-MIN(ROW(club))+1, \"\"), ROW()-46))), \"\")","v":"Freya Boon"},null,null,{"$f":"IFERROR(INDEX(teams, SMALL(IF(VALUE(LEFT(AV$46, 1))=teamPos, ROW(teamPos)-MIN(ROW(teamPos))+1, \"\"), ROW()-46)), \"\")","v":"Darlington"},{"$f":"IFERROR(IF(COUNTIF(AV47, 0), \"\", INDEX(gymnasts, SMALL(IF(AV$47=club, ROW(club)-MIN(ROW(club))+1, \"\"), ROW()-46))), \"\")","v":"Nicola Denham"},null,null,{"$f":"IFERROR(INDEX(teams, SMALL(IF(VALUE(LEFT(AZ$46, 1))=teamPos, ROW(teamPos)-MIN(ROW(teamPos))+1, \"\"), ROW()-46)), \"\")","v":"SD 1"},{"$f":"IFERROR(IF(COUNTIF(AZ47, 0), \"\", INDEX(gymnasts, SMALL(IF(AZ$47=club, ROW(club)-MIN(ROW(club))+1, \"\"), ROW()-46))), \"\")","v":"Ashleigh-Jo Wilkinson"}]
[{"$nulls":3},{"v":0,"d":"0.0"},{"v":0,"d":"0.00"},{"v":0,"d":"0.0"},{"v":0,"d":"0.00"},{"v":0,"d":"0.00"},15,45,0,15,{"v":0,"d":"0.0"},{"v":0,"d":"0.00"},20,45,0,20,{"v":0,"d":"0.0"},{"v":0,"d":"0.00"},20,45,0,20,{"v":0,"d":"0.0"},{"v":0,"d":"0.00"},16,45,0,16,{"v":0,"d":"0.0"},{"v":0,"d":"0.00"},18,45,0,18,{"v":0,"d":"0.00"},18,45,0,18,{"$nulls":3},{"$f":"IFERROR(IF(COUNTIF(AR48, 0), \"\", INDEX(gymnasts, SMALL(IF(AR$47=club, ROW(club)-MIN(ROW(club))+1, \"\"), ROW()-46))), \"\")","v":"Ruby Ellingham"},{"$nulls":3},{"$f":"IFERROR(IF(COUNTIF(AV48, 0), \"\", INDEX(gymnasts, SMALL(IF(AV$47=club, ROW(club)-MIN(ROW(club))+1, \"\"), ROW()-46))), \"\")","v":"Millie Fuller"},{"$nulls":3},{"$f":"IFERROR(IF(COUNTIF(AZ48, 0), \"\", INDEX(gymnasts, SMALL(IF(AZ$47=club, ROW(club)-MIN(ROW(club))+1, \"\"), ROW()-46))), \"\")","v":"Chloe Bailes"}]
[{"$nulls":3},{"v":0,"d":"0.0"},{"v":0,"d":"0.00"},{"v":0,"d":"0.0"},{"v":0,"d":"0.00"},{"v":0,"d":"0.00"},15,46,0,15,{"v":0,"d":"0.0"},{"v":0,"d":"0.00"},20,46,0,20,{"v":0,"d":"0.0"},{"v":0,"d":"0.00"},20,46,0,20,{"v":0,"d":"0.0"},{"v":0,"d":"0.00"},16,46,0,16,{"v":0,"d":"0.0"},{"v":0,"d":"0.00"},18,46,0,18,{"v":0,"d":"0.00"},18,46,0,18,{"$nulls":3},{"$f":"IFERROR(IF(COUNTIF(AR49, 0), \"\", INDEX(gymnasts, SMALL(IF(AR$47=club, ROW(club)-MIN(ROW(club))+1, \"\"), ROW()-46))), \"\")","v":"Poppy Clark"},{"$nulls":3},{"$f":"IFERROR(IF(COUNTIF(AV49, 0), \"\", INDEX(gymnasts, SMALL(IF(AV$47=club, ROW(club)-MIN(ROW(club))+1, \"\"), ROW()-46))), \"\")","v":"Maggie Moore"},{"$nulls":3},{"$f":"IFERROR(IF(COUNTIF(AZ49, 0), \"\", INDEX(gymnasts, SMALL(IF(AZ$47=club, ROW(club)-MIN(ROW(club))+1, \"\"), ROW()-46))), \"\")","v":"Amelia Hammond"}]
[{"$nulls":3},{"v":0,"d":"0.0"},{"v":0,"d":"0.00"},{"v":0,"d":"0.0"},{"v":0,"d":"0.00"},{"v":0,"d":"0.00"},15,47,0,15,{"v":0,"d":"0.0"},{"v":0,"d":"0.00"},20,47,0,20,{"v":0,"d":"0.0"},{"v":0,"d":"0.00"},20,47,0,20,{"v":0,"d":"0.0"},{"v":0,"d":"0.00"},16,47,0,16,{"v":0,"d":"0.0"},{"v":0,"d":"0.00"},18,47,0,18,{"v":0,"d":"0.00"},18,47,0,18,{"$nulls":3},{"$f":"IFERROR(IF(COUNTIF(AR50, 0), \"\", INDEX(gymnasts, SMALL(IF(AR$47=club, ROW(club)-MIN(ROW(club))+1, \"\"), ROW()-46))), \"\")","v":"Harriet Barker"},{"$nulls":3},{"$f":"IFERROR(IF(COUNTIF(AV50, 0), \"\", INDEX(gymnasts, SMALL(IF(AV$47=club, ROW(club)-MIN(ROW(club))+1, \"\"), ROW()-46))), \"\")","v":"Megan Atkinson"},{"$nulls":3},{"$f":"IFERROR(IF(COUNTIF(AZ50, 0), \"\", INDEX(gymnasts, SMALL(IF(AZ$47=club, ROW(club)-MIN(ROW(club))+1, \"\"), ROW()-46))), \"\")","v":"Grace Jackson"}]
[{"$nulls":3},{"v":0,"d":"0.0"},{"v":0,"d":"0.00"},{"v":0,"d":"0.0"},{"v":0,"d":"0.00"},{"v":0,"d":"0.00"},15,48,0,15,{"v":0,"d":"0.0"},{"v":0,"d":"0.00"},20,48,0,20,{"v":0,"d":"0.0"},{"v":0,"d":"0.00"},20,48,0,20,{"v":0,"d":"0.0"},{"v":0,"d":"0.00"},16,48,0,16,{"v":0,"d":"0.0"},{"v":0,"d":"0.00"},18,48,0,18,{"v":0,"d":"0.00"},18,48,0,18,{"$nulls":3},{"$f":"IFERROR(IF(COUNTIF(AR51, 0), \"\", INDEX(gymnasts, SMALL(IF(AR$47=club, ROW(club)-MIN(ROW(club))+1, \"\"), ROW()-46))), \"\")","v":""},{"$nulls":3},{"$f":"IFERROR(IF(COUNTIF(AV51, 0), \"\", INDEX(gymnasts, SMALL(IF(AV$47=club, ROW(club)-MIN(ROW(club))+1, \"\"), ROW()-46))), \"\")","v":"Robyn Selby"},{"$nulls":3},{"$f":"IFERROR(IF(COUNTIF(AZ51, 0), \"\", INDEX(gymnasts, SMALL(IF(AZ$47=club, ROW(club)-MIN(ROW(club))+1, \"\"), ROW()-46))), \"\")","v":"Isobel Mackie"}]
[{"$nulls":3},{"v":0,"d":"0.0"},{"v":0,"d":"0.00"},{"v":0,"d":"0.0"},{"v":0,"d":"0.00"},{"v":0,"d":"0.00"},15,49,0,15,{"v":0,"d":"0.0"},{"v":0,"d":"0.00"},20,49,0,20,{"v":0,"d":"0.0"},{"v":0,"d":"0.00"},20,49,0,20,{"v":0,"d":"0.0"},{"v":0,"d":"0.00"},16,49,0,16,{"v":0,"d":"0.0"},{"v":0,"d":"0.00"},18,49,0,18,{"v":0,"d":"0.00"},18,49,0,18,null,null,{"$f":"IFERROR(INDEX(teams, SMALL(IF(VALUE(LEFT(AR$46, 1))=teamPos, ROW(teamPos)-MIN(ROW(teamPos))+1, \"\"), ROW()-50)), \"\")","v":""},{"$f":"IFERROR(IF(COUNTIF(AR$52, 0), \"\", INDEX(gymnasts, SMALL(IF(AR$52=club, ROW(club)-MIN(ROW(club))+1, \"\"), ROW()-51))), \"\")","v":0},null,null,{"$f":"IFERROR(INDEX(teams, SMALL(IF(VALUE(LEFT(AV$46, 1))=teamPos, ROW(teamPos)-MIN(ROW(teamPos))+1, \"\"), ROW()-50)), \"\")","v":""},{"$f":"IFERROR(IF(COUNTIF(AV$52, 0), \"\", INDEX(gymnasts, SMALL(IF(AV$52=club, ROW(club)-MIN(ROW(club))+1, \"\"), ROW()-51))), \"\")","v":0},null,null,{"$f":"IFERROR(INDEX(teams, SMALL(IF(VALUE(LEFT(AZ$46, 1))=teamPos, ROW(teamPos)-MIN(ROW(teamPos))+1, \"\"), ROW()-50)), \"\")","v":""},{"$f":"IFERROR(IF(COUNTIF(AZ$52, 0), \"\", INDEX(gymnasts, SMALL(IF(AZ$52=club, ROW(club)-MIN(ROW(club))+1, \"\"), ROW()-51))), \"\")","v":0}]
[{"$nulls":3},{"v":0,"d":"0.0"},{"v":0,"d":"0.00"},{"v":0,"d":"0.0"},{"v":0,"d":"0.00"},{"v":0,"d":"0.00"},15,50,0,15,{"v":0,"d":"0.0"},{"v":0,"d":"0.00"},20,50,0,20,{"v":0,"d":"0.0"},{"v":0,"d":"0.00"},20,50,0,20,{"v":0,"d":"0.0"},{"v":0,"d":"0.00"},16,50,0,16,{"v":0,"d":"0.0"},{"v":0,"d":"0.00"},18,50,0,18,{"v":0,"d":"0.00"},18,50,0,18,{"$nulls":3},{"$f":"IFERROR(IF(COUNTIF(AR$52, 0), \"\", INDEX(gymnasts, SMALL(IF(AR$52=club, ROW(club)-MIN(ROW(club))+1, \"\"), ROW()-51))), \"\")","v":0},{"$nulls":3},{"$f":"IFERROR(IF(COUNTIF(AV$52, 0), \"\", INDEX(gymnasts, SMALL(IF(AV$52=club, ROW(club)-MIN(ROW(club))+1, \"\"), ROW()-51))), \"\")","v":0},{"$nulls":3},{"$f":"IFERROR(IF(COUNTIF(AZ$52, 0), \"\", INDEX(gymnasts, SMALL(IF(AZ$52=club, ROW(club)-MIN(ROW(club))+1, \"\"), ROW()-51))), \"\")","v":0}]
[{"$nulls":3},{"v":0,"d":"0.0"},{"v":0,"d":"0.00"},{"v":0,"d":"0.0"},{"v":0,"d":"0.00"},{"v":0,"d":"0.00"},15,51,0,15,{"v":0,"d":"0.0"},{"v":0,"d":"0.00"},20,51,0,20,{"v":0,"d":"0.0"},{"v":0,"d":"0.00"},20,51,0,20,{"v":0,"d":"0.0"},{"v":0,"d":"0.00"},16,51,0,16,{"v":0,"d":"0.0"},{"v":0,"d":"0.00"},18,51,0,18,{"v":0,"d":"0.00"},18,51,0,18,{"$nulls":3},{"$f":"IFERROR(IF(COUNTIF(AR$52, 0), \"\", INDEX(gymnasts, SMALL(IF(AR$52=club, ROW(club)-MIN(ROW(club))+1, \"\"), ROW()-51))), \"\")","v":0},{"$nulls":3},{"$f":"IFERROR(IF(COUNTIF(AV$52, 0), \"\", INDEX(gymnasts, SMALL(IF(AV$52=club, ROW(club)-MIN(ROW(club))+1, \"\"), ROW()-51))), \"\")","v":0},{"$nulls":3},{"$f":"IFERROR(IF(COUNTIF(AZ$52, 0), \"\", INDEX(gymnasts, SMALL(IF(AZ$52=club, ROW(club)-MIN(ROW(club))+1, \"\"), ROW()-51))), \"\")","v":0}]
[{"$nulls":3},{"v":0,"d":"0.0"},{"v":0,"d":"0.00"},{"v":0,"d":"0.0"},{"v":0,"d":"0.00"},{"v":0,"d":"0.00"},15,52,0,15,{"v":0,"d":"0.0"},{"v":0,"d":"0.00"},20,52,0,20,{"v":0,"d":"0.0"},{"v":0,"d":"0.00"},20,52,0,20,{"v":0,"d":"0.0"},{"v":0,"d":"0.00"},16,52,0,16,{"v":0,"d":"0.0"},{"v":0,"d":"0.00"},18,52,0,18,{"v":0,"d":"0.00"},18,52,0,18,{"$nulls":3},{"$f":"IFERROR(IF(COUNTIF(AR$52, 0), \"\", INDEX(gymnasts, SMALL(IF(AR$52=club, ROW(club)-MIN(ROW(club))+1, \"\"), ROW()-51))), \"\")","v":0},{"$nulls":3},{"$f":"IFERROR(IF(COUNTIF(AV$52, 0), \"\", INDEX(gymnasts, SMALL(IF(AV$52=club, ROW(club)-MIN(ROW(club))+1, \"\"), ROW()-51))), \"\")","v":0},{"$nulls":3},{"$f":"IFERROR(IF(COUNTIF(AZ$52, 0), \"\", INDEX(gymnasts, SMALL(IF(AZ$52=club, ROW(club)-MIN(ROW(club))+1, \"\"), ROW()-51))), \"\")","v":0}]
[{"$nulls":3},{"v":0,"d":"0.0"},{"v":0,"d":"0.00"},{"v":0,"d":"0.0"},{"v":0,"d":"0.00"},{"v":0,"d":"0.00"},15,53,0,15,{"v":0,"d":"0.0"},{"v":0,"d":"0.00"},20,53,0,20,{"v":0,"d":"0.0"},{"v":0,"d":"0.00"},20,53,0,20,{"v":0,"d":"0.0"},{"v":0,"d":"0.00"},16,53,0,16,{"v":0,"d":"0.0"},{"v":0,"d":"0.00"},18,53,0,18,{"v":0,"d":"0.00"},18,53,0,18,{"$nulls":3},{"$f":"IFERROR(IF(ISTEXT(AR$52), INDEX(gymnasts, SMALL(IF(AR$52=club, ROW(club)-MIN(ROW(club))+1, \"\"), ROW()-51)), \"\"), \"\")","v":0},{"$nulls":3},{"$f":"IFERROR(IF(ISTEXT(AV$52), INDEX(gymnasts, SMALL(IF(AV$52=club, ROW(club)-MIN(ROW(club))+1, \"\"), ROW()-51)), \"\"), \"\")","v":0},{"$nulls":3},{"$f":"IFERROR(IF(ISTEXT(AZ$52), INDEX(gymnasts, SMALL(IF(AZ$52=club, ROW(club)-MIN(ROW(club))+1, \"\"), ROW()-51)), \"\"), \"\")","v":0}]
[{"$nulls":3},{"v":0,"d":"0.0"},{"v":0,"d":"0.00"},{"v":0,"d":"0.0"},{"v":0,"d":"0.00"},{"v":0,"d":"0.00"},15,54,0,15,{"v":0,"d":"0.0"},{"v":0,"d":"0.00"},20,54,0,20,{"v":0,"d":"0.0"},{"v":0,"d":"0.00"},20,54,0,20,{"v":0,"d":"0.0"},{"v":0,"d":"0.00"},16,54,0,16,{"v":0,"d":"0.0"},{"v":0,"d":"0.00"},18,54,0,18,{"v":0,"d":"0.00"},18,54,0,18]
[{"$nulls":3},{"v":0,"d":"0.0"},{"v":0,"d":"0.00"},{"v":0,"d":"0.0"},{"v":0,"d":"0.00"},{"v":0,"d":"0.00"},15,55,0,15,{"v":0,"d":"0.0"},{"v":0,"d":"0.00"},20,55,0,20,{"v":0,"d":"0.0"},{"v":0,"d":"0.00"},20,55,0,20,{"v":0,"d":"0.0"},{"v":0,"d":"0.00"},16,55,0,16,{"v":0,"d":"0.0"},{"v":0,"d":"0.00"},18,55,0,18,{"v":0,"d":"0.00"},18,55,0,18]
[{"$nulls":3},{"v":0,"d":"0.0"},{"v":0,"d":"0.00"},{"v":0,"d":"0.0"},{"v":0,"d":"0.00"},{"v":0,"d":"0.00"},15,56,0,15,{"v":0,"d":"0.0"},{"v":0,"d":"0.00"},20,56,0,20,{"v":0,"d":"0.0"},{"v":0,"d":"0.00"},20,56,0,20,{"v":0,"d":"0.0"},{"v":0,"d":"0.00"},16,56,0,16,{"v":0,"d":"0.0"},{"v":0,"d":"0.00"},18,56,0,18,{"v":0,"d":"0.00"},18,56,0,18]
[{"$nulls":3},{"v":0,"d":"0.0"},{"v":0,"d":"0.00"},{"v":0,"d":"0.0"},{"v":0,"d":"0.00"},{"v":0,"d":"0.00"},15,57,0,15,{"v":0,"d":"0.0"},{"v":0,"d":"0.00"},20,57,0,20,{"v":0,"d":"0.0"},{"v":0,"d":"0.00"},20,57,0,20,{"v":0,"d":"0.0"},{"v":0,"d":"0.00"},16,57,0,16,{"v":0,"d":"0.0"},{"v":0,"d":"0.00"},18,57,0,18,{"v":0,"d":"0.00"},18,57,0,18]
[{"$nulls":3},{"v":0,"d":"0.0"},{"v":0,"d":"0.00"},{"v":0,"d":"0.0"},{"v":0,"d":"0.00"},{"v":0,"d":"0.00"},15,58,0,15,{"v":0,"d":"0.0"},{"v":0,"d":"0.00"},20,58,0,20,{"v":0,"d":"0.0"},{"v":0,"d":"0.00"},20,58,0,20,{"v":0,"d":"0.0"},{"v":0,"d":"0.00"},16,58,0,16,{"v":0,"d":"0.0"},{"v":0,"d":"0.00"},18,58,0,18,{"v":0,"d":"0.00"},18,58,0,18]
[{"$nulls":3},{"v":0,"d":"0.0"},{"v":0,"d":"0.00"},{"v":0,"d":"0.0"},{"v":0,"d":"0.00"},{"v":0,"d":"0.00"},15,59,0,15,{"v":0,"d":"0.0"},{"v":0,"d":"0.00"},20,59,0,20,{"v":0,"d":"0.0"},{"v":0,"d":"0.00"},20,59,0,20,{"v":0,"d":"0.0"},{"v":0,"d":"0.00"},16,59,0,16,{"v":0,"d":"0.0"},{"v":0,"d":"0.00"},18,59,0,18,{"v":0,"d":"0.00"},18,59,0,18]
[{"$nulls":3},{"v":0,"d":"0.0"},{"v":0,"d":"0.00"},{"v":0,"d":"0.0"},{"v":0,"d":"0.00"},{"v":0,"d":"0.00"},15,60,0,15,{"v":0,"d":"0.0"},{"v":0,"d":"0.00"},20,60,0,20,{"v":0,"d":"0.0"},{"v":0,"d":"0.00"},20,60,0,20,{"v":0,"d":"0.0"},{"v":0,"d":"0.00"},16,60,0,16,{"v":0,"d":"0.0"},{"v":0,"d":"0.00"},18,60,0,18,{"v":0,"d":"0.00"},18,60,0,18]
[{"$nulls":3},{"v":0,"d":"0.0"},{"v":0,"d":"0.00"},{"v":0,"d":"0.0"},{"v":0,"d":"0.00"},{"v":0,"d":"0.00"},15,61,0,15,{"v":0,"d":"0.0"},{"v":0,"d":"0.00"},20,61,0,20,{"v":0,"d":"0.0"},{"v":0,"d":"0.00"},20,61,0,20,{"v":0,"d":"0.0"},{"v":0,"d":"0.00"},16,61,0,16,{"v":0,"d":"0.0"},{"v":0,"d":"0.00"},18,61,0,18,{"v":0,"d":"0.00"},18,61,0,18]
[{"$nulls":3},{"v":0,"d":"0.0"},{"v":0,"d":"0.00"},{"v":0,"d":"0.0"},{"v":0,"d":"0.00"},{"v":0,"d":"0.00"},15,62,0,15,{"v":0,"d":"0.0"},{"v":0,"d":"0.00"},20,62,0,20,{"v":0,"d":"0.0"},{"v":0,"d":"0.00"},20,62,0,20,{"v":0,"d":"0.0"},{"v":0,"d":"0.00"},16,62,0,16,{"v":0,"d":"0.0"},{"v":0,"d":"0.00"},18,62,0,18,{"v":0,"d":"0.00"},18,62,0,18]
[null,"Teams"]
[null,{"$f":"IF(AND(COUNTIF(club,C67)>=3,COUNTIF(club,C67)<=5),\"TEAM\",IF(COUNTIF(club,C67)>5,\"Too Many!!!!!\",\"NO TEAM\"))","v":"TEAM"},"SD 1",{"$nulls":4},{"$f":"IF($B67=\"NO TEAM\", 0, SUM(LARGE(IF(club=$C67, vault), ROW($1:$3))))","v":36.95},{"$nulls":5},{"$f":"IF($B67=\"NO TEAM\", 0, SUM(LARGE(IF(club=$C67, bars), ROW($1:$3))))","v":37.95},{"$nulls":5},{"$f":"IF($B67=\"NO TEAM\", 0, SUM(LARGE(IF(club=$C67, beam), ROW($1:$3))))","v":36.85},{"$nulls":5},{"$f":"IF($B67=\"NO TEAM\", 0, SUM(LARGE(IF(club=$C67, floor), ROW($1:$3))))","v":{"v":36.900000000000006,"d":"36.90"}},{"$nulls":5},{"$f":"IF($B67=\"NO TEAM\", 0, SUM(LARGE(IF(club=$C67, range), ROW($1:$3))))","v":{"v":37.8,"d":"37.80"}},{"$nulls":4},{"$f":"IF(B67=\"TEAM\", SUMIF(D$2:AJ$2, \"SCORE\", D67:AJ67), 0)","v":186.45},{"$f":"VLOOKUP(AK67,AN$67:AO$81, 2,FALSE)","v":1},{"$f":"IF(ISNUMBER(AM66), AM66+1, 1)","v":1},{"$f":"LARGE((AK$67:AK$81), $AM67)","v":186.45},{"$f":"IF(AN67=AN66, AO66, AO66+1)","v":1}]
[null,{"$f":"IF(AND(COUNTIF(club,C68)>=3,COUNTIF(club,C68)<=5),\"TEAM\",IF(COUNTIF(club,C68)>5,\"Too Many!!!!!\",\"NO TEAM\"))","v":"TEAM"},"SD 2",{"$nulls":4},{"$f":"IF($B68=\"NO TEAM\", 0, SUM(LARGE(IF(club=$C68, vault), ROW($1:$3))))","v":{"v":35.7,"d":"35.70"}},{"$nulls":5},{"$f":"IF($B68=\"NO TEAM\", 0, SUM(LARGE(IF(club=$C68, bars), ROW($1:$3))))","v":{"v":36,"d":"36.00"}},{"$nulls":5},{"$f":"IF($B68=\"NO TEAM\", 0, SUM(LARGE(IF(club=$C68, beam), ROW($1:$3))))","v":34.15},{"$nulls":5},{"$f":"IF($B68=\"NO TEAM\", 0, SUM(LARGE(IF(club=$C68, floor), ROW($1:$3))))","v":{"v":35.900000000000006,"d":"35.90"}},{"$nulls":5},{"$f":"IF($B68=\"NO TEAM\", 0, SUM(LARGE(IF(club=$C68, range), ROW($1:$3))))","v":32.35},{"$nulls":4},{"v":174.1,"d":"174.10"},{"$f":"VLOOKUP(AK68,AN$67:AO$81, 2,FALSE)","v":3},{"$f":"IF(ISNUMBER(AM67), AM67+1, 1)","v":2},{"$f":"LARGE((AK$67:AK$81), $AM68)","v":182.75},{"$f":"IF(AN68=AN67, AO67, AO67+1)","v":2}]
[null,{"$f":"IF(AND(COUNTIF(club,C69)>=3,COUNTIF(club,C69)<=5),\"TEAM\",IF(COUNTIF(club,C69)>5,\"Too Many!!!!!\",\"NO TEAM\"))","v":"TEAM"},"DC Gymnastics",{"$nulls":4},{"$f":"IF($B69=\"NO TEAM\", 0, SUM(LARGE(IF(club=$C69, vault), ROW($1:$3))))","v":35.95},{"$nulls":5},{"$f":"IF($B69=\"NO TEAM\", 0, SUM(LARGE(IF(club=$C69, bars), ROW($1:$3))))","v":{"v":28.700000000000003,"d":"28.70"}},{"$nulls":5},{"$f":"IF($B69=\"NO TEAM\", 0, SUM(LARGE(IF(club=$C69, beam), ROW($1:$3))))","v":{"v":29.6,"d":"29.60"}},{"$nulls":5},{"$f":"IF($B69=\"NO TEAM\", 0, SUM(LARGE(IF(club=$C69, floor), ROW($1:$3))))","v":{"v":28.5,"d":"28.50"}},{"$nulls":5},{"$f":"IF($B69=\"NO TEAM\", 0, SUM(LARGE(IF(club=$C69, range), ROW($1:$3))))","v":{"v":32,"d":"32.00"}},{"$nulls":4},154.75,4,3,174.1,3]
[null,{"$f":"IF(AND(COUNTIF(club,C70)>=3,COUNTIF(club,C70)<=5),\"TEAM\",IF(COUNTIF(club,C70)>5,\"Too Many!!!!!\",\"NO TEAM\"))","v":"TEAM"},"Darlington",{"$nulls":4},{"$f":"IF($B70=\"NO TEAM\", 0, SUM(LARGE(IF(club=$C70, vault), ROW($1:$3))))","v":{"v":36.7,"d":"36.70"}},{"$nulls":5},{"$f":"IF($B70=\"NO TEAM\", 0, SUM(LARGE(IF(club=$C70, bars), ROW($1:$3))))","v":{"v":36.6,"d":"36.60"}},{"$nulls":5},{"$f":"IF($B70=\"NO TEAM\", 0, SUM(LARGE(IF(club=$C70, beam), ROW($1:$3))))","v":36.85},{"$nulls":5},{"$f":"IF($B70=\"NO TEAM\", 0, SUM(LARGE(IF(club=$C70, floor), ROW($1:$3))))","v":36.65},{"$nulls":5},{"$f":"IF($B70=\"NO TEAM\", 0, SUM(LARGE(IF(club=$C70, range), ROW($1:$3))))","v":35.95},{"$nulls":4},182.75,2,4,154.75,4]
[null,{"$f":"IF(AND(COUNTIF(club,C71)>=3,COUNTIF(club,C71)<=5),\"TEAM\",IF(COUNTIF(club,C71)>5,\"Too Many!!!!!\",\"NO TEAM\"))","v":"NO TEAM"},{"$nulls":5},{"$f":"IF($B71=\"NO TEAM\", 0, SUM(LARGE(IF(club=$C71, vault), ROW($1:$3))))","v":{"v":0,"d":"0.00"}},{"$nulls":5},{"$f":"IF($B71=\"NO TEAM\", 0, SUM(LARGE(IF(club=$C71, bars), ROW($1:$3))))","v":{"v":0,"d":"0.00"}},{"$nulls":5},{"$f":"IF($B71=\"NO TEAM\", 0, SUM(LARGE(IF(club=$C71, beam), ROW($1:$3))))","v":{"v":0,"d":"0.00"}},{"$nulls":5},{"$f":"IF($B71=\"NO TEAM\", 0, SUM(LARGE(IF(club=$C71, floor), ROW($1:$3))))","v":{"v":0,"d":"0.00"}},{"$nulls":5},{"$f":"IF($B71=\"NO TEAM\", 0, SUM(LARGE(IF(club=$C71, range), ROW($1:$3))))","v":{"v":0,"d":"0.00"}},{"$nulls":4},{"v":0,"d":"0.00"},5,5,0,5]
[null,{"$f":"IF(AND(COUNTIF(club,C72)>=3,COUNTIF(club,C72)<=5),\"TEAM\",IF(COUNTIF(club,C72)>5,\"Too Many!!!!!\",\"NO TEAM\"))","v":"NO TEAM"},{"$nulls":5},{"$f":"IF($B72=\"NO TEAM\", 0, SUM(LARGE(IF(club=$C72, vault), ROW($1:$3))))","v":{"v":0,"d":"0.00"}},{"$nulls":5},{"$f":"IF($B72=\"NO TEAM\", 0, SUM(LARGE(IF(club=$C72, bars), ROW($1:$3))))","v":{"v":0,"d":"0.00"}},{"$nulls":5},{"$f":"IF($B72=\"NO TEAM\", 0, SUM(LARGE(IF(club=$C72, beam), ROW($1:$3))))","v":{"v":0,"d":"0.00"}},{"$nulls":5},{"$f":"IF($B72=\"NO TEAM\", 0, SUM(LARGE(IF(club=$C72, floor), ROW($1:$3))))","v":{"v":0,"d":"0.00"}},{"$nulls":5},{"$f":"IF($B72=\"NO TEAM\", 0, SUM(LARGE(IF(club=$C72, range), ROW($1:$3))))","v":{"v":0,"d":"0.00"}},{"$nulls":4},{"v":0,"d":"0.00"},5,6,0,5]
[null,{"$f":"IF(AND(COUNTIF(club,C73)>=3,COUNTIF(club,C73)<=5),\"TEAM\",IF(COUNTIF(club,C73)>5,\"Too Many!!!!!\",\"NO TEAM\"))","v":"NO TEAM"},{"$nulls":5},{"$f":"IF($B73=\"NO TEAM\", 0, SUM(LARGE(IF(club=$C73, vault), ROW($1:$3))))","v":{"v":0,"d":"0.00"}},{"$nulls":5},{"$f":"IF($B73=\"NO TEAM\", 0, SUM(LARGE(IF(club=$C73, bars), ROW($1:$3))))","v":{"v":0,"d":"0.00"}},{"$nulls":5},{"$f":"IF($B73=\"NO TEAM\", 0, SUM(LARGE(IF(club=$C73, beam), ROW($1:$3))))","v":{"v":0,"d":"0.00"}},{"$nulls":5},{"$f":"IF($B73=\"NO TEAM\", 0, SUM(LARGE(IF(club=$C73, floor), ROW($1:$3))))","v":{"v":0,"d":"0.00"}},{"$nulls":5},{"$f":"IF($B73=\"NO TEAM\", 0, SUM(LARGE(IF(club=$C73, range), ROW($1:$3))))","v":{"v":0,"d":"0.00"}},{"$nulls":4},{"v":0,"d":"0.00"},5,7,0,5]
[null,{"$f":"IF(AND(COUNTIF(club,C74)>=3,COUNTIF(club,C74)<=5),\"TEAM\",IF(COUNTIF(club,C74)>5,\"Too Many!!!!!\",\"NO TEAM\"))","v":"NO TEAM"},{"$nulls":5},{"$f":"IF($B74=\"NO TEAM\", 0, SUM(LARGE(IF(club=$C74, vault), ROW($1:$3))))","v":{"v":0,"d":"0.00"}},{"$nulls":5},{"$f":"IF($B74=\"NO TEAM\", 0, SUM(LARGE(IF(club=$C74, bars), ROW($1:$3))))","v":{"v":0,"d":"0.00"}},{"$nulls":5},{"$f":"IF($B74=\"NO TEAM\", 0, SUM(LARGE(IF(club=$C74, beam), ROW($1:$3))))","v":{"v":0,"d":"0.00"}},{"$nulls":5},{"$f":"IF($B74=\"NO TEAM\", 0, SUM(LARGE(IF(club=$C74, floor), ROW($1:$3))))","v":{"v":0,"d":"0.00"}},{"$nulls":5},{"$f":"IF($B74=\"NO TEAM\", 0, SUM(LARGE(IF(club=$C74, range), ROW($1:$3))))","v":{"v":0,"d":"0.00"}},{"$nulls":4},{"v":0,"d":"0.00"},5,8,0,5]
[null,{"$f":"IF(AND(COUNTIF(club,C75)>=3,COUNTIF(club,C75)<=5),\"TEAM\",IF(COUNTIF(club,C75)>5,\"Too Many!!!!!\",\"NO TEAM\"))","v":"NO TEAM"},{"$nulls":5},{"$f":"IF($B75=\"NO TEAM\", 0, SUM(LARGE(IF(club=$C75, vault), ROW($1:$3))))","v":{"v":0,"d":"0.00"}},{"$nulls":5},{"$f":"IF($B75=\"NO TEAM\", 0, SUM(LARGE(IF(club=$C75, bars), ROW($1:$3))))","v":{"v":0,"d":"0.00"}},{"$nulls":5},{"$f":"IF($B75=\"NO TEAM\", 0, SUM(LARGE(IF(club=$C75, beam), ROW($1:$3))))","v":{"v":0,"d":"0.00"}},{"$nulls":5},{"$f":"IF($B75=\"NO TEAM\", 0, SUM(LARGE(IF(club=$C75, floor), ROW($1:$3))))","v":{"v":0,"d":"0.00"}},{"$nulls":5},{"$f":"IF($B75=\"NO TEAM\", 0, SUM(LARGE(IF(club=$C75, range), ROW($1:$3))))","v":{"v":0,"d":"0.00"}},{"$nulls":4},{"v":0,"d":"0.00"},5,9,0,5]
[null,{"$f":"IF(AND(COUNTIF(club,C76)>=3,COUNTIF(club,C76)<=5),\"TEAM\",IF(COUNTIF(club,C76)>5,\"Too Many!!!!!\",\"NO TEAM\"))","v":"NO TEAM"},{"$nulls":5},{"$f":"IF($B76=\"NO TEAM\", 0, SUM(LARGE(IF(club=$C76, vault), ROW($1:$3))))","v":{"v":0,"d":"0.00"}},{"$nulls":5},{"$f":"IF($B76=\"NO TEAM\", 0, SUM(LARGE(IF(club=$C76, bars), ROW($1:$3))))","v":{"v":0,"d":"0.00"}},{"$nulls":5},{"$f":"IF($B76=\"NO TEAM\", 0, SUM(LARGE(IF(club=$C76, beam), ROW($1:$3))))","v":{"v":0,"d":"0.00"}},{"$nulls":5},{"$f":"IF($B76=\"NO TEAM\", 0, SUM(LARGE(IF(club=$C76, floor), ROW($1:$3))))","v":{"v":0,"d":"0.00"}},{"$nulls":5},{"$f":"IF($B76=\"NO TEAM\", 0, SUM(LARGE(IF(club=$C76, range), ROW($1:$3))))","v":{"v":0,"d":"0.00"}},{"$nulls":4},{"v":0,"d":"0.00"},5,10,0,5]
[null,{"$f":"IF(AND(COUNTIF(club,C77)>=3,COUNTIF(club,C77)<=5),\"TEAM\",IF(COUNTIF(club,C77)>5,\"Too Many!!!!!\",\"NO TEAM\"))","v":"NO TEAM"},{"$nulls":5},{"$f":"IF($B77=\"NO TEAM\", 0, SUM(LARGE(IF(club=$C77, vault), ROW($1:$3))))","v":{"v":0,"d":"0.00"}},{"$nulls":5},{"$f":"IF($B77=\"NO TEAM\", 0, SUM(LARGE(IF(club=$C77, bars), ROW($1:$3))))","v":{"v":0,"d":"0.00"}},{"$nulls":5},{"$f":"IF($B77=\"NO TEAM\", 0, SUM(LARGE(IF(club=$C77, beam), ROW($1:$3))))","v":{"v":0,"d":"0.00"}},{"$nulls":5},{"$f":"IF($B77=\"NO TEAM\", 0, SUM(LARGE(IF(club=$C77, floor), ROW($1:$3))))","v":{"v":0,"d":"0.00"}},{"$nulls":5},{"$f":"IF($B77=\"NO TEAM\", 0, SUM(LARGE(IF(club=$C77, range), ROW($1:$3))))","v":{"v":0,"d":"0.00"}},{"$nulls":4},{"v":0,"d":"0.00"},5,11,0,5]
[null,{"$f":"IF(AND(COUNTIF(club,C78)>=3,COUNTIF(club,C78)<=5),\"TEAM\",IF(COUNTIF(club,C78)>5,\"Too Many!!!!!\",\"NO TEAM\"))","v":"NO TEAM"},{"$nulls":5},{"$f":"IF($B78=\"NO TEAM\", 0, SUM(LARGE(IF(club=$C78, vault), ROW($1:$3))))","v":{"v":0,"d":"0.00"}},{"$nulls":5},{"$f":"IF($B78=\"NO TEAM\", 0, SUM(LARGE(IF(club=$C78, bars), ROW($1:$3))))","v":{"v":0,"d":"0.00"}},{"$nulls":5},{"$f":"IF($B78=\"NO TEAM\", 0, SUM(LARGE(IF(club=$C78, beam), ROW($1:$3))))","v":{"v":0,"d":"0.00"}},{"$nulls":5},{"$f":"IF($B78=\"NO TEAM\", 0, SUM(LARGE(IF(club=$C78, floor), ROW($1:$3))))","v":{"v":0,"d":"0.00"}},{"$nulls":5},{"$f":"IF($B78=\"NO TEAM\", 0, SUM(LARGE(IF(club=$C78, range), ROW($1:$3))))","v":{"v":0,"d":"0.00"}},{"$nulls":4},{"v":0,"d":"0.00"},5,12,0,5]
[null,{"$f":"IF(AND(COUNTIF(club,C79)>=3,COUNTIF(club,C79)<=5),\"TEAM\",IF(COUNTIF(club,C79)>5,\"Too Many!!!!!\",\"NO TEAM\"))","v":"NO TEAM"},{"$nulls":5},{"$f":"IF($B79=\"NO TEAM\", 0, SUM(LARGE(IF(club=$C79, vault), ROW($1:$3))))","v":{"v":0,"d":"0.00"}},{"$nulls":5},{"$f":"SUM(LARGE(IF(club=$C79, bars), ROW($1:$3)))","v":{"v":0,"d":"0.00"}},{"$nulls":5},{"$f":"SUM(LARGE(IF(club=$C79, beam), ROW($1:$3)))","v":{"v":0,"d":"0.00"}},{"$nulls":5},{"$f":"SUM(LARGE(IF(club=$C79, floor), ROW($1:$3)))","v":{"v":0,"d":"0.00"}},{"$nulls":5},{"$f":"SUM(LARGE(IF(club=$C79, range), ROW($1:$3)))","v":{"v":0,"d":"0.00"}},{"$nulls":4},{"v":0,"d":"0.00"},5,13,0,5]
[null,{"$f":"IF(AND(COUNTIF(club,C80)>=3,COUNTIF(club,C80)<=5),\"TEAM\",IF(COUNTIF(club,C80)>5,\"Too Many!!!!!\",\"NO TEAM\"))","v":"NO TEAM"},{"$nulls":5},{"$f":"IF($B80=\"NO TEAM\", 0, SUM(LARGE(IF(club=$C80, vault), ROW($1:$3))))","v":{"v":0,"d":"0.00"}},{"$nulls":5},{"$f":"SUM(LARGE(IF(club=$C80, bars), ROW($1:$3)))","v":{"v":0,"d":"0.00"}},{"$nulls":5},{"$f":"SUM(LARGE(IF(club=$C80, beam), ROW($1:$3)))","v":{"v":0,"d":"0.00"}},{"$nulls":5},{"$f":"SUM(LARGE(IF(club=$C80, floor), ROW($1:$3)))","v":{"v":0,"d":"0.00"}},{"$nulls":5},{"$f":"SUM(LARGE(IF(club=$C80, range), ROW($1:$3)))","v":{"v":0,"d":"0.00"}},{"$nulls":4},{"v":0,"d":"0.00"},5,14,0,5]
[null,{"$f":"IF(AND(COUNTIF(club,C81)>=3,COUNTIF(club,C81)<=5),\"TEAM\",IF(COUNTIF(club,C81)>5,\"Too Many!!!!!\",\"NO TEAM\"))","v":"NO TEAM"},{"$nulls":5},{"$f":"IF($B81=\"NO TEAM\", 0, SUM(LARGE(IF(club=$C81, vault), ROW($1:$3))))","v":{"v":0,"d":"0.00"}},{"$nulls":5},{"$f":"SUM(LARGE(IF(club=$C81, bars), ROW($1:$3)))","v":{"v":0,"d":"0.00"}},{"$nulls":5},{"$f":"SUM(LARGE(IF(club=$C81, beam), ROW($1:$3)))","v":{"v":0,"d":"0.00"}},{"$nulls":5},{"$f":"SUM(LARGE(IF(club=$C81, floor), ROW($1:$3)))","v":{"v":0,"d":"0.00"}},{"$nulls":5},{"$f":"SUM(LARGE(IF(club=$C81, range), ROW($1:$3)))","v":{"v":0,"d":"0.00"}},{"$nulls":4},{"v":0,"d":"0.00"},5,15,0,5]

{"sheet":"CGr 6 >12","index":2,"n_rows":81,"n_cols":55,"rows_kept":81,"merged":[[0,3,0,8],[0,12,0,14],[0,18,0,20],[0,24,0,26],[0,30,0,32],[0,36,0,37],[2,45,2,54],[45,44,45,45],[45,48,45,49],[45,52,45,53],[56,44,56,45]]}
[{"$nulls":3},"VAULT",{"$nulls":8},"BARS",{"$nulls":5},"BEAM",{"$nulls":5},"FLOOR",{"$nulls":5},"RANGE",{"$nulls":5},"AA"]
["No","GYMNAST","CLUB","V1 SV","V1","V2 SV","V2","SCORE","POS","idx","sort","ties","SV","SCORE","POS","idx","sort","ties","SV","SCORE","POS","idx","sort","ties","SV","SCORE","POS","idx","sort","ties","SV","SCORE","POS","idx","sort","ties","TOTAL","POS","idx","sort","ties"]
[null,"Club Grade 6 - 12 & Over",{"$nulls":41},{"$f":"B3","v":"Club Grade 6 - 12 & Over"},null,"summary results for presentation"]
[53,"Myrah Hunter","Darlington",{"v":4,"d":"4.0"},{"v":12.2,"d":"12.20"},{"v":0,"d":"0.0"},{"v":0,"d":"0.00"},{"$f":"MAX(E4, G4)","v":{"v":12.2,"d":"12.20"}},{"$f":"VLOOKUP(H4, K$4:L$65, 2,FALSE)","v":1},{"$f":"IF(ISNUMBER(J3), J3+1, 1)","v":1},{"$f":"LARGE(H$4:H$65,J4)","v":12.2},{"$f":"IF(K4=K3, L3, L3+1)","v":1},{"v":4,"d":"4.0"},11.75,{"$f":"VLOOKUP(N4, Q$4:R$65, 2,FALSE)","v":1},{"$f":"IF(ISNUMBER(P3), P3+1, 1)","v":1},{"$f":"LARGE(N$4:N$65,P4)","v":11.75},{"$f":"IF(Q4=Q3, R3, R3+1)","v":1},{"v":4,"d":"4.0"},12.15,{"$f":"VLOOKUP(T4, W$4:X$65, 2,FALSE)","v":1},{"$f":"IF(ISNUMBER(V3), V3+1, 1)","v":1},{"$f":"LARGE(T$4:T$65,V4)","v":12.15},{"$f":"IF(W4=W3, X3, X3+1)","v":1},{"v":4,"d":"4.0"},{"v":12,"d":"12.00"},{"$f":"VLOOKUP(Z4, AC$4:AD$65, 2,FALSE)","v":1},{"$f":"IF(ISNUMBER(AB3), AB3+1, 1)","v":1},{"$f":"LARGE(Z$4:Z$65,AB4)","v":12},{"$f":"IF(AC4=AC3, AD3, AD3+1)","v":1},3.5,10.95,{"$f":"VLOOKUP(AF4, AI$4:AJ$65, 2,FALSE)","v":1},{"$f":"IF(ISNUMBER(AH3), AH3+1, 1)","v":1},{"$f":"LARGE(AF$4:AF$65,AH4)","v":10.95},{"$f":"IF(AI4=AI3, AJ3, AJ3+1)","v":1},{"$f":"SUMIF(D$2:AJ$2, \"SCORE\", D4:AJ4)","v":59.05},{"$f":"VLOOKUP(AK4, AN$4:AO$65, 2,FALSE)","v":1},{"$f":"IF(ISNUMBER(AM3), AM3+1, 1)","v":1},{"$f":"LARGE($AK$4:$AK$65,$AM4)","v":59.05},{"$f":"IF(AN4=AN3, AO3, AO3+1)","v":1},null,null,"6th Place",{"$f":"IFERROR(INDEX(vault,MATCH(AR5,gymnasts,0)), \"\")","v":""},"5th Place",{"$f":"IFERROR(INDEX(vault,MATCH(AT5,gymnasts,0)), \"\")","v":""},"4th Place",{"$f":"IFERROR(INDEX(vault,MATCH(AV5,gymnasts,0)), \"\")","v":""},"3rd Place",{"$f":"IFERROR(INDEX(vault,MATCH(AX5,gymnasts,0)), \"\")","v":""},"2nd Place",{"$f":"IFERROR(INDEX(vault,MATCH(AZ5,gymnasts,0)), \"\")","v":{"v":0,"d":"0.00"}},"1st Place",{"$f":"IFERROR(INDEX(vault,MATCH(BB5,gymnasts,0)), \"\")","v":{"v":12.2,"d":"12.20"}}]
[54,"Ella Hodgson","Darlington",{"v":0,"d":"0.0"},{"v":0,"d":"0.00"},{"v":0,"d":"0.0"},{"v":0,"d":"0.00"},{"$f":"MAX(E5, G5)","v":{"v":0,"d":"0.00"}},{"$f":"VLOOKUP(H5, K$4:L$65, 2,FALSE)","v":2},2,{"$f":"LARGE(H$4:H$65,J5)","v":0},{"$f":"IF(K5=K4, L4, L4+1)","v":2},{"v":0,"d":"0.0"},{"v":0,"d":"0.00"},{"$f":"VLOOKUP(N5, Q$4:R$65, 2,FALSE)","v":2},2,{"$f":"LARGE(N$4:N$65,P5)","v":0},{"$f":"IF(Q5=Q4, R4, R4+1)","v":2},{"v":0,"d":"0.0"},{"v":0,"d":"0.00"},{"$f":"VLOOKUP(T5, W$4:X$65, 2,FALSE)","v":2},2,{"$f":"LARGE(T$4:T$65,V5)","v":0},{"$f":"IF(W5=W4, X4, X4+1)","v":2},{"v":0,"d":"0.0"},{"v":0,"d":"0.00"},{"$f":"VLOOKUP(Z5, AC$4:AD$65, 2,FALSE)","v":2},2,{"$f":"LARGE(Z$4:Z$65,AB5)","v":0},{"$f":"IF(AC5=AC4, AD4, AD4+1)","v":2},{"v":0,"d":"0.0"},{"v":0,"d":"0.00"},{"$f":"VLOOKUP(AF5, AI$4:AJ$65, 2,FALSE)","v":2},2,{"$f":"LARGE(AF$4:AF$65,AH5)","v":0},{"$f":"IF(AI5=AI4, AJ4, AJ4+1)","v":2},{"v":0,"d":"0.00"},{"$f":"VLOOKUP(AK5, AN$4:AO$65, 2,FALSE)","v":2},2,{"$f":"LARGE($AK$4:$AK$65,$AM5)","v":0},{"$f":"IF(AN5=AN4, AO4, AO4+1)","v":2},null,"Vault",{"$f":"IFERROR(INDEX(gymnasts, SMALL(IF(VALUE(LEFT(AR$32, 1))=vaultPos, ROW(vaultPos)-MIN(ROW(vaultPos))+1, \"\"), ROW()-4)), \"\")","v":""},{"$f":"IFERROR( INDEX(entries, MATCH(AR5, gymnasts, 0), 2), \"\")","v":""},{"$f":"IFERROR(INDEX(gymnasts, SMALL(IF(VALUE(LEFT(AT$32, 1))=vaultPos, ROW(vaultPos)-MIN(ROW(vaultPos))+1, \"\"), ROW()-4)), \"\")","v":""},{"$f":"IFERROR( INDEX(entries, MATCH(AT5, gymnasts, 0), 2), \"\")","v":""},{"$f":"IFERROR(INDEX(gymnasts, SMALL(IF(VALUE(LEFT(AV$32, 1))=vaultPos, ROW(vaultPos)-MIN(ROW(vaultPos))+1, \"\"), ROW()-4)), \"\")","v":""},{"$f":"IFERROR( INDEX(entries, MATCH(AV5, gymnasts, 0), 2), \"\")","v":""},{"$f":"IFERROR(INDEX(gymnasts, SMALL(IF(VALUE(LEFT(AX$32, 1))=vaultPos, ROW(vaultPos)-MIN(ROW(vaultPos))+1, \"\"), ROW()-4)), \"\")","v":""},{"$f":"IFERROR( INDEX(entries, MATCH(AX5, gymnasts, 0), 2), \"\")","v":""},{"$f":"IFERROR(INDEX(gymnasts, SMALL(IF(VALUE(LEFT(AZ$32, 1))=vaultPos, ROW(vaultPos)-MIN(ROW(vaultPos))+1, \"\"), ROW()-4)), \"\")","v":"Ella Hodgson"},{"$f":"IFERROR( INDEX(entries, MATCH(AZ5, gymnasts, 0), 2), \"\")","v":"Darlington"},{"$f":"IFERROR(INDEX(gymnasts, SMALL(IF(VALUE(LEFT(BB$32, 1))=vaultPos, ROW(vaultPos)-MIN(ROW(vaultPos))+1, \"\"), ROW()-4)), \"\")","v":"Myrah Hunter"},{"$f":"IFERROR( INDEX(entries, MATCH(BB5, gymnasts, 0), 2), \"\")","v":"Darlington"}]
[{"$nulls":3},{"v":0,"d":"0.0"},{"v":0,"d":"0.00"},{"v":0,"d":"0.0"},{"v":0,"d":"0.00"},{"v":0,"d":"0.00"},2,3,0,2,{"v":0,"d":"0.0"},{"v":0,"d":"0.00"},2,3,0,2,{"v":0,"d":"0.0"},{"v":0,"d":"0.00"},2,3,0,2,{"v":0,"d":"0.0"},{"v":0,"d":"0.00"},2,3,0,2,{"v":0,"d":"0.0"},{"v":0,"d":"0.00"},2,3,0,2,{"v":0,"d":"0.00"},2,3,0,2,null,null,"",{"$f":"IFERROR( INDEX(entries, MATCH(AR6, gymnasts, 0), 2), \"\")","v":""},"",{"$f":"IFERROR( INDEX(entries, MATCH(AT6, gymnasts, 0), 2), \"\")","v":""},"",{"$f":"IFERROR( INDEX(entries, MATCH(AV6, gymnasts, 0), 2), \"\")","v":""},"",{"$f":"IFERROR( INDEX(entries, MATCH(AX6, gymnasts, 0), 2), \"\")","v":""},0,{"$f":"IFERROR( INDEX(entries, MATCH(AZ6, gymnasts, 0), 2), \"\")","v":""},"",""]
[{"$nulls":3},{"v":0,"d":"0.0"},{"v":0,"d":"0.00"},{"v":0,"d":"0.0"},{"v":0,"d":"0.00"},{"v":0,"d":"0.00"},2,4,0,2,{"v":0,"d":"0.0"},{"v":0,"d":"0.00"},2,4,0,2,{"v":0,"d":"0.0"},{"v":0,"d":"0.00"},2,4,0,2,{"v":0,"d":"0.0"},{"v":0,"d":"0.00"},2,4,0,2,{"v":0,"d":"0.0"},{"v":0,"d":"0.00"},2,4,0,2,{"v":0,"d":"0.00"},2,4,0,2,null,null,"","","","","","","","",0,"","",""]
[{"$nulls":3},{"v":0,"d":"0.0"},{"v":0,"d":"0.00"},{"v":0,"d":"0.0"},{"v":0,"d":"0.00"},{"v":0,"d":"0.00"},2,5,0,2,{"v":0,"d":"0.0"},{"v":0,"d":"0.00"},2,5,0,2,{"v":0,"d":"0.0"},{"v":0,"d":"0.00"},2,5,0,2,{"v":0,"d":"0.0"},{"v":0,"d":"0.00"},2,5,0,2,{"v":0,"d":"0.0"},{"v":0,"d":"0.00"},2,5,0,2,{"v":0,"d":"0.00"},2,5,0,2,null,null,"","","","","","","","",0,"","",""]
[{"$nulls":3},{"v":0,"d":"0.0"},{"v":0,"d":"0.00"},{"v":0,"d":"0.0"},{"v":0,"d":"0.00"},{"v":0,"d":"0.00"},2,6,0,2,{"v":0,"d":"0.0"},{"v":0,"d":"0.00"},2,6,0,2,{"v":0,"d":"0.0"},{"v":0,"d":"0.00"},2,6,0,2,{"v":0,"d":"0.0"},{"v":0,"d":"0.00"},2,6,0,2,{"v":0,"d":"0.0"},{"v":0,"d":"0.00"},2,6,0,2,{"v":0,"d":"0.00"},2,6,0,2,null,null,"","","","","","","","",0,"","",""]
[{"$nulls":3},{"v":0,"d":"0.0"},{"v":0,"d":"0.00"},{"v":0,"d":"0.0"},{"v":0,"d":"0.00"},{"v":0,"d":"0.00"},2,7,0,2,{"v":0,"d":"0.0"},{"v":0,"d":"0.00"},2,7,0,2,{"v":0,"d":"0.0"},{"v":0,"d":"0.00"},2,7,0,2,{"v":0,"d":"0.0"},{"v":0,"d":"0.00"},2,7,0,2,{"v":0,"d":"0.0"},{"v":0,"d":"0.00"},2,7,0,2,{"v":0,"d":"0.00"},2,7,0,2,null,null,"","","","","","","","",0,"","",""]
[{"$nulls":3},{"v":0,"d":"0.0"},{"v":0,"d":"0.00"},{"v":0,"d":"0.0"},{"v":0,"d":"0.00"},{"v":0,"d":"0.00"},2,8,0,2,{"v":0,"d":"0.0"},{"v":0,"d":"0.00"},2,8,0,2,{"v":0,"d":"0.0"},{"v":0,"d":"0.00"},2,8,0,2,{"v":0,"d":"0.0"},{"v":0,"d":"0.00"},2,8,0,2,{"v":0,"d":"0.0"},{"v":0,"d":"0.00"},2,8,0,2,{"v":0,"d":"0.00"},2,8,0,2,null,null,"6th Place",{"$f":"IFERROR(INDEX(bars,MATCH(AR12,gymnasts,0)), \"\")","v":""},"5th Place",{"$f":"IFERROR(INDEX(bars,MATCH(AT12,gymnasts,0)), \"\")","v":""},"4th Place",{"$f":"IFERROR(INDEX(bars,MATCH(AV12,gymnasts,0)), \"\")","v":""},"3rd Place",{"$f":"IFERROR(INDEX(bars,MATCH(AX12,gymnasts,0)), \"\")","v":""},"2nd Place",{"$f":"IFERROR(INDEX(bars,MATCH(AZ12,gymnasts,0)), \"\")","v":{"v":0,"d":"0.00"}},"1st Place",{"$f":"IFERROR(INDEX(bars,MATCH(BB12,gymnasts,0)), \"\")","v":11.75}]
[{"$nulls":3},{"v":0,"d":"0.0"},{"v":0,"d":"0.00"},{"v":0,"d":"0.0"},{"v":0,"d":"0.00"},{"v":0,"d":"0.00"},2,9,0,2,{"v":0,"d":"0.0"},{"v":0,"d":"0.00"},2,9,0,2,{"v":0,"d":"0.0"},{"v":0,"d":"0.00"},2,9,0,2,{"v":0,"d":"0.0"},{"v":0,"d":"0.00"},2,9,0,2,{"v":0,"d":"0.0"},{"v":0,"d":"0.00"},2,9,0,2,{"v":0,"d":"0.00"},2,9,0,2,null,"Bars",{"$f":"IFERROR(INDEX(gymnasts, SMALL(IF(VALUE(LEFT(AR$32, 1))=BarPos, ROW(BarPos)-MIN(ROW(BarPos))+1, \"\"), ROW()-11)), \"\")","v":""},{"$f":"IFERROR( INDEX(entries, MATCH(AR12, gymnasts, 0), 2), \"\")","v":""},{"$f":"IFERROR(INDEX(gymnasts, SMALL(IF(VALUE(LEFT(AT$32, 1))=BarPos, ROW(BarPos)-MIN(ROW(BarPos))+1, \"\"), ROW()-11)), \"\")","v":""},{"$f":"IFERROR( INDEX(entries, MATCH(AT12, gymnasts, 0), 2), \"\")","v":""},{"$f":"IFERROR(INDEX(gymnasts, SMALL(IF(VALUE(LEFT(AV$32, 1))=BarPos, ROW(BarPos)-MIN(ROW(BarPos))+1, \"\"), ROW()-11)), \"\")","v":""},{"$f":"IFERROR( INDEX(entries, MATCH(AV12, gymnasts, 0), 2), \"\")","v":""},{"$f":"IFERROR(INDEX(gymnasts, SMALL(IF(VALUE(LEFT(AX$32, 1))=BarPos, ROW(BarPos)-MIN(ROW(BarPos))+1, \"\"), ROW()-11)), \"\")","v":""},{"$f":"IFERROR( INDEX(entries, MATCH(AX12, gymnasts, 0), 2), \"\")","v":""},{"$f":"IFERROR(INDEX(gymnasts, SMALL(IF(VALUE(LEFT(AZ$32, 1))=BarPos, ROW(BarPos)-MIN(ROW(BarPos))+1, \"\"), ROW()-11)), \"\")","v":"Ella Hodgson"},{"$f":"IFERROR( INDEX(entries, MATCH(AZ12, gymnasts, 0), 2), \"\")","v":"Darlington"},{"$f":"IFERROR(INDEX(gymnasts, SMALL(IF(VALUE(LEFT(BB$32, 1))=BarPos, ROW(BarPos)-MIN(ROW(BarPos))+1, \"\"), ROW()-11)), \"\")","v":"Myrah Hunter"},{"$f":"IFERROR( INDEX(entries, MATCH(BB12, gymnasts, 0), 2), \"\")","v":"Darlington"}]
[{"$nulls":3},{"v":0,"d":"0.0"},{"v":0,"d":"0.00"},{"v":0,"d":"0.0"},{"v":0,"d":"0.00"},{"v":0,"d":"0.00"},2,10,0,2,{"v":0,"d":"0.0"},{"v":0,"d":"0.00"},2,10,0,2,{"v":0,"d":"0.0"},{"v":0,"d":"0.00"},2,10,0,2,{"v":0,"d":"0.0"},{"v":0,"d":"0.00"},2,10,0,2,{"v":0,"d":"0.0"},{"v":0,"d":"0.00"},2,10,0,2,{"v":0,"d":"0.00"},2,10,0,2,null,null,"",{"$f":"IFERROR( INDEX(entries, MATCH(AR13, gymnasts, 0), 2), \"\")","v":""},"",{"$f":"IFERROR( INDEX(entries, MATCH(AT13, gymnasts, 0), 2), \"\")","v":""},"",{"$f":"IFERROR( INDEX(entries, MATCH(AV13, gymnasts, 0), 2), \"\")","v":""},"",{"$f":"IFERROR( INDEX(entries, MATCH(AX13, gymnasts, 0), 2), \"\")","v":""},0,{"$f":"IFERROR( INDEX(entries, MATCH(AZ13, gymnasts, 0), 2), \"\")","v":""},"",""]
[{"$nulls":3},{"v":0,"d":"0.0"},{"v":0,"d":"0.00"},{"v":0,"d":"0.0"},{"v":0,"d":"0.00"},{"v":0,"d":"0.00"},2,11,0,2,{"v":0,"d":"0.0"},{"v":0,"d":"0.00"},2,11,0,2,{"v":0,"d":"0.0"},{"v":0,"d":"0.00"},2,11,0,2,{"v":0,"d":"0.0"},{"v":0,"d":"0.00"},2,11,0,2,{"v":0,"d":"0.0"},{"v":0,"d":"0.00"},2,11,0,2,{"v":0,"d":"0.00"},2,11,0,2,null,null,"","","","","","","","",0,"","",""]
[{"$nulls":3},{"v":0,"d":"0.0"},{"v":0,"d":"0.00"},{"v":0,"d":"0.0"},{"v":0,"d":"0.00"},{"v":0,"d":"0.00"},2,12,0,2,{"v":0,"d":"0.0"},{"v":0,"d":"0.00"},2,12,0,2,{"v":0,"d":"0.0"},{"v":0,"d":"0.00"},2,12,0,2,{"v":0,"d":"0.0"},{"v":0,"d":"0.00"},2,12,0,2,{"v":0,"d":"0.0"},{"v":0,"d":"0.00"},2,12,0,2,{"v":0,"d":"0.00"},2,12,0,2,null,null,"","","","","","","","",0,"","",""]
[{"$nulls":3},{"v":0,"d":"0.0"},{"v":0,"d":"0.00"},{"v":0,"d":"0.0"},{"v":0,"d":"0.00"},{"v":0,"d":"0.00"},2,13,0,2,{"v":0,"d":"0.0"},{"v":0,"d":"0.00"},2,13,0,2,{"v":0,"d":"0.0"},{"v":0,"d":"0.00"},2,13,0,2,{"v":0,"d":"0.0"},{"v":0,"d":"0.00"},2,13,0,2,{"v":0,"d":"0.0"},{"v":0,"d":"0.00"},2,13,0,2,{"v":0,"d":"0.00"},2,13,0,2,null,null,"","","","","","","","",0,"","",""]
[{"$nulls":3},{"v":0,"d":"0.0"},{"v":0,"d":"0.00"},{"v":0,"d":"0.0"},{"v":0,"d":"0.00"},{"v":0,"d":"0.00"},2,14,0,2,{"v":0,"d":"0.0"},{"v":0,"d":"0.00"},2,14,0,2,{"v":0,"d":"0.0"},{"v":0,"d":"0.00"},2,14,0,2,{"v":0,"d":"0.0"},{"v":0,"d":"0.00"},2,14,0,2,{"v":0,"d":"0.0"},{"v":0,"d":"0.00"},2,14,0,2,{"v":0,"d":"0.00"},2,14,0,2,null,null,"","","","","","","","",0,"","",""]
[{"$nulls":3},{"v":0,"d":"0.0"},{"v":0,"d":"0.00"},{"v":0,"d":"0.0"},{"v":0,"d":"0.00"},{"v":0,"d":"0.00"},2,15,0,2,{"v":0,"d":"0.0"},{"v":0,"d":"0.00"},2,15,0,2,{"v":0,"d":"0.0"},{"v":0,"d":"0.00"},2,15,0,2,{"v":0,"d":"0.0"},{"v":0,"d":"0.00"},2,15,0,2,{"v":0,"d":"0.0"},{"v":0,"d":"0.00"},2,15,0,2,{"v":0,"d":"0.00"},2,15,0,2,null,null,"6th Place",{"$f":"IFERROR(INDEX(beam,MATCH(AR19,gymnasts,0)), \"\")","v":""},"5th Place",{"$f":"IFERROR(INDEX(beam,MATCH(AT19,gymnasts,0)), \"\")","v":""},"4th Place",{"$f":"IFERROR(INDEX(beam,MATCH(AV19,gymnasts,0)), \"\")","v":""},"3rd Place",{"$f":"IFERROR(INDEX(beam,MATCH(AX19,gymnasts,0)), \"\")","v":""},"2nd Place",{"$f":"IFERROR(INDEX(beam,MATCH(AZ19,gymnasts,0)), \"\")","v":{"v":0,"d":"0.00"}},"1st Place",{"$f":"IFERROR(INDEX(beam,MATCH(BB19,gymnasts,0)), \"\")","v":12.15}]
[{"$nulls":3},{"v":0,"d":"0.0"},{"v":0,"d":"0.00"},{"v":0,"d":"0.0"},{"v":0,"d":"0.00"},{"v":0,"d":"0.00"},2,16,0,2,{"v":0,"d":"0.0"},{"v":0,"d":"0.00"},2,16,0,2,{"v":0,"d":"0.0"},{"v":0,"d":"0.00"},2,16,0,2,{"v":0,"d":"0.0"},{"v":0,"d":"0.00"},2,16,0,2,{"v":0,"d":"0.0"},{"v":0,"d":"0.00"},2,16,0,2,{"v":0,"d":"0.00"},2,16,0,2,null,"Beam",{"$f":"IFERROR(INDEX(gymnasts, SMALL(IF(VALUE(LEFT(AR$32, 1))=BeamPos, ROW(BeamPos)-MIN(ROW(BeamPos))+1, \"\"), ROW()-18)), \"\")","v":""},{"$f":"IFERROR( INDEX(entries, MATCH(AR19, gymnasts, 0), 2), \"\")","v":""},{"$f":"IFERROR(INDEX(gymnasts, SMALL(IF(VALUE(LEFT(AT$32, 1))=BeamPos, ROW(BeamPos)-MIN(ROW(BeamPos))+1, \"\"), ROW()-18)), \"\")","v":""},{"$f":"IFERROR( INDEX(entries, MATCH(AT19, gymnasts, 0), 2), \"\")","v":""},{"$f":"IFERROR(INDEX(gymnasts, SMALL(IF(VALUE(LEFT(AV$32, 1))=BeamPos, ROW(BeamPos)-MIN(ROW(BeamPos))+1, \"\"), ROW()-18)), \"\")","v":""},{"$f":"IFERROR( INDEX(entries, MATCH(AV19, gymnasts, 0), 2), \"\")","v":""},{"$f":"IFERROR(INDEX(gymnasts, SMALL(IF(VALUE(LEFT(AX$32, 1))=BeamPos, ROW(BeamPos)-MIN(ROW(BeamPos))+1, \"\"), ROW()-18)), \"\")","v":""},{"$f":"IFERROR( INDEX(entries, MATCH(AX19, gymnasts, 0), 2), \"\")","v":""},{"$f":"IFERROR(INDEX(gymnasts, SMALL(IF(VALUE(LEFT(AZ$32, 1))=BeamPos, ROW(BeamPos)-MIN(ROW(BeamPos))+1, \"\"), ROW()-18)), \"\")","v":"Ella Hodgson"},{"$f":"IFERROR( INDEX(entries, MATCH(AZ19, gymnasts, 0), 2), \"\")","v":"Darlington"},{"$f":"IFERROR(INDEX(gymnasts, SMALL(IF(VALUE(LEFT(BB$32, 1))=BeamPos, ROW(BeamPos)-MIN(ROW(BeamPos))+1, \"\"), ROW()-18)), \"\")","v":"Myrah Hunter"},{"$f":"IFERROR( INDEX(entries, MATCH(BB19, gymnasts, 0), 2), \"\")","v":"Darlington"}]
[{"$nulls":3},{"v":0,"d":"0.0"},{"v":0,"d":"0.00"},{"v":0,"d":"0.0"},{"v":0,"d":"0.00"},{"v":0,"d":"0.00"},2,17,0,2,{"v":0,"d":"0.0"},{"v":0,"d":"0.00"},2,17,0,2,{"v":0,"d":"0.0"},{"v":0,"d":"0.00"},2,17,0,2,{"v":0,"d":"0.0"},{"v":0,"d":"0.00"},2,17,0,2,{"v":0,"d":"0.0"},{"v":0,"d":"0.00"},2,17,0,2,{"v":0,"d":"0.00"},2,17,0,2,null,null,"",{"$f":"IFERROR( INDEX(entries, MATCH(AR20, gymnasts, 0), 2), \"\")","v":""},"",{"$f":"IFERROR( INDEX(entries, MATCH(AT20, gymnasts, 0), 2), \"\")","v":""},"",{"$f":"IFERROR( INDEX(entries, MATCH(AV20, gymnasts, 0), 2), \"\")","v":""},"",{"$f":"IFERROR( INDEX(entries, MATCH(AX20, gymnasts, 0), 2), \"\")","v":""},0,{"$f":"IFERROR( INDEX(entries, MATCH(AZ20, gymnasts, 0), 2), \"\")","v":""},"",""]
[{"$nulls":3},{"v":0,"d":"0.0"},{"v":0,"d":"0.00"},{"v":0,"d":"0.0"},{"v":0,"d":"0.00"},{"v":0,"d":"0.00"},2,18,0,2,{"v":0,"d":"0.0"},{"v":0,"d":"0.00"},2,18,0,2,{"v":0,"d":"0.0"},{"v":0,"d":"0.00"},2,18,0,2,{"v":0,"d":"0.0"},{"v":0,"d":"0.00"},2,18,0,2,{"v":0,"d":"0.0"},{"v":0,"d":"0.00"},2,18,0,2,{"v":0,"d":"0.00"},2,18,0,2,null,null,"","","","","","","","",0,"","",""]
[{"$nulls":3},{"v":0,"d":"0.0"},{"v":0,"d":"0.00"},{"v":0,"d":"0.0"},{"v":0,"d":"0.00"},{"v":0,"d":"0.00"},2,19,0,2,{"v":0,"d":"0.0"},{"v":0,"d":"0.00"},2,19,0,2,{"v":0,"d":"0.0"},{"v":0,"d":"0.00"},2,19,0,2,{"v":0,"d":"0.0"},{"v":0,"d":"0.00"},2,19,0,2,{"v":0,"d":"0.0"},{"v":0,"d":"0.00"},2,19,0,2,{"v":0,"d":"0.00"},2,19,0,2,null,null,"","","","","","","","",0,"","",""]
[{"$nulls":3},{"v":0,"d":"0.0"},{"v":0,"d":"0.00"},{"v":0,"d":"0.0"},{"v":0,"d":"0.00"},{"v":0,"d":"0.00"},2,20,0,2,{"v":0,"d":"0.0"},{"v":0,"d":"0.00"},2,20,0,2,{"v":0,"d":"0.0"},{"v":0,"d":"0.00"},2,20,0,2,{"v":0,"d":"0.0"},{"v":0,"d":"0.00"},2,20,0,2,{"v":0,"d":"0.0"},{"v":0,"d":"0.00"},2,20,0,2,{"v":0,"d":"0.00"},2,20,0,2,null,null,"","","","","","","","",0,"","",""]
[{"$nulls":3},{"v":0,"d":"0.0"},{"v":0,"d":"0.00"},{"v":0,"d":"0.0"},{"v":0,"d":"0.00"},{"v":0,"d":"0.00"},2,21,0,2,{"v":0,"d":"0.0"},{"v":0,"d":"0.00"},2,21,0,2,{"v":0,"d":"0.0"},{"v":0,"d":"0.00"},2,21,0,2,{"v":0,"d":"0.0"},{"v":0,"d":"0.00"},2,21,0,2,{"v":0,"d":"0.0"},{"v":0,"d":"0.00"},2,21,0,2,{"v":0,"d":"0.00"},2,21,0,2,null,null,"","","","","","","","",0,"","",""]
[{"$nulls":3},{"v":0,"d":"0.0"},{"v":0,"d":"0.00"},{"v":0,"d":"0.0"},{"v":0,"d":"0.00"},{"v":0,"d":"0.00"},2,22,0,2,{"v":0,"d":"0.0"},{"v":0,"d":"0.00"},2,22,0,2,{"v":0,"d":"0.0"},{"v":0,"d":"0.00"},2,22,0,2,{"v":0,"d":"0.0"},{"v":0,"d":"0.00"},2,22,0,2,{"v":0,"d":"0.0"},{"v":0,"d":"0.00"},2,22,0,2,{"v":0,"d":"0.00"},2,22,0,2,null,null,"6th Place",{"$f":"IFERROR(INDEX(floor,MATCH(AR26,gymnasts,0)), \"\")","v":""},"5th Place",{"$f":"IFERROR(INDEX(floor,MATCH(AT26,gymnasts,0)), \"\")","v":""},"4th Place",{"$f":"IFERROR(INDEX(floor,MATCH(AV26,gymnasts,0)), \"\")","v":""},"3rd Place",{"$f":"IFERROR(INDEX(floor,MATCH(AX26,gymnasts,0)), \"\")","v":""},"2nd Place",{"$f":"IFERROR(INDEX(floor,MATCH(AZ26,gymnasts,0)), \"\")","v":{"v":0,"d":"0.00"}},"1st Place",{"$f":"IFERROR(INDEX(floor,MATCH(BB26,gymnasts,0)), \"\")","v":{"v":12,"d":"12.00"}}]
[{"$nulls":3},{"v":0,"d":"0.0"},{"v":0,"d":"0.00"},{"v":0,"d":"0.0"},{"v":0,"d":"0.00"},{"v":0,"d":"0.00"},2,23,0,2,{"v":0,"d":"0.0"},{"v":0,"d":"0.00"},2,23,0,2,{"v":0,"d":"0.0"},{"v":0,"d":"0.00"},2,23,0,2,{"v":0,"d":"0.0"},{"v":0,"d":"0.00"},2,23,0,2,{"v":0,"d":"0.0"},{"v":0,"d":"0.00"},2,23,0,2,{"v":0,"d":"0.00"},2,23,0,2,null,"Floor",{"$f":"IFERROR(INDEX(gymnasts, SMALL(IF(VALUE(LEFT(AR$32, 1))=FloorPos, ROW(FloorPos)-MIN(ROW(FloorPos))+1, \"\"), ROW()-25)), \"\")","v":""},{"$f":"IFERROR( INDEX(entries, MATCH(AR26, gymnasts, 0), 2), \"\")","v":""},{"$f":"IFERROR(INDEX(gymnasts, SMALL(IF(VALUE(LEFT(AT$32, 1))=FloorPos, ROW(FloorPos)-MIN(ROW(FloorPos))+1, \"\"), ROW()-25)), \"\")","v":""},{"$f":"IFERROR( INDEX(entries, MATCH(AT26, gymnasts, 0), 2), \"\")","v":""},{"$f":"IFERROR(INDEX(gymnasts, SMALL(IF(VALUE(LEFT(AV$32, 1))=FloorPos, ROW(FloorPos)-MIN(ROW(FloorPos))+1, \"\"), ROW()-25)), \"\")","v":""},{"$f":"IFERROR( INDEX(entries, MATCH(AV26, gymnasts, 0), 2), \"\")","v":""},{"$f":"IFERROR(INDEX(gymnasts, SMALL(IF(VALUE(LEFT(AX$32, 1))=FloorPos, ROW(FloorPos)-MIN(ROW(FloorPos))+1, \"\"), ROW()-25)), \"\")","v":""},{"$f":"IFERROR( INDEX(entries, MATCH(AX26, gymnasts, 0), 2), \"\")","v":""},{"$f":"IFERROR(INDEX(gymnasts, SMALL(IF(VALUE(LEFT(AZ$32, 1))=FloorPos, ROW(FloorPos)-MIN(ROW(FloorPos))+1, \"\"), ROW()-25)), \"\")","v":"Ella Hodgson"},{"$f":"IFERROR( INDEX(entries, MATCH(AZ26, gymnasts, 0), 2), \"\")","v":"Darlington"},{"$f":"IFERROR(INDEX(gymnasts, SMALL(IF(VALUE(LEFT(BB$32, 1))=FloorPos, ROW(FloorPos)-MIN(ROW(FloorPos))+1, \"\"), ROW()-25)), \"\")","v":"Myrah Hunter"},{"$f":"IFERROR( INDEX(entries, MATCH(BB26, gymnasts, 0), 2), \"\")","v":"Darlington"}]
[{"$nulls":3},{"v":0,"d":"0.0"},{"v":0,"d":"0.00"},{"v":0,"d":"0.0"},{"v":0,"d":"0.00"},{"v":0,"d":"0.00"},2,24,0,2,{"v":0,"d":"0.0"},{"v":0,"d":"0.00"},2,24,0,2,{"v":0,"d":"0.0"},{"v":0,"d":"0.00"},2,24,0,2,{"v":0,"d":"0.0"},{"v":0,"d":"0.00"},2,24,0,2,{"v":0,"d":"0.0"},{"v":0,"d":"0.00"},2,24,0,2,{"v":0,"d":"0.00"},2,24,0,2,null,null,"",{"$f":"IFERROR( INDEX(entries, MATCH(AR27, gymnasts, 0), 2), \"\")","v":""},"",{"$f":"IFERROR( INDEX(entries, MATCH(AT27, gymnasts, 0), 2), \"\")","v":""},"",{"$f":"IFERROR( INDEX(entries, MATCH(AV27, gymnasts, 0), 2), \"\")","v":""},"",{"$f":"IFERROR( INDEX(entries, MATCH(AX27, gymnasts, 0), 2), \"\")","v":""},0,{"$f":"IFERROR( INDEX(entries, MATCH(AZ27, gymnasts, 0), 2), \"\")","v":""},"",""]
[{"$nulls":3},{"v":0,"d":"0.0"},{"v":0,"d":"0.00"},{"v":0,"d":"0.0"},{"v":0,"d":"0.00"},{"v":0,"d":"0.00"},2,25,0,2,{"v":0,"d":"0.0"},{"v":0,"d":"0.00"},2,25,0,2,{"v":0,"d":"0.0"},{"v":0,"d":"0.00"},2,25,0,2,{"v":0,"d":"0.0"},{"v":0,"d":"0.00"},2,25,0,2,{"v":0,"d":"0.0"},{"v":0,"d":"0.00"},2,25,0,2,{"v":0,"d":"0.00"},2,25,0,2,null,null,"","","","","","","","",0,"","",""]
[{"$nulls":3},{"v":0,"d":"0.0"},{"v":0,"d":"0.00"},{"v":0,"d":"0.0"},{"v":0,"d":"0.00"},{"v":0,"d":"0.00"},2,26,0,2,{"v":0,"d":"0.0"},{"v":0,"d":"0.00"},2,26,0,2,{"v":0,"d":"0.0"},{"v":0,"d":"0.00"},2,26,0,2,{"v":0,"d":"0.0"},{"v":0,"d":"0.00"},2,26,0,2,{"v":0,"d":"0.0"},{"v":0,"d":"0.00"},2,26,0,2,{"v":0,"d":"0.00"},2,26,0,2,null,null,"","","","","","","","",0,"","",""]
[{"$nulls":3},{"v":0,"d":"0.0"},{"v":0,"d":"0.00"},{"v":0,"d":"0.0"},{"v":0,"d":"0.00"},{"v":0,"d":"0.00"},2,27,0,2,{"v":0,"d":"0.0"},{"v":0,"d":"0.00"},2,27,0,2,{"v":0,"d":"0.0"},{"v":0,"d":"0.00"},2,27,0,2,{"v":0,"d":"0.0"},{"v":0,"d":"0.00"},2,27,0,2,{"v":0,"d":"0.0"},{"v":0,"d":"0.00"},2,27,0,2,{"v":0,"d":"0.00"},2,27,0,2,null,null,"","","","","","","","",0,"","",""]
[{"$nulls":3},{"v":0,"d":"0.0"},{"v":0,"d":"0.00"},{"v":0,"d":"0.0"},{"v":0,"d":"0.00"},{"v":0,"d":"0.00"},2,28,0,2,{"v":0,"d":"0.0"},{"v":0,"d":"0.00"},2,28,0,2,{"v":0,"d":"0.0"},{"v":0,"d":"0.00"},2,28,0,2,{"v":0,"d":"0.0"},{"v":0,"d":"0.00"},2,28,0,2,{"v":0,"d":"0.0"},{"v":0,"d":"0.00"},2,28,0,2,{"v":0,"d":"0.00"},2,28,0,2,null,null,"","","","","","","","",0,"","",""]
[{"$nulls":3},{"v":0,"d":"0.0"},{"v":0,"d":"0.00"},{"v":0,"d":"0.0"},{"v":0,"d":"0.00"},{"v":0,"d":"0.00"},2,29,0,2,{"v":0,"d":"0.0"},{"v":0,"d":"0.00"},2,29,0,2,{"v":0,"d":"0.0"},{"v":0,"d":"0.00"},2,29,0,2,{"v":0,"d":"0.0"},{"v":0,"d":"0.00"},2,29,0,2,{"v":0,"d":"0.0"},{"v":0,"d":"0.00"},2,29,0,2,{"v":0,"d":"0.00"},2,29,0,2,null,null,"6th Place",{"$f":"IFERROR(INDEX(range,MATCH(AR33,gymnasts,0)), \"\")","v":""},"5th Place",{"$f":"IFERROR(INDEX(range,MATCH(AT33,gymnasts,0)), \"\")","v":""},"4th Place",{"$f":"IFERROR(INDEX(range,MATCH(AV33,gymnasts,0)), \"\")","v":""},"3rd Place",{"$f":"IFERROR(INDEX(range,MATCH(AX33,gymnasts,0)), \"\")","v":""},"2nd Place",{"$f":"IFERROR(INDEX(range,MATCH(AZ33,gymnasts,0)), \"\")","v":{"v":0,"d":"0.00"}},"1st Place",{"$f":"IFERROR(INDEX(range,MATCH(BB33,gymnasts,0)), \"\")","v":10.95}]
[{"$nulls":3},{"v":0,"d":"0.0"},{"v":0,"d":"0.00"},{"v":0,"d":"0.0"},{"v":0,"d":"0.00"},{"v":0,"d":"0.00"},2,30,0,2,{"v":0,"d":"0.0"},{"v":0,"d":"0.00"},2,30,0,2,{"v":0,"d":"0.0"},{"v":0,"d":"0.00"},2,30,0,2,{"v":0,"d":"0.0"},{"v":0,"d":"0.00"},2,30,0,2,{"v":0,"d":"0.0"},{"v":0,"d":"0.00"},2,30,0,2,{"v":0,"d":"0.00"},2,30,0,2,null,"Range",{"$f":"IFERROR(INDEX(gymnasts, SMALL(IF(VALUE(LEFT(AR$32, 1))=RangePos, ROW(RangePos)-MIN(ROW(RangePos))+1, \"\"), ROW()-32)), \"\")","v":""},{"$f":"IFERROR( INDEX(entries, MATCH(AR33, gymnasts, 0), 2), \"\")","v":""},{"$f":"IFERROR(INDEX(gymnasts, SMALL(IF(VALUE(LEFT(AT$32, 1))=RangePos, ROW(RangePos)-MIN(ROW(RangePos))+1, \"\"), ROW()-32)), \"\")","v":""},{"$f":"IFERROR( INDEX(entries, MATCH(AT33, gymnasts, 0), 2), \"\")","v":""},{"$f":"IFERROR(INDEX(gymnasts, SMALL(IF(VALUE(LEFT(AV$32, 1))=RangePos, ROW(RangePos)-MIN(ROW(RangePos))+1, \"\"), ROW()-32)), \"\")","v":""},{"$f":"IFERROR( INDEX(entries, MATCH(AV33, gymnasts, 0), 2), \"\")","v":""},{"$f":"IFERROR(INDEX(gymnasts, SMALL(IF(VALUE(LEFT(AX$32, 1))=RangePos, ROW(RangePos)-MIN(ROW(RangePos))+1, \"\"), ROW()-32)), \"\")","v":""},{"$f":"IFERROR( INDEX(entries, MATCH(AX33, gymnasts, 0), 2), \"\")","v":""},{"$f":"IFERROR(INDEX(gymnasts, SMALL(IF(VALUE(LEFT(AZ$32, 1))=RangePos, ROW(RangePos)-MIN(ROW(RangePos))+1, \"\"), ROW()-32)), \"\")","v":"Ella Hodgson"},{"$f":"IFERROR( INDEX(entries, MATCH(AZ33, gymnasts, 0), 2), \"\")","v":"Darlington"},{"$f":"IFERROR(INDEX(gymnasts, SMALL(IF(VALUE(LEFT(BB$32, 1))=RangePos, ROW(RangePos)-MIN(ROW(RangePos))+1, \"\"), ROW()-32)), \"\")","v":"Myrah Hunter"},{"$f":"IFERROR( INDEX(entries, MATCH(BB33, gymnasts, 0), 2), \"\")","v":"Darlington"}]
[{"$nulls":3},{"v":0,"d":"0.0"},{"v":0,"d":"0.00"},{"v":0,"d":"0.0"},{"v":0,"d":"0.00"},{"v":0,"d":"0.00"},2,31,0,2,{"v":0,"d":"0.0"},{"v":0,"d":"0.00"},2,31,0,2,{"v":0,"d":"0.0"},{"v":0,"d":"0.00"},2,31,0,2,{"v":0,"d":"0.0"},{"v":0,"d":"0.00"},2,31,0,2,{"v":0,"d":"0.0"},{"v":0,"d":"0.00"},2,31,0,2,{"v":0,"d":"0.00"},2,31,0,2,null,null,"",{"$f":"IFERROR( INDEX(entries, MATCH(AR34, gymnasts, 0), 2), \"\")","v":""},"",{"$f":"IFERROR( INDEX(entries, MATCH(AT34, gymnasts, 0), 2), \"\")","v":""},"",{"$f":"IFERROR( INDEX(entries, MATCH(AV34, gymnasts, 0), 2), \"\")","v":""},"",{"$f":"IFERROR( INDEX(entries, MATCH(AX34, gymnasts, 0), 2), \"\")","v":""},0,{"$f":"IFERROR( INDEX(entries, MATCH(AZ34, gymnasts, 0), 2), \"\")","v":""},"",""]
[{"$nulls":3},{"v":0,"d":"0.0"},{"v":0,"d":"0.00"},{"v":0,"d":"0.0"},{"v":0,"d":"0.00"},{"v":0,"d":"0.00"},2,32,0,2,{"v":0,"d":"0.0"},{"v":0,"d":"0.00"},2,32,0,2,{"v":0,"d":"0.0"},{"v":0,"d":"0.00"},2,32,0,2,{"v":0,"d":"0.0"},{"v":0,"d":"0.00"},2,32,0,2,{"v":0,"d":"0.0"},{"v":0,"d":"0.00"},2,32,0,2,{"v":0,"d":"0.00"},2,32,0,2,null,null,"","","","","","","","",0,"","",""]
[{"$nulls":3},{"v":0,"d":"0.0"},{"v":0,"d":"0.00"},{"v":0,"d":"0.0"},{"v":0,"d":"0.00"},{"v":0,"d":"0.00"},2,33,0,2,{"v":0,"d":"0.0"},{"v":0,"d":"0.00"},2,33,0,2,{"v":0,"d":"0.0"},{"v":0,"d":"0.00"},2,33,0,2,{"v":0,"d":"0.0"},{"v":0,"d":"0.00"},2,33,0,2,{"v":0,"d":"0.0"},{"v":0,"d":"0.00"},2,33,0,2,{"$f":"SUMIF(D$2:AJ$2, \"SCORE\", D36:AJ36)","v":{"v":0,"d":"0.00"}},2,33,0,2,null,null,"","","","","","","","",0,"","",""]
[{"$nulls":3},{"v":0,"d":"0.0"},{"v":0,"d":"0.00"},{"v":0,"d":"0.0"},{"v":0,"d":"0.00"},{"v":0,"d":"0.00"},2,34,0,2,{"v":0,"d":"0.0"},{"v":0,"d":"0.00"},2,34,0,2,{"v":0,"d":"0.0"},{"v":0,"d":"0.00"},2,34,0,2,{"v":0,"d":"0.0"},{"v":0,"d":"0.00"},2,34,0,2,{"v":0,"d":"0.0"},{"v":0,"d":"0.00"},2,34,0,2,{"v":0,"d":"0.00"},2,34,0,2,null,null,"","","","","","","","",0,"","",""]
[{"$nulls":3},{"v":0,"d":"0.0"},{"v":0,"d":"0.00"},{"v":0,"d":"0.0"},{"v":0,"d":"0.00"},{"v":0,"d":"0.00"},2,35,0,2,{"v":0,"d":"0.0"},{"v":0,"d":"0.00"},2,35,0,2,{"v":0,"d":"0.0"},{"v":0,"d":"0.00"},2,35,0,2,{"v":0,"d":"0.0"},{"v":0,"d":"0.00"},2,35,0,2,{"v":0,"d":"0.0"},{"v":0,"d":"0.00"},2,35,0,2,{"v":0,"d":"0.00"},2,35,0,2,null,null,"","","","","","","","",0,"","",""]
[{"$nulls":3},{"v":0,"d":"0.0"},{"v":0,"d":"0.00"},{"v":0,"d":"0.0"},{"v":0,"d":"0.00"},{"v":0,"d":"0.00"},2,36,0,2,{"v":0,"d":"0.0"},{"v":0,"d":"0.00"},2,36,0,2,{"v":0,"d":"0.0"},{"v":0,"d":"0.00"},2,36,0,2,{"v":0,"d":"0.0"},{"v":0,"d":"0.00"},2,36,0,2,{"v":0,"d":"0.0"},{"v":0,"d":"0.00"},2,36,0,2,{"v":0,"d":"0.00"},2,36,0,2,null,null,"6th Place",{"$f":"IFERROR(INDEX(AAscores,MATCH(AR40,gymnasts,0)), \"\")","v":""},"5th Place",{"$f":"IFERROR(INDEX(AAscores,MATCH(AT40,gymnasts,0)), \"\")","v":""},"4th Place",{"$f":"IFERROR(INDEX(AAscores,MATCH(AV40,gymnasts,0)), \"\")","v":""},"3rd Place",{"$f":"IFERROR(INDEX(AAscores,MATCH(AX40,gymnasts,0)), \"\")","v":""},"2nd Place",{"$f":"IFERROR(INDEX(AAscores,MATCH(AZ40,gymnasts,0)), \"\")","v":{"v":0,"d":"0.00"}},"1st Place",{"$f":"IFERROR(INDEX(AAscores,MATCH(BB40,gymnasts,0)), \"\")","v":59.05}]
[{"$nulls":3},{"v":0,"d":"0.0"},{"v":0,"d":"0.00"},{"v":0,"d":"0.0"},{"v":0,"d":"0.00"},{"v":0,"d":"0.00"},2,37,0,2,{"v":0,"d":"0.0"},{"v":0,"d":"0.00"},2,37,0,2,{"v":0,"d":"0.0"},{"v":0,"d":"0.00"},2,37,0,2,{"v":0,"d":"0.0"},{"v":0,"d":"0.00"},2,37,0,2,{"v":0,"d":"0.0"},{"v":0,"d":"0.00"},2,37,0,2,{"v":0,"d":"0.00"},2,37,0,2,null,"AA",{"$f":"IFERROR(INDEX(gymnasts, SMALL(IF(VALUE(LEFT(AR$39, 1))=AApos, ROW(AApos)-MIN(ROW(AApos))+1, \"\"), ROW()-39)), \"\")","v":""},{"$f":"IFERROR( INDEX(entries, MATCH(AR40, gymnasts, 0), 2), \"\")","v":""},{"$f":"IFERROR(INDEX(gymnasts, SMALL(IF(VALUE(LEFT(AT$39, 1))=AApos, ROW(AApos)-MIN(ROW(AApos))+1, \"\"), ROW()-39)), \"\")","v":""},{"$f":"IFERROR( INDEX(entries, MATCH(AT40, gymnasts, 0), 2), \"\")","v":""},{"$f":"IFERROR(INDEX(gymnasts, SMALL(IF(VALUE(LEFT(AV$39, 1))=AApos, ROW(AApos)-MIN(ROW(AApos))+1, \"\"), ROW()-39)), \"\")","v":""},{"$f":"IFERROR( INDEX(entries, MATCH(AV40, gymnasts, 0), 2), \"\")","v":""},{"$f":"IFERROR(INDEX(gymnasts, SMALL(IF(VALUE(LEFT(AX$39, 1))=AApos, ROW(AApos)-MIN(ROW(AApos))+1, \"\"), ROW()-39)), \"\")","v":""},{"$f":"IFERROR( INDEX(entries, MATCH(AX40, gymnasts, 0), 2), \"\")","v":""},{"$f":"IFERROR(INDEX(gymnasts, SMALL(IF(VALUE(LEFT(AZ$39, 1))=AApos, ROW(AApos)-MIN(ROW(AApos))+1, \"\"), ROW()-39)), \"\")","v":"Ella Hodgson"},{"$f":"IFERROR( INDEX(entries, MATCH(AZ40, gymnasts, 0), 2), \"\")","v":"Darlington"},{"$f":"IFERROR(INDEX(gymnasts, SMALL(IF(VALUE(LEFT(BB$39, 1))=AApos, ROW(AApos)-MIN(ROW(AApos))+1, \"\"), ROW()-39)), \"\")","v":"Myrah Hunter"},{"$f":"IFERROR( INDEX(entries, MATCH(BB40, gymnasts, 0), 2), \"\")","v":"Darlington"}]
[{"$nulls":3},{"v":0,"d":"0.0"},{"v":0,"d":"0.00"},{"v":0,"d":"0.0"},{"v":0,"d":"0.00"},{"v":0,"d":"0.00"},2,38,0,2,{"v":0,"d":"0.0"},{"v":0,"d":"0.00"},2,38,0,2,{"v":0,"d":"0.0"},{"v":0,"d":"0.00"},2,38,0,2,{"v":0,"d":"0.0"},{"v":0,"d":"0.00"},2,38,0,2,{"v":0,"d":"0.0"},{"v":0,"d":"0.00"},2,38,0,2,{"v":0,"d":"0.00"},2,38,0,2,null,null,"",{"$f":"IFERROR( INDEX(entries, MATCH(AR41, gymnasts, 0), 2), \"\")","v":""},"",{"$f":"IFERROR( INDEX(entries, MATCH(AT41, gymnasts, 0), 2), \"\")","v":""},"",{"$f":"IFERROR( INDEX(entries, MATCH(AV41, gymnasts, 0), 2), \"\")","v":""},"",{"$f":"IFERROR( INDEX(entries, MATCH(AX41, gymnasts, 0), 2), \"\")","v":""},0,{"$f":"IFERROR( INDEX(entries, MATCH(AZ41, gymnasts, 0), 2), \"\")","v":""},"",""]
[{"$nulls":3},{"v":0,"d":"0.0"},{"v":0,"d":"0.00"},{"v":0,"d":"0.0"},{"v":0,"d":"0.00"},{"v":0,"d":"0.00"},2,39,0,2,{"v":0,"d":"0.0"},{"v":0,"d":"0.00"},2,39,0,2,{"v":0,"d":"0.0"},{"v":0,"d":"0.00"},2,39,0,2,{"v":0,"d":"0.0"},{"v":0,"d":"0.00"},2,39,0,2,{"v":0,"d":"0.0"},{"v":0,"d":"0.00"},2,39,0,2,{"v":0,"d":"0.00"},2,39,0,2,null,null,"","","","","","","","",0,"","",""]
[{"$nulls":3},{"v":0,"d":"0.0"},{"v":0,"d":"0.00"},{"v":0,"d":"0.0"},{"v":0,"d":"0.00"},{"v":0,"d":"0.00"},2,40,0,2,{"v":0,"d":"0.0"},{"v":0,"d":"0.00"},2,40,0,2,{"v":0,"d":"0.0"},{"v":0,"d":"0.00"},2,40,0,2,{"v":0,"d":"0.0"},{"v":0,"d":"0.00"},2,40,0,2,{"v":0,"d":"0.0"},{"v":0,"d":"0.00"},2,40,0,2,{"v":0,"d":"0.00"},2,40,0,2,null,null,"","","","","","","","",0,"","",""]
[{"$nulls":3},{"v":0,"d":"0.0"},{"v":0,"d":"0.00"},{"v":0,"d":"0.0"},{"v":0,"d":"0.00"},{"v":0,"d":"0.00"},2,41,0,2,{"v":0,"d":"0.0"},{"v":0,"d":"0.00"},2,41,0,2,{"v":0,"d":"0.0"},{"v":0,"d":"0.00"},2,41,0,2,{"v":0,"d":"0.0"},{"v":0,"d":"0.00"},2,41,0,2,{"v":0,"d":"0.0"},{"v":0,"d":"0.00"},2,41,0,2,{"v":0,"d":"0.00"},2,41,0,2,null,null,"","","","","","","","",0,"","",""]
[{"$nulls":3},{"v":0,"d":"0.0"},{"v":0,"d":"0.00"},{"v":0,"d":"0.0"},{"v":0,"d":"0.00"},{"v":0,"d":"0.00"},2,42,0,2,{"v":0,"d":"0.0"},{"v":0,"d":"0.00"},2,42,0,2,{"v":0,"d":"0.0"},{"v":0,"d":"0.00"},2,42,0,2,{"v":0,"d":"0.0"},{"v":0,"d":"0.00"},2,42,0,2,{"v":0,"d":"0.0"},{"v":0,"d":"0.00"},2,42,0,2,{"v":0,"d":"0.00"},2,42,0,2,null,null,"","","","","","","","",0,"","",""]
[{"$nulls":3},{"v":0,"d":"0.0"},{"v":0,"d":"0.00"},{"v":0,"d":"0.0"},{"v":0,"d":"0.00"},{"v":0,"d":"0.00"},2,43,0,2,{"v":0,"d":"0.0"},{"v":0,"d":"0.00"},2,43,0,2,{"v":0,"d":"0.0"},{"v":0,"d":"0.00"},2,43,0,2,{"v":0,"d":"0.0"},{"v":0,"d":"0.00"},2,43,0,2,{"v":0,"d":"0.0"},{"v":0,"d":"0.00"},2,43,0,2,{"v":0,"d":"0.00"},2,43,0,2,null,"Team","3rd place Team",{"$f":"IF(COUNTIF(AR47, 0), \"\", INDEX(teamTotals, MATCH(AR47, teams, 0)))","v":{"$error":"#N/A"}},null,null,"2nd Place Team",{"$f":"IF(COUNTIF(AV47, 0), \"\", INDEX(teamTotals, MATCH(AV47, teams, 0)))","v":{"$error":"#N/A"}},null,null,"1st Place Team",{"$f":"IF(COUNTIF(AZ47, 0), \"\", INDEX(teamTotals, MATCH(AZ47, teams, 0)))","v":{"$error":"#N/A"}}]
[{"$nulls":3},{"v":0,"d":"0.0"},{"v":0,"d":"0.00"},{"v":0,"d":"0.0"},{"v":0,"d":"0.00"},{"v":0,"d":"0.00"},2,44,0,2,{"v":0,"d":"0.0"},{"v":0,"d":"0.00"},2,44,0,2,{"v":0,"d":"0.0"},{"v":0,"d":"0.00"},2,44,0,2,{"v":0,"d":"0.0"},{"v":0,"d":"0.00"},2,44,0,2,{"v":0,"d":"0.0"},{"v":0,"d":"0.00"},2,44,0,2,{"v":0,"d":"0.00"},2,44,0,2,null,null,{"$f":"IFERROR(INDEX(teams, SMALL(IF(VALUE(LEFT(AR$46, 1))=teamPos, ROW(teamPos)-MIN(ROW(teamPos))+1, \"\"), ROW()-46)), \"\")","v":""},{"$f":"IFERROR(IF(COUNTIF(AR47, 0), \"\", INDEX(gymnasts, SMALL(IF(AR$47=club, ROW(club)-MIN(ROW(club))+1, \"\"), ROW()-46))), \"\")","v":0},null,null,{"$f":"IFERROR(INDEX(teams, SMALL(IF(VALUE(LEFT(AV$46, 1))=teamPos, ROW(teamPos)-MIN(ROW(teamPos))+1, \"\"), ROW()-46)), \"\")","v":""},{"$f":"IFERROR(IF(COUNTIF(AV47, 0), \"\", INDEX(gymnasts, SMALL(IF(AV$47=club, ROW(club)-MIN(ROW(club))+1, \"\"), ROW()-46))), \"\")","v":0},null,null,{"$f":"IFERROR(INDEX(teams, SMALL(IF(VALUE(LEFT(AZ$46, 1))=teamPos, ROW(teamPos)-MIN(ROW(teamPos))+1, \"\"), ROW()-46)), \"\")","v":""},{"$f":"IFERROR(IF(COUNTIF(AZ47, 0), \"\", INDEX(gymnasts, SMALL(IF(AZ$47=club, ROW(club)-MIN(ROW(club))+1, \"\"), ROW()-46))), \"\")","v":0}]
[{"$nulls":3},{"v":0,"d":"0.0"},{"v":0,"d":"0.00"},{"v":0,"d":"0.0"},{"v":0,"d":"0.00"},{"v":0,"d":"0.00"},2,45,0,2,{"v":0,"d":"0.0"},{"v":0,"d":"0.00"},2,45,0,2,{"v":0,"d":"0.0"},{"v":0,"d":"0.00"},2,45,0,2,{"v":0,"d":"0.0"},{"v":0,"d":"0.00"},2,45,0,2,{"v":0,"d":"0.0"},{"v":0,"d":"0.00"},2,45,0,2,{"v":0,"d":"0.00"},2,45,0,2,{"$nulls":3},{"$f":"IFERROR(IF(COUNTIF(AR48, 0), \"\", INDEX(gymnasts, SMALL(IF(AR$47=club, ROW(club)-MIN(ROW(club))+1, \"\"), ROW()-46))), \"\")","v":0},{"$nulls":3},{"$f":"IFERROR(IF(COUNTIF(AV48, 0), \"\", INDEX(gymnasts, SMALL(IF(AV$47=club, ROW(club)-MIN(ROW(club))+1, \"\"), ROW()-46))), \"\")","v":0},{"$nulls":3},{"$f":"IFERROR(IF(COUNTIF(AZ48, 0), \"\", INDEX(gymnasts, SMALL(IF(AZ$47=club, ROW(club)-MIN(ROW(club))+1, \"\"), ROW()-46))), \"\")","v":0}]
[{"$nulls":3},{"v":0,"d":"0.0"},{"v":0,"d":"0.00"},{"v":0,"d":"0.0"},{"v":0,"d":"0.00"},{"v":0,"d":"0.00"},2,46,0,2,{"v":0,"d":"0.0"},{"v":0,"d":"0.00"},2,46,0,2,{"v":0,"d":"0.0"},{"v":0,"d":"0.00"},2,46,0,2,{"v":0,"d":"0.0"},{"v":0,"d":"0.00"},2,46,0,2,{"v":0,"d":"0.0"},{"v":0,"d":"0.00"},2,46,0,2,{"v":0,"d":"0.00"},2,46,0,2,{"$nulls":3},{"$f":"IFERROR(IF(COUNTIF(AR49, 0), \"\", INDEX(gymnasts, SMALL(IF(AR$47=club, ROW(club)-MIN(ROW(club))+1, \"\"), ROW()-46))), \"\")","v":0},{"$nulls":3},{"$f":"IFERROR(IF(COUNTIF(AV49, 0), \"\", INDEX(gymnasts, SMALL(IF(AV$47=club, ROW(club)-MIN(ROW(club))+1, \"\"), ROW()-46))), \"\")","v":0},{"$nulls":3},{"$f":"IFERROR(IF(COUNTIF(AZ49, 0), \"\", INDEX(gymnasts, SMALL(IF(AZ$47=club, ROW(club)-MIN(ROW(club))+1, \"\"), ROW()-46))), \"\")","v":0}]
[{"$nulls":3},{"v":0,"d":"0.0"},{"v":0,"d":"0.00"},{"v":0,"d":"0.0"},{"v":0,"d":"0.00"},{"v":0,"d":"0.00"},2,47,0,2,{"v":0,"d":"0.0"},{"v":0,"d":"0.00"},2,47,0,2,{"v":0,"d":"0.0"},{"v":0,"d":"0.00"},2,47,0,2,{"v":0,"d":"0.0"},{"v":0,"d":"0.00"},2,47,0,2,{"v":0,"d":"0.0"},{"v":0,"d":"0.00"},2,47,0,2,{"v":0,"d":"0.00"},2,47,0,2,{"$nulls":3},{"$f":"IFERROR(IF(COUNTIF(AR50, 0), \"\", INDEX(gymnasts, SMALL(IF(AR$47=club, ROW(club)-MIN(ROW(club))+1, \"\"), ROW()-46))), \"\")","v":0},{"$nulls":3},{"$f":"IFERROR(IF(COUNTIF(AV50, 0), \"\", INDEX(gymnasts, SMALL(IF(AV$47=club, ROW(club)-MIN(ROW(club))+1, \"\"), ROW()-46))), \"\")","v":0},{"$nulls":3},{"$f":"IFERROR(IF(COUNTIF(AZ50, 0), \"\", INDEX(gymnasts, SMALL(IF(AZ$47=club, ROW(club)-MIN(ROW(club))+1, \"\"), ROW()-46))), \"\")","v":0}]
[{"$nulls":3},{"v":0,"d":"0.0"},{"v":0,"d":"0.00"},{"v":0,"d":"0.0"},{"v":0,"d":"0.00"},{"v":0,"d":"0.00"},2,48,0,2,{"v":0,"d":"0.0"},{"v":0,"d":"0.00"},2,48,0,2,{"v":0,"d":"0.0"},{"v":0,"d":"0.00"},2,48,0,2,{"v":0,"d":"0.0"},{"v":0,"d":"0.00"},2,48,0,2,{"v":0,"d":"0.0"},{"v":0,"d":"0.00"},2,48,0,2,{"v":0,"d":"0.00"},2,48,0,2,{"$nulls":3},{"$f":"IFERROR(IF(COUNTIF(AR51, 0), \"\", INDEX(gymnasts, SMALL(IF(AR$47=club, ROW(club)-MIN(ROW(club))+1, \"\"), ROW()-46))), \"\")","v":0},{"$nulls":3},{"$f":"IFERROR(IF(COUNTIF(AV51, 0), \"\", INDEX(gymnasts, SMALL(IF(AV$47=club, ROW(club)-MIN(ROW(club))+1, \"\"), ROW()-46))), \"\")","v":0},{"$nulls":3},{"$f":"IFERROR(IF(COUNTIF(AZ51, 0), \"\", INDEX(gymnasts, SMALL(IF(AZ$47=club, ROW(club)-MIN(ROW(club))+1, \"\"), ROW()-46))), \"\")","v":0}]
[{"$nulls":3},{"v":0,"d":"0.0"},{"v":0,"d":"0.00"},{"v":0,"d":"0.0"},{"v":0,"d":"0.00"},{"v":0,"d":"0.00"},2,49,0,2,{"v":0,"d":"0.0"},{"v":0,"d":"0.00"},2,49,0,2,{"v":0,"d":"0.0"},{"v":0,"d":"0.00"},2,49,0,2,{"v":0,"d":"0.0"},{"v":0,"d":"0.00"},2,49,0,2,{"v":0,"d":"0.0"},{"v":0,"d":"0.00"},2,49,0,2,{"v":0,"d":"0.00"},2,49,0,2,null,null,{"$f":"IFERROR(INDEX(teams, SMALL(IF(VALUE(LEFT(AR$46, 1))=teamPos, ROW(teamPos)-MIN(ROW(teamPos))+1, \"\"), ROW()-50)), \"\")","v":""},{"$f":"IFERROR(IF(COUNTIF(AR$52, 0), \"\", INDEX(gymnasts, SMALL(IF(AR$52=club, ROW(club)-MIN(ROW(club))+1, \"\"), ROW()-51))), \"\")","v":0},null,null,{"$f":"IFERROR(INDEX(teams, SMALL(IF(VALUE(LEFT(AV$46, 1))=teamPos, ROW(teamPos)-MIN(ROW(teamPos))+1, \"\"), ROW()-50)), \"\")","v":""},{"$f":"IFERROR(IF(COUNTIF(AV$52, 0), \"\", INDEX(gymnasts, SMALL(IF(AV$52=club, ROW(club)-MIN(ROW(club))+1, \"\"), ROW()-51))), \"\")","v":0},null,null,{"$f":"IFERROR(INDEX(teams, SMALL(IF(VALUE(LEFT(AZ$46, 1))=teamPos, ROW(teamPos)-MIN(ROW(teamPos))+1, \"\"), ROW()-50)), \"\")","v":""},{"$f":"IFERROR(IF(COUNTIF(AZ$52, 0), \"\", INDEX(gymnasts, SMALL(IF(AZ$52=club, ROW(club)-MIN(ROW(club))+1, \"\"), ROW()-51))), \"\")","v":0}]
[{"$nulls":3},{"v":0,"d":"0.0"},{"v":0,"d":"0.00"},{"v":0,"d":"0.0"},{"v":0,"d":"0.00"},{"v":0,"d":"0.00"},2,50,0,2,{"v":0,"d":"0.0"},{"v":0,"d":"0.00"},2,50,0,2,{"v":0,"d":"0.0"},{"v":0,"d":"0.00"},2,50,0,2,{"v":0,"d":"0.0"},{"v":0,"d":"0.00"},2,50,0,2,{"v":0,"d":"0.0"},{"v":0,"d":"0.00"},2,50,0,2,{"v":0,"d":"0.00"},2,50,0,2,{"$nulls":3},{"$f":"IFERROR(IF(COUNTIF(AR$52, 0), \"\", INDEX(gymnasts, SMALL(IF(AR$52=club, ROW(club)-MIN(ROW(club))+1, \"\"), ROW()-51))), \"\")","v":0},{"$nulls":3},{"$f":"IFERROR(IF(COUNTIF(AV$52, 0), \"\", INDEX(gymnasts, SMALL(IF(AV$52=club, ROW(club)-MIN(ROW(club))+1, \"\"), ROW()-51))), \"\")","v":0},{"$nulls":3},{"$f":"IFERROR(IF(COUNTIF(AZ$52, 0), \"\", INDEX(gymnasts, SMALL(IF(AZ$52=club, ROW(club)-MIN(ROW(club))+1, \"\"), ROW()-51))), \"\")","v":0}]
[{"$nulls":3},{"v":0,"d":"0.0"},{"v":0,"d":"0.00"},{"v":0,"d":"0.0"},{"v":0,"d":"0.00"},{"v":0,"d":"0.00"},2,51,0,2,{"v":0,"d":"0.0"},{"v":0,"d":"0.00"},2,51,0,2,{"v":0,"d":"0.0"},{"v":0,"d":"0.00"},2,51,0,2,{"v":0,"d":"0.0"},{"v":0,"d":"0.00"},2,51,0,2,{"v":0,"d":"0.0"},{"v":0,"d":"0.00"},2,51,0,2,{"v":0,"d":"0.00"},2,51,0,2,{"$nulls":3},{"$f":"IFERROR(IF(COUNTIF(AR$52, 0), \"\", INDEX(gymnasts, SMALL(IF(AR$52=club, ROW(club)-MIN(ROW(club))+1, \"\"), ROW()-51))), \"\")","v":0},{"$nulls":3},{"$f":"IFERROR(IF(COUNTIF(AV$52, 0), \"\", INDEX(gymnasts, SMALL(IF(AV$52=club, ROW(club)-MIN(ROW(club))+1, \"\"), ROW()-51))), \"\")","v":0},{"$nulls":3},{"$f":"IFERROR(IF(COUNTIF(AZ$52, 0), \"\", INDEX(gymnasts, SMALL(IF(AZ$52=club, ROW(club)-MIN(ROW(club))+1, \"\"), ROW()-51))), \"\")","v":0}]
[{"$nulls":3},{"v":0,"d":"0.0"},{"v":0,"d":"0.00"},{"v":0,"d":"0.0"},{"v":0,"d":"0.00"},{"v":0,"d":"0.00"},2,52,0,2,{"v":0,"d":"0.0"},{"v":0,"d":"0.00"},2,52,0,2,{"v":0,"d":"0.0"},{"v":0,"d":"0.00"},2,52,0,2,{"v":0,"d":"0.0"},{"v":0,"d":"0.00"},2,52,0,2,{"v":0,"d":"0.0"},{"v":0,"d":"0.00"},2,52,0,2,{"v":0,"d":"0.00"},2,52,0,2,{"$nulls":3},{"$f":"IFERROR(IF(COUNTIF(AR$52, 0), \"\", INDEX(gymnasts, SMALL(IF(AR$52=club, ROW(club)-MIN(ROW(club))+1, \"\"), ROW()-51))), \"\")","v":0},{"$nulls":3},{"$f":"IFERROR(IF(COUNTIF(AV$52, 0), \"\", INDEX(gymnasts, SMALL(IF(AV$52=club, ROW(club)-MIN(ROW(club))+1, \"\"), ROW()-51))), \"\")","v":0},{"$nulls":3},{"$f":"IFERROR(IF(COUNTIF(AZ$52, 0), \"\", INDEX(gymnasts, SMALL(IF(AZ$52=club, ROW(club)-MIN(ROW(club))+1, \"\"), ROW()-51))), \"\")","v":0}]
[{"$nulls":3},{"v":0,"d":"0.0"},{"v":0,"d":"0.00"},{"v":0,"d":"0.0"},{"v":0,"d":"0.00"},{"v":0,"d":"0.00"},2,53,0,2,{"v":0,"d":"0.0"},{"v":0,"d":"0.00"},2,53,0,2,{"v":0,"d":"0.0"},{"v":0,"d":"0.00"},2,53,0,2,{"v":0,"d":"0.0"},{"v":0,"d":"0.00"},2,53,0,2,{"v":0,"d":"0.0"},{"v":0,"d":"0.00"},2,53,0,2,{"v":0,"d":"0.00"},2,53,0,2,{"$nulls":3},{"$f":"IFERROR(IF(ISTEXT(AR$52), INDEX(gymnasts, SMALL(IF(AR$52=club, ROW(club)-MIN(ROW(club))+1, \"\"), ROW()-51)), \"\"), \"\")","v":0},{"$nulls":3},{"$f":"IFERROR(IF(ISTEXT(AV$52), INDEX(gymnasts, SMALL(IF(AV$52=club, ROW(club)-MIN(ROW(club))+1, \"\"), ROW()-51)), \"\"), \"\")","v":0},{"$nulls":3},{"$f":"IFERROR(IF(ISTEXT(AZ$52), INDEX(gymnasts, SMALL(IF(AZ$52=club, ROW(club)-MIN(ROW(club))+1, \"\"), ROW()-51)), \"\"), \"\")","v":0}]
[{"$nulls":3},{"v":0,"d":"0.0"},{"v":0,"d":"0.00"},{"v":0,"d":"0.0"},{"v":0,"d":"0.00"},{"v":0,"d":"0.00"},2,54,0,2,{"v":0,"d":"0.0"},{"v":0,"d":"0.00"},2,54,0,2,{"v":0,"d":"0.0"},{"v":0,"d":"0.00"},2,54,0,2,{"v":0,"d":"0.0"},{"v":0,"d":"0.00"},2,54,0,2,{"v":0,"d":"0.0"},{"v":0,"d":"0.00"},2,54,0,2,{"v":0,"d":"0.00"},2,54,0,2]
[{"$nulls":3},{"v":0,"d":"0.0"},{"v":0,"d":"0.00"},{"v":0,"d":"0.0"},{"v":0,"d":"0.00"},{"v":0,"d":"0.00"},2,55,0,2,{"v":0,"d":"0.0"},{"v":0,"d":"0.00"},2,55,0,2,{"v":0,"d":"0.0"},{"v":0,"d":"0.00"},2,55,0,2,{"v":0,"d":"0.0"},{"v":0,"d":"0.00"},2,55,0,2,{"v":0,"d":"0.0"},{"v":0,"d":"0.00"},2,55,0,2,{"v":0,"d":"0.00"},2,55,0,2]
[{"$nulls":3},{"v":0,"d":"0.0"},{"v":0,"d":"0.00"},{"v":0,"d":"0.0"},{"v":0,"d":"0.00"},{"v":0,"d":"0.00"},2,56,0,2,{"v":0,"d":"0.0"},{"v":0,"d":"0.00"},2,56,0,2,{"v":0,"d":"0.0"},{"v":0,"d":"0.00"},2,56,0,2,{"v":0,"d":"0.0"},{"v":0,"d":"0.00"},2,56,0,2,{"v":0,"d":"0.0"},{"v":0,"d":"0.00"},2,56,0,2,{"v":0,"d":"0.00"},2,56,0,2]
[{"$nulls":3},{"v":0,"d":"0.0"},{"v":0,"d":"0.00"},{"v":0,"d":"0.0"},{"v":0,"d":"0.00"},{"v":0,"d":"0.00"},2,57,0,2,{"v":0,"d":"0.0"},{"v":0,"d":"0.00"},2,57,0,2,{"v":0,"d":"0.0"},{"v":0,"d":"0.00"},2,57,0,2,{"v":0,"d":"0.0"},{"v":0,"d":"0.00"},2,57,0,2,{"v":0,"d":"0.0"},{"v":0,"d":"0.00"},2,57,0,2,{"v":0,"d":"0.00"},2,57,0,2]
[{"$nulls":3},{"v":0,"d":"0.0"},{"v":0,"d":"0.00"},{"v":0,"d":"0.0"},{"v":0,"d":"0.00"},{"v":0,"d":"0.00"},2,58,0,2,{"v":0,"d":"0.0"},{"v":0,"d":"0.00"},2,58,0,2,{"v":0,"d":"0.0"},{"v":0,"d":"0.00"},2,58,0,2,{"v":0,"d":"0.0"},{"v":0,"d":"0.00"},2,58,0,2,{"v":0,"d":"0.0"},{"v":0,"d":"0.00"},2,58,0,2,{"v":0,"d":"0.00"},2,58,0,2]
[{"$nulls":3},{"v":0,"d":"0.0"},{"v":0,"d":"0.00"},{"v":0,"d":"0.0"},{"v":0,"d":"0.00"},{"v":0,"d":"0.00"},2,59,0,2,{"v":0,"d":"0.0"},{"v":0,"d":"0.00"},2,59,0,2,{"v":0,"d":"0.0"},{"v":0,"d":"0.00"},2,59,0,2,{"v":0,"d":"0.0"},{"v":0,"d":"0.00"},2,59,0,2,{"v":0,"d":"0.0"},{"v":0,"d":"0.00"},2,59,0,2,{"v":0,"d":"0.00"},2,59,0,2]
[{"$nulls":3},{"v":0,"d":"0.0"},{"v":0,"d":"0.00"},{"v":0,"d":"0.0"},{"v":0,"d":"0.00"},{"v":0,"d":"0.00"},2,60,0,2,{"v":0,"d":"0.0"},{"v":0,"d":"0.00"},2,60,0,2,{"v":0,"d":"0.0"},{"v":0,"d":"0.00"},2,60,0,2,{"v":0,"d":"0.0"},{"v":0,"d":"0.00"},2,60,0,2,{"v":0,"d":"0.0"},{"v":0,"d":"0.00"},2,60,0,2,{"v":0,"d":"0.00"},2,60,0,2]
[{"$nulls":3},{"v":0,"d":"0.0"},{"v":0,"d":"0.00"},{"v":0,"d":"0.0"},{"v":0,"d":"0.00"},{"v":0,"d":"0.00"},2,61,0,2,{"v":0,"d":"0.0"},{"v":0,"d":"0.00"},2,61,0,2,{"v":0,"d":"0.0"},{"v":0,"d":"0.00"},2,61,0,2,{"v":0,"d":"0.0"},{"v":0,"d":"0.00"},2,61,0,2,{"v":0,"d":"0.0"},{"v":0,"d":"0.00"},2,61,0,2,{"v":0,"d":"0.00"},2,61,0,2]
[{"$nulls":3},{"v":0,"d":"0.0"},{"v":0,"d":"0.00"},{"v":0,"d":"0.0"},{"v":0,"d":"0.00"},{"v":0,"d":"0.00"},2,62,0,2,{"v":0,"d":"0.0"},{"v":0,"d":"0.00"},2,62,0,2,{"v":0,"d":"0.0"},{"v":0,"d":"0.00"},2,62,0,2,{"v":0,"d":"0.0"},{"v":0,"d":"0.00"},2,62,0,2,{"v":0,"d":"0.0"},{"v":0,"d":"0.00"},2,62,0,2,{"v":0,"d":"0.00"},2,62,0,2]
[null,"Teams"]
[null,{"$f":"IF(AND(COUNTIF(club,C67)>=3,COUNTIF(club,C67)<=5),\"TEAM\",IF(COUNTIF(club,C67)>5,\"Too Many!!!!!\",\"NO TEAM\"))","v":"NO TEAM"},{"$nulls":5},{"$f":"IF($B67=\"NO TEAM\", 0, SUM(LARGE(IF(club=$C67, vault), ROW($1:$3))))","v":{"v":0,"d":"0.00"}},{"$nulls":5},{"$f":"IF($B67=\"NO TEAM\", 0, SUM(LARGE(IF(club=$C67, bars), ROW($1:$3))))","v":{"v":0,"d":"0.00"}},{"$nulls":5},{"$f":"IF($B67=\"NO TEAM\", 0, SUM(LARGE(IF(club=$C67, beam), ROW($1:$3))))","v":{"v":0,"d":"0.00"}},{"$nulls":5},{"$f":"IF($B67=\"NO TEAM\", 0, SUM(LARGE(IF(club=$C67, floor), ROW($1:$3))))","v":{"v":0,"d":"0.00"}},{"$nulls":5},{"$f":"IF($B67=\"NO TEAM\", 0, SUM(LARGE(IF(club=$C67, range), ROW($1:$3))))","v":{"v":0,"d":"0.00"}},{"$nulls":4},{"$f":"IF(B67=\"TEAM\", SUMIF(D$2:AJ$2, \"SCORE\", D67:AJ67), 0)","v":{"v":0,"d":"0.00"}},{"$f":"VLOOKUP(AK67,AN$67:AO$81, 2,FALSE)","v":0},{"$f":"IF(ISNUMBER(AM66), AM66+1, 1)","v":1},{"$f":"LARGE((AK$67:AK$81), $AM67)","v":0},{"$f":"IF(AN67=AN66, AO66, AO66+1)","v":0}]
[null,{"$f":"IF(AND(COUNTIF(club,C68)>=3,COUNTIF(club,C68)<=5),\"TEAM\",IF(COUNTIF(club,C68)>5,\"Too Many!!!!!\",\"NO TEAM\"))","v":"NO TEAM"},{"$nulls":5},{"$f":"IF($B68=\"NO TEAM\", 0, SUM(LARGE(IF(club=$C68, vault), ROW($1:$3))))","v":{"v":0,"d":"0.00"}},{"$nulls":5},{"$f":"IF($B68=\"NO TEAM\", 0, SUM(LARGE(IF(club=$C68, bars), ROW($1:$3))))","v":{"v":0,"d":"0.00"}},{"$nulls":5},{"$f":"IF($B68=\"NO TEAM\", 0, SUM(LARGE(IF(club=$C68, beam), ROW($1:$3))))","v":{"v":0,"d":"0.00"}},{"$nulls":5},{"$f":"IF($B68=\"NO TEAM\", 0, SUM(LARGE(IF(club=$C68, floor), ROW($1:$3))))","v":{"v":0,"d":"0.00"}},{"$nulls":5},{"$f":"IF($B68=\"NO TEAM\", 0, SUM(LARGE(IF(club=$C68, range), ROW($1:$3))))","v":{"v":0,"d":"0.00"}},{"$nulls":4},{"v":0,"d":"0.00"},{"$f":"VLOOKUP(AK68,AN$67:AO$81, 2,FALSE)","v":0},{"$f":"IF(ISNUMBER(AM67), AM67+1, 1)","v":2},{"$f":"LARGE((AK$67:AK$81), $AM68)","v":0},{"$f":"IF(AN68=AN67, AO67, AO67+1)","v":0}]
[null,{"$f":"IF(AND(COUNTIF(club,C69)>=3,COUNTIF(club,C69)<=5),\"TEAM\",IF(COUNTIF(club,C69)>5,\"Too Many!!!!!\",\"NO TEAM\"))","v":"NO TEAM"},{"$nulls":5},{"$f":"IF($B69=\"NO TEAM\", 0, SUM(LARGE(IF(club=$C69, vault), ROW($1:$3))))","v":{"v":0,"d":"0.00"}},{"$nulls":5},{"$f":"IF($B69=\"NO TEAM\", 0, SUM(LARGE(IF(club=$C69, bars), ROW($1:$3))))","v":{"v":0,"d":"0.00"}},{"$nulls":5},{"$f":"IF($B69=\"NO TEAM\", 0, SUM(LARGE(IF(club=$C69, beam), ROW($1:$3))))","v":{"v":0,"d":"0.00"}},{"$nulls":5},{"$f":"IF($B69=\"NO TEAM\", 0, SUM(LARGE(IF(club=$C69, floor), ROW($1:$3))))","v":{"v":0,"d":"0.00"}},{"$nulls":5},{"$f":"IF($B69=\"NO TEAM\", 0, SUM(LARGE(IF(club=$C69, range), ROW($1:$3))))","v":{"v":0,"d":"0.00"}},{"$nulls":4},{"v":0,"d":"0.00"},0,3,0,0]
[null,{"$f":"IF(AND(COUNTIF(club,C70)>=3,COUNTIF(club,C70)<=5),\"TEAM\",IF(COUNTIF(club,C70)>5,\"Too Many!!!!!\",\"NO TEAM\"))","v":"NO TEAM"},{"$nulls":5},{"$f":"IF($B70=\"NO TEAM\", 0, SUM(LARGE(IF(club=$C70, vault), ROW($1:$3))))","v":{"v":0,"d":"0.00"}},{"$nulls":5},{"$f":"IF($B70=\"NO TEAM\", 0, SUM(LARGE(IF(club=$C70, bars), ROW($1:$3))))","v":{"v":0,"d":"0.00"}},{"$nulls":5},{"$f":"IF($B70=\"NO TEAM\", 0, SUM(LARGE(IF(club=$C70, beam), ROW($1:$3))))","v":{"v":0,"d":"0.00"}},{"$nulls":5},{"$f":"IF($B70=\"NO TEAM\", 0, SUM(LARGE(IF(club=$C70, floor), ROW($1:$3))))","v":{"v":0,"d":"0.00"}},{"$nulls":5},{"$f":"IF($B70=\"NO TEAM\", 0, SUM(LARGE(IF(club=$C70, range), ROW($1:$3))))","v":{"v":0,"d":"0.00"}},{"$nulls":4},{"v":0,"d":"0.00"},0,4,0,0]
[null,{"$f":"IF(AND(COUNTIF(club,C71)>=3,COUNTIF(club,C71)<=5),\"TEAM\",IF(COUNTIF(club,C71)>5,\"Too Many!!!!!\",\"NO TEAM\"))","v":"NO TEAM"},{"$nulls":5},{"$f":"IF($B71=\"NO TEAM\", 0, SUM(LARGE(IF(club=$C71, vault), ROW($1:$3))))","v":{"v":0,"d":"0.00"}},{"$nulls":5},{"$f":"IF($B71=\"NO TEAM\", 0, SUM(LARGE(IF(club=$C71, bars), ROW($1:$3))))","v":{"v":0,"d":"0.00"}},{"$nulls":5},{"$f":"IF($B71=\"NO TEAM\", 0, SUM(LARGE(IF(club=$C71, beam), ROW($1:$3))))","v":{"v":0,"d":"0.00"}},{"$nulls":5},{"$f":"IF($B71=\"NO TEAM\", 0, SUM(LARGE(IF(club=$C71, floor), ROW($1:$3))))","v":{"v":0,"d":"0.00"}},{"$nulls":5},{"$f":"IF($B71=\"NO TEAM\", 0, SUM(LARGE(IF(club=$C71, range), ROW($1:$3))))","v":{"v":0,"d":"0.00"}},{"$nulls":4},{"v":0,"d":"0.00"},0,5,0,0]
[null,{"$f":"IF(AND(COUNTIF(club,C72)>=3,COUNTIF(club,C72)<=5),\"TEAM\",IF(COUNTIF(club,C72)>5,\"Too Many!!!!!\",\"NO TEAM\"))","v":"NO TEAM"},{"$nulls":5},{"$f":"IF($B72=\"NO TEAM\", 0, SUM(LARGE(IF(club=$C72, vault), ROW($1:$3))))","v":{"v":0,"d":"0.00"}},{"$nulls":5},{"$f":"IF($B72=\"NO TEAM\", 0, SUM(LARGE(IF(club=$C72, bars), ROW($1:$3))))","v":{"v":0,"d":"0.00"}},{"$nulls":5},{"$f":"IF($B72=\"NO TEAM\", 0, SUM(LARGE(IF(club=$C72, beam), ROW($1:$3))))","v":{"v":0,"d":"0.00"}},{"$nulls":5},{"$f":"IF($B72=\"NO TEAM\", 0, SUM(LARGE(IF(club=$C72, floor), ROW($1:$3))))","v":{"v":0,"d":"0.00"}},{"$nulls":5},{"$f":"IF($B72=\"NO TEAM\", 0, SUM(LARGE(IF(club=$C72, range), ROW($1:$3))))","v":{"v":0,"d":"0.00"}},{"$nulls":4},{"v":0,"d":"0.00"},0,6,0,0]
[null,{"$f":"IF(AND(COUNTIF(club,C73)>=3,COUNTIF(club,C73)<=5),\"TEAM\",IF(COUNTIF(club,C73)>5,\"Too Many!!!!!\",\"NO TEAM\"))","v":"NO TEAM"},{"$nulls":5},{"$f":"IF($B73=\"NO TEAM\", 0, SUM(LARGE(IF(club=$C73, vault), ROW($1:$3))))","v":{"v":0,"d":"0.00"}},{"$nulls":5},{"$f":"IF($B73=\"NO TEAM\", 0, SUM(LARGE(IF(club=$C73, bars), ROW($1:$3))))","v":{"v":0,"d":"0.00"}},{"$nulls":5},{"$f":"IF($B73=\"NO TEAM\", 0, SUM(LARGE(IF(club=$C73, beam), ROW($1:$3))))","v":{"v":0,"d":"0.00"}},{"$nulls":5},{"$f":"IF($B73=\"NO TEAM\", 0, SUM(LARGE(IF(club=$C73, floor), ROW($1:$3))))","v":{"v":0,"d":"0.00"}},{"$nulls":5},{"$f":"IF($B73=\"NO TEAM\", 0, SUM(LARGE(IF(club=$C73, range), ROW($1:$3))))","v":{"v":0,"d":"0.00"}},{"$nulls":4},{"v":0,"d":"0.00"},0,7,0,0]
[null,{"$f":"IF(AND(COUNTIF(club,C74)>=3,COUNTIF(club,C74)<=5),\"TEAM\",IF(COUNTIF(club,C74)>5,\"Too Many!!!!!\",\"NO TEAM\"))","v":"NO TEAM"},{"$nulls":5},{"$f":"IF($B74=\"NO TEAM\", 0, SUM(LARGE(IF(club=$C74, vault), ROW($1:$3))))","v":{"v":0,"d":"0.00"}},{"$nulls":5},{"$f":"IF($B74=\"NO TEAM\", 0, SUM(LARGE(IF(club=$C74, bars), ROW($1:$3))))","v":{"v":0,"d":"0.00"}},{"$nulls":5},{"$f":"IF($B74=\"NO TEAM\", 0, SUM(LARGE(IF(club=$C74, beam), ROW($1:$3))))","v":{"v":0,"d":"0.00"}},{"$nulls":5},{"$f":"IF($B74=\"NO TEAM\", 0, SUM(LARGE(IF(club=$C74, floor), ROW($1:$3))))","v":{"v":0,"d":"0.00"}},{"$nulls":5},{"$f":"IF($B74=\"NO TEAM\", 0, SUM(LARGE(IF(club=$C74, range), ROW($1:$3))))","v":{"v":0,"d":"0.00"}},{"$nulls":4},{"v":0,"d":"0.00"},0,8,0,0]
[null,{"$f":"IF(AND(COUNTIF(club,C75)>=3,COUNTIF(club,C75)<=5),\"TEAM\",IF(COUNTIF(club,C75)>5,\"Too Many!!!!!\",\"NO TEAM\"))","v":"NO TEAM"},{"$nulls":5},{"$f":"IF($B75=\"NO TEAM\", 0, SUM(LARGE(IF(club=$C75, vault), ROW($1:$3))))","v":{"v":0,"d":"0.00"}},{"$nulls":5},{"$f":"IF($B75=\"NO TEAM\", 0, SUM(LARGE(IF(club=$C75, bars), ROW($1:$3))))","v":{"v":0,"d":"0.00"}},{"$nulls":5},{"$f":"IF($B75=\"NO TEAM\", 0, SUM(LARGE(IF(club=$C75, beam), ROW($1:$3))))","v":{"v":0,"d":"0.00"}},{"$nulls":5},{"$f":"IF($B75=\"NO TEAM\", 0, SUM(LARGE(IF(club=$C75, floor), ROW($1:$3))))","v":{"v":0,"d":"0.00"}},{"$nulls":5},{"$f":"IF($B75=\"NO TEAM\", 0, SUM(LARGE(IF(club=$C75, range), ROW($1:$3))))","v":{"v":0,"d":"0.00"}},{"$nulls":4},{"v":0,"d":"0.00"},0,9,0,0]
[null,{"$f":"IF(AND(COUNTIF(club,C76)>=3,COUNTIF(club,C76)<=5),\"TEAM\",IF(COUNTIF(club,C76)>5,\"Too Many!!!!!\",\"NO TEAM\"))","v":"NO TEAM"},{"$nulls":5},{"$f":"IF($B76=\"NO TEAM\", 0, SUM(LARGE(IF(club=$C76, vault), ROW($1:$3))))","v":{"v":0,"d":"0.00"}},{"$nulls":5},{"$f":"IF($B76=\"NO TEAM\", 0, SUM(LARGE(IF(club=$C76, bars), ROW($1:$3))))","v":{"v":0,"d":"0.00"}},{"$nulls":5},{"$f":"IF($B76=\"NO TEAM\", 0, SUM(LARGE(IF(club=$C76, beam), ROW($1:$3))))","v":{"v":0,"d":"0.00"}},{"$nulls":5},{"$f":"IF($B76=\"NO TEAM\", 0, SUM(LARGE(IF(club=$C76, floor), ROW($1:$3))))","v":{"v":0,"d":"0.00"}},{"$nulls":5},{"$f":"IF($B76=\"NO TEAM\", 0, SUM(LARGE(IF(club=$C76, range), ROW($1:$3))))","v":{"v":0,"d":"0.00"}},{"$nulls":4},{"v":0,"d":"0.00"},0,10,0,0]
[null,{"$f":"IF(AND(COUNTIF(club,C77)>=3,COUNTIF(club,C77)<=5),\"TEAM\",IF(COUNTIF(club,C77)>5,\"Too Many!!!!!\",\"NO TEAM\"))","v":"NO TEAM"},{"$nulls":5},{"$f":"IF($B77=\"NO TEAM\", 0, SUM(LARGE(IF(club=$C77, vault), ROW($1:$3))))","v":{"v":0,"d":"0.00"}},{"$nulls":5},{"$f":"IF($B77=\"NO TEAM\", 0, SUM(LARGE(IF(club=$C77, bars), ROW($1:$3))))","v":{"v":0,"d":"0.00"}},{"$nulls":5},{"$f":"IF($B77=\"NO TEAM\", 0, SUM(LARGE(IF(club=$C77, beam), ROW($1:$3))))","v":{"v":0,"d":"0.00"}},{"$nulls":5},{"$f":"IF($B77=\"NO TEAM\", 0, SUM(LARGE(IF(club=$C77, floor), ROW($1:$3))))","v":{"v":0,"d":"0.00"}},{"$nulls":5},{"$f":"IF($B77=\"NO TEAM\", 0, SUM(LARGE(IF(club=$C77, range), ROW($1:$3))))","v":{"v":0,"d":"0.00"}},{"$nulls":4},{"v":0,"d":"0.00"},0,11,0,0]
[null,{"$f":"IF(AND(COUNTIF(club,C78)>=3,COUNTIF(club,C78)<=5),\"TEAM\",IF(COUNTIF(club,C78)>5,\"Too Many!!!!!\",\"NO TEAM\"))","v":"NO TEAM"},{"$nulls":5},{"$f":"IF($B78=\"NO TEAM\", 0, SUM(LARGE(IF(club=$C78, vault), ROW($1:$3))))","v":{"v":0,"d":"0.00"}},{"$nulls":5},{"$f":"IF($B78=\"NO TEAM\", 0, SUM(LARGE(IF(club=$C78, bars), ROW($1:$3))))","v":{"v":0,"d":"0.00"}},{"$nulls":5},{"$f":"IF($B78=\"NO TEAM\", 0, SUM(LARGE(IF(club=$C78, beam), ROW($1:$3))))","v":{"v":0,"d":"0.00"}},{"$nulls":5},{"$f":"IF($B78=\"NO TEAM\", 0, SUM(LARGE(IF(club=$C78, floor), ROW($1:$3))))","v":{"v":0,"d":"0.00"}},{"$nulls":5},{"$f":"IF($B78=\"NO TEAM\", 0, SUM(LARGE(IF(club=$C78, range), ROW($1:$3))))","v":{"v":0,"d":"0.00"}},{"$nulls":4},{"v":0,"d":"0.00"},0,12,0,0]
[null,{"$f":"IF(AND(COUNTIF(club,C79)>=3,COUNTIF(club,C79)<=5),\"TEAM\",IF(COUNTIF(club,C79)>5,\"Too Many!!!!!\",\"NO TEAM\"))","v":"NO TEAM"},{"$nulls":5},{"$f":"IF($B79=\"NO TEAM\", 0, SUM(LARGE(IF(club=$C79, vault), ROW($1:$3))))","v":{"v":0,"d":"0.00"}},{"$nulls":5},{"$f":"SUM(LARGE(IF(club=$C79, bars), ROW($1:$3)))","v":{"v":0,"d":"0.00"}},{"$nulls":5},{"$f":"SUM(LARGE(IF(club=$C79, beam), ROW($1:$3)))","v":{"v":0,"d":"0.00"}},{"$nulls":5},{"$f":"SUM(LARGE(IF(club=$C79, floor), ROW($1:$3)))","v":{"v":0,"d":"0.00"}},{"$nulls":5},{"$f":"SUM(LARGE(IF(club=$C79, range), ROW($1:$3)))","v":{"v":0,"d":"0.00"}},{"$nulls":4},{"v":0,"d":"0.00"},0,13,0,0]
[null,{"$f":"IF(AND(COUNTIF(club,C80)>=3,COUNTIF(club,C80)<=5),\"TEAM\",IF(COUNTIF(club,C80)>5,\"Too Many!!!!!\",\"NO TEAM\"))","v":"NO TEAM"},{"$nulls":5},{"$f":"IF($B80=\"NO TEAM\", 0, SUM(LARGE(IF(club=$C80, vault), ROW($1:$3))))","v":{"v":0,"d":"0.00"}},{"$nulls":5},{"$f":"SUM(LARGE(IF(club=$C80, bars), ROW($1:$3)))","v":{"v":0,"d":"0.00"}},{"$nulls":5},{"$f":"SUM(LARGE(IF(club=$C80, beam), ROW($1:$3)))","v":{"v":0,"d":"0.00"}},{"$nulls":5},{"$f":"SUM(LARGE(IF(club=$C80, floor), ROW($1:$3)))","v":{"v":0,"d":"0.00"}},{"$nulls":5},{"$f":"SUM(LARGE(IF(club=$C80, range), ROW($1:$3)))","v":{"v":0,"d":"0.00"}},{"$nulls":4},{"v":0,"d":"0.00"},0,14,0,0]
[null,{"$f":"IF(AND(COUNTIF(club,C81)>=3,COUNTIF(club,C81)<=5),\"TEAM\",IF(COUNTIF(club,C81)>5,\"Too Many!!!!!\",\"NO TEAM\"))","v":"NO TEAM"},{"$nulls":5},{"$f":"IF($B81=\"NO TEAM\", 0, SUM(LARGE(IF(club=$C81, vault), ROW($1:$3))))","v":{"v":0,"d":"0.00"}},{"$nulls":5},{"$f":"SUM(LARGE(IF(club=$C81, bars), ROW($1:$3)))","v":{"v":0,"d":"0.00"}},{"$nulls":5},{"$f":"SUM(LARGE(IF(club=$C81, beam), ROW($1:$3)))","v":{"v":0,"d":"0.00"}},{"$nulls":5},{"$f":"SUM(LARGE(IF(club=$C81, floor), ROW($1:$3)))","v":{"v":0,"d":"0.00"}},{"$nulls":5},{"$f":"SUM(LARGE(IF(club=$C81, range), ROW($1:$3)))","v":{"v":0,"d":"0.00"}},{"$nulls":4},{"v":0,"d":"0.00"},0,15,0,0]

{"sheet":"NGr 5 >12","index":3,"n_rows":81,"n_cols":55,"rows_kept":81,"hidden":true,"merged":[[0,3,0,8],[0,12,0,14],[0,18,0,20],[0,24,0,26],[0,30,0,32],[0,36,0,37],[2,45,2,54],[45,44,45,45],[45,48,45,49],[45,52,45,53],[56,44,56,45]]}
[{"$nulls":3},"VAULT",{"$nulls":8},"BARS",{"$nulls":5},"BEAM",{"$nulls":5},"FLOOR",{"$nulls":5},"RANGE",{"$nulls":5},"AA"]
["No","GYMNAST","CLUB","V1 SV","V1","V2 SV","V2","SCORE","POS","idx","sort","ties","SV","SCORE","POS","idx","sort","ties","SV","SCORE","POS","idx","sort","ties","SV","SCORE","POS","idx","sort","ties","SV","SCORE","POS","idx","sort","ties","TOTAL","POS","idx","sort","ties"]
[null,"North Grade 5 - 12 & Over",{"$nulls":41},{"$f":"B3","v":"North Grade 5 - 12 & Over"},null,"summary results for presentation"]
[88,"Mya Liddle ","AAAsports",{"v":0,"d":"0.0"},{"v":0,"d":"0.00"},{"v":0,"d":"0.0"},{"v":0,"d":"0.00"},{"$f":"MAX(E4, G4)","v":{"v":0,"d":"0.00"}},{"$f":"VLOOKUP(H4, K$4:L$65, 2,FALSE)","v":2},{"$f":"IF(ISNUMBER(J3), J3+1, 1)","v":1},{"$f":"LARGE(H$4:H$65,J4)","v":12.35},{"$f":"IF(K4=K3, L3, L3+1)","v":1},{"v":0,"d":"0.0"},{"v":0,"d":"0.00"},{"$f":"VLOOKUP(N4, Q$4:R$65, 2,FALSE)","v":2},{"$f":"IF(ISNUMBER(P3), P3+1, 1)","v":1},{"$f":"LARGE(N$4:N$65,P4)","v":5.3},{"$f":"IF(Q4=Q3, R3, R3+1)","v":1},{"v":0,"d":"0.0"},{"v":0,"d":"0.00"},{"$f":"VLOOKUP(T4, W$4:X$65, 2,FALSE)","v":2},{"$f":"IF(ISNUMBER(V3), V3+1, 1)","v":1},{"$f":"LARGE(T$4:T$65,V4)","v":9.85},{"$f":"IF(W4=W3, X3, X3+1)","v":1},{"v":0,"d":"0.0"},{"v":0,"d":"0.00"},{"$f":"VLOOKUP(Z4, AC$4:AD$65, 2,FALSE)","v":2},{"$f":"IF(ISNUMBER(AB3), AB3+1, 1)","v":1},{"$f":"LARGE(Z$4:Z$65,AB4)","v":12.8},{"$f":"IF(AC4=AC3, AD3, AD3+1)","v":1},{"v":0,"d":"0.0"},{"v":0,"d":"0.00"},{"$f":"VLOOKUP(AF4, AI$4:AJ$65, 2,FALSE)","v":2},{"$f":"IF(ISNUMBER(AH3), AH3+1, 1)","v":1},{"$f":"LARGE(AF$4:AF$65,AH4)","v":9.35},{"$f":"IF(AI4=AI3, AJ3, AJ3+1)","v":1},{"$f":"SUMIF(D$2:AJ$2, \"SCORE\", D4:AJ4)","v":{"v":0,"d":"0.00"}},{"$f":"VLOOKUP(AK4, AN$4:AO$65, 2,FALSE)","v":2},{"$f":"IF(ISNUMBER(AM3), AM3+1, 1)","v":1},{"$f":"LARGE($AK$4:$AK$65,$AM4)","v":49.65},{"$f":"IF(AN4=AN3, AO3, AO3+1)","v":1},null,null,"6th Place",{"$f":"IFERROR(INDEX(vault,MATCH(AR5,gymnasts,0)), \"\")","v":""},"5th Place",{"$f":"IFERROR(INDEX(vault,MATCH(AT5,gymnasts,0)), \"\")","v":""},"4th Place",{"$f":"IFERROR(INDEX(vault,MATCH(AV5,gymnasts,0)), \"\")","v":""},"3rd Place",{"$f":"IFERROR(INDEX(vault,MATCH(AX5,gymnasts,0)), \"\")","v":""},"2nd Place",{"$f":"IFERROR(INDEX(vault,MATCH(AZ5,gymnasts,0)), \"\")","v":{"v":0,"d":"0.00"}},"1st Place",{"$f":"IFERROR(INDEX(vault,MATCH(BB5,gymnasts,0)), \"\")","v":12.35}]
[89,"Georgia Wilson","Richmondshire",{"v":4,"d":"4.0"},12.35,{"v":0,"d":"0.0"},{"v":0,"d":"0.00"},{"$f":"MAX(E5, G5)","v":12.35},{"$f":"VLOOKUP(H5, K$4:L$65, 2,FALSE)","v":1},2,{"$f":"LARGE(H$4:H$65,J5)","v":0},{"$f":"IF(K5=K4, L4, L4+1)","v":2},3.5,{"v":5.3,"d":"5.30"},{"$f":"VLOOKUP(N5, Q$4:R$65, 2,FALSE)","v":1},2,{"$f":"LARGE(N$4:N$65,P5)","v":0},{"$f":"IF(Q5=Q4, R4, R4+1)","v":2},{"v":4,"d":"4.0"},9.85,{"$f":"VLOOKUP(T5, W$4:X$65, 2,FALSE)","v":1},2,{"$f":"LARGE(T$4:T$65,V5)","v":0},{"$f":"IF(W5=W4, X4, X4+1)","v":2},{"v":4,"d":"4.0"},{"v":12.8,"d":"12.80"},{"$f":"VLOOKUP(Z5, AC$4:AD$65, 2,FALSE)","v":1},2,{"$f":"LARGE(Z$4:Z$65,AB5)","v":0},{"$f":"IF(AC5=AC4, AD4, AD4+1)","v":2},3.5,9.35,{"$f":"VLOOKUP(AF5, AI$4:AJ$65, 2,FALSE)","v":1},2,{"$f":"LARGE(AF$4:AF$65,AH5)","v":0},{"$f":"IF(AI5=AI4, AJ4, AJ4+1)","v":2},49.65,{"$f":"VLOOKUP(AK5, AN$4:AO$65, 2,FALSE)","v":1},2,{"$f":"LARGE($AK$4:$AK$65,$AM5)","v":0},{"$f":"IF(AN5=AN4, AO4, AO4+1)","v":2},null,"Vault",{"$f":"IFERROR(INDEX(gymnasts, SMALL(IF(VALUE(LEFT(AR$32, 1))=vaultPos, ROW(vaultPos)-MIN(ROW(vaultPos))+1, \"\"), ROW()-4)), \"\")","v":""},{"$f":"IFERROR( INDEX(entries, MATCH(AR5, gymnasts, 0), 2), \"\")","v":""},{"$f":"IFERROR(INDEX(gymnasts, SMALL(IF(VALUE(LEFT(AT$32, 1))=vaultPos, ROW(vaultPos)-MIN(ROW(vaultPos))+1, \"\"), ROW()-4)), \"\")","v":""},{"$f":"IFERROR( INDEX(entries, MATCH(AT5, gymnasts, 0), 2), \"\")","v":""},{"$f":"IFERROR(INDEX(gymnasts, SMALL(IF(VALUE(LEFT(AV$32, 1))=vaultPos, ROW(vaultPos)-MIN(ROW(vaultPos))+1, \"\"), ROW()-4)), \"\")","v":""},{"$f":"IFERROR( INDEX(entries, MATCH(AV5, gymnasts, 0), 2), \"\")","v":""},{"$f":"IFERROR(INDEX(gymnasts, SMALL(IF(VALUE(LEFT(AX$32, 1))=vaultPos, ROW(vaultPos)-MIN(ROW(vaultPos))+1, \"\"), ROW()-4)), \"\")","v":""},{"$f":"IFERROR( INDEX(entries, MATCH(AX5, gymnasts, 0), 2), \"\")","v":""},{"$f":"IFERROR(INDEX(gymnasts, SMALL(IF(VALUE(LEFT(AZ$32, 1))=vaultPos, ROW(vaultPos)-MIN(ROW(vaultPos))+1, \"\"), ROW()-4)), \"\")","v":"Mya Liddle "},{"$f":"IFERROR( INDEX(entries, MATCH(AZ5, gymnasts, 0), 2), \"\")","v":"AAAsports"},{"$f":"IFERROR(INDEX(gymnasts, SMALL(IF(VALUE(LEFT(BB$32, 1))=vaultPos, ROW(vaultPos)-MIN(ROW(vaultPos))+1, \"\"), ROW()-4)), \"\")","v":"Georgia Wilson"},{"$f":"IFERROR( INDEX(entries, MATCH(BB5, gymnasts, 0), 2), \"\")","v":"Richmondshire"}]
[{"$nulls":3},{"v":0,"d":"0.0"},{"v":0,"d":"0.00"},{"v":0,"d":"0.0"},{"v":0,"d":"0.00"},{"v":0,"d":"0.00"},2,3,0,2,{"v":0,"d":"0.0"},{"v":0,"d":"0.00"},2,3,0,2,{"v":0,"d":"0.0"},{"v":0,"d":"0.00"},2,3,0,2,{"v":0,"d":"0.0"},{"v":0,"d":"0.00"},2,3,0,2,{"v":0,"d":"0.0"},{"v":0,"d":"0.00"},2,3,0,2,{"v":0,"d":"0.00"},2,3,0,2,null,null,"",{"$f":"IFERROR( INDEX(entries, MATCH(AR6, gymnasts, 0), 2), \"\")","v":""},"",{"$f":"IFERROR( INDEX(entries, MATCH(AT6, gymnasts, 0), 2), \"\")","v":""},"",{"$f":"IFERROR( INDEX(entries, MATCH(AV6, gymnasts, 0), 2), \"\")","v":""},"",{"$f":"IFERROR( INDEX(entries, MATCH(AX6, gymnasts, 0), 2), \"\")","v":""},0,{"$f":"IFERROR( INDEX(entries, MATCH(AZ6, gymnasts, 0), 2), \"\")","v":""},"",""]
[{"$nulls":3},{"v":0,"d":"0.0"},{"v":0,"d":"0.00"},{"v":0,"d":"0.0"},{"v":0,"d":"0.00"},{"v":0,"d":"0.00"},2,4,0,2,{"v":0,"d":"0.0"},{"v":0,"d":"0.00"},2,4,0,2,{"v":0,"d":"0.0"},{"v":0,"d":"0.00"},2,4,0,2,{"v":0,"d":"0.0"},{"v":0,"d":"0.00"},2,4,0,2,{"v":0,"d":"0.0"},{"v":0,"d":"0.00"},2,4,0,2,{"v":0,"d":"0.00"},2,4,0,2,null,null,"","","","","","","","",0,"","",""]
[{"$nulls":3},{"v":0,"d":"0.0"},{"v":0,"d":"0.00"},{"v":0,"d":"0.0"},{"v":0,"d":"0.00"},{"v":0,"d":"0.00"},2,5,0,2,{"v":0,"d":"0.0"},{"v":0,"d":"0.00"},2,5,0,2,{"v":0,"d":"0.0"},{"v":0,"d":"0.00"},2,5,0,2,{"v":0,"d":"0.0"},{"v":0,"d":"0.00"},2,5,0,2,{"v":0,"d":"0.0"},{"v":0,"d":"0.00"},2,5,0,2,{"v":0,"d":"0.00"},2,5,0,2,null,null,"","","","","","","","",0,"","",""]
[{"$nulls":3},{"v":0,"d":"0.0"},{"v":0,"d":"0.00"},{"v":0,"d":"0.0"},{"v":0,"d":"0.00"},{"v":0,"d":"0.00"},2,6,0,2,{"v":0,"d":"0.0"},{"v":0,"d":"0.00"},2,6,0,2,{"v":0,"d":"0.0"},{"v":0,"d":"0.00"},2,6,0,2,{"v":0,"d":"0.0"},{"v":0,"d":"0.00"},2,6,0,2,{"v":0,"d":"0.0"},{"v":0,"d":"0.00"},2,6,0,2,{"v":0,"d":"0.00"},2,6,0,2,null,null,"","","","","","","","",0,"","",""]
[{"$nulls":3},{"v":0,"d":"0.0"},{"v":0,"d":"0.00"},{"v":0,"d":"0.0"},{"v":0,"d":"0.00"},{"v":0,"d":"0.00"},2,7,0,2,{"v":0,"d":"0.0"},{"v":0,"d":"0.00"},2,7,0,2,{"v":0,"d":"0.0"},{"v":0,"d":"0.00"},2,7,0,2,{"v":0,"d":"0.0"},{"v":0,"d":"0.00"},2,7,0,2,{"v":0,"d":"0.0"},{"v":0,"d":"0.00"},2,7,0,2,{"v":0,"d":"0.00"},2,7,0,2,null,null,"","","","","","","","",0,"","",""]
[{"$nulls":3},{"v":0,"d":"0.0"},{"v":0,"d":"0.00"},{"v":0,"d":"0.0"},{"v":0,"d":"0.00"},{"v":0,"d":"0.00"},2,8,0,2,{"v":0,"d":"0.0"},{"v":0,"d":"0.00"},2,8,0,2,{"v":0,"d":"0.0"},{"v":0,"d":"0.00"},2,8,0,2,{"v":0,"d":"0.0"},{"v":0,"d":"0.00"},2,8,0,2,{"v":0,"d":"0.0"},{"v":0,"d":"0.00"},2,8,0,2,{"v":0,"d":"0.00"},2,8,0,2,null,null,"6th Place",{"$f":"IFERROR(INDEX(bars,MATCH(AR12,gymnasts,0)), \"\")","v":""},"5th Place",{"$f":"IFERROR(INDEX(bars,MATCH(AT12,gymnasts,0)), \"\")","v":""},"4th Place",{"$f":"IFERROR(INDEX(bars,MATCH(AV12,gymnasts,0)), \"\")","v":""},"3rd Place",{"$f":"IFERROR(INDEX(bars,MATCH(AX12,gymnasts,0)), \"\")","v":""},"2nd Place",{"$f":"IFERROR(INDEX(bars,MATCH(AZ12,gymnasts,0)), \"\")","v":{"v":0,"d":"0.00"}},"1st Place",{"$f":"IFERROR(INDEX(bars,MATCH(BB12,gymnasts,0)), \"\")","v":{"v":5.3,"d":"5.30"}}]
[{"$nulls":3},{"v":0,"d":"0.0"},{"v":0,"d":"0.00"},{"v":0,"d":"0.0"},{"v":0,"d":"0.00"},{"v":0,"d":"0.00"},2,9,0,2,{"v":0,"d":"0.0"},{"v":0,"d":"0.00"},2,9,0,2,{"v":0,"d":"0.0"},{"v":0,"d":"0.00"},2,9,0,2,{"v":0,"d":"0.0"},{"v":0,"d":"0.00"},2,9,0,2,{"v":0,"d":"0.0"},{"v":0,"d":"0.00"},2,9,0,2,{"v":0,"d":"0.00"},2,9,0,2,null,"Bars",{"$f":"IFERROR(INDEX(gymnasts, SMALL(IF(VALUE(LEFT(AR$32, 1))=BarPos, ROW(BarPos)-MIN(ROW(BarPos))+1, \"\"), ROW()-11)), \"\")","v":""},{"$f":"IFERROR( INDEX(entries, MATCH(AR12, gymnasts, 0), 2), \"\")","v":""},{"$f":"IFERROR(INDEX(gymnasts, SMALL(IF(VALUE(LEFT(AT$32, 1))=BarPos, ROW(BarPos)-MIN(ROW(BarPos))+1, \"\"), ROW()-11)), \"\")","v":""},{"$f":"IFERROR( INDEX(entries, MATCH(AT12, gymnasts, 0), 2), \"\")","v":""},{"$f":"IFERROR(INDEX(gymnasts, SMALL(IF(VALUE(LEFT(AV$32, 1))=BarPos, ROW(BarPos)-MIN(ROW(BarPos))+1, \"\"), ROW()-11)), \"\")","v":""},{"$f":"IFERROR( INDEX(entries, MATCH(AV12, gymnasts, 0), 2), \"\")","v":""},{"$f":"IFERROR(INDEX(gymnasts, SMALL(IF(VALUE(LEFT(AX$32, 1))=BarPos, ROW(BarPos)-MIN(ROW(BarPos))+1, \"\"), ROW()-11)), \"\")","v":""},{"$f":"IFERROR( INDEX(entries, MATCH(AX12, gymnasts, 0), 2), \"\")","v":""},{"$f":"IFERROR(INDEX(gymnasts, SMALL(IF(VALUE(LEFT(AZ$32, 1))=BarPos, ROW(BarPos)-MIN(ROW(BarPos))+1, \"\"), ROW()-11)), \"\")","v":"Mya Liddle "},{"$f":"IFERROR( INDEX(entries, MATCH(AZ12, gymnasts, 0), 2), \"\")","v":"AAAsports"},{"$f":"IFERROR(INDEX(gymnasts, SMALL(IF(VALUE(LEFT(BB$32, 1))=BarPos, ROW(BarPos)-MIN(ROW(BarPos))+1, \"\"), ROW()-11)), \"\")","v":"Georgia Wilson"},{"$f":"IFERROR( INDEX(entries, MATCH(BB12, gymnasts, 0), 2), \"\")","v":"Richmondshire"}]
[{"$nulls":3},{"v":0,"d":"0.0"},{"v":0,"d":"0.00"},{"v":0,"d":"0.0"},{"v":0,"d":"0.00"},{"v":0,"d":"0.00"},2,10,0,2,{"v":0,"d":"0.0"},{"v":0,"d":"0.00"},2,10,0,2,{"v":0,"d":"0.0"},{"v":0,"d":"0.00"},2,10,0,2,{"v":0,"d":"0.0"},{"v":0,"d":"0.00"},2,10,0,2,{"v":0,"d":"0.0"},{"v":0,"d":"0.00"},2,10,0,2,{"v":0,"d":"0.00"},2,10,0,2,null,null,"",{"$f":"IFERROR( INDEX(entries, MATCH(AR13, gymnasts, 0), 2), \"\")","v":""},"",{"$f":"IFERROR( INDEX(entries, MATCH(AT13, gymnasts, 0), 2), \"\")","v":""},"",{"$f":"IFERROR( INDEX(entries, MATCH(AV13, gymnasts, 0), 2), \"\")","v":""},"",{"$f":"IFERROR( INDEX(entries, MATCH(AX13, gymnasts, 0), 2), \"\")","v":""},0,{"$f":"IFERROR( INDEX(entries, MATCH(AZ13, gymnasts, 0), 2), \"\")","v":""},"",""]
[{"$nulls":3},{"v":0,"d":"0.0"},{"v":0,"d":"0.00"},{"v":0,"d":"0.0"},{"v":0,"d":"0.00"},{"v":0,"d":"0.00"},2,11,0,2,{"v":0,"d":"0.0"},{"v":0,"d":"0.00"},2,11,0,2,{"v":0,"d":"0.0"},{"v":0,"d":"0.00"},2,11,0,2,{"v":0,"d":"0.0"},{"v":0,"d":"0.00"},2,11,0,2,{"v":0,"d":"0.0"},{"v":0,"d":"0.00"},2,11,0,2,{"v":0,"d":"0.00"},2,11,0,2,null,null,"","","","","","","","",0,"","",""]
[{"$nulls":3},{"v":0,"d":"0.0"},{"v":0,"d":"0.00"},{"v":0,"d":"0.0"},{"v":0,"d":"0.00"},{"v":0,"d":"0.00"},2,12,0,2,{"v":0,"d":"0.0"},{"v":0,"d":"0.00"},2,12,0,2,{"v":0,"d":"0.0"},{"v":0,"d":"0.00"},2,12,0,2,{"v":0,"d":"0.0"},{"v":0,"d":"0.00"},2,12,0,2,{"v":0,"d":"0.0"},{"v":0,"d":"0.00"},2,12,0,2,{"v":0,"d":"0.00"},2,12,0,2,null,null,"","","","","","","","",0,"","",""]
[{"$nulls":3},{"v":0,"d":"0.0"},{"v":0,"d":"0.00"},{"v":0,"d":"0.0"},{"v":0,"d":"0.00"},{"v":0,"d":"0.00"},2,13,0,2,{"v":0,"d":"0.0"},{"v":0,"d":"0.00"},2,13,0,2,{"v":0,"d":"0.0"},{"v":0,"d":"0.00"},2,13,0,2,{"v":0,"d":"0.0"},{"v":0,"d":"0.00"},2,13,0,2,{"v":0,"d":"0.0"},{"v":0,"d":"0.00"},2,13,0,2,{"v":0,"d":"0.00"},2,13,0,2,null,null,"","","","","","","","",0,"","",""]
[{"$nulls":3},{"v":0,"d":"0.0"},{"v":0,"d":"0.00"},{"v":0,"d":"0.0"},{"v":0,"d":"0.00"},{"v":0,"d":"0.00"},2,14,0,2,{"v":0,"d":"0.0"},{"v":0,"d":"0.00"},2,14,0,2,{"v":0,"d":"0.0"},{"v":0,"d":"0.00"},2,14,0,2,{"v":0,"d":"0.0"},{"v":0,"d":"0.00"},2,14,0,2,{"v":0,"d":"0.0"},{"v":0,"d":"0.00"},2,14,0,2,{"v":0,"d":"0.00"},2,14,0,2,null,null,"","","","","","","","",0,"","",""]
[{"$nulls":3},{"v":0,"d":"0.0"},{"v":0,"d":"0.00"},{"v":0,"d":"0.0"},{"v":0,"d":"0.00"},{"v":0,"d":"0.00"},2,15,0,2,{"v":0,"d":"0.0"},{"v":0,"d":"0.00"},2,15,0,2,{"v":0,"d":"0.0"},{"v":0,"d":"0.00"},2,15,0,2,{"v":0,"d":"0.0"},{"v":0,"d":"0.00"},2,15,0,2,{"v":0,"d":"0.0"},{"v":0,"d":"0.00"},2,15,0,2,{"v":0,"d":"0.00"},2,15,0,2,null,null,"6th Place",{"$f":"IFERROR(INDEX(beam,MATCH(AR19,gymnasts,0)), \"\")","v":""},"5th Place",{"$f":"IFERROR(INDEX(beam,MATCH(AT19,gymnasts,0)), \"\")","v":""},"4th Place",{"$f":"IFERROR(INDEX(beam,MATCH(AV19,gymnasts,0)), \"\")","v":""},"3rd Place",{"$f":"IFERROR(INDEX(beam,MATCH(AX19,gymnasts,0)), \"\")","v":""},"2nd Place",{"$f":"IFERROR(INDEX(beam,MATCH(AZ19,gymnasts,0)), \"\")","v":{"v":0,"d":"0.00"}},"1st Place",{"$f":"IFERROR(INDEX(beam,MATCH(BB19,gymnasts,0)), \"\")","v":9.85}]
[{"$nulls":3},{"v":0,"d":"0.0"},{"v":0,"d":"0.00"},{"v":0,"d":"0.0"},{"v":0,"d":"0.00"},{"v":0,"d":"0.00"},2,16,0,2,{"v":0,"d":"0.0"},{"v":0,"d":"0.00"},2,16,0,2,{"v":0,"d":"0.0"},{"v":0,"d":"0.00"},2,16,0,2,{"v":0,"d":"0.0"},{"v":0,"d":"0.00"},2,16,0,2,{"v":0,"d":"0.0"},{"v":0,"d":"0.00"},2,16,0,2,{"v":0,"d":"0.00"},2,16,0,2,null,"Beam",{"$f":"IFERROR(INDEX(gymnasts, SMALL(IF(VALUE(LEFT(AR$32, 1))=BeamPos, ROW(BeamPos)-MIN(ROW(BeamPos))+1, \"\"), ROW()-18)), \"\")","v":""},{"$f":"IFERROR( INDEX(entries, MATCH(AR19, gymnasts, 0), 2), \"\")","v":""},{"$f":"IFERROR(INDEX(gymnasts, SMALL(IF(VALUE(LEFT(AT$32, 1))=BeamPos, ROW(BeamPos)-MIN(ROW(BeamPos))+1, \"\"), ROW()-18)), \"\")","v":""},{"$f":"IFERROR( INDEX(entries, MATCH(AT19, gymnasts, 0), 2), \"\")","v":""},{"$f":"IFERROR(INDEX(gymnasts, SMALL(IF(VALUE(LEFT(AV$32, 1))=BeamPos, ROW(BeamPos)-MIN(ROW(BeamPos))+1, \"\"), ROW()-18)), \"\")","v":""},{"$f":"IFERROR( INDEX(entries, MATCH(AV19, gymnasts, 0), 2), \"\")","v":""},{"$f":"IFERROR(INDEX(gymnasts, SMALL(IF(VALUE(LEFT(AX$32, 1))=BeamPos, ROW(BeamPos)-MIN(ROW(BeamPos))+1, \"\"), ROW()-18)), \"\")","v":""},{"$f":"IFERROR( INDEX(entries, MATCH(AX19, gymnasts, 0), 2), \"\")","v":""},{"$f":"IFERROR(INDEX(gymnasts, SMALL(IF(VALUE(LEFT(AZ$32, 1))=BeamPos, ROW(BeamPos)-MIN(ROW(BeamPos))+1, \"\"), ROW()-18)), \"\")","v":"Mya Liddle "},{"$f":"IFERROR( INDEX(entries, MATCH(AZ19, gymnasts, 0), 2), \"\")","v":"AAAsports"},{"$f":"IFERROR(INDEX(gymnasts, SMALL(IF(VALUE(LEFT(BB$32, 1))=BeamPos, ROW(BeamPos)-MIN(ROW(BeamPos))+1, \"\"), ROW()-18)), \"\")","v":"Georgia Wilson"},{"$f":"IFERROR( INDEX(entries, MATCH(BB19, gymnasts, 0), 2), \"\")","v":"Richmondshire"}]
[{"$nulls":3},{"v":0,"d":"0.0"},{"v":0,"d":"0.00"},{"v":0,"d":"0.0"},{"v":0,"d":"0.00"},{"v":0,"d":"0.00"},2,17,0,2,{"v":0,"d":"0.0"},{"v":0,"d":"0.00"},2,17,0,2,{"v":0,"d":"0.0"},{"v":0,"d":"0.00"},2,17,0,2,{"v":0,"d":"0.0"},{"v":0,"d":"0.00"},2,17,0,2,{"v":0,"d":"0.0"},{"v":0,"d":"0.00"},2,17,0,2,{"v":0,"d":"0.00"},2,17,0,2,null,null,"",{"$f":"IFERROR( INDEX(entries, MATCH(AR20, gymnasts, 0), 2), \"\")","v":""},"",{"$f":"IFERROR( INDEX(entries, MATCH(AT20, gymnasts, 0), 2), \"\")","v":""},"",{"$f":"IFERROR( INDEX(entries, MATCH(AV20, gymnasts, 0), 2), \"\")","v":""},"",{"$f":"IFERROR( INDEX(entries, MATCH(AX20, gymnasts, 0), 2), \"\")","v":""},0,{"$f":"IFERROR( INDEX(entries, MATCH(AZ20, gymnasts, 0), 2), \"\")","v":""},"",""]
[{"$nulls":3},{"v":0,"d":"0.0"},{"v":0,"d":"0.00"},{"v":0,"d":"0.0"},{"v":0,"d":"0.00"},{"v":0,"d":"0.00"},2,18,0,2,{"v":0,"d":"0.0"},{"v":0,"d":"0.00"},2,18,0,2,{"v":0,"d":"0.0"},{"v":0,"d":"0.00"},2,18,0,2,{"v":0,"d":"0.0"},{"v":0,"d":"0.00"},2,18,0,2,{"v":0,"d":"0.0"},{"v":0,"d":"0.00"},2,18,0,2,{"v":0,"d":"0.00"},2,18,0,2,null,null,"","","","","","","","",0,"","",""]
[{"$nulls":3},{"v":0,"d":"0.0"},{"v":0,"d":"0.00"},{"v":0,"d":"0.0"},{"v":0,"d":"0.00"},{"v":0,"d":"0.00"},2,19,0,2,{"v":0,"d":"0.0"},{"v":0,"d":"0.00"},2,19,0,2,{"v":0,"d":"0.0"},{"v":0,"d":"0.00"},2,19,0,2,{"v":0,"d":"0.0"},{"v":0,"d":"0.00"},2,19,0,2,{"v":0,"d":"0.0"},{"v":0,"d":"0.00"},2,19,0,2,{"v":0,"d":"0.00"},2,19,0,2,null,null,"","","","","","","","",0,"","",""]
[{"$nulls":3},{"v":0,"d":"0.0"},{"v":0,"d":"0.00"},{"v":0,"d":"0.0"},{"v":0,"d":"0.00"},{"v":0,"d":"0.00"},2,20,0,2,{"v":0,"d":"0.0"},{"v":0,"d":"0.00"},2,20,0,2,{"v":0,"d":"0.0"},{"v":0,"d":"0.00"},2,20,0,2,{"v":0,"d":"0.0"},{"v":0,"d":"0.00"},2,20,0,2,{"v":0,"d":"0.0"},{"v":0,"d":"0.00"},2,20,0,2,{"v":0,"d":"0.00"},2,20,0,2,null,null,"","","","","","","","",0,"","",""]
[{"$nulls":3},{"v":0,"d":"0.0"},{"v":0,"d":"0.00"},{"v":0,"d":"0.0"},{"v":0,"d":"0.00"},{"v":0,"d":"0.00"},2,21,0,2,{"v":0,"d":"0.0"},{"v":0,"d":"0.00"},2,21,0,2,{"v":0,"d":"0.0"},{"v":0,"d":"0.00"},2,21,0,2,{"v":0,"d":"0.0"},{"v":0,"d":"0.00"},2,21,0,2,{"v":0,"d":"0.0"},{"v":0,"d":"0.00"},2,21,0,2,{"v":0,"d":"0.00"},2,21,0,2,null,null,"","","","","","","","",0,"","",""]
[{"$nulls":3},{"v":0,"d":"0.0"},{"v":0,"d":"0.00"},{"v":0,"d":"0.0"},{"v":0,"d":"0.00"},{"v":0,"d":"0.00"},2,22,0,2,{"v":0,"d":"0.0"},{"v":0,"d":"0.00"},2,22,0,2,{"v":0,"d":"0.0"},{"v":0,"d":"0.00"},2,22,0,2,{"v":0,"d":"0.0"},{"v":0,"d":"0.00"},2,22,0,2,{"v":0,"d":"0.0"},{"v":0,"d":"0.00"},2,22,0,2,{"v":0,"d":"0.00"},2,22,0,2,null,null,"6th Place",{"$f":"IFERROR(INDEX(floor,MATCH(AR26,gymnasts,0)), \"\")","v":""},"5th Place",{"$f":"IFERROR(INDEX(floor,MATCH(AT26,gymnasts,0)), \"\")","v":""},"4th Place",{"$f":"IFERROR(INDEX(floor,MATCH(AV26,gymnasts,0)), \"\")","v":""},"3rd Place",{"$f":"IFERROR(INDEX(floor,MATCH(AX26,gymnasts,0)), \"\")","v":""},"2nd Place",{"$f":"IFERROR(INDEX(floor,MATCH(AZ26,gymnasts,0)), \"\")","v":{"v":0,"d":"0.00"}},"1st Place",{"$f":"IFERROR(INDEX(floor,MATCH(BB26,gymnasts,0)), \"\")","v":{"v":12.8,"d":"12.80"}}]
[{"$nulls":3},{"v":0,"d":"0.0"},{"v":0,"d":"0.00"},{"v":0,"d":"0.0"},{"v":0,"d":"0.00"},{"v":0,"d":"0.00"},2,23,0,2,{"v":0,"d":"0.0"},{"v":0,"d":"0.00"},2,23,0,2,{"v":0,"d":"0.0"},{"v":0,"d":"0.00"},2,23,0,2,{"v":0,"d":"0.0"},{"v":0,"d":"0.00"},2,23,0,2,{"v":0,"d":"0.0"},{"v":0,"d":"0.00"},2,23,0,2,{"v":0,"d":"0.00"},2,23,0,2,null,"Floor",{"$f":"IFERROR(INDEX(gymnasts, SMALL(IF(VALUE(LEFT(AR$32, 1))=FloorPos, ROW(FloorPos)-MIN(ROW(FloorPos))+1, \"\"), ROW()-25)), \"\")","v":""},{"$f":"IFERROR( INDEX(entries, MATCH(AR26, gymnasts, 0), 2), \"\")","v":""},{"$f":"IFERROR(INDEX(gymnasts, SMALL(IF(VALUE(LEFT(AT$32, 1))=FloorPos, ROW(FloorPos)-MIN(ROW(FloorPos))+1, \"\"), ROW()-25)), \"\")","v":""},{"$f":"IFERROR( INDEX(entries, MATCH(AT26, gymnasts, 0), 2), \"\")","v":""},{"$f":"IFERROR(INDEX(gymnasts, SMALL(IF(VALUE(LEFT(AV$32, 1))=FloorPos, ROW(FloorPos)-MIN(ROW(FloorPos))+1, \"\"), ROW()-25)), \"\")","v":""},{"$f":"IFERROR( INDEX(entries, MATCH(AV26, gymnasts, 0), 2), \"\")","v":""},{"$f":"IFERROR(INDEX(gymnasts, SMALL(IF(VALUE(LEFT(AX$32, 1))=FloorPos, ROW(FloorPos)-MIN(ROW(FloorPos))+1, \"\"), ROW()-25)), \"\")","v":""},{"$f":"IFERROR( INDEX(entries, MATCH(AX26, gymnasts, 0), 2), \"\")","v":""},{"$f":"IFERROR(INDEX(gymnasts, SMALL(IF(VALUE(LEFT(AZ$32, 1))=FloorPos, ROW(FloorPos)-MIN(ROW(FloorPos))+1, \"\"), ROW()-25)), \"\")","v":"Mya Liddle "},{"$f":"IFERROR( INDEX(entries, MATCH(AZ26, gymnasts, 0), 2), \"\")","v":"AAAsports"},{"$f":"IFERROR(INDEX(gymnasts, SMALL(IF(VALUE(LEFT(BB$32, 1))=FloorPos, ROW(FloorPos)-MIN(ROW(FloorPos))+1, \"\"), ROW()-25)), \"\")","v":"Georgia Wilson"},{"$f":"IFERROR( INDEX(entries, MATCH(BB26, gymnasts, 0), 2), \"\")","v":"Richmondshire"}]
[{"$nulls":3},{"v":0,"d":"0.0"},{"v":0,"d":"0.00"},{"v":0,"d":"0.0"},{"v":0,"d":"0.00"},{"v":0,"d":"0.00"},2,24,0,2,{"v":0,"d":"0.0"},{"v":0,"d":"0.00"},2,24,0,2,{"v":0,"d":"0.0"},{"v":0,"d":"0.00"},2,24,0,2,{"v":0,"d":"0.0"},{"v":0,"d":"0.00"},2,24,0,2,{"v":0,"d":"0.0"},{"v":0,"d":"0.00"},2,24,0,2,{"v":0,"d":"0.00"},2,24,0,2,null,null,"",{"$f":"IFERROR( INDEX(entries, MATCH(AR27, gymnasts, 0), 2), \"\")","v":""},"",{"$f":"IFERROR( INDEX(entries, MATCH(AT27, gymnasts, 0), 2), \"\")","v":""},"",{"$f":"IFERROR( INDEX(entries, MATCH(AV27, gymnasts, 0), 2), \"\")","v":""},"",{"$f":"IFERROR( INDEX(entries, MATCH(AX27, gymnasts, 0), 2), \"\")","v":""},0,{"$f":"IFERROR( INDEX(entries, MATCH(AZ27, gymnasts, 0), 2), \"\")","v":""},"",""]
[{"$nulls":3},{"v":0,"d":"0.0"},{"v":0,"d":"0.00"},{"v":0,"d":"0.0"},{"v":0,"d":"0.00"},{"v":0,"d":"0.00"},2,25,0,2,{"v":0,"d":"0.0"},{"v":0,"d":"0.00"},2,25,0,2,{"v":0,"d":"0.0"},{"v":0,"d":"0.00"},2,25,0,2,{"v":0,"d":"0.0"},{"v":0,"d":"0.00"},2,25,0,2,{"v":0,"d":"0.0"},{"v":0,"d":"0.00"},2,25,0,2,{"v":0,"d":"0.00"},2,25,0,2,null,null,"","","","","","","","",0,"","",""]
[{"$nulls":3},{"v":0,"d":"0.0"},{"v":0,"d":"0.00"},{"v":0,"d":"0.0"},{"v":0,"d":"0.00"},{"v":0,"d":"0.00"},2,26,0,2,{"v":0,"d":"0.0"},{"v":0,"d":"0.00"},2,26,0,2,{"v":0,"d":"0.0"},{"v":0,"d":"0.00"},2,26,0,2,{"v":0,"d":"0.0"},{"v":0,"d":"0.00"},2,26,0,2,{"v":0,"d":"0.0"},{"v":0,"d":"0.00"},2,26,0,2,{"v":0,"d":"0.00"},2,26,0,2,null,null,"","","","","","","","",0,"","",""]
[{"$nulls":3},{"v":0,"d":"0.0"},{"v":0,"d":"0.00"},{"v":0,"d":"0.0"},{"v":0,"d":"0.00"},{"v":0,"d":"0.00"},2,27,0,2,{"v":0,"d":"0.0"},{"v":0,"d":"0.00"},2,27,0,2,{"v":0,"d":"0.0"},{"v":0,"d":"0.00"},2,27,0,2,{"v":0,"d":"0.0"},{"v":0,"d":"0.00"},2,27,0,2,{"v":0,"d":"0.0"},{"v":0,"d":"0.00"},2,27,0,2,{"v":0,"d":"0.00"},2,27,0,2,null,null,"","","","","","","","",0,"","",""]
[{"$nulls":3},{"v":0,"d":"0.0"},{"v":0,"d":"0.00"},{"v":0,"d":"0.0"},{"v":0,"d":"0.00"},{"v":0,"d":"0.00"},2,28,0,2,{"v":0,"d":"0.0"},{"v":0,"d":"0.00"},2,28,0,2,{"v":0,"d":"0.0"},{"v":0,"d":"0.00"},2,28,0,2,{"v":0,"d":"0.0"},{"v":0,"d":"0.00"},2,28,0,2,{"v":0,"d":"0.0"},{"v":0,"d":"0.00"},2,28,0,2,{"v":0,"d":"0.00"},2,28,0,2,null,null,"","","","","","","","",0,"","",""]
[{"$nulls":3},{"v":0,"d":"0.0"},{"v":0,"d":"0.00"},{"v":0,"d":"0.0"},{"v":0,"d":"0.00"},{"v":0,"d":"0.00"},2,29,0,2,{"v":0,"d":"0.0"},{"v":0,"d":"0.00"},2,29,0,2,{"v":0,"d":"0.0"},{"v":0,"d":"0.00"},2,29,0,2,{"v":0,"d":"0.0"},{"v":0,"d":"0.00"},2,29,0,2,{"v":0,"d":"0.0"},{"v":0,"d":"0.00"},2,29,0,2,{"v":0,"d":"0.00"},2,29,0,2,null,null,"6th Place",{"$f":"IFERROR(INDEX(range,MATCH(AR33,gymnasts,0)), \"\")","v":""},"5th Place",{"$f":"IFERROR(INDEX(range,MATCH(AT33,gymnasts,0)), \"\")","v":""},"4th Place",{"$f":"IFERROR(INDEX(range,MATCH(AV33,gymnasts,0)), \"\")","v":""},"3rd Place",{"$f":"IFERROR(INDEX(range,MATCH(AX33,gymnasts,0)), \"\")","v":""},"2nd Place",{"$f":"IFERROR(INDEX(range,MATCH(AZ33,gymnasts,0)), \"\")","v":{"v":0,"d":"0.00"}},"1st Place",{"$f":"IFERROR(INDEX(range,MATCH(BB33,gymnasts,0)), \"\")","v":9.35}]
[{"$nulls":3},{"v":0,"d":"0.0"},{"v":0,"d":"0.00"},{"v":0,"d":"0.0"},{"v":0,"d":"0.00"},{"v":0,"d":"0.00"},2,30,0,2,{"v":0,"d":"0.0"},{"v":0,"d":"0.00"},2,30,0,2,{"v":0,"d":"0.0"},{"v":0,"d":"0.00"},2,30,0,2,{"v":0,"d":"0.0"},{"v":0,"d":"0.00"},2,30,0,2,{"v":0,"d":"0.0"},{"v":0,"d":"0.00"},2,30,0,2,{"v":0,"d":"0.00"},2,30,0,2,null,"Range",{"$f":"IFERROR(INDEX(gymnasts, SMALL(IF(VALUE(LEFT(AR$32, 1))=RangePos, ROW(RangePos)-MIN(ROW(RangePos))+1, \"\"), ROW()-32)), \"\")","v":""},{"$f":"IFERROR( INDEX(entries, MATCH(AR33, gymnasts, 0), 2), \"\")","v":""},{"$f":"IFERROR(INDEX(gymnasts, SMALL(IF(VALUE(LEFT(AT$32, 1))=RangePos, ROW(RangePos)-MIN(ROW(RangePos))+1, \"\"), ROW()-32)), \"\")","v":""},{"$f":"IFERROR( INDEX(entries, MATCH(AT33, gymnasts, 0), 2), \"\")","v":""},{"$f":"IFERROR(INDEX(gymnasts, SMALL(IF(VALUE(LEFT(AV$32, 1))=RangePos, ROW(RangePos)-MIN(ROW(RangePos))+1, \"\"), ROW()-32)), \"\")","v":""},{"$f":"IFERROR( INDEX(entries, MATCH(AV33, gymnasts, 0), 2), \"\")","v":""},{"$f":"IFERROR(INDEX(gymnasts, SMALL(IF(VALUE(LEFT(AX$32, 1))=RangePos, ROW(RangePos)-MIN(ROW(RangePos))+1, \"\"), ROW()-32)), \"\")","v":""},{"$f":"IFERROR( INDEX(entries, MATCH(AX33, gymnasts, 0), 2), \"\")","v":""},{"$f":"IFERROR(INDEX(gymnasts, SMALL(IF(VALUE(LEFT(AZ$32, 1))=RangePos, ROW(RangePos)-MIN(ROW(RangePos))+1, \"\"), ROW()-32)), \"\")","v":"Mya Liddle "},{"$f":"IFERROR( INDEX(entries, MATCH(AZ33, gymnasts, 0), 2), \"\")","v":"AAAsports"},{"$f":"IFERROR(INDEX(gymnasts, SMALL(IF(VALUE(LEFT(BB$32, 1))=RangePos, ROW(RangePos)-MIN(ROW(RangePos))+1, \"\"), ROW()-32)), \"\")","v":"Georgia Wilson"},{"$f":"IFERROR( INDEX(entries, MATCH(BB33, gymnasts, 0), 2), \"\")","v":"Richmondshire"}]
[{"$nulls":3},{"v":0,"d":"0.0"},{"v":0,"d":"0.00"},{"v":0,"d":"0.0"},{"v":0,"d":"0.00"},{"v":0,"d":"0.00"},2,31,0,2,{"v":0,"d":"0.0"},{"v":0,"d":"0.00"},2,31,0,2,{"v":0,"d":"0.0"},{"v":0,"d":"0.00"},2,31,0,2,{"v":0,"d":"0.0"},{"v":0,"d":"0.00"},2,31,0,2,{"v":0,"d":"0.0"},{"v":0,"d":"0.00"},2,31,0,2,{"v":0,"d":"0.00"},2,31,0,2,null,null,"",{"$f":"IFERROR( INDEX(entries, MATCH(AR34, gymnasts, 0), 2), \"\")","v":""},"",{"$f":"IFERROR( INDEX(entries, MATCH(AT34, gymnasts, 0), 2), \"\")","v":""},"",{"$f":"IFERROR( INDEX(entries, MATCH(AV34, gymnasts, 0), 2), \"\")","v":""},"",{"$f":"IFERROR( INDEX(entries, MATCH(AX34, gymnasts, 0), 2), \"\")","v":""},0,{"$f":"IFERROR( INDEX(entries, MATCH(AZ34, gymnasts, 0), 2), \"\")","v":""},"",""]
[{"$nulls":3},{"v":0,"d":"0.0"},{"v":0,"d":"0.00"},{"v":0,"d":"0.0"},{"v":0,"d":"0.00"},{"v":0,"d":"0.00"},2,32,0,2,{"v":0,"d":"0.0"},{"v":0,"d":"0.00"},2,32,0,2,{"v":0,"d":"0.0"},{"v":0,"d":"0.00"},2,32,0,2,{"v":0,"d":"0.0"},{"v":0,"d":"0.00"},2,32,0,2,{"v":0,"d":"0.0"},{"v":0,"d":"0.00"},2,32,0,2,{"v":0,"d":"0.00"},2,32,0,2,null,null,"","","","","","","","",0,"","",""]
[{"$nulls":3},{"v":0,"d":"0.0"},{"v":0,"d":"0.00"},{"v":0,"d":"0.0"},{"v":0,"d":"0.00"},{"v":0,"d":"0.00"},2,33,0,2,{"v":0,"d":"0.0"},{"v":0,"d":"0.00"},2,33,0,2,{"v":0,"d":"0.0"},{"v":0,"d":"0.00"},2,33,0,2,{"v":0,"d":"0.0"},{"v":0,"d":"0.00"},2,33,0,2,{"v":0,"d":"0.0"},{"v":0,"d":"0.00"},2,33,0,2,{"$f":"SUMIF(D$2:AJ$2, \"SCORE\", D36:AJ36)","v":{"v":0,"d":"0.00"}},2,33,0,2,null,null,"","","","","","","","",0,"","",""]
[{"$nulls":3},{"v":0,"d":"0.0"},{"v":0,"d":"0.00"},{"v":0,"d":"0.0"},{"v":0,"d":"0.00"},{"v":0,"d":"0.00"},2,34,0,2,{"v":0,"d":"0.0"},{"v":0,"d":"0.00"},2,34,0,2,{"v":0,"d":"0.0"},{"v":0,"d":"0.00"},2,34,0,2,{"v":0,"d":"0.0"},{"v":0,"d":"0.00"},2,34,0,2,{"v":0,"d":"0.0"},{"v":0,"d":"0.00"},2,34,0,2,{"v":0,"d":"0.00"},2,34,0,2,null,null,"","","","","","","","",0,"","",""]
[{"$nulls":3},{"v":0,"d":"0.0"},{"v":0,"d":"0.00"},{"v":0,"d":"0.0"},{"v":0,"d":"0.00"},{"v":0,"d":"0.00"},2,35,0,2,{"v":0,"d":"0.0"},{"v":0,"d":"0.00"},2,35,0,2,{"v":0,"d":"0.0"},{"v":0,"d":"0.00"},2,35,0,2,{"v":0,"d":"0.0"},{"v":0,"d":"0.00"},2,35,0,2,{"v":0,"d":"0.0"},{"v":0,"d":"0.00"},2,35,0,2,{"v":0,"d":"0.00"},2,35,0,2,null,null,"","","","","","","","",0,"","",""]
[{"$nulls":3},{"v":0,"d":"0.0"},{"v":0,"d":"0.00"},{"v":0,"d":"0.0"},{"v":0,"d":"0.00"},{"v":0,"d":"0.00"},2,36,0,2,{"v":0,"d":"0.0"},{"v":0,"d":"0.00"},2,36,0,2,{"v":0,"d":"0.0"},{"v":0,"d":"0.00"},2,36,0,2,{"v":0,"d":"0.0"},{"v":0,"d":"0.00"},2,36,0,2,{"v":0,"d":"0.0"},{"v":0,"d":"0.00"},2,36,0,2,{"v":0,"d":"0.00"},2,36,0,2,null,null,"6th Place",{"$f":"IFERROR(INDEX(AAscores,MATCH(AR40,gymnasts,0)), \"\")","v":""},"5th Place",{"$f":"IFERROR(INDEX(AAscores,MATCH(AT40,gymnasts,0)), \"\")","v":""},"4th Place",{"$f":"IFERROR(INDEX(AAscores,MATCH(AV40,gymnasts,0)), \"\")","v":""},"3rd Place",{"$f":"IFERROR(INDEX(AAscores,MATCH(AX40,gymnasts,0)), \"\")","v":""},"2nd Place",{"$f":"IFERROR(INDEX(AAscores,MATCH(AZ40,gymnasts,0)), \"\")","v":{"v":0,"d":"0.00"}},"1st Place",{"$f":"IFERROR(INDEX(AAscores,MATCH(BB40,gymnasts,0)), \"\")","v":49.65}]
[{"$nulls":3},{"v":0,"d":"0.0"},{"v":0,"d":"0.00"},{"v":0,"d":"0.0"},{"v":0,"d":"0.00"},{"v":0,"d":"0.00"},2,37,0,2,{"v":0,"d":"0.0"},{"v":0,"d":"0.00"},2,37,0,2,{"v":0,"d":"0.0"},{"v":0,"d":"0.00"},2,37,0,2,{"v":0,"d":"0.0"},{"v":0,"d":"0.00"},2,37,0,2,{"v":0,"d":"0.0"},{"v":0,"d":"0.00"},2,37,0,2,{"v":0,"d":"0.00"},2,37,0,2,null,"AA",{"$f":"IFERROR(INDEX(gymnasts, SMALL(IF(VALUE(LEFT(AR$39, 1))=AApos, ROW(AApos)-MIN(ROW(AApos))+1, \"\"), ROW()-39)), \"\")","v":""},{"$f":"IFERROR( INDEX(entries, MATCH(AR40, gymnasts, 0), 2), \"\")","v":""},{"$f":"IFERROR(INDEX(gymnasts, SMALL(IF(VALUE(LEFT(AT$39, 1))=AApos, ROW(AApos)-MIN(ROW(AApos))+1, \"\"), ROW()-39)), \"\")","v":""},{"$f":"IFERROR( INDEX(entries, MATCH(AT40, gymnasts, 0), 2), \"\")","v":""},{"$f":"IFERROR(INDEX(gymnasts, SMALL(IF(VALUE(LEFT(AV$39, 1))=AApos, ROW(AApos)-MIN(ROW(AApos))+1, \"\"), ROW()-39)), \"\")","v":""},{"$f":"IFERROR( INDEX(entries, MATCH(AV40, gymnasts, 0), 2), \"\")","v":""},{"$f":"IFERROR(INDEX(gymnasts, SMALL(IF(VALUE(LEFT(AX$39, 1))=AApos, ROW(AApos)-MIN(ROW(AApos))+1, \"\"), ROW()-39)), \"\")","v":""},{"$f":"IFERROR( INDEX(entries, MATCH(AX40, gymnasts, 0), 2), \"\")","v":""},{"$f":"IFERROR(INDEX(gymnasts, SMALL(IF(VALUE(LEFT(AZ$39, 1))=AApos, ROW(AApos)-MIN(ROW(AApos))+1, \"\"), ROW()-39)), \"\")","v":"Mya Liddle "},{"$f":"IFERROR( INDEX(entries, MATCH(AZ40, gymnasts, 0), 2), \"\")","v":"AAAsports"},{"$f":"IFERROR(INDEX(gymnasts, SMALL(IF(VALUE(LEFT(BB$39, 1))=AApos, ROW(AApos)-MIN(ROW(AApos))+1, \"\"), ROW()-39)), \"\")","v":"Georgia Wilson"},{"$f":"IFERROR( INDEX(entries, MATCH(BB40, gymnasts, 0), 2), \"\")","v":"Richmondshire"}]
[{"$nulls":3},{"v":0,"d":"0.0"},{"v":0,"d":"0.00"},{"v":0,"d":"0.0"},{"v":0,"d":"0.00"},{"v":0,"d":"0.00"},2,38,0,2,{"v":0,"d":"0.0"},{"v":0,"d":"0.00"},2,38,0,2,{"v":0,"d":"0.0"},{"v":0,"d":"0.00"},2,38,0,2,{"v":0,"d":"0.0"},{"v":0,"d":"0.00"},2,38,0,2,{"v":0,"d":"0.0"},{"v":0,"d":"0.00"},2,38,0,2,{"v":0,"d":"0.00"},2,38,0,2,null,null,"",{"$f":"IFERROR( INDEX(entries, MATCH(AR41, gymnasts, 0), 2), \"\")","v":""},"",{"$f":"IFERROR( INDEX(entries, MATCH(AT41, gymnasts, 0), 2), \"\")","v":""},"",{"$f":"IFERROR( INDEX(entries, MATCH(AV41, gymnasts, 0), 2), \"\")","v":""},"",{"$f":"IFERROR( INDEX(entries, MATCH(AX41, gymnasts, 0), 2), \"\")","v":""},0,{"$f":"IFERROR( INDEX(entries, MATCH(AZ41, gymnasts, 0), 2), \"\")","v":""},"",""]
[{"$nulls":3},{"v":0,"d":"0.0"},{"v":0,"d":"0.00"},{"v":0,"d":"0.0"},{"v":0,"d":"0.00"},{"v":0,"d":"0.00"},2,39,0,2,{"v":0,"d":"0.0"},{"v":0,"d":"0.00"},2,39,0,2,{"v":0,"d":"0.0"},{"v":0,"d":"0.00"},2,39,0,2,{"v":0,"d":"0.0"},{"v":0,"d":"0.00"},2,39,0,2,{"v":0,"d":"0.0"},{"v":0,"d":"0.00"},2,39,0,2,{"v":0,"d":"0.00"},2,39,0,2,null,null,"","","","","","","","",0,"","",""]
[{"$nulls":3},{"v":0,"d":"0.0"},{"v":0,"d":"0.00"},{"v":0,"d":"0.0"},{"v":0,"d":"0.00"},{"v":0,"d":"0.00"},2,40,0,2,{"v":0,"d":"0.0"},{"v":0,"d":"0.00"},2,40,0,2,{"v":0,"d":"0.0"},{"v":0,"d":"0.00"},2,40,0,2,{"v":0,"d":"0.0"},{"v":0,"d":"0.00"},2,40,0,2,{"v":0,"d":"0.0"},{"v":0,"d":"0.00"},2,40,0,2,{"v":0,"d":"0.00"},2,40,0,2,null,null,"","","","","","","","",0,"","",""]
[{"$nulls":3},{"v":0,"d":"0.0"},{"v":0,"d":"0.00"},{"v":0,"d":"0.0"},{"v":0,"d":"0.00"},{"v":0,"d":"0.00"},2,41,0,2,{"v":0,"d":"0.0"},{"v":0,"d":"0.00"},2,41,0,2,{"v":0,"d":"0.0"},{"v":0,"d":"0.00"},2,41,0,2,{"v":0,"d":"0.0"},{"v":0,"d":"0.00"},2,41,0,2,{"v":0,"d":"0.0"},{"v":0,"d":"0.00"},2,41,0,2,{"v":0,"d":"0.00"},2,41,0,2,null,null,"","","","","","","","",0,"","",""]
[{"$nulls":3},{"v":0,"d":"0.0"},{"v":0,"d":"0.00"},{"v":0,"d":"0.0"},{"v":0,"d":"0.00"},{"v":0,"d":"0.00"},2,42,0,2,{"v":0,"d":"0.0"},{"v":0,"d":"0.00"},2,42,0,2,{"v":0,"d":"0.0"},{"v":0,"d":"0.00"},2,42,0,2,{"v":0,"d":"0.0"},{"v":0,"d":"0.00"},2,42,0,2,{"v":0,"d":"0.0"},{"v":0,"d":"0.00"},2,42,0,2,{"v":0,"d":"0.00"},2,42,0,2,null,null,"","","","","","","","",0,"","",""]
[{"$nulls":3},{"v":0,"d":"0.0"},{"v":0,"d":"0.00"},{"v":0,"d":"0.0"},{"v":0,"d":"0.00"},{"v":0,"d":"0.00"},2,43,0,2,{"v":0,"d":"0.0"},{"v":0,"d":"0.00"},2,43,0,2,{"v":0,"d":"0.0"},{"v":0,"d":"0.00"},2,43,0,2,{"v":0,"d":"0.0"},{"v":0,"d":"0.00"},2,43,0,2,{"v":0,"d":"0.0"},{"v":0,"d":"0.00"},2,43,0,2,{"v":0,"d":"0.00"},2,43,0,2,null,"Team","3rd place Team",{"$f":"IF(COUNTIF(AR47, 0), \"\", INDEX(teamTotals, MATCH(AR47, teams, 0)))","v":{"$error":"#N/A"}},null,null,"2nd Place Team",{"$f":"IF(COUNTIF(AV47, 0), \"\", INDEX(teamTotals, MATCH(AV47, teams, 0)))","v":{"$error":"#N/A"}},null,null,"1st Place Team",{"$f":"IF(COUNTIF(AZ47, 0), \"\", INDEX(teamTotals, MATCH(AZ47, teams, 0)))","v":{"$error":"#N/A"}}]
[{"$nulls":3},{"v":0,"d":"0.0"},{"v":0,"d":"0.00"},{"v":0,"d":"0.0"},{"v":0,"d":"0.00"},{"v":0,"d":"0.00"},2,44,0,2,{"v":0,"d":"0.0"},{"v":0,"d":"0.00"},2,44,0,2,{"v":0,"d":"0.0"},{"v":0,"d":"0.00"},2,44,0,2,{"v":0,"d":"0.0"},{"v":0,"d":"0.00"},2,44,0,2,{"v":0,"d":"0.0"},{"v":0,"d":"0.00"},2,44,0,2,{"v":0,"d":"0.00"},2,44,0,2,null,null,{"$f":"IFERROR(INDEX(teams, SMALL(IF(VALUE(LEFT(AR$46, 1))=teamPos, ROW(teamPos)-MIN(ROW(teamPos))+1, \"\"), ROW()-46)), \"\")","v":""},{"$f":"IFERROR(IF(COUNTIF(AR47, 0), \"\", INDEX(gymnasts, SMALL(IF(AR$47=club, ROW(club)-MIN(ROW(club))+1, \"\"), ROW()-46))), \"\")","v":0},null,null,{"$f":"IFERROR(INDEX(teams, SMALL(IF(VALUE(LEFT(AV$46, 1))=teamPos, ROW(teamPos)-MIN(ROW(teamPos))+1, \"\"), ROW()-46)), \"\")","v":""},{"$f":"IFERROR(IF(COUNTIF(AV47, 0), \"\", INDEX(gymnasts, SMALL(IF(AV$47=club, ROW(club)-MIN(ROW(club))+1, \"\"), ROW()-46))), \"\")","v":0},null,null,{"$f":"IFERROR(INDEX(teams, SMALL(IF(VALUE(LEFT(AZ$46, 1))=teamPos, ROW(teamPos)-MIN(ROW(teamPos))+1, \"\"), ROW()-46)), \"\")","v":""},{"$f":"IFERROR(IF(COUNTIF(AZ47, 0), \"\", INDEX(gymnasts, SMALL(IF(AZ$47=club, ROW(club)-MIN(ROW(club))+1, \"\"), ROW()-46))), \"\")","v":0}]
[{"$nulls":3},{"v":0,"d":"0.0"},{"v":0,"d":"0.00"},{"v":0,"d":"0.0"},{"v":0,"d":"0.00"},{"v":0,"d":"0.00"},2,45,0,2,{"v":0,"d":"0.0"},{"v":0,"d":"0.00"},2,45,0,2,{"v":0,"d":"0.0"},{"v":0,"d":"0.00"},2,45,0,2,{"v":0,"d":"0.0"},{"v":0,"d":"0.00"},2,45,0,2,{"v":0,"d":"0.0"},{"v":0,"d":"0.00"},2,45,0,2,{"v":0,"d":"0.00"},2,45,0,2,{"$nulls":3},{"$f":"IFERROR(IF(COUNTIF(AR48, 0), \"\", INDEX(gymnasts, SMALL(IF(AR$47=club, ROW(club)-MIN(ROW(club))+1, \"\"), ROW()-46))), \"\")","v":0},{"$nulls":3},{"$f":"IFERROR(IF(COUNTIF(AV48, 0), \"\", INDEX(gymnasts, SMALL(IF(AV$47=club, ROW(club)-MIN(ROW(club))+1, \"\"), ROW()-46))), \"\")","v":0},{"$nulls":3},{"$f":"IFERROR(IF(COUNTIF(AZ48, 0), \"\", INDEX(gymnasts, SMALL(IF(AZ$47=club, ROW(club)-MIN(ROW(club))+1, \"\"), ROW()-46))), \"\")","v":0}]
[{"$nulls":3},{"v":0,"d":"0.0"},{"v":0,"d":"0.00"},{"v":0,"d":"0.0"},{"v":0,"d":"0.00"},{"v":0,"d":"0.00"},2,46,0,2,{"v":0,"d":"0.0"},{"v":0,"d":"0.00"},2,46,0,2,{"v":0,"d":"0.0"},{"v":0,"d":"0.00"},2,46,0,2,{"v":0,"d":"0.0"},{"v":0,"d":"0.00"},2,46,0,2,{"v":0,"d":"0.0"},{"v":0,"d":"0.00"},2,46,0,2,{"v":0,"d":"0.00"},2,46,0,2,{"$nulls":3},{"$f":"IFERROR(IF(COUNTIF(AR49, 0), \"\", INDEX(gymnasts, SMALL(IF(AR$47=club, ROW(club)-MIN(ROW(club))+1, \"\"), ROW()-46))), \"\")","v":0},{"$nulls":3},{"$f":"IFERROR(IF(COUNTIF(AV49, 0), \"\", INDEX(gymnasts, SMALL(IF(AV$47=club, ROW(club)-MIN(ROW(club))+1, \"\"), ROW()-46))), \"\")","v":0},{"$nulls":3},{"$f":"IFERROR(IF(COUNTIF(AZ49, 0), \"\", INDEX(gymnasts, SMALL(IF(AZ$47=club, ROW(club)-MIN(ROW(club))+1, \"\"), ROW()-46))), \"\")","v":0}]
[{"$nulls":3},{"v":0,"d":"0.0"},{"v":0,"d":"0.00"},{"v":0,"d":"0.0"},{"v":0,"d":"0.00"},{"v":0,"d":"0.00"},2,47,0,2,{"v":0,"d":"0.0"},{"v":0,"d":"0.00"},2,47,0,2,{"v":0,"d":"0.0"},{"v":0,"d":"0.00"},2,47,0,2,{"v":0,"d":"0.0"},{"v":0,"d":"0.00"},2,47,0,2,{"v":0,"d":"0.0"},{"v":0,"d":"0.00"},2,47,0,2,{"v":0,"d":"0.00"},2,47,0,2,{"$nulls":3},{"$f":"IFERROR(IF(COUNTIF(AR50, 0), \"\", INDEX(gymnasts, SMALL(IF(AR$47=club, ROW(club)-MIN(ROW(club))+1, \"\"), ROW()-46))), \"\")","v":0},{"$nulls":3},{"$f":"IFERROR(IF(COUNTIF(AV50, 0), \"\", INDEX(gymnasts, SMALL(IF(AV$47=club, ROW(club)-MIN(ROW(club))+1, \"\"), ROW()-46))), \"\")","v":0},{"$nulls":3},{"$f":"IFERROR(IF(COUNTIF(AZ50, 0), \"\", INDEX(gymnasts, SMALL(IF(AZ$47=club, ROW(club)-MIN(ROW(club))+1, \"\"), ROW()-46))), \"\")","v":0}]
[{"$nulls":3},{"v":0,"d":"0.0"},{"v":0,"d":"0.00"},{"v":0,"d":"0.0"},{"v":0,"d":"0.00"},{"v":0,"d":"0.00"},2,48,0,2,{"v":0,"d":"0.0"},{"v":0,"d":"0.00"},2,48,0,2,{"v":0,"d":"0.0"},{"v":0,"d":"0.00"},2,48,0,2,{"v":0,"d":"0.0"},{"v":0,"d":"0.00"},2,48,0,2,{"v":0,"d":"0.0"},{"v":0,"d":"0.00"},2,48,0,2,{"v":0,"d":"0.00"},2,48,0,2,{"$nulls":3},{"$f":"IFERROR(IF(COUNTIF(AR51, 0), \"\", INDEX(gymnasts, SMALL(IF(AR$47=club, ROW(club)-MIN(ROW(club))+1, \"\"), ROW()-46))), \"\")","v":0},{"$nulls":3},{"$f":"IFERROR(IF(COUNTIF(AV51, 0), \"\", INDEX(gymnasts, SMALL(IF(AV$47=club, ROW(club)-MIN(ROW(club))+1, \"\"), ROW()-46))), \"\")","v":0},{"$nulls":3},{"$f":"IFERROR(IF(COUNTIF(AZ51, 0), \"\", INDEX(gymnasts, SMALL(IF(AZ$47=club, ROW(club)-MIN(ROW(club))+1, \"\"), ROW()-46))), \"\")","v":0}]
[{"$nulls":3},{"v":0,"d":"0.0"},{"v":0,"d":"0.00"},{"v":0,"d":"0.0"},{"v":0,"d":"0.00"},{"v":0,"d":"0.00"},2,49,0,2,{"v":0,"d":"0.0"},{"v":0,"d":"0.00"},2,49,0,2,{"v":0,"d":"0.0"},{"v":0,"d":"0.00"},2,49,0,2,{"v":0,"d":"0.0"},{"v":0,"d":"0.00"},2,49,0,2,{"v":0,"d":"0.0"},{"v":0,"d":"0.00"},2,49,0,2,{"v":0,"d":"0.00"},2,49,0,2,null,null,{"$f":"IFERROR(INDEX(teams, SMALL(IF(VALUE(LEFT(AR$46, 1))=teamPos, ROW(teamPos)-MIN(ROW(teamPos))+1, \"\"), ROW()-50)), \"\")","v":""},{"$f":"IFERROR(IF(COUNTIF(AR$52, 0), \"\", INDEX(gymnasts, SMALL(IF(AR$52=club, ROW(club)-MIN(ROW(club))+1, \"\"), ROW()-51))), \"\")","v":0},null,null,{"$f":"IFERROR(INDEX(teams, SMALL(IF(VALUE(LEFT(AV$46, 1))=teamPos, ROW(teamPos)-MIN(ROW(teamPos))+1, \"\"), ROW()-50)), \"\")","v":""},{"$f":"IFERROR(IF(COUNTIF(AV$52, 0), \"\", INDEX(gymnasts, SMALL(IF(AV$52=club, ROW(club)-MIN(ROW(club))+1, \"\"), ROW()-51))), \"\")","v":0},null,null,{"$f":"IFERROR(INDEX(teams, SMALL(IF(VALUE(LEFT(AZ$46, 1))=teamPos, ROW(teamPos)-MIN(ROW(teamPos))+1, \"\"), ROW()-50)), \"\")","v":""},{"$f":"IFERROR(IF(COUNTIF(AZ$52, 0), \"\", INDEX(gymnasts, SMALL(IF(AZ$52=club, ROW(club)-MIN(ROW(club))+1, \"\"), ROW()-51))), \"\")","v":0}]
[{"$nulls":3},{"v":0,"d":"0.0"},{"v":0,"d":"0.00"},{"v":0,"d":"0.0"},{"v":0,"d":"0.00"},{"v":0,"d":"0.00"},2,50,0,2,{"v":0,"d":"0.0"},{"v":0,"d":"0.00"},2,50,0,2,{"v":0,"d":"0.0"},{"v":0,"d":"0.00"},2,50,0,2,{"v":0,"d":"0.0"},{"v":0,"d":"0.00"},2,50,0,2,{"v":0,"d":"0.0"},{"v":0,"d":"0.00"},2,50,0,2,{"v":0,"d":"0.00"},2,50,0,2,{"$nulls":3},{"$f":"IFERROR(IF(COUNTIF(AR$52, 0), \"\", INDEX(gymnasts, SMALL(IF(AR$52=club, ROW(club)-MIN(ROW(club))+1, \"\"), ROW()-51))), \"\")","v":0},{"$nulls":3},{"$f":"IFERROR(IF(COUNTIF(AV$52, 0), \"\", INDEX(gymnasts, SMALL(IF(AV$52=club, ROW(club)-MIN(ROW(club))+1, \"\"), ROW()-51))), \"\")","v":0},{"$nulls":3},{"$f":"IFERROR(IF(COUNTIF(AZ$52, 0), \"\", INDEX(gymnasts, SMALL(IF(AZ$52=club, ROW(club)-MIN(ROW(club))+1, \"\"), ROW()-51))), \"\")","v":0}]
[{"$nulls":3},{"v":0,"d":"0.0"},{"v":0,"d":"0.00"},{"v":0,"d":"0.0"},{"v":0,"d":"0.00"},{"v":0,"d":"0.00"},2,51,0,2,{"v":0,"d":"0.0"},{"v":0,"d":"0.00"},2,51,0,2,{"v":0,"d":"0.0"},{"v":0,"d":"0.00"},2,51,0,2,{"v":0,"d":"0.0"},{"v":0,"d":"0.00"},2,51,0,2,{"v":0,"d":"0.0"},{"v":0,"d":"0.00"},2,51,0,2,{"v":0,"d":"0.00"},2,51,0,2,{"$nulls":3},{"$f":"IFERROR(IF(COUNTIF(AR$52, 0), \"\", INDEX(gymnasts, SMALL(IF(AR$52=club, ROW(club)-MIN(ROW(club))+1, \"\"), ROW()-51))), \"\")","v":0},{"$nulls":3},{"$f":"IFERROR(IF(COUNTIF(AV$52, 0), \"\", INDEX(gymnasts, SMALL(IF(AV$52=club, ROW(club)-MIN(ROW(club))+1, \"\"), ROW()-51))), \"\")","v":0},{"$nulls":3},{"$f":"IFERROR(IF(COUNTIF(AZ$52, 0), \"\", INDEX(gymnasts, SMALL(IF(AZ$52=club, ROW(club)-MIN(ROW(club))+1, \"\"), ROW()-51))), \"\")","v":0}]
[{"$nulls":3},{"v":0,"d":"0.0"},{"v":0,"d":"0.00"},{"v":0,"d":"0.0"},{"v":0,"d":"0.00"},{"v":0,"d":"0.00"},2,52,0,2,{"v":0,"d":"0.0"},{"v":0,"d":"0.00"},2,52,0,2,{"v":0,"d":"0.0"},{"v":0,"d":"0.00"},2,52,0,2,{"v":0,"d":"0.0"},{"v":0,"d":"0.00"},2,52,0,2,{"v":0,"d":"0.0"},{"v":0,"d":"0.00"},2,52,0,2,{"v":0,"d":"0.00"},2,52,0,2,{"$nulls":3},{"$f":"IFERROR(IF(COUNTIF(AR$52, 0), \"\", INDEX(gymnasts, SMALL(IF(AR$52=club, ROW(club)-MIN(ROW(club))+1, \"\"), ROW()-51))), \"\")","v":0},{"$nulls":3},{"$f":"IFERROR(IF(COUNTIF(AV$52, 0), \"\", INDEX(gymnasts, SMALL(IF(AV$52=club, ROW(club)-MIN(ROW(club))+1, \"\"), ROW()-51))), \"\")","v":0},{"$nulls":3},{"$f":"IFERROR(IF(COUNTIF(AZ$52, 0), \"\", INDEX(gymnasts, SMALL(IF(AZ$52=club, ROW(club)-MIN(ROW(club))+1, \"\"), ROW()-51))), \"\")","v":0}]
[{"$nulls":3},{"v":0,"d":"0.0"},{"v":0,"d":"0.00"},{"v":0,"d":"0.0"},{"v":0,"d":"0.00"},{"v":0,"d":"0.00"},2,53,0,2,{"v":0,"d":"0.0"},{"v":0,"d":"0.00"},2,53,0,2,{"v":0,"d":"0.0"},{"v":0,"d":"0.00"},2,53,0,2,{"v":0,"d":"0.0"},{"v":0,"d":"0.00"},2,53,0,2,{"v":0,"d":"0.0"},{"v":0,"d":"0.00"},2,53,0,2,{"v":0,"d":"0.00"},2,53,0,2,{"$nulls":3},{"$f":"IFERROR(IF(ISTEXT(AR$52), INDEX(gymnasts, SMALL(IF(AR$52=club, ROW(club)-MIN(ROW(club))+1, \"\"), ROW()-51)), \"\"), \"\")","v":0},{"$nulls":3},{"$f":"IFERROR(IF(ISTEXT(AV$52), INDEX(gymnasts, SMALL(IF(AV$52=club, ROW(club)-MIN(ROW(club))+1, \"\"), ROW()-51)), \"\"), \"\")","v":0},{"$nulls":3},{"$f":"IFERROR(IF(ISTEXT(AZ$52), INDEX(gymnasts, SMALL(IF(AZ$52=club, ROW(club)-MIN(ROW(club))+1, \"\"), ROW()-51)), \"\"), \"\")","v":0}]
[{"$nulls":3},{"v":0,"d":"0.0"},{"v":0,"d":"0.00"},{"v":0,"d":"0.0"},{"v":0,"d":"0.00"},{"v":0,"d":"0.00"},2,54,0,2,{"v":0,"d":"0.0"},{"v":0,"d":"0.00"},2,54,0,2,{"v":0,"d":"0.0"},{"v":0,"d":"0.00"},2,54,0,2,{"v":0,"d":"0.0"},{"v":0,"d":"0.00"},2,54,0,2,{"v":0,"d":"0.0"},{"v":0,"d":"0.00"},2,54,0,2,{"v":0,"d":"0.00"},2,54,0,2]
[{"$nulls":3},{"v":0,"d":"0.0"},{"v":0,"d":"0.00"},{"v":0,"d":"0.0"},{"v":0,"d":"0.00"},{"v":0,"d":"0.00"},2,55,0,2,{"v":0,"d":"0.0"},{"v":0,"d":"0.00"},2,55,0,2,{"v":0,"d":"0.0"},{"v":0,"d":"0.00"},2,55,0,2,{"v":0,"d":"0.0"},{"v":0,"d":"0.00"},2,55,0,2,{"v":0,"d":"0.0"},{"v":0,"d":"0.00"},2,55,0,2,{"v":0,"d":"0.00"},2,55,0,2]
[{"$nulls":3},{"v":0,"d":"0.0"},{"v":0,"d":"0.00"},{"v":0,"d":"0.0"},{"v":0,"d":"0.00"},{"v":0,"d":"0.00"},2,56,0,2,{"v":0,"d":"0.0"},{"v":0,"d":"0.00"},2,56,0,2,{"v":0,"d":"0.0"},{"v":0,"d":"0.00"},2,56,0,2,{"v":0,"d":"0.0"},{"v":0,"d":"0.00"},2,56,0,2,{"v":0,"d":"0.0"},{"v":0,"d":"0.00"},2,56,0,2,{"v":0,"d":"0.00"},2,56,0,2]
[{"$nulls":3},{"v":0,"d":"0.0"},{"v":0,"d":"0.00"},{"v":0,"d":"0.0"},{"v":0,"d":"0.00"},{"v":0,"d":"0.00"},2,57,0,2,{"v":0,"d":"0.0"},{"v":0,"d":"0.00"},2,57,0,2,{"v":0,"d":"0.0"},{"v":0,"d":"0.00"},2,57,0,2,{"v":0,"d":"0.0"},{"v":0,"d":"0.00"},2,57,0,2,{"v":0,"d":"0.0"},{"v":0,"d":"0.00"},2,57,0,2,{"v":0,"d":"0.00"},2,57,0,2]
[{"$nulls":3},{"v":0,"d":"0.0"},{"v":0,"d":"0.00"},{"v":0,"d":"0.0"},{"v":0,"d":"0.00"},{"v":0,"d":"0.00"},2,58,0,2,{"v":0,"d":"0.0"},{"v":0,"d":"0.00"},2,58,0,2,{"v":0,"d":"0.0"},{"v":0,"d":"0.00"},2,58,0,2,{"v":0,"d":"0.0"},{"v":0,"d":"0.00"},2,58,0,2,{"v":0,"d":"0.0"},{"v":0,"d":"0.00"},2,58,0,2,{"v":0,"d":"0.00"},2,58,0,2]
[{"$nulls":3},{"v":0,"d":"0.0"},{"v":0,"d":"0.00"},{"v":0,"d":"0.0"},{"v":0,"d":"0.00"},{"v":0,"d":"0.00"},2,59,0,2,{"v":0,"d":"0.0"},{"v":0,"d":"0.00"},2,59,0,2,{"v":0,"d":"0.0"},{"v":0,"d":"0.00"},2,59,0,2,{"v":0,"d":"0.0"},{"v":0,"d":"0.00"},2,59,0,2,{"v":0,"d":"0.0"},{"v":0,"d":"0.00"},2,59,0,2,{"v":0,"d":"0.00"},2,59,0,2]
[{"$nulls":3},{"v":0,"d":"0.0"},{"v":0,"d":"0.00"},{"v":0,"d":"0.0"},{"v":0,"d":"0.00"},{"v":0,"d":"0.00"},2,60,0,2,{"v":0,"d":"0.0"},{"v":0,"d":"0.00"},2,60,0,2,{"v":0,"d":"0.0"},{"v":0,"d":"0.00"},2,60,0,2,{"v":0,"d":"0.0"},{"v":0,"d":"0.00"},2,60,0,2,{"v":0,"d":"0.0"},{"v":0,"d":"0.00"},2,60,0,2,{"v":0,"d":"0.00"},2,60,0,2]
[{"$nulls":3},{"v":0,"d":"0.0"},{"v":0,"d":"0.00"},{"v":0,"d":"0.0"},{"v":0,"d":"0.00"},{"v":0,"d":"0.00"},2,61,0,2,{"v":0,"d":"0.0"},{"v":0,"d":"0.00"},2,61,0,2,{"v":0,"d":"0.0"},{"v":0,"d":"0.00"},2,61,0,2,{"v":0,"d":"0.0"},{"v":0,"d":"0.00"},2,61,0,2,{"v":0,"d":"0.0"},{"v":0,"d":"0.00"},2,61,0,2,{"v":0,"d":"0.00"},2,61,0,2]
[{"$nulls":3},{"v":0,"d":"0.0"},{"v":0,"d":"0.00"},{"v":0,"d":"0.0"},{"v":0,"d":"0.00"},{"v":0,"d":"0.00"},2,62,0,2,{"v":0,"d":"0.0"},{"v":0,"d":"0.00"},2,62,0,2,{"v":0,"d":"0.0"},{"v":0,"d":"0.00"},2,62,0,2,{"v":0,"d":"0.0"},{"v":0,"d":"0.00"},2,62,0,2,{"v":0,"d":"0.0"},{"v":0,"d":"0.00"},2,62,0,2,{"v":0,"d":"0.00"},2,62,0,2]
[null,"Teams"]
[null,{"$f":"IF(AND(COUNTIF(club,C67)>=3,COUNTIF(club,C67)<=5),\"TEAM\",IF(COUNTIF(club,C67)>5,\"Too Many!!!!!\",\"NO TEAM\"))","v":"NO TEAM"},{"$nulls":5},{"$f":"IF($B67=\"NO TEAM\", 0, SUM(LARGE(IF(club=$C67, vault), ROW($1:$3))))","v":{"v":0,"d":"0.00"}},{"$nulls":5},{"$f":"IF($B67=\"NO TEAM\", 0, SUM(LARGE(IF(club=$C67, bars), ROW($1:$3))))","v":{"v":0,"d":"0.00"}},{"$nulls":5},{"$f":"IF($B67=\"NO TEAM\", 0, SUM(LARGE(IF(club=$C67, beam), ROW($1:$3))))","v":{"v":0,"d":"0.00"}},{"$nulls":5},{"$f":"IF($B67=\"NO TEAM\", 0, SUM(LARGE(IF(club=$C67, floor), ROW($1:$3))))","v":{"v":0,"d":"0.00"}},{"$nulls":5},{"$f":"IF($B67=\"NO TEAM\", 0, SUM(LARGE(IF(club=$C67, range), ROW($1:$3))))","v":{"v":0,"d":"0.00"}},{"$nulls":4},{"$f":"IF(B67=\"TEAM\", SUMIF(D$2:AJ$2, \"SCORE\", D67:AJ67), 0)","v":{"v":0,"d":"0.00"}},{"$f":"VLOOKUP(AK67,AN$67:AO$81, 2,FALSE)","v":0},{"$f":"IF(ISNUMBER(AM66), AM66+1, 1)","v":1},{"$f":"LARGE((AK$67:AK$81), $AM67)","v":0},{"$f":"IF(AN67=AN66, AO66, AO66+1)","v":0}]
[null,{"$f":"IF(AND(COUNTIF(club,C68)>=3,COUNTIF(club,C68)<=5),\"TEAM\",IF(COUNTIF(club,C68)>5,\"Too Many!!!!!\",\"NO TEAM\"))","v":"NO TEAM"},{"$nulls":5},{"$f":"IF($B68=\"NO TEAM\", 0, SUM(LARGE(IF(club=$C68, vault), ROW($1:$3))))","v":{"v":0,"d":"0.00"}},{"$nulls":5},{"$f":"IF($B68=\"NO TEAM\", 0, SUM(LARGE(IF(club=$C68, bars), ROW($1:$3))))","v":{"v":0,"d":"0.00"}},{"$nulls":5},{"$f":"IF($B68=\"NO TEAM\", 0, SUM(LARGE(IF(club=$C68, beam), ROW($1:$3))))","v":{"v":0,"d":"0.00"}},{"$nulls":5},{"$f":"IF($B68=\"NO TEAM\", 0, SUM(LARGE(IF(club=$C68, floor), ROW($1:$3))))","v":{"v":0,"d":"0.00"}},{"$nulls":5},{"$f":"IF($B68=\"NO TEAM\", 0, SUM(LARGE(IF(club=$C68, range), ROW($1:$3))))","v":{"v":0,"d":"0.00"}},{"$nulls":4},{"v":0,"d":"0.00"},{"$f":"VLOOKUP(AK68,AN$67:AO$81, 2,FALSE)","v":0},{"$f":"IF(ISNUMBER(AM67), AM67+1, 1)","v":2},{"$f":"LARGE((AK$67:AK$81), $AM68)","v":0},{"$f":"IF(AN68=AN67, AO67, AO67+1)","v":0}]
[null,{"$f":"IF(AND(COUNTIF(club,C69)>=3,COUNTIF(club,C69)<=5),\"TEAM\",IF(COUNTIF(club,C69)>5,\"Too Many!!!!!\",\"NO TEAM\"))","v":"NO TEAM"},{"$nulls":5},{"$f":"IF($B69=\"NO TEAM\", 0, SUM(LARGE(IF(club=$C69, vault), ROW($1:$3))))","v":{"v":0,"d":"0.00"}},{"$nulls":5},{"$f":"IF($B69=\"NO TEAM\", 0, SUM(LARGE(IF(club=$C69, bars), ROW($1:$3))))","v":{"v":0,"d":"0.00"}},{"$nulls":5},{"$f":"IF($B69=\"NO TEAM\", 0, SUM(LARGE(IF(club=$C69, beam), ROW($1:$3))))","v":{"v":0,"d":"0.00"}},{"$nulls":5},{"$f":"IF($B69=\"NO TEAM\", 0, SUM(LARGE(IF(club=$C69, floor), ROW($1:$3))))","v":{"v":0,"d":"0.00"}},{"$nulls":5},{"$f":"IF($B69=\"NO TEAM\", 0, SUM(LARGE(IF(club=$C69, range), ROW($1:$3))))","v":{"v":0,"d":"0.00"}},{"$nulls":4},{"v":0,"d":"0.00"},0,3,0,0]
[null,{"$f":"IF(AND(COUNTIF(club,C70)>=3,COUNTIF(club,C70)<=5),\"TEAM\",IF(COUNTIF(club,C70)>5,\"Too Many!!!!!\",\"NO TEAM\"))","v":"NO TEAM"},{"$nulls":5},{"$f":"IF($B70=\"NO TEAM\", 0, SUM(LARGE(IF(club=$C70, vault), ROW($1:$3))))","v":{"v":0,"d":"0.00"}},{"$nulls":5},{"$f":"IF($B70=\"NO TEAM\", 0, SUM(LARGE(IF(club=$C70, bars), ROW($1:$3))))","v":{"v":0,"d":"0.00"}},{"$nulls":5},{"$f":"IF($B70=\"NO TEAM\", 0, SUM(LARGE(IF(club=$C70, beam), ROW($1:$3))))","v":{"v":0,"d":"0.00"}},{"$nulls":5},{"$f":"IF($B70=\"NO TEAM\", 0, SUM(LARGE(IF(club=$C70, floor), ROW($1:$3))))","v":{"v":0,"d":"0.00"}},{"$nulls":5},{"$f":"IF($B70=\"NO TEAM\", 0, SUM(LARGE(IF(club=$C70, range), ROW($1:$3))))","v":{"v":0,"d":"0.00"}},{"$nulls":4},{"v":0,"d":"0.00"},0,4,0,0]
[null,{"$f":"IF(AND(COUNTIF(club,C71)>=3,COUNTIF(club,C71)<=5),\"TEAM\",IF(COUNTIF(club,C71)>5,\"Too Many!!!!!\",\"NO TEAM\"))","v":"NO TEAM"},{"$nulls":5},{"$f":"IF($B71=\"NO TEAM\", 0, SUM(LARGE(IF(club=$C71, vault), ROW($1:$3))))","v":{"v":0,"d":"0.00"}},{"$nulls":5},{"$f":"IF($B71=\"NO TEAM\", 0, SUM(LARGE(IF(club=$C71, bars), ROW($1:$3))))","v":{"v":0,"d":"0.00"}},{"$nulls":5},{"$f":"IF($B71=\"NO TEAM\", 0, SUM(LARGE(IF(club=$C71, beam), ROW($1:$3))))","v":{"v":0,"d":"0.00"}},{"$nulls":5},{"$f":"IF($B71=\"NO TEAM\", 0, SUM(LARGE(IF(club=$C71, floor), ROW($1:$3))))","v":{"v":0,"d":"0.00"}},{"$nulls":5},{"$f":"IF($B71=\"NO TEAM\", 0, SUM(LARGE(IF(club=$C71, range), ROW($1:$3))))","v":{"v":0,"d":"0.00"}},{"$nulls":4},{"v":0,"d":"0.00"},0,5,0,0]
[null,{"$f":"IF(AND(COUNTIF(club,C72)>=3,COUNTIF(club,C72)<=5),\"TEAM\",IF(COUNTIF(club,C72)>5,\"Too Many!!!!!\",\"NO TEAM\"))","v":"NO TEAM"},{"$nulls":5},{"$f":"IF($B72=\"NO TEAM\", 0, SUM(LARGE(IF(club=$C72, vault), ROW($1:$3))))","v":{"v":0,"d":"0.00"}},{"$nulls":5},{"$f":"IF($B72=\"NO TEAM\", 0, SUM(LARGE(IF(club=$C72, bars), ROW($1:$3))))","v":{"v":0,"d":"0.00"}},{"$nulls":5},{"$f":"IF($B72=\"NO TEAM\", 0, SUM(LARGE(IF(club=$C72, beam), ROW($1:$3))))","v":{"v":0,"d":"0.00"}},{"$nulls":5},{"$f":"IF($B72=\"NO TEAM\", 0, SUM(LARGE(IF(club=$C72, floor), ROW($1:$3))))","v":{"v":0,"d":"0.00"}},{"$nulls":5},{"$f":"IF($B72=\"NO TEAM\", 0, SUM(LARGE(IF(club=$C72, range), ROW($1:$3))))","v":{"v":0,"d":"0.00"}},{"$nulls":4},{"v":0,"d":"0.00"},0,6,0,0]
[null,{"$f":"IF(AND(COUNTIF(club,C73)>=3,COUNTIF(club,C73)<=5),\"TEAM\",IF(COUNTIF(club,C73)>5,\"Too Many!!!!!\",\"NO TEAM\"))","v":"NO TEAM"},{"$nulls":5},{"$f":"IF($B73=\"NO TEAM\", 0, SUM(LARGE(IF(club=$C73, vault), ROW($1:$3))))","v":{"v":0,"d":"0.00"}},{"$nulls":5},{"$f":"IF($B73=\"NO TEAM\", 0, SUM(LARGE(IF(club=$C73, bars), ROW($1:$3))))","v":{"v":0,"d":"0.00"}},{"$nulls":5},{"$f":"IF($B73=\"NO TEAM\", 0, SUM(LARGE(IF(club=$C73, beam), ROW($1:$3))))","v":{"v":0,"d":"0.00"}},{"$nulls":5},{"$f":"IF($B73=\"NO TEAM\", 0, SUM(LARGE(IF(club=$C73, floor), ROW($1:$3))))","v":{"v":0,"d":"0.00"}},{"$nulls":5},{"$f":"IF($B73=\"NO TEAM\", 0, SUM(LARGE(IF(club=$C73, range), ROW($1:$3))))","v":{"v":0,"d":"0.00"}},{"$nulls":4},{"v":0,"d":"0.00"},0,7,0,0]
[null,{"$f":"IF(AND(COUNTIF(club,C74)>=3,COUNTIF(club,C74)<=5),\"TEAM\",IF(COUNTIF(club,C74)>5,\"Too Many!!!!!\",\"NO TEAM\"))","v":"NO TEAM"},{"$nulls":5},{"$f":"IF($B74=\"NO TEAM\", 0, SUM(LARGE(IF(club=$C74, vault), ROW($1:$3))))","v":{"v":0,"d":"0.00"}},{"$nulls":5},{"$f":"IF($B74=\"NO TEAM\", 0, SUM(LARGE(IF(club=$C74, bars), ROW($1:$3))))","v":{"v":0,"d":"0.00"}},{"$nulls":5},{"$f":"IF($B74=\"NO TEAM\", 0, SUM(LARGE(IF(club=$C74, beam), ROW($1:$3))))","v":{"v":0,"d":"0.00"}},{"$nulls":5},{"$f":"IF($B74=\"NO TEAM\", 0, SUM(LARGE(IF(club=$C74, floor), ROW($1:$3))))","v":{"v":0,"d":"0.00"}},{"$nulls":5},{"$f":"IF($B74=\"NO TEAM\", 0, SUM(LARGE(IF(club=$C74, range), ROW($1:$3))))","v":{"v":0,"d":"0.00"}},{"$nulls":4},{"v":0,"d":"0.00"},0,8,0,0]
[null,{"$f":"IF(AND(COUNTIF(club,C75)>=3,COUNTIF(club,C75)<=5),\"TEAM\",IF(COUNTIF(club,C75)>5,\"Too Many!!!!!\",\"NO TEAM\"))","v":"NO TEAM"},{"$nulls":5},{"$f":"IF($B75=\"NO TEAM\", 0, SUM(LARGE(IF(club=$C75, vault), ROW($1:$3))))","v":{"v":0,"d":"0.00"}},{"$nulls":5},{"$f":"IF($B75=\"NO TEAM\", 0, SUM(LARGE(IF(club=$C75, bars), ROW($1:$3))))","v":{"v":0,"d":"0.00"}},{"$nulls":5},{"$f":"IF($B75=\"NO TEAM\", 0, SUM(LARGE(IF(club=$C75, beam), ROW($1:$3))))","v":{"v":0,"d":"0.00"}},{"$nulls":5},{"$f":"IF($B75=\"NO TEAM\", 0, SUM(LARGE(IF(club=$C75, floor), ROW($1:$3))))","v":{"v":0,"d":"0.00"}},{"$nulls":5},{"$f":"IF($B75=\"NO TEAM\", 0, SUM(LARGE(IF(club=$C75, range), ROW($1:$3))))","v":{"v":0,"d":"0.00"}},{"$nulls":4},{"v":0,"d":"0.00"},0,9,0,0]
[null,{"$f":"IF(AND(COUNTIF(club,C76)>=3,COUNTIF(club,C76)<=5),\"TEAM\",IF(COUNTIF(club,C76)>5,\"Too Many!!!!!\",\"NO TEAM\"))","v":"NO TEAM"},{"$nulls":5},{"$f":"IF($B76=\"NO TEAM\", 0, SUM(LARGE(IF(club=$C76, vault), ROW($1:$3))))","v":{"v":0,"d":"0.00"}},{"$nulls":5},{"$f":"IF($B76=\"NO TEAM\", 0, SUM(LARGE(IF(club=$C76, bars), ROW($1:$3))))","v":{"v":0,"d":"0.00"}},{"$nulls":5},{"$f":"IF($B76=\"NO TEAM\", 0, SUM(LARGE(IF(club=$C76, beam), ROW($1:$3))))","v":{"v":0,"d":"0.00"}},{"$nulls":5},{"$f":"IF($B76=\"NO TEAM\", 0, SUM(LARGE(IF(club=$C76, floor), ROW($1:$3))))","v":{"v":0,"d":"0.00"}},{"$nulls":5},{"$f":"IF($B76=\"NO TEAM\", 0, SUM(LARGE(IF(club=$C76, range), ROW($1:$3))))","v":{"v":0,"d":"0.00"}},{"$nulls":4},{"v":0,"d":"0.00"},0,10,0,0]
[null,{"$f":"IF(AND(COUNTIF(club,C77)>=3,COUNTIF(club,C77)<=5),\"TEAM\",IF(COUNTIF(club,C77)>5,\"Too Many!!!!!\",\"NO TEAM\"))","v":"NO TEAM"},{"$nulls":5},{"$f":"IF($B77=\"NO TEAM\", 0, SUM(LARGE(IF(club=$C77, vault), ROW($1:$3))))","v":{"v":0,"d":"0.00"}},{"$nulls":5},{"$f":"IF($B77=\"NO TEAM\", 0, SUM(LARGE(IF(club=$C77, bars), ROW($1:$3))))","v":{"v":0,"d":"0.00"}},{"$nulls":5},{"$f":"IF($B77=\"NO TEAM\", 0, SUM(LARGE(IF(club=$C77, beam), ROW($1:$3))))","v":{"v":0,"d":"0.00"}},{"$nulls":5},{"$f":"IF($B77=\"NO TEAM\", 0, SUM(LARGE(IF(club=$C77, floor), ROW($1:$3))))","v":{"v":0,"d":"0.00"}},{"$nulls":5},{"$f":"IF($B77=\"NO TEAM\", 0, SUM(LARGE(IF(club=$C77, range), ROW($1:$3))))","v":{"v":0,"d":"0.00"}},{"$nulls":4},{"v":0,"d":"0.00"},0,11,0,0]
[null,{"$f":"IF(AND(COUNTIF(club,C78)>=3,COUNTIF(club,C78)<=5),\"TEAM\",IF(COUNTIF(club,C78)>5,\"Too Many!!!!!\",\"NO TEAM\"))","v":"NO TEAM"},{"$nulls":5},{"$f":"IF($B78=\"NO TEAM\", 0, SUM(LARGE(IF(club=$C78, vault), ROW($1:$3))))","v":{"v":0,"d":"0.00"}},{"$nulls":5},{"$f":"IF($B78=\"NO TEAM\", 0, SUM(LARGE(IF(club=$C78, bars), ROW($1:$3))))","v":{"v":0,"d":"0.00"}},{"$nulls":5},{"$f":"IF($B78=\"NO TEAM\", 0, SUM(LARGE(IF(club=$C78, beam), ROW($1:$3))))","v":{"v":0,"d":"0.00"}},{"$nulls":5},{"$f":"IF($B78=\"NO TEAM\", 0, SUM(LARGE(IF(club=$C78, floor), ROW($1:$3))))","v":{"v":0,"d":"0.00"}},{"$nulls":5},{"$f":"IF($B78=\"NO TEAM\", 0, SUM(LARGE(IF(club=$C78, range), ROW($1:$3))))","v":{"v":0,"d":"0.00"}},{"$nulls":4},{"v":0,"d":"0.00"},0,12,0,0]
[null,{"$f":"IF(AND(COUNTIF(club,C79)>=3,COUNTIF(club,C79)<=5),\"TEAM\",IF(COUNTIF(club,C79)>5,\"Too Many!!!!!\",\"NO TEAM\"))","v":"NO TEAM"},{"$nulls":5},{"$f":"IF($B79=\"NO TEAM\", 0, SUM(LARGE(IF(club=$C79, vault), ROW($1:$3))))","v":{"v":0,"d":"0.00"}},{"$nulls":5},{"$f":"SUM(LARGE(IF(club=$C79, bars), ROW($1:$3)))","v":{"v":0,"d":"0.00"}},{"$nulls":5},{"$f":"SUM(LARGE(IF(club=$C79, beam), ROW($1:$3)))","v":{"v":0,"d":"0.00"}},{"$nulls":5},{"$f":"SUM(LARGE(IF(club=$C79, floor), ROW($1:$3)))","v":{"v":0,"d":"0.00"}},{"$nulls":5},{"$f":"SUM(LARGE(IF(club=$C79, range), ROW($1:$3)))","v":{"v":0,"d":"0.00"}},{"$nulls":4},{"v":0,"d":"0.00"},0,13,0,0]
[null,{"$f":"IF(AND(COUNTIF(club,C80)>=3,COUNTIF(club,C80)<=5),\"TEAM\",IF(COUNTIF(club,C80)>5,\"Too Many!!!!!\",\"NO TEAM\"))","v":"NO TEAM"},{"$nulls":5},{"$f":"IF($B80=\"NO TEAM\", 0, SUM(LARGE(IF(club=$C80, vault), ROW($1:$3))))","v":{"v":0,"d":"0.00"}},{"$nulls":5},{"$f":"SUM(LARGE(IF(club=$C80, bars), ROW($1:$3)))","v":{"v":0,"d":"0.00"}},{"$nulls":5},{"$f":"SUM(LARGE(IF(club=$C80, beam), ROW($1:$3)))","v":{"v":0,"d":"0.00"}},{"$nulls":5},{"$f":"SUM(LARGE(IF(club=$C80, floor), ROW($1:$3)))","v":{"v":0,"d":"0.00"}},{"$nulls":5},{"$f":"SUM(LARGE(IF(club=$C80, range), ROW($1:$3)))","v":{"v":0,"d":"0.00"}},{"$nulls":4},{"v":0,"d":"0.00"},0,14,0,0]
[null,{"$f":"IF(AND(COUNTIF(club,C81)>=3,COUNTIF(club,C81)<=5),\"TEAM\",IF(COUNTIF(club,C81)>5,\"Too Many!!!!!\",\"NO TEAM\"))","v":"NO TEAM"},{"$nulls":5},{"$f":"IF($B81=\"NO TEAM\", 0, SUM(LARGE(IF(club=$C81, vault), ROW($1:$3))))","v":{"v":0,"d":"0.00"}},{"$nulls":5},{"$f":"SUM(LARGE(IF(club=$C81, bars), ROW($1:$3)))","v":{"v":0,"d":"0.00"}},{"$nulls":5},{"$f":"SUM(LARGE(IF(club=$C81, beam), ROW($1:$3)))","v":{"v":0,"d":"0.00"}},{"$nulls":5},{"$f":"SUM(LARGE(IF(club=$C81, floor), ROW($1:$3)))","v":{"v":0,"d":"0.00"}},{"$nulls":5},{"$f":"SUM(LARGE(IF(club=$C81, range), ROW($1:$3)))","v":{"v":0,"d":"0.00"}},{"$nulls":4},{"v":0,"d":"0.00"},0,15,0,0]

{"sheet":"CGr 5 9yrs","index":4,"n_rows":81,"n_cols":55,"rows_kept":81,"merged":[[0,3,0,8],[0,12,0,14],[0,18,0,20],[0,24,0,26],[0,30,0,32],[0,36,0,37],[2,45,2,54],[45,44,45,45],[45,48,45,49],[45,52,45,53],[56,44,56,45]]}
[{"$nulls":3},"VAULT",{"$nulls":8},"BARS",{"$nulls":5},"BEAM",{"$nulls":5},"FLOOR",{"$nulls":5},"RANGE",{"$nulls":5},"AA"]
["No","GYMNAST","CLUB","V1 SV","V1","V2 SV","V2","SCORE","POS","idx","sort","ties","SV","SCORE","POS","idx","sort","ties","SV","SCORE","POS","idx","sort","ties","SV","SCORE","POS","idx","sort","ties","SV","SCORE","POS","idx","sort","ties","TOTAL","POS","idx","sort","ties"]
[null,"Club Grade 5 - 9 years",{"$nulls":41},{"$f":"B3","v":"Club Grade 5 - 9 years"},null,"summary results for presentation"]
[56,"Millie Alcock","Carlisle",{"v":4,"d":"4.0"},{"v":12,"d":"12.00"},{"v":0,"d":"0.0"},{"v":0,"d":"0.00"},{"$f":"MAX(E4, G4)","v":{"v":12,"d":"12.00"}},{"$f":"VLOOKUP(H4, K$4:L$65, 2,FALSE)","v":9},{"$f":"IF(ISNUMBER(J3), J3+1, 1)","v":1},{"$f":"LARGE(H$4:H$65,J4)","v":12.75},{"$f":"IF(K4=K3, L3, L3+1)","v":1},{"v":4,"d":"4.0"},{"v":11.5,"d":"11.50"},{"$f":"VLOOKUP(N4, Q$4:R$65, 2,FALSE)","v":6},{"$f":"IF(ISNUMBER(P3), P3+1, 1)","v":1},{"$f":"LARGE(N$4:N$65,P4)","v":13.05},{"$f":"IF(Q4=Q3, R3, R3+1)","v":1},{"v":4,"d":"4.0"},{"v":11.7,"d":"11.70"},{"$f":"VLOOKUP(T4, W$4:X$65, 2,FALSE)","v":3},{"$f":"IF(ISNUMBER(V3), V3+1, 1)","v":1},{"$f":"LARGE(T$4:T$65,V4)","v":11.8},{"$f":"IF(W4=W3, X3, X3+1)","v":1},{"v":4,"d":"4.0"},12.35,{"$f":"VLOOKUP(Z4, AC$4:AD$65, 2,FALSE)","v":1},{"$f":"IF(ISNUMBER(AB3), AB3+1, 1)","v":1},{"$f":"LARGE(Z$4:Z$65,AB4)","v":12.35},{"$f":"IF(AC4=AC3, AD3, AD3+1)","v":1},{"v":4,"d":"4.0"},12.85,{"$f":"VLOOKUP(AF4, AI$4:AJ$65, 2,FALSE)","v":1},{"$f":"IF(ISNUMBER(AH3), AH3+1, 1)","v":1},{"$f":"LARGE(AF$4:AF$65,AH4)","v":12.85},{"$f":"IF(AI4=AI3, AJ3, AJ3+1)","v":1},{"$f":"SUMIF(D$2:AJ$2, \"SCORE\", D4:AJ4)","v":{"v":60.400000000000006,"d":"60.40"}},{"$f":"VLOOKUP(AK4, AN$4:AO$65, 2,FALSE)","v":2},{"$f":"IF(ISNUMBER(AM3), AM3+1, 1)","v":1},{"$f":"LARGE($AK$4:$AK$65,$AM4)","v":62.45},{"$f":"IF(AN4=AN3, AO3, AO3+1)","v":1},null,null,"6th Place",{"$f":"IFERROR(INDEX(vault,MATCH(AR5,gymnasts,0)), \"\")","v":12.25},"5th Place",{"$f":"IFERROR(INDEX(vault,MATCH(AT5,gymnasts,0)), \"\")","v":{"v":12.4,"d":"12.40"}},"4th Place",{"$f":"IFERROR(INDEX(vault,MATCH(AV5,gymnasts,0)), \"\")","v":12.45},"3rd Place",{"$f":"IFERROR(INDEX(vault,MATCH(AX5,gymnasts,0)), \"\")","v":12.55},"2nd Place",{"$f":"IFERROR(INDEX(vault,MATCH(AZ5,gymnasts,0)), \"\")","v":12.65},"1st Place",{"$f":"IFERROR(INDEX(vault,MATCH(BB5,gymnasts,0)), \"\")","v":12.75}]
[57,"Poppy Carmichael","Carlisle",{"v":4,"d":"4.0"},12.15,{"v":0,"d":"0.0"},{"v":0,"d":"0.00"},{"$f":"MAX(E5, G5)","v":12.15},{"$f":"VLOOKUP(H5, K$4:L$65, 2,FALSE)","v":7},2,{"$f":"LARGE(H$4:H$65,J5)","v":12.65},{"$f":"IF(K5=K4, L4, L4+1)","v":2},{"v":4,"d":"4.0"},{"v":11.5,"d":"11.50"},{"$f":"VLOOKUP(N5, Q$4:R$65, 2,FALSE)","v":6},2,{"$f":"LARGE(N$4:N$65,P5)","v":11.9},{"$f":"IF(Q5=Q4, R4, R4+1)","v":2},{"v":4,"d":"4.0"},{"v":11.8,"d":"11.80"},{"$f":"VLOOKUP(T5, W$4:X$65, 2,FALSE)","v":1},2,{"$f":"LARGE(T$4:T$65,V5)","v":11.75},{"$f":"IF(W5=W4, X4, X4+1)","v":2},{"v":4,"d":"4.0"},{"v":11.9,"d":"11.90"},{"$f":"VLOOKUP(Z5, AC$4:AD$65, 2,FALSE)","v":7},2,{"$f":"LARGE(Z$4:Z$65,AB5)","v":12.35},{"$f":"IF(AC5=AC4, AD4, AD4+1)","v":1},{"v":4,"d":"4.0"},11.75,{"$f":"VLOOKUP(AF5, AI$4:AJ$65, 2,FALSE)","v":6},2,{"$f":"LARGE(AF$4:AF$65,AH5)","v":12.75},{"$f":"IF(AI5=AI4, AJ4, AJ4+1)","v":2},{"v":59.1,"d":"59.10"},{"$f":"VLOOKUP(AK5, AN$4:AO$65, 2,FALSE)","v":3},2,{"$f":"LARGE($AK$4:$AK$65,$AM5)","v":60.400000000000006},{"$f":"IF(AN5=AN4, AO4, AO4+1)","v":2},null,"Vault",{"$f":"IFERROR(INDEX(gymnasts, SMALL(IF(VALUE(LEFT(AR$32, 1))=vaultPos, ROW(vaultPos)-MIN(ROW(vaultPos))+1, \"\"), ROW()-4)), \"\")","v":"Brogan Cairns"},{"$f":"IFERROR( INDEX(entries, MATCH(AR5, gymnasts, 0), 2), \"\")","v":"CNGA"},{"$f":"IFERROR(INDEX(gymnasts, SMALL(IF(VALUE(LEFT(AT$32, 1))=vaultPos, ROW(vaultPos)-MIN(ROW(vaultPos))+1, \"\"), ROW()-4)), \"\")","v":"Izzy Kilpatrick"},{"$f":"IFERROR( INDEX(entries, MATCH(AT5, gymnasts, 0), 2), \"\")","v":"Darlington"},{"$f":"IFERROR(INDEX(gymnasts, SMALL(IF(VALUE(LEFT(AV$32, 1))=vaultPos, ROW(vaultPos)-MIN(ROW(vaultPos))+1, \"\"), ROW()-4)), \"\")","v":"Sarah Little"},{"$f":"IFERROR( INDEX(entries, MATCH(AV5, gymnasts, 0), 2), \"\")","v":"CNGA"},{"$f":"IFERROR(INDEX(gymnasts, SMALL(IF(VALUE(LEFT(AX$32, 1))=vaultPos, ROW(vaultPos)-MIN(ROW(vaultPos))+1, \"\"), ROW()-4)), \"\")","v":"Tia Gavriel"},{"$f":"IFERROR( INDEX(entries, MATCH(AX5, gymnasts, 0), 2), \"\")","v":"Darlington"},{"$f":"IFERROR(INDEX(gymnasts, SMALL(IF(VALUE(LEFT(AZ$32, 1))=vaultPos, ROW(vaultPos)-MIN(ROW(vaultPos))+1, \"\"), ROW()-4)), \"\")","v":"Lily May Conway"},{"$f":"IFERROR( INDEX(entries, MATCH(AZ5, gymnasts, 0), 2), \"\")","v":"CNGA"},{"$f":"IFERROR(INDEX(gymnasts, SMALL(IF(VALUE(LEFT(BB$32, 1))=vaultPos, ROW(vaultPos)-MIN(ROW(vaultPos))+1, \"\"), ROW()-4)), \"\")","v":"Autumn Jackson"},{"$f":"IFERROR( INDEX(entries, MATCH(BB5, gymnasts, 0), 2), \"\")","v":"Darlington"}]
[58,"Emmy Norman","Carlisle",{"v":4,"d":"4.0"},12.15,{"v":0,"d":"0.0"},{"v":0,"d":"0.00"},12.15,7,3,12.65,2,{"v":4,"d":"4.0"},{"v":11.1,"d":"11.10"},11,3,11.85,3,3.5,{"v":8.8,"d":"8.80"},17,3,11.7,3,{"v":4,"d":"4.0"},{"v":11.7,"d":"11.70"},9,3,12.3,2,{"v":4,"d":"4.0"},11.15,8,3,12.35,3,{"v":54.9,"d":"54.90"},17,3,59.1,3,null,null,"",{"$f":"IFERROR( INDEX(entries, MATCH(AR6, gymnasts, 0), 2), \"\")","v":""},"Mya Teasdale",{"$f":"IFERROR( INDEX(entries, MATCH(AT6, gymnasts, 0), 2), \"\")","v":"Wansbeck"},"",{"$f":"IFERROR( INDEX(entries, MATCH(AV6, gymnasts, 0), 2), \"\")","v":""},"",{"$f":"IFERROR( INDEX(entries, MATCH(AX6, gymnasts, 0), 2), \"\")","v":""},"Daisy Chapman",{"$f":"IFERROR( INDEX(entries, MATCH(AZ6, gymnasts, 0), 2), \"\")","v":"Redcar"},"",""]
[59,"Autumn Jackson","Darlington",{"v":4,"d":"4.0"},12.75,{"v":0,"d":"0.0"},{"v":0,"d":"0.00"},12.75,1,4,12.55,3,{"v":4,"d":"4.0"},10.65,13,4,11.75,4,{"v":4,"d":"4.0"},11.15,5,4,11.4,4,{"v":4,"d":"4.0"},12.25,3,4,12.25,3,{"v":4,"d":"4.0"},11.15,8,4,12.25,4,{"v":57.949999999999996,"d":"57.95"},6,4,58.6,4,null,null,"","","","","","","","","","","",""]
[60,"Izzy Kilpatrick","Darlington",{"v":4,"d":"4.0"},{"v":12.4,"d":"12.40"},{"v":0,"d":"0.0"},{"v":0,"d":"0.00"},{"v":12.4,"d":"12.40"},5,5,12.45,4,{"v":4,"d":"4.0"},{"v":11.3,"d":"11.30"},8,5,11.7,5,{"v":4,"d":"4.0"},9.85,13,5,11.4,4,{"v":4,"d":"4.0"},{"v":11.7,"d":"11.70"},9,5,12.25,3,3.5,10.95,9,5,11.9,5,{"v":56.2,"d":"56.20"},13,5,58.3,5,null,null,"","","","","","","","","","","",""]
[61,"Ellie Robinson","Darlington",{"v":4,"d":"4.0"},11.55,{"v":0,"d":"0.0"},{"v":0,"d":"0.00"},11.55,13,6,12.4,5,{"v":4,"d":"4.0"},{"v":11.7,"d":"11.70"},5,6,11.5,6,{"v":4,"d":"4.0"},10.75,8,6,11.15,5,{"v":4,"d":"4.0"},11.15,11,6,12.05,4,{"v":4,"d":"4.0"},11.15,8,6,11.9,5,{"v":56.3,"d":"56.30"},12,6,57.949999999999996,6,null,null,"","","","","","","","","","","",""]
[62,"Tia Gavriel","Darlington",{"v":4,"d":"4.0"},12.55,{"v":0,"d":"0.0"},{"v":0,"d":"0.00"},12.55,3,7,12.4,5,{"v":4,"d":"4.0"},11.85,3,7,11.5,6,{"v":4,"d":"4.0"},10.55,10,7,10.85,6,{"v":4,"d":"4.0"},11.95,6,7,12,5,{"v":4,"d":"4.0"},10.95,9,7,11.75,6,{"v":57.85000000000001,"d":"57.85"},7,7,57.85000000000001,7,null,null,"","","","","","","","","","","",""]
[63,"Evie Beau-Reeves","Richmondshire",{"v":4,"d":"4.0"},{"v":11.9,"d":"11.90"},{"v":0,"d":"0.0"},{"v":0,"d":"0.00"},{"v":11.9,"d":"11.90"},10,8,12.25,6,{"v":4,"d":"4.0"},{"v":10.6,"d":"10.60"},14,8,11.5,6,{"v":4,"d":"4.0"},{"v":9.5,"d":"9.50"},14,8,10.85,6,{"v":4,"d":"4.0"},10.95,14,8,11.95,6,2.5,9.25,12,8,11.75,6,{"v":52.2,"d":"52.20"},18,8,57.8,8,null,null,"6th Place",{"$f":"IFERROR(INDEX(bars,MATCH(AR12,gymnasts,0)), \"\")","v":{"v":11.5,"d":"11.50"}},"5th Place",{"$f":"IFERROR(INDEX(bars,MATCH(AT12,gymnasts,0)), \"\")","v":{"v":11.7,"d":"11.70"}},"4th Place",{"$f":"IFERROR(INDEX(bars,MATCH(AV12,gymnasts,0)), \"\")","v":11.75},"3rd Place",{"$f":"IFERROR(INDEX(bars,MATCH(AX12,gymnasts,0)), \"\")","v":11.85},"2nd Place",{"$f":"IFERROR(INDEX(bars,MATCH(AZ12,gymnasts,0)), \"\")","v":{"v":11.9,"d":"11.90"}},"1st Place",{"$f":"IFERROR(INDEX(bars,MATCH(BB12,gymnasts,0)), \"\")","v":13.05}]
[64,"Lily Mayhew","Richmondshire",{"v":4,"d":"4.0"},{"v":12,"d":"12.00"},{"v":0,"d":"0.0"},{"v":0,"d":"0.00"},{"v":12,"d":"12.00"},9,9,12.15,7,{"v":4,"d":"4.0"},{"v":9.7,"d":"9.70"},17,9,11.35,7,{"v":4,"d":"4.0"},9.35,15,9,10.8,7,{"v":4,"d":"4.0"},{"v":11.1,"d":"11.10"},12,9,11.9,7,{"v":4,"d":"4.0"},9.55,11,9,11.75,6,{"v":51.7,"d":"51.70"},19,9,57.6,9,null,"Bars",{"$f":"IFERROR(INDEX(gymnasts, SMALL(IF(VALUE(LEFT(AR$32, 1))=BarPos, ROW(BarPos)-MIN(ROW(BarPos))+1, \"\"), ROW()-11)), \"\")","v":"Millie Alcock"},{"$f":"IFERROR( INDEX(entries, MATCH(AR12, gymnasts, 0), 2), \"\")","v":"Carlisle"},{"$f":"IFERROR(INDEX(gymnasts, SMALL(IF(VALUE(LEFT(AT$32, 1))=BarPos, ROW(BarPos)-MIN(ROW(BarPos))+1, \"\"), ROW()-11)), \"\")","v":"Ellie Robinson"},{"$f":"IFERROR( INDEX(entries, MATCH(AT12, gymnasts, 0), 2), \"\")","v":"Darlington"},{"$f":"IFERROR(INDEX(gymnasts, SMALL(IF(VALUE(LEFT(AV$32, 1))=BarPos, ROW(BarPos)-MIN(ROW(BarPos))+1, \"\"), ROW()-11)), \"\")","v":"Aoife McAlister"},{"$f":"IFERROR( INDEX(entries, MATCH(AV12, gymnasts, 0), 2), \"\")","v":"Carlisle"},{"$f":"IFERROR(INDEX(gymnasts, SMALL(IF(VALUE(LEFT(AX$32, 1))=BarPos, ROW(BarPos)-MIN(ROW(BarPos))+1, \"\"), ROW()-11)), \"\")","v":"Tia Gavriel"},{"$f":"IFERROR( INDEX(entries, MATCH(AX12, gymnasts, 0), 2), \"\")","v":"Darlington"},{"$f":"IFERROR(INDEX(gymnasts, SMALL(IF(VALUE(LEFT(AZ$32, 1))=BarPos, ROW(BarPos)-MIN(ROW(BarPos))+1, \"\"), ROW()-11)), \"\")","v":"Mya Teasdale"},{"$f":"IFERROR( INDEX(entries, MATCH(AZ12, gymnasts, 0), 2), \"\")","v":"Wansbeck"},{"$f":"IFERROR(INDEX(gymnasts, SMALL(IF(VALUE(LEFT(BB$32, 1))=BarPos, ROW(BarPos)-MIN(ROW(BarPos))+1, \"\"), ROW()-11)), \"\")","v":"Daisy Chapman"},{"$f":"IFERROR( INDEX(entries, MATCH(BB12, gymnasts, 0), 2), \"\")","v":"Redcar"}]
[65,"Emmi Dickinson - Brown","Richmondshire",{"v":4,"d":"4.0"},11.85,{"v":0,"d":"0.0"},{"v":0,"d":"0.00"},11.85,11,10,12.15,7,{"v":4,"d":"4.0"},{"v":11.5,"d":"11.50"},6,10,11.3,8,{"v":4,"d":"4.0"},{"v":8.9,"d":"8.90"},16,10,10.75,8,{"v":4,"d":"4.0"},11.75,8,10,11.75,8,{"v":4,"d":"4.0"},11.75,6,10,11.55,7,55.75,15,10,57.5,10,null,null,"Poppy Carmichael",{"$f":"IFERROR( INDEX(entries, MATCH(AR13, gymnasts, 0), 2), \"\")","v":"Carlisle"},"",{"$f":"IFERROR( INDEX(entries, MATCH(AT13, gymnasts, 0), 2), \"\")","v":""},"",{"$f":"IFERROR( INDEX(entries, MATCH(AV13, gymnasts, 0), 2), \"\")","v":""},"",{"$f":"IFERROR( INDEX(entries, MATCH(AX13, gymnasts, 0), 2), \"\")","v":""},"",{"$f":"IFERROR( INDEX(entries, MATCH(AZ13, gymnasts, 0), 2), \"\")","v":""},"",""]
[66,"Lily May Conway","CNGA",{"v":4,"d":"4.0"},12.65,{"v":0,"d":"0.0"},{"v":0,"d":"0.00"},12.65,2,11,12.1,8,{"v":4,"d":"4.0"},11.15,10,11,11.2,9,{"v":4,"d":"4.0"},{"v":10.2,"d":"10.20"},12,11,10.65,9,{"v":4,"d":"4.0"},11.45,10,11,11.7,9,{"v":4,"d":"4.0"},{"v":11.9,"d":"11.90"},5,11,11.15,8,57.35,11,11,57.35,11,null,null,"Emmi Dickinson - Brown","Richmondshire","","","","","","","","","",""]
[67,"Brogan Cairns","CNGA",{"v":4,"d":"4.0"},12.25,{"v":0,"d":"0.0"},{"v":0,"d":"0.00"},12.25,6,12,12.1,8,{"v":4,"d":"4.0"},{"v":10.8,"d":"10.80"},12,12,11.15,10,{"v":4,"d":"4.0"},10.85,6,12,10.55,10,{"v":4,"d":"4.0"},12.35,1,12,11.7,9,{"v":4,"d":"4.0"},12.35,3,12,11.15,8,{"v":58.6,"d":"58.60"},4,12,56.3,12,null,null,"","","","","","","","","","","",""]
[68,"Sarah Little","CNGA",{"v":4,"d":"4.0"},12.45,{"v":0,"d":"0.0"},{"v":0,"d":"0.00"},12.45,4,13,12,9,{"v":4,"d":"4.0"},11.35,7,13,11.1,11,{"v":4,"d":"4.0"},10.85,6,13,10.45,11,{"v":4,"d":"4.0"},12.05,4,13,11.45,10,3.5,{"v":10.9,"d":"10.90"},10,13,11.15,8,{"v":57.6,"d":"57.60"},9,13,56.2,13,null,null,"","","","","","","","","","","",""]
[70,"Mya Teasdale","Wansbeck",{"v":4,"d":"4.0"},{"v":12.4,"d":"12.40"},{"v":0,"d":"0.0"},{"v":0,"d":"0.00"},{"v":12.4,"d":"12.40"},5,14,12,9,{"v":4,"d":"4.0"},{"v":11.9,"d":"11.90"},2,14,10.8,12,{"v":4,"d":"4.0"},{"v":10.8,"d":"10.80"},7,14,10.2,12,{"v":4,"d":"4.0"},{"v":9.1,"d":"9.10"},15,14,11.45,10,{"v":4,"d":"4.0"},10.95,9,14,10.95,9,{"v":55.150000000000006,"d":"55.15"},16,14,55.8,14,null,null,"","","","","","","","","","","",""]
[71,"Daisy Chapman","Redcar",{"v":4,"d":"4.0"},12.65,{"v":0,"d":"0.0"},{"v":0,"d":"0.00"},12.65,2,15,11.9,10,{"v":4,"d":"4.0"},13.05,1,15,10.65,13,{"v":4,"d":"4.0"},11.75,2,15,9.85,13,{"v":4,"d":"4.0"},12.25,3,15,11.15,11,{"v":4,"d":"4.0"},12.75,2,15,10.95,9,62.45,1,15,55.75,15,null,null,"6th Place",{"$f":"IFERROR(INDEX(beam,MATCH(AR19,gymnasts,0)), \"\")","v":10.85},"5th Place",{"$f":"IFERROR(INDEX(beam,MATCH(AT19,gymnasts,0)), \"\")","v":11.15},"4th Place",{"$f":"IFERROR(INDEX(beam,MATCH(AV19,gymnasts,0)), \"\")","v":{"v":11.4,"d":"11.40"}},"3rd Place",{"$f":"IFERROR(INDEX(beam,MATCH(AX19,gymnasts,0)), \"\")","v":{"v":11.7,"d":"11.70"}},"2nd Place",{"$f":"IFERROR(INDEX(beam,MATCH(AZ19,gymnasts,0)), \"\")","v":11.75},"1st Place",{"$f":"IFERROR(INDEX(beam,MATCH(BB19,gymnasts,0)), \"\")","v":{"v":11.8,"d":"11.80"}}]
[72,"Shay Ho","Gymtopia",{"v":4,"d":"4.0"},11.65,{"v":0,"d":"0.0"},{"v":0,"d":"0.00"},11.65,12,16,11.85,11,{"v":4,"d":"4.0"},10.55,15,16,10.6,14,{"v":4,"d":"4.0"},{"v":11.4,"d":"11.40"},4,16,9.5,14,{"v":4,"d":"4.0"},{"v":12,"d":"12.00"},5,16,11.1,12,{"v":4,"d":"4.0"},{"v":11.9,"d":"11.90"},5,16,10.95,9,{"v":57.5,"d":"57.50"},10,16,55.150000000000006,16,null,"Beam",{"$f":"IFERROR(INDEX(gymnasts, SMALL(IF(VALUE(LEFT(AR$32, 1))=BeamPos, ROW(BeamPos)-MIN(ROW(BeamPos))+1, \"\"), ROW()-18)), \"\")","v":"Brogan Cairns"},{"$f":"IFERROR( INDEX(entries, MATCH(AR19, gymnasts, 0), 2), \"\")","v":"CNGA"},{"$f":"IFERROR(INDEX(gymnasts, SMALL(IF(VALUE(LEFT(AT$32, 1))=BeamPos, ROW(BeamPos)-MIN(ROW(BeamPos))+1, \"\"), ROW()-18)), \"\")","v":"Autumn Jackson"},{"$f":"IFERROR( INDEX(entries, MATCH(AT19, gymnasts, 0), 2), \"\")","v":"Darlington"},{"$f":"IFERROR(INDEX(gymnasts, SMALL(IF(VALUE(LEFT(AV$32, 1))=BeamPos, ROW(BeamPos)-MIN(ROW(BeamPos))+1, \"\"), ROW()-18)), \"\")","v":"Shay Ho"},{"$f":"IFERROR( INDEX(entries, MATCH(AV19, gymnasts, 0), 2), \"\")","v":"Gymtopia"},{"$f":"IFERROR(INDEX(gymnasts, SMALL(IF(VALUE(LEFT(AX$32, 1))=BeamPos, ROW(BeamPos)-MIN(ROW(BeamPos))+1, \"\"), ROW()-18)), \"\")","v":"Millie Alcock"},{"$f":"IFERROR( INDEX(entries, MATCH(AX19, gymnasts, 0), 2), \"\")","v":"Carlisle"},{"$f":"IFERROR(INDEX(gymnasts, SMALL(IF(VALUE(LEFT(AZ$32, 1))=BeamPos, ROW(BeamPos)-MIN(ROW(BeamPos))+1, \"\"), ROW()-18)), \"\")","v":"Daisy Chapman"},{"$f":"IFERROR( INDEX(entries, MATCH(AZ19, gymnasts, 0), 2), \"\")","v":"Redcar"},{"$f":"IFERROR(INDEX(gymnasts, SMALL(IF(VALUE(LEFT(BB$32, 1))=BeamPos, ROW(BeamPos)-MIN(ROW(BeamPos))+1, \"\"), ROW()-18)), \"\")","v":"Poppy Carmichael"},{"$f":"IFERROR( INDEX(entries, MATCH(BB19, gymnasts, 0), 2), \"\")","v":"Carlisle"}]
[73,"Anna Martin","North Lakes",{"v":4,"d":"4.0"},11.65,{"v":0,"d":"0.0"},{"v":0,"d":"0.00"},11.65,12,17,11.65,12,{"v":4,"d":"4.0"},{"v":11.2,"d":"11.20"},9,17,10.55,15,{"v":4,"d":"4.0"},{"v":11.4,"d":"11.40"},4,17,9.35,15,{"v":4,"d":"4.0"},{"v":12.3,"d":"12.30"},2,17,11.05,13,3.5,11.75,6,17,10.9,10,{"v":58.3,"d":"58.30"},5,17,54.9,17,null,null,"Sarah Little",{"$f":"IFERROR( INDEX(entries, MATCH(AR20, gymnasts, 0), 2), \"\")","v":"CNGA"},"",{"$f":"IFERROR( INDEX(entries, MATCH(AT20, gymnasts, 0), 2), \"\")","v":""},"Anna Martin",{"$f":"IFERROR( INDEX(entries, MATCH(AV20, gymnasts, 0), 2), \"\")","v":"North Lakes"},"",{"$f":"IFERROR( INDEX(entries, MATCH(AX20, gymnasts, 0), 2), \"\")","v":""},"",{"$f":"IFERROR( INDEX(entries, MATCH(AZ20, gymnasts, 0), 2), \"\")","v":""},"",""]
[74,"Annabelle Grainger","North Lakes",{"v":4,"d":"4.0"},{"v":12.1,"d":"12.10"},{"v":0,"d":"0.0"},{"v":0,"d":"0.00"},{"v":12.1,"d":"12.10"},8,18,11.65,12,{"v":4,"d":"4.0"},10.25,16,18,10.25,16,{"v":4,"d":"4.0"},10.45,11,18,8.9,16,{"v":4,"d":"4.0"},11.45,10,18,10.95,14,{"v":4,"d":"4.0"},11.55,7,18,9.55,11,{"v":55.8,"d":"55.80"},14,18,52.2,18,null,null,"","","","","","","","","","","",""]
[55,"Aoife McAlister","Carlisle",{"v":4,"d":"4.0"},{"v":12.1,"d":"12.10"},{"v":0,"d":"0.0"},{"v":0,"d":"0.00"},{"v":12.1,"d":"12.10"},8,19,11.55,13,{"v":4,"d":"4.0"},11.75,4,19,9.7,17,{"v":4,"d":"4.0"},10.65,9,19,8.8,17,{"v":4,"d":"4.0"},11.05,13,19,9.1,15,{"v":4,"d":"4.0"},12.25,4,19,9.25,12,{"v":57.8,"d":"57.80"},8,19,51.7,19,null,null,"","","","","","","","","","","",""]
[{"$nulls":3},{"v":0,"d":"0.0"},{"v":0,"d":"0.00"},{"v":0,"d":"0.0"},{"v":0,"d":"0.00"},{"v":0,"d":"0.00"},14,20,0,14,{"v":0,"d":"0.0"},{"v":0,"d":"0.00"},18,20,0,18,{"v":0,"d":"0.0"},{"v":0,"d":"0.00"},18,20,0,18,{"v":0,"d":"0.0"},{"v":0,"d":"0.00"},16,20,0,16,{"v":0,"d":"0.0"},{"v":0,"d":"0.00"},13,20,0,13,{"v":0,"d":"0.00"},20,20,0,20,null,null,"","","","","","","","","","","",""]
[{"$nulls":3},{"v":0,"d":"0.0"},{"v":0,"d":"0.00"},{"v":0,"d":"0.0"},{"v":0,"d":"0.00"},{"v":0,"d":"0.00"},14,21,0,14,{"v":0,"d":"0.0"},{"v":0,"d":"0.00"},18,21,0,18,{"v":0,"d":"0.0"},{"v":0,"d":"0.00"},18,21,0,18,{"v":0,"d":"0.0"},{"v":0,"d":"0.00"},16,21,0,16,{"v":0,"d":"0.0"},{"v":0,"d":"0.00"},13,21,0,13,{"v":0,"d":"0.00"},20,21,0,20,null,null,"","","","","","","","","","","",""]
[{"$nulls":3},{"v":0,"d":"0.0"},{"v":0,"d":"0.00"},{"v":0,"d":"0.0"},{"v":0,"d":"0.00"},{"v":0,"d":"0.00"},14,22,0,14,{"v":0,"d":"0.0"},{"v":0,"d":"0.00"},18,22,0,18,{"v":0,"d":"0.0"},{"v":0,"d":"0.00"},18,22,0,18,{"v":0,"d":"0.0"},{"v":0,"d":"0.00"},16,22,0,16,{"v":0,"d":"0.0"},{"v":0,"d":"0.00"},13,22,0,13,{"v":0,"d":"0.00"},20,22,0,20,null,null,"6th Place",{"$f":"IFERROR(INDEX(floor,MATCH(AR26,gymnasts,0)), \"\")","v":11.95},"5th Place",{"$f":"IFERROR(INDEX(floor,MATCH(AT26,gymnasts,0)), \"\")","v":{"v":12,"d":"12.00"}},"4th Place",{"$f":"IFERROR(INDEX(floor,MATCH(AV26,gymnasts,0)), \"\")","v":12.05},"3rd Place",{"$f":"IFERROR(INDEX(floor,MATCH(AX26,gymnasts,0)), \"\")","v":12.25},"2nd Place",{"$f":"IFERROR(INDEX(floor,MATCH(AZ26,gymnasts,0)), \"\")","v":{"v":12.3,"d":"12.30"}},"1st Place",{"$f":"IFERROR(INDEX(floor,MATCH(BB26,gymnasts,0)), \"\")","v":12.35}]
[{"$nulls":3},{"v":0,"d":"0.0"},{"v":0,"d":"0.00"},{"v":0,"d":"0.0"},{"v":0,"d":"0.00"},{"v":0,"d":"0.00"},14,23,0,14,{"v":0,"d":"0.0"},{"v":0,"d":"0.00"},18,23,0,18,{"v":0,"d":"0.0"},{"v":0,"d":"0.00"},18,23,0,18,{"v":0,"d":"0.0"},{"v":0,"d":"0.00"},16,23,0,16,{"v":0,"d":"0.0"},{"v":0,"d":"0.00"},13,23,0,13,{"v":0,"d":"0.00"},20,23,0,20,null,"Floor",{"$f":"IFERROR(INDEX(gymnasts, SMALL(IF(VALUE(LEFT(AR$32, 1))=FloorPos, ROW(FloorPos)-MIN(ROW(FloorPos))+1, \"\"), ROW()-25)), \"\")","v":"Tia Gavriel"},{"$f":"IFERROR( INDEX(entries, MATCH(AR26, gymnasts, 0), 2), \"\")","v":"Darlington"},{"$f":"IFERROR(INDEX(gymnasts, SMALL(IF(VALUE(LEFT(AT$32, 1))=FloorPos, ROW(FloorPos)-MIN(ROW(FloorPos))+1, \"\"), ROW()-25)), \"\")","v":"Shay Ho"},{"$f":"IFERROR( INDEX(entries, MATCH(AT26, gymnasts, 0), 2), \"\")","v":"Gymtopia"},{"$f":"IFERROR(INDEX(gymnasts, SMALL(IF(VALUE(LEFT(AV$32, 1))=FloorPos, ROW(FloorPos)-MIN(ROW(FloorPos))+1, \"\"), ROW()-25)), \"\")","v":"Sarah Little"},{"$f":"IFERROR( INDEX(entries, MATCH(AV26, gymnasts, 0), 2), \"\")","v":"CNGA"},{"$f":"IFERROR(INDEX(gymnasts, SMALL(IF(VALUE(LEFT(AX$32, 1))=FloorPos, ROW(FloorPos)-MIN(ROW(FloorPos))+1, \"\"), ROW()-25)), \"\")","v":"Autumn Jackson"},{"$f":"IFERROR( INDEX(entries, MATCH(AX26, gymnasts, 0), 2), \"\")","v":"Darlington"},{"$f":"IFERROR(INDEX(gymnasts, SMALL(IF(VALUE(LEFT(AZ$32, 1))=FloorPos, ROW(FloorPos)-MIN(ROW(FloorPos))+1, \"\"), ROW()-25)), \"\")","v":"Anna Martin"},{"$f":"IFERROR( INDEX(entries, MATCH(AZ26, gymnasts, 0), 2), \"\")","v":"North Lakes"},{"$f":"IFERROR(INDEX(gymnasts, SMALL(IF(VALUE(LEFT(BB$32, 1))=FloorPos, ROW(FloorPos)-MIN(ROW(FloorPos))+1, \"\"), ROW()-25)), \"\")","v":"Millie Alcock"},{"$f":"IFERROR( INDEX(entries, MATCH(BB26, gymnasts, 0), 2), \"\")","v":"Carlisle"}]
[{"$nulls":3},{"v":0,"d":"0.0"},{"v":0,"d":"0.00"},{"v":0,"d":"0.0"},{"v":0,"d":"0.00"},{"v":0,"d":"0.00"},14,24,0,14,{"v":0,"d":"0.0"},{"v":0,"d":"0.00"},18,24,0,18,{"v":0,"d":"0.0"},{"v":0,"d":"0.00"},18,24,0,18,{"v":0,"d":"0.0"},{"v":0,"d":"0.00"},16,24,0,16,{"v":0,"d":"0.0"},{"v":0,"d":"0.00"},13,24,0,13,{"v":0,"d":"0.00"},20,24,0,20,null,null,"",{"$f":"IFERROR( INDEX(entries, MATCH(AR27, gymnasts, 0), 2), \"\")","v":""},"",{"$f":"IFERROR( INDEX(entries, MATCH(AT27, gymnasts, 0), 2), \"\")","v":""},"",{"$f":"IFERROR( INDEX(entries, MATCH(AV27, gymnasts, 0), 2), \"\")","v":""},"Daisy Chapman",{"$f":"IFERROR( INDEX(entries, MATCH(AX27, gymnasts, 0), 2), \"\")","v":"Redcar"},"",{"$f":"IFERROR( INDEX(entries, MATCH(AZ27, gymnasts, 0), 2), \"\")","v":""},"Brogan Cairns","CNGA"]
[{"$nulls":3},{"v":0,"d":"0.0"},{"v":0,"d":"0.00"},{"v":0,"d":"0.0"},{"v":0,"d":"0.00"},{"v":0,"d":"0.00"},14,25,0,14,{"v":0,"d":"0.0"},{"v":0,"d":"0.00"},18,25,0,18,{"v":0,"d":"0.0"},{"v":0,"d":"0.00"},18,25,0,18,{"v":0,"d":"0.0"},{"v":0,"d":"0.00"},16,25,0,16,{"v":0,"d":"0.0"},{"v":0,"d":"0.00"},13,25,0,13,{"v":0,"d":"0.00"},20,25,0,20,null,null,"","","","","","","","","","","",""]
[{"$nulls":3},{"v":0,"d":"0.0"},{"v":0,"d":"0.00"},{"v":0,"d":"0.0"},{"v":0,"d":"0.00"},{"v":0,"d":"0.00"},14,26,0,14,{"v":0,"d":"0.0"},{"v":0,"d":"0.00"},18,26,0,18,{"v":0,"d":"0.0"},{"v":0,"d":"0.00"},18,26,0,18,{"v":0,"d":"0.0"},{"v":0,"d":"0.00"},16,26,0,16,{"v":0,"d":"0.0"},{"v":0,"d":"0.00"},13,26,0,13,{"v":0,"d":"0.00"},20,26,0,20,null,null,"","","","","","","","","","","",""]
[{"$nulls":3},{"v":0,"d":"0.0"},{"v":0,"d":"0.00"},{"v":0,"d":"0.0"},{"v":0,"d":"0.00"},{"v":0,"d":"0.00"},14,27,0,14,{"v":0,"d":"0.0"},{"v":0,"d":"0.00"},18,27,0,18,{"v":0,"d":"0.0"},{"v":0,"d":"0.00"},18,27,0,18,{"v":0,"d":"0.0"},{"v":0,"d":"0.00"},16,27,0,16,{"v":0,"d":"0.0"},{"v":0,"d":"0.00"},13,27,0,13,{"v":0,"d":"0.00"},20,27,0,20,null,null,"","","","","","","","","","","",""]
[{"$nulls":3},{"v":0,"d":"0.0"},{"v":0,"d":"0.00"},{"v":0,"d":"0.0"},{"v":0,"d":"0.00"},{"v":0,"d":"0.00"},14,28,0,14,{"v":0,"d":"0.0"},{"v":0,"d":"0.00"},18,28,0,18,{"v":0,"d":"0.0"},{"v":0,"d":"0.00"},18,28,0,18,{"v":0,"d":"0.0"},{"v":0,"d":"0.00"},16,28,0,16,{"v":0,"d":"0.0"},{"v":0,"d":"0.00"},13,28,0,13,{"v":0,"d":"0.00"},20,28,0,20,null,null,"","","","","","","","","","","",""]
[{"$nulls":3},{"v":0,"d":"0.0"},{"v":0,"d":"0.00"},{"v":0,"d":"0.0"},{"v":0,"d":"0.00"},{"v":0,"d":"0.00"},14,29,0,14,{"v":0,"d":"0.0"},{"v":0,"d":"0.00"},18,29,0,18,{"v":0,"d":"0.0"},{"v":0,"d":"0.00"},18,29,0,18,{"v":0,"d":"0.0"},{"v":0,"d":"0.00"},16,29,0,16,{"v":0,"d":"0.0"},{"v":0,"d":"0.00"},13,29,0,13,{"v":0,"d":"0.00"},20,29,0,20,null,null,"6th Place",{"$f":"IFERROR(INDEX(range,MATCH(AR33,gymnasts,0)), \"\")","v":11.75},"5th Place",{"$f":"IFERROR(INDEX(range,MATCH(AT33,gymnasts,0)), \"\")","v":{"v":11.9,"d":"11.90"}},"4th Place",{"$f":"IFERROR(INDEX(range,MATCH(AV33,gymnasts,0)), \"\")","v":12.25},"3rd Place",{"$f":"IFERROR(INDEX(range,MATCH(AX33,gymnasts,0)), \"\")","v":12.35},"2nd Place",{"$f":"IFERROR(INDEX(range,MATCH(AZ33,gymnasts,0)), \"\")","v":12.75},"1st Place",{"$f":"IFERROR(INDEX(range,MATCH(BB33,gymnasts,0)), \"\")","v":12.85}]
[{"$nulls":3},{"v":0,"d":"0.0"},{"v":0,"d":"0.00"},{"v":0,"d":"0.0"},{"v":0,"d":"0.00"},{"v":0,"d":"0.00"},14,30,0,14,{"v":0,"d":"0.0"},{"v":0,"d":"0.00"},18,30,0,18,{"v":0,"d":"0.0"},{"v":0,"d":"0.00"},18,30,0,18,{"v":0,"d":"0.0"},{"v":0,"d":"0.00"},16,30,0,16,{"v":0,"d":"0.0"},{"v":0,"d":"0.00"},13,30,0,13,{"v":0,"d":"0.00"},20,30,0,20,null,"Range",{"$f":"IFERROR(INDEX(gymnasts, SMALL(IF(VALUE(LEFT(AR$32, 1))=RangePos, ROW(RangePos)-MIN(ROW(RangePos))+1, \"\"), ROW()-32)), \"\")","v":"Poppy Carmichael"},{"$f":"IFERROR( INDEX(entries, MATCH(AR33, gymnasts, 0), 2), \"\")","v":"Carlisle"},{"$f":"IFERROR(INDEX(gymnasts, SMALL(IF(VALUE(LEFT(AT$32, 1))=RangePos, ROW(RangePos)-MIN(ROW(RangePos))+1, \"\"), ROW()-32)), \"\")","v":"Lily May Conway"},{"$f":"IFERROR( INDEX(entries, MATCH(AT33, gymnasts, 0), 2), \"\")","v":"CNGA"},{"$f":"IFERROR(INDEX(gymnasts, SMALL(IF(VALUE(LEFT(AV$32, 1))=RangePos, ROW(RangePos)-MIN(ROW(RangePos))+1, \"\"), ROW()-32)), \"\")","v":"Aoife McAlister"},{"$f":"IFERROR( INDEX(entries, MATCH(AV33, gymnasts, 0), 2), \"\")","v":"Carlisle"},{"$f":"IFERROR(INDEX(gymnasts, SMALL(IF(VALUE(LEFT(AX$32, 1))=RangePos, ROW(RangePos)-MIN(ROW(RangePos))+1, \"\"), ROW()-32)), \"\")","v":"Brogan Cairns"},{"$f":"IFERROR( INDEX(entries, MATCH(AX33, gymnasts, 0), 2), \"\")","v":"CNGA"},{"$f":"IFERROR(INDEX(gymnasts, SMALL(IF(VALUE(LEFT(AZ$32, 1))=RangePos, ROW(RangePos)-MIN(ROW(RangePos))+1, \"\"), ROW()-32)), \"\")","v":"Daisy Chapman"},{"$f":"IFERROR( INDEX(entries, MATCH(AZ33, gymnasts, 0), 2), \"\")","v":"Redcar"},{"$f":"IFERROR(INDEX(gymnasts, SMALL(IF(VALUE(LEFT(BB$32, 1))=RangePos, ROW(RangePos)-MIN(ROW(RangePos))+1, \"\"), ROW()-32)), \"\")","v":"Millie Alcock"},{"$f":"IFERROR( INDEX(entries, MATCH(BB33, gymnasts, 0), 2), \"\")","v":"Carlisle"}]
[{"$nulls":3},{"v":0,"d":"0.0"},{"v":0,"d":"0.00"},{"v":0,"d":"0.0"},{"v":0,"d":"0.00"},{"v":0,"d":"0.00"},14,31,0,14,{"v":0,"d":"0.0"},{"v":0,"d":"0.00"},18,31,0,18,{"v":0,"d":"0.0"},{"v":0,"d":"0.00"},18,31,0,18,{"v":0,"d":"0.0"},{"v":0,"d":"0.00"},16,31,0,16,{"v":0,"d":"0.0"},{"v":0,"d":"0.00"},13,31,0,13,{"v":0,"d":"0.00"},20,31,0,20,null,null,"Emmi Dickinson - Brown",{"$f":"IFERROR( INDEX(entries, MATCH(AR34, gymnasts, 0), 2), \"\")","v":"Richmondshire"},"Shay Ho",{"$f":"IFERROR( INDEX(entries, MATCH(AT34, gymnasts, 0), 2), \"\")","v":"Gymtopia"},"",{"$f":"IFERROR( INDEX(entries, MATCH(AV34, gymnasts, 0), 2), \"\")","v":""},"",{"$f":"IFERROR( INDEX(entries, MATCH(AX34, gymnasts, 0), 2), \"\")","v":""},"",{"$f":"IFERROR( INDEX(entries, MATCH(AZ34, gymnasts, 0), 2), \"\")","v":""},"",""]
[{"$nulls":3},{"v":0,"d":"0.0"},{"v":0,"d":"0.00"},{"v":0,"d":"0.0"},{"v":0,"d":"0.00"},{"v":0,"d":"0.00"},14,32,0,14,{"v":0,"d":"0.0"},{"v":0,"d":"0.00"},18,32,0,18,{"v":0,"d":"0.0"},{"v":0,"d":"0.00"},18,32,0,18,{"v":0,"d":"0.0"},{"v":0,"d":"0.00"},16,32,0,16,{"v":0,"d":"0.0"},{"v":0,"d":"0.00"},13,32,0,13,{"v":0,"d":"0.00"},20,32,0,20,null,null,"Anna Martin","North Lakes","","","","","","","","","",""]
[{"$nulls":3},{"v":0,"d":"0.0"},{"v":0,"d":"0.00"},{"v":0,"d":"0.0"},{"v":0,"d":"0.00"},{"v":0,"d":"0.00"},14,33,0,14,{"v":0,"d":"0.0"},{"v":0,"d":"0.00"},18,33,0,18,{"v":0,"d":"0.0"},{"v":0,"d":"0.00"},18,33,0,18,{"v":0,"d":"0.0"},{"v":0,"d":"0.00"},16,33,0,16,{"v":0,"d":"0.0"},{"v":0,"d":"0.00"},13,33,0,13,{"$f":"SUMIF(D$2:AJ$2, \"SCORE\", D36:AJ36)","v":{"v":0,"d":"0.00"}},20,33,0,20,null,null,"","","","","","","","","","","",""]
[{"$nulls":3},{"v":0,"d":"0.0"},{"v":0,"d":"0.00"},{"v":0,"d":"0.0"},{"v":0,"d":"0.00"},{"v":0,"d":"0.00"},14,34,0,14,{"v":0,"d":"0.0"},{"v":0,"d":"0.00"},18,34,0,18,{"v":0,"d":"0.0"},{"v":0,"d":"0.00"},18,34,0,18,{"v":0,"d":"0.0"},{"v":0,"d":"0.00"},16,34,0,16,{"v":0,"d":"0.0"},{"v":0,"d":"0.00"},13,34,0,13,{"v":0,"d":"0.00"},20,34,0,20,null,null,"","","","","","","","","","","",""]
[{"$nulls":3},{"v":0,"d":"0.0"},{"v":0,"d":"0.00"},{"v":0,"d":"0.0"},{"v":0,"d":"0.00"},{"v":0,"d":"0.00"},14,35,0,14,{"v":0,"d":"0.0"},{"v":0,"d":"0.00"},18,35,0,18,{"v":0,"d":"0.0"},{"v":0,"d":"0.00"},18,35,0,18,{"v":0,"d":"0.0"},{"v":0,"d":"0.00"},16,35,0,16,{"v":0,"d":"0.0"},{"v":0,"d":"0.00"},13,35,0,13,{"v":0,"d":"0.00"},20,35,0,20,null,null,"","","","","","","","","","","",""]
[{"$nulls":3},{"v":0,"d":"0.0"},{"v":0,"d":"0.00"},{"v":0,"d":"0.0"},{"v":0,"d":"0.00"},{"v":0,"d":"0.00"},14,36,0,14,{"v":0,"d":"0.0"},{"v":0,"d":"0.00"},18,36,0,18,{"v":0,"d":"0.0"},{"v":0,"d":"0.00"},18,36,0,18,{"v":0,"d":"0.0"},{"v":0,"d":"0.00"},16,36,0,16,{"v":0,"d":"0.0"},{"v":0,"d":"0.00"},13,36,0,13,{"v":0,"d":"0.00"},20,36,0,20,null,null,"6th Place",{"$f":"IFERROR(INDEX(AAscores,MATCH(AR40,gymnasts,0)), \"\")","v":{"v":57.949999999999996,"d":"57.95"}},"5th Place",{"$f":"IFERROR(INDEX(AAscores,MATCH(AT40,gymnasts,0)), \"\")","v":{"v":58.3,"d":"58.30"}},"4th Place",{"$f":"IFERROR(INDEX(AAscores,MATCH(AV40,gymnasts,0)), \"\")","v":{"v":58.6,"d":"58.60"}},"3rd Place",{"$f":"IFERROR(INDEX(AAscores,MATCH(AX40,gymnasts,0)), \"\")","v":{"v":59.1,"d":"59.10"}},"2nd Place",{"$f":"IFERROR(INDEX(AAscores,MATCH(AZ40,gymnasts,0)), \"\")","v":{"v":60.400000000000006,"d":"60.40"}},"1st Place",{"$f":"IFERROR(INDEX(AAscores,MATCH(BB40,gymnasts,0)), \"\")","v":62.45}]
[{"$nulls":3},{"v":0,"d":"0.0"},{"v":0,"d":"0.00"},{"v":0,"d":"0.0"},{"v":0,"d":"0.00"},{"v":0,"d":"0.00"},14,37,0,14,{"v":0,"d":"0.0"},{"v":0,"d":"0.00"},18,37,0,18,{"v":0,"d":"0.0"},{"v":0,"d":"0.00"},18,37,0,18,{"v":0,"d":"0.0"},{"v":0,"d":"0.00"},16,37,0,16,{"v":0,"d":"0.0"},{"v":0,"d":"0.00"},13,37,0,13,{"v":0,"d":"0.00"},20,37,0,20,null,"AA",{"$f":"IFERROR(INDEX(gymnasts, SMALL(IF(VALUE(LEFT(AR$39, 1))=AApos, ROW(AApos)-MIN(ROW(AApos))+1, \"\"), ROW()-39)), \"\")","v":"Autumn Jackson"},{"$f":"IFERROR( INDEX(entries, MATCH(AR40, gymnasts, 0), 2), \"\")","v":"Darlington"},{"$f":"IFERROR(INDEX(gymnasts, SMALL(IF(VALUE(LEFT(AT$39, 1))=AApos, ROW(AApos)-MIN(ROW(AApos))+1, \"\"), ROW()-39)), \"\")","v":"Anna Martin"},{"$f":"IFERROR( INDEX(entries, MATCH(AT40, gymnasts, 0), 2), \"\")","v":"North Lakes"},{"$f":"IFERROR(INDEX(gymnasts, SMALL(IF(VALUE(LEFT(AV$39, 1))=AApos, ROW(AApos)-MIN(ROW(AApos))+1, \"\"), ROW()-39)), \"\")","v":"Brogan Cairns"},{"$f":"IFERROR( INDEX(entries, MATCH(AV40, gymnasts, 0), 2), \"\")","v":"CNGA"},{"$f":"IFERROR(INDEX(gymnasts, SMALL(IF(VALUE(LEFT(AX$39, 1))=AApos, ROW(AApos)-MIN(ROW(AApos))+1, \"\"), ROW()-39)), \"\")","v":"Poppy Carmichael"},{"$f":"IFERROR( INDEX(entries, MATCH(AX40, gymnasts, 0), 2), \"\")","v":"Carlisle"},{"$f":"IFERROR(INDEX(gymnasts, SMALL(IF(VALUE(LEFT(AZ$39, 1))=AApos, ROW(AApos)-MIN(ROW(AApos))+1, \"\"), ROW()-39)), \"\")","v":"Millie Alcock"},{"$f":"IFERROR( INDEX(entries, MATCH(AZ40, gymnasts, 0), 2), \"\")","v":"Carlisle"},{"$f":"IFERROR(INDEX(gymnasts, SMALL(IF(VALUE(LEFT(BB$39, 1))=AApos, ROW(AApos)-MIN(ROW(AApos))+1, \"\"), ROW()-39)), \"\")","v":"Daisy Chapman"},{"$f":"IFERROR( INDEX(entries, MATCH(BB40, gymnasts, 0), 2), \"\")","v":"Redcar"}]
[{"$nulls":3},{"v":0,"d":"0.0"},{"v":0,"d":"0.00"},{"v":0,"d":"0.0"},{"v":0,"d":"0.00"},{"v":0,"d":"0.00"},14,38,0,14,{"v":0,"d":"0.0"},{"v":0,"d":"0.00"},18,38,0,18,{"v":0,"d":"0.0"},{"v":0,"d":"0.00"},18,38,0,18,{"v":0,"d":"0.0"},{"v":0,"d":"0.00"},16,38,0,16,{"v":0,"d":"0.0"},{"v":0,"d":"0.00"},13,38,0,13,{"v":0,"d":"0.00"},20,38,0,20,null,null,"",{"$f":"IFERROR( INDEX(entries, MATCH(AR41, gymnasts, 0), 2), \"\")","v":""},"",{"$f":"IFERROR( INDEX(entries, MATCH(AT41, gymnasts, 0), 2), \"\")","v":""},"",{"$f":"IFERROR( INDEX(entries, MATCH(AV41, gymnasts, 0), 2), \"\")","v":""},"",{"$f":"IFERROR( INDEX(entries, MATCH(AX41, gymnasts, 0), 2), \"\")","v":""},"",{"$f":"IFERROR( INDEX(entries, MATCH(AZ41, gymnasts, 0), 2), \"\")","v":""},"",""]
[{"$nulls":3},{"v":0,"d":"0.0"},{"v":0,"d":"0.00"},{"v":0,"d":"0.0"},{"v":0,"d":"0.00"},{"v":0,"d":"0.00"},14,39,0,14,{"v":0,"d":"0.0"},{"v":0,"d":"0.00"},18,39,0,18,{"v":0,"d":"0.0"},{"v":0,"d":"0.00"},18,39,0,18,{"v":0,"d":"0.0"},{"v":0,"d":"0.00"},16,39,0,16,{"v":0,"d":"0.0"},{"v":0,"d":"0.00"},13,39,0,13,{"v":0,"d":"0.00"},20,39,0,20,null,null,"","","","","","","","","","","",""]
[{"$nulls":3},{"v":0,"d":"0.0"},{"v":0,"d":"0.00"},{"v":0,"d":"0.0"},{"v":0,"d":"0.00"},{"v":0,"d":"0.00"},14,40,0,14,{"v":0,"d":"0.0"},{"v":0,"d":"0.00"},18,40,0,18,{"v":0,"d":"0.0"},{"v":0,"d":"0.00"},18,40,0,18,{"v":0,"d":"0.0"},{"v":0,"d":"0.00"},16,40,0,16,{"v":0,"d":"0.0"},{"v":0,"d":"0.00"},13,40,0,13,{"v":0,"d":"0.00"},20,40,0,20,null,null,"","","","","","","","","","","",""]
[{"$nulls":3},{"v":0,"d":"0.0"},{"v":0,"d":"0.00"},{"v":0,"d":"0.0"},{"v":0,"d":"0.00"},{"v":0,"d":"0.00"},14,41,0,14,{"v":0,"d":"0.0"},{"v":0,"d":"0.00"},18,41,0,18,{"v":0,"d":"0.0"},{"v":0,"d":"0.00"},18,41,0,18,{"v":0,"d":"0.0"},{"v":0,"d":"0.00"},16,41,0,16,{"v":0,"d":"0.0"},{"v":0,"d":"0.00"},13,41,0,13,{"v":0,"d":"0.00"},20,41,0,20,null,null,"","","","","","","","","","","",""]
[{"$nulls":3},{"v":0,"d":"0.0"},{"v":0,"d":"0.00"},{"v":0,"d":"0.0"},{"v":0,"d":"0.00"},{"v":0,"d":"0.00"},14,42,0,14,{"v":0,"d":"0.0"},{"v":0,"d":"0.00"},18,42,0,18,{"v":0,"d":"0.0"},{"v":0,"d":"0.00"},18,42,0,18,{"v":0,"d":"0.0"},{"v":0,"d":"0.00"},16,42,0,16,{"v":0,"d":"0.0"},{"v":0,"d":"0.00"},13,42,0,13,{"v":0,"d":"0.00"},20,42,0,20,null,null,"","","","","","","","","","","",""]
[{"$nulls":3},{"v":0,"d":"0.0"},{"v":0,"d":"0.00"},{"v":0,"d":"0.0"},{"v":0,"d":"0.00"},{"v":0,"d":"0.00"},14,43,0,14,{"v":0,"d":"0.0"},{"v":0,"d":"0.00"},18,43,0,18,{"v":0,"d":"0.0"},{"v":0,"d":"0.00"},18,43,0,18,{"v":0,"d":"0.0"},{"v":0,"d":"0.00"},16,43,0,16,{"v":0,"d":"0.0"},{"v":0,"d":"0.00"},13,43,0,13,{"v":0,"d":"0.00"},20,43,0,20,null,"Team","3rd place Team",{"$f":"IF(COUNTIF(AR47, 0), \"\", INDEX(teamTotals, MATCH(AR47, teams, 0)))","v":173.55},null,null,"2nd Place Team",{"$f":"IF(COUNTIF(AV47, 0), \"\", INDEX(teamTotals, MATCH(AV47, teams, 0)))","v":174.15},null,null,"1st Place Team",{"$f":"IF(COUNTIF(AZ47, 0), \"\", INDEX(teamTotals, MATCH(AZ47, teams, 0)))","v":{"v":178.1,"d":"178.10"}}]
[{"$nulls":3},{"v":0,"d":"0.0"},{"v":0,"d":"0.00"},{"v":0,"d":"0.0"},{"v":0,"d":"0.00"},{"v":0,"d":"0.00"},14,44,0,14,{"v":0,"d":"0.0"},{"v":0,"d":"0.00"},18,44,0,18,{"v":0,"d":"0.0"},{"v":0,"d":"0.00"},18,44,0,18,{"v":0,"d":"0.0"},{"v":0,"d":"0.00"},16,44,0,16,{"v":0,"d":"0.0"},{"v":0,"d":"0.00"},13,44,0,13,{"v":0,"d":"0.00"},20,44,0,20,null,null,{"$f":"IFERROR(INDEX(teams, SMALL(IF(VALUE(LEFT(AR$46, 1))=teamPos, ROW(teamPos)-MIN(ROW(teamPos))+1, \"\"), ROW()-46)), \"\")","v":"CNGA"},{"$f":"IFERROR(IF(COUNTIF(AR47, 0), \"\", INDEX(gymnasts, SMALL(IF(AR$47=club, ROW(club)-MIN(ROW(club))+1, \"\"), ROW()-46))), \"\")","v":"Lily May Conway"},null,null,{"$f":"IFERROR(INDEX(teams, SMALL(IF(VALUE(LEFT(AV$46, 1))=teamPos, ROW(teamPos)-MIN(ROW(teamPos))+1, \"\"), ROW()-46)), \"\")","v":"Darlington"},{"$f":"IFERROR(IF(COUNTIF(AV47, 0), \"\", INDEX(gymnasts, SMALL(IF(AV$47=club, ROW(club)-MIN(ROW(club))+1, \"\"), ROW()-46))), \"\")","v":"Autumn Jackson"},null,null,{"$f":"IFERROR(INDEX(teams, SMALL(IF(VALUE(LEFT(AZ$46, 1))=teamPos, ROW(teamPos)-MIN(ROW(teamPos))+1, \"\"), ROW()-46)), \"\")","v":"Carlisle"},{"$f":"IFERROR(IF(COUNTIF(AZ47, 0), \"\", INDEX(gymnasts, SMALL(IF(AZ$47=club, ROW(club)-MIN(ROW(club))+1, \"\"), ROW()-46))), \"\")","v":"Millie Alcock"}]
[{"$nulls":3},{"v":0,"d":"0.0"},{"v":0,"d":"0.00"},{"v":0,"d":"0.0"},{"v":0,"d":"0.00"},{"v":0,"d":"0.00"},14,45,0,14,{"v":0,"d":"0.0"},{"v":0,"d":"0.00"},18,45,0,18,{"v":0,"d":"0.0"},{"v":0,"d":"0.00"},18,45,0,18,{"v":0,"d":"0.0"},{"v":0,"d":"0.00"},16,45,0,16,{"v":0,"d":"0.0"},{"v":0,"d":"0.00"},13,45,0,13,{"v":0,"d":"0.00"},20,45,0,20,{"$nulls":3},{"$f":"IFERROR(IF(COUNTIF(AR48, 0), \"\", INDEX(gymnasts, SMALL(IF(AR$47=club, ROW(club)-MIN(ROW(club))+1, \"\"), ROW()-46))), \"\")","v":"Brogan Cairns"},{"$nulls":3},{"$f":"IFERROR(IF(COUNTIF(AV48, 0), \"\", INDEX(gymnasts, SMALL(IF(AV$47=club, ROW(club)-MIN(ROW(club))+1, \"\"), ROW()-46))), \"\")","v":"Izzy Kilpatrick"},{"$nulls":3},{"$f":"IFERROR(IF(COUNTIF(AZ48, 0), \"\", INDEX(gymnasts, SMALL(IF(AZ$47=club, ROW(club)-MIN(ROW(club))+1, \"\"), ROW()-46))), \"\")","v":"Poppy Carmichael"}]
[{"$nulls":3},{"v":0,"d":"0.0"},{"v":0,"d":"0.00"},{"v":0,"d":"0.0"},{"v":0,"d":"0.00"},{"v":0,"d":"0.00"},14,46,0,14,{"v":0,"d":"0.0"},{"v":0,"d":"0.00"},18,46,0,18,{"v":0,"d":"0.0"},{"v":0,"d":"0.00"},18,46,0,18,{"v":0,"d":"0.0"},{"v":0,"d":"0.00"},16,46,0,16,{"v":0,"d":"0.0"},{"v":0,"d":"0.00"},13,46,0,13,{"v":0,"d":"0.00"},20,46,0,20,{"$nulls":3},{"$f":"IFERROR(IF(COUNTIF(AR49, 0), \"\", INDEX(gymnasts, SMALL(IF(AR$47=club, ROW(club)-MIN(ROW(club))+1, \"\"), ROW()-46))), \"\")","v":"Sarah Little"},{"$nulls":3},{"$f":"IFERROR(IF(COUNTIF(AV49, 0), \"\", INDEX(gymnasts, SMALL(IF(AV$47=club, ROW(club)-MIN(ROW(club))+1, \"\"), ROW()-46))), \"\")","v":"Ellie Robinson"},{"$nulls":3},{"$f":"IFERROR(IF(COUNTIF(AZ49, 0), \"\", INDEX(gymnasts, SMALL(IF(AZ$47=club, ROW(club)-MIN(ROW(club))+1, \"\"), ROW()-46))), \"\")","v":"Emmy Norman"}]
[{"$nulls":3},{"v":0,"d":"0.0"},{"v":0,"d":"0.00"},{"v":0,"d":"0.0"},{"v":0,"d":"0.00"},{"v":0,"d":"0.00"},14,47,0,14,{"v":0,"d":"0.0"},{"v":0,"d":"0.00"},18,47,0,18,{"v":0,"d":"0.0"},{"v":0,"d":"0.00"},18,47,0,18,{"v":0,"d":"0.0"},{"v":0,"d":"0.00"},16,47,0,16,{"v":0,"d":"0.0"},{"v":0,"d":"0.00"},13,47,0,13,{"v":0,"d":"0.00"},20,47,0,20,{"$nulls":3},{"$f":"IFERROR(IF(COUNTIF(AR50, 0), \"\", INDEX(gymnasts, SMALL(IF(AR$47=club, ROW(club)-MIN(ROW(club))+1, \"\"), ROW()-46))), \"\")","v":""},{"$nulls":3},{"$f":"IFERROR(IF(COUNTIF(AV50, 0), \"\", INDEX(gymnasts, SMALL(IF(AV$47=club, ROW(club)-MIN(ROW(club))+1, \"\"), ROW()-46))), \"\")","v":"Tia Gavriel"},{"$nulls":3},{"$f":"IFERROR(IF(COUNTIF(AZ50, 0), \"\", INDEX(gymnasts, SMALL(IF(AZ$47=club, ROW(club)-MIN(ROW(club))+1, \"\"), ROW()-46))), \"\")","v":"Aoife McAlister"}]
[{"$nulls":3},{"v":0,"d":"0.0"},{"v":0,"d":"0.00"},{"v":0,"d":"0.0"},{"v":0,"d":"0.00"},{"v":0,"d":"0.00"},14,48,0,14,{"v":0,"d":"0.0"},{"v":0,"d":"0.00"},18,48,0,18,{"v":0,"d":"0.0"},{"v":0,"d":"0.00"},18,48,0,18,{"v":0,"d":"0.0"},{"v":0,"d":"0.00"},16,48,0,16,{"v":0,"d":"0.0"},{"v":0,"d":"0.00"},13,48,0,13,{"v":0,"d":"0.00"},20,48,0,20,{"$nulls":3},{"$f":"IFERROR(IF(COUNTIF(AR51, 0), \"\", INDEX(gymnasts, SMALL(IF(AR$47=club, ROW(club)-MIN(ROW(club))+1, \"\"), ROW()-46))), \"\")","v":""},{"$nulls":3},{"$f":"IFERROR(IF(COUNTIF(AV51, 0), \"\", INDEX(gymnasts, SMALL(IF(AV$47=club, ROW(club)-MIN(ROW(club))+1, \"\"), ROW()-46))), \"\")","v":""},{"$nulls":3},{"$f":"IFERROR(IF(COUNTIF(AZ51, 0), \"\", INDEX(gymnasts, SMALL(IF(AZ$47=club, ROW(club)-MIN(ROW(club))+1, \"\"), ROW()-46))), \"\")","v":""}]
[{"$nulls":3},{"v":0,"d":"0.0"},{"v":0,"d":"0.00"},{"v":0,"d":"0.0"},{"v":0,"d":"0.00"},{"v":0,"d":"0.00"},14,49,0,14,{"v":0,"d":"0.0"},{"v":0,"d":"0.00"},18,49,0,18,{"v":0,"d":"0.0"},{"v":0,"d":"0.00"},18,49,0,18,{"v":0,"d":"0.0"},{"v":0,"d":"0.00"},16,49,0,16,{"v":0,"d":"0.0"},{"v":0,"d":"0.00"},13,49,0,13,{"v":0,"d":"0.00"},20,49,0,20,null,null,{"$f":"IFERROR(INDEX(teams, SMALL(IF(VALUE(LEFT(AR$46, 1))=teamPos, ROW(teamPos)-MIN(ROW(teamPos))+1, \"\"), ROW()-50)), \"\")","v":""},{"$f":"IFERROR(IF(COUNTIF(AR$52, 0), \"\", INDEX(gymnasts, SMALL(IF(AR$52=club, ROW(club)-MIN(ROW(club))+1, \"\"), ROW()-51))), \"\")","v":0},null,null,{"$f":"IFERROR(INDEX(teams, SMALL(IF(VALUE(LEFT(AV$46, 1))=teamPos, ROW(teamPos)-MIN(ROW(teamPos))+1, \"\"), ROW()-50)), \"\")","v":""},{"$f":"IFERROR(IF(COUNTIF(AV$52, 0), \"\", INDEX(gymnasts, SMALL(IF(AV$52=club, ROW(club)-MIN(ROW(club))+1, \"\"), ROW()-51))), \"\")","v":0},null,null,{"$f":"IFERROR(INDEX(teams, SMALL(IF(VALUE(LEFT(AZ$46, 1))=teamPos, ROW(teamPos)-MIN(ROW(teamPos))+1, \"\"), ROW()-50)), \"\")","v":""},{"$f":"IFERROR(IF(COUNTIF(AZ$52, 0), \"\", INDEX(gymnasts, SMALL(IF(AZ$52=club, ROW(club)-MIN(ROW(club))+1, \"\"), ROW()-51))), \"\")","v":0}]
[{"$nulls":3},{"v":0,"d":"0.0"},{"v":0,"d":"0.00"},{"v":0,"d":"0.0"},{"v":0,"d":"0.00"},{"v":0,"d":"0.00"},14,50,0,14,{"v":0,"d":"0.0"},{"v":0,"d":"0.00"},18,50,0,18,{"v":0,"d":"0.0"},{"v":0,"d":"0.00"},18,50,0,18,{"v":0,"d":"0.0"},{"v":0,"d":"0.00"},16,50,0,16,{"v":0,"d":"0.0"},{"v":0,"d":"0.00"},13,50,0,13,{"v":0,"d":"0.00"},20,50,0,20,{"$nulls":3},{"$f":"IFERROR(IF(COUNTIF(AR$52, 0), \"\", INDEX(gymnasts, SMALL(IF(AR$52=club, ROW(club)-MIN(ROW(club))+1, \"\"), ROW()-51))), \"\")","v":0},{"$nulls":3},{"$f":"IFERROR(IF(COUNTIF(AV$52, 0), \"\", INDEX(gymnasts, SMALL(IF(AV$52=club, ROW(club)-MIN(ROW(club))+1, \"\"), ROW()-51))), \"\")","v":0},{"$nulls":3},{"$f":"IFERROR(IF(COUNTIF(AZ$52, 0), \"\", INDEX(gymnasts, SMALL(IF(AZ$52=club, ROW(club)-MIN(ROW(club))+1, \"\"), ROW()-51))), \"\")","v":0}]
[{"$nulls":3},{"v":0,"d":"0.0"},{"v":0,"d":"0.00"},{"v":0,"d":"0.0"},{"v":0,"d":"0.00"},{"v":0,"d":"0.00"},14,51,0,14,{"v":0,"d":"0.0"},{"v":0,"d":"0.00"},18,51,0,18,{"v":0,"d":"0.0"},{"v":0,"d":"0.00"},18,51,0,18,{"v":0,"d":"0.0"},{"v":0,"d":"0.00"},16,51,0,16,{"v":0,"d":"0.0"},{"v":0,"d":"0.00"},13,51,0,13,{"v":0,"d":"0.00"},20,51,0,20,{"$nulls":3},{"$f":"IFERROR(IF(COUNTIF(AR$52, 0), \"\", INDEX(gymnasts, SMALL(IF(AR$52=club, ROW(club)-MIN(ROW(club))+1, \"\"), ROW()-51))), \"\")","v":0},{"$nulls":3},{"$f":"IFERROR(IF(COUNTIF(AV$52, 0), \"\", INDEX(gymnasts, SMALL(IF(AV$52=club, ROW(club)-MIN(ROW(club))+1, \"\"), ROW()-51))), \"\")","v":0},{"$nulls":3},{"$f":"IFERROR(IF(COUNTIF(AZ$52, 0), \"\", INDEX(gymnasts, SMALL(IF(AZ$52=club, ROW(club)-MIN(ROW(club))+1, \"\"), ROW()-51))), \"\")","v":0}]
[{"$nulls":3},{"v":0,"d":"0.0"},{"v":0,"d":"0.00"},{"v":0,"d":"0.0"},{"v":0,"d":"0.00"},{"v":0,"d":"0.00"},14,52,0,14,{"v":0,"d":"0.0"},{"v":0,"d":"0.00"},18,52,0,18,{"v":0,"d":"0.0"},{"v":0,"d":"0.00"},18,52,0,18,{"v":0,"d":"0.0"},{"v":0,"d":"0.00"},16,52,0,16,{"v":0,"d":"0.0"},{"v":0,"d":"0.00"},13,52,0,13,{"v":0,"d":"0.00"},20,52,0,20,{"$nulls":3},{"$f":"IFERROR(IF(COUNTIF(AR$52, 0), \"\", INDEX(gymnasts, SMALL(IF(AR$52=club, ROW(club)-MIN(ROW(club))+1, \"\"), ROW()-51))), \"\")","v":0},{"$nulls":3},{"$f":"IFERROR(IF(COUNTIF(AV$52, 0), \"\", INDEX(gymnasts, SMALL(IF(AV$52=club, ROW(club)-MIN(ROW(club))+1, \"\"), ROW()-51))), \"\")","v":0},{"$nulls":3},{"$f":"IFERROR(IF(COUNTIF(AZ$52, 0), \"\", INDEX(gymnasts, SMALL(IF(AZ$52=club, ROW(club)-MIN(ROW(club))+1, \"\"), ROW()-51))), \"\")","v":0}]
[{"$nulls":3},{"v":0,"d":"0.0"},{"v":0,"d":"0.00"},{"v":0,"d":"0.0"},{"v":0,"d":"0.00"},{"v":0,"d":"0.00"},14,53,0,14,{"v":0,"d":"0.0"},{"v":0,"d":"0.00"},18,53,0,18,{"v":0,"d":"0.0"},{"v":0,"d":"0.00"},18,53,0,18,{"v":0,"d":"0.0"},{"v":0,"d":"0.00"},16,53,0,16,{"v":0,"d":"0.0"},{"v":0,"d":"0.00"},13,53,0,13,{"v":0,"d":"0.00"},20,53,0,20,{"$nulls":3},{"$f":"IFERROR(IF(ISTEXT(AR$52), INDEX(gymnasts, SMALL(IF(AR$52=club, ROW(club)-MIN(ROW(club))+1, \"\"), ROW()-51)), \"\"), \"\")","v":0},{"$nulls":3},{"$f":"IFERROR(IF(ISTEXT(AV$52), INDEX(gymnasts, SMALL(IF(AV$52=club, ROW(club)-MIN(ROW(club))+1, \"\"), ROW()-51)), \"\"), \"\")","v":0},{"$nulls":3},{"$f":"IFERROR(IF(ISTEXT(AZ$52), INDEX(gymnasts, SMALL(IF(AZ$52=club, ROW(club)-MIN(ROW(club))+1, \"\"), ROW()-51)), \"\"), \"\")","v":0}]
[{"$nulls":3},{"v":0,"d":"0.0"},{"v":0,"d":"0.00"},{"v":0,"d":"0.0"},{"v":0,"d":"0.00"},{"v":0,"d":"0.00"},14,54,0,14,{"v":0,"d":"0.0"},{"v":0,"d":"0.00"},18,54,0,18,{"v":0,"d":"0.0"},{"v":0,"d":"0.00"},18,54,0,18,{"v":0,"d":"0.0"},{"v":0,"d":"0.00"},16,54,0,16,{"v":0,"d":"0.0"},{"v":0,"d":"0.00"},13,54,0,13,{"v":0,"d":"0.00"},20,54,0,20]
[{"$nulls":3},{"v":0,"d":"0.0"},{"v":0,"d":"0.00"},{"v":0,"d":"0.0"},{"v":0,"d":"0.00"},{"v":0,"d":"0.00"},14,55,0,14,{"v":0,"d":"0.0"},{"v":0,"d":"0.00"},18,55,0,18,{"v":0,"d":"0.0"},{"v":0,"d":"0.00"},18,55,0,18,{"v":0,"d":"0.0"},{"v":0,"d":"0.00"},16,55,0,16,{"v":0,"d":"0.0"},{"v":0,"d":"0.00"},13,55,0,13,{"v":0,"d":"0.00"},20,55,0,20]
[{"$nulls":3},{"v":0,"d":"0.0"},{"v":0,"d":"0.00"},{"v":0,"d":"0.0"},{"v":0,"d":"0.00"},{"v":0,"d":"0.00"},14,56,0,14,{"v":0,"d":"0.0"},{"v":0,"d":"0.00"},18,56,0,18,{"v":0,"d":"0.0"},{"v":0,"d":"0.00"},18,56,0,18,{"v":0,"d":"0.0"},{"v":0,"d":"0.00"},16,56,0,16,{"v":0,"d":"0.0"},{"v":0,"d":"0.00"},13,56,0,13,{"v":0,"d":"0.00"},20,56,0,20]
[{"$nulls":3},{"v":0,"d":"0.0"},{"v":0,"d":"0.00"},{"v":0,"d":"0.0"},{"v":0,"d":"0.00"},{"v":0,"d":"0.00"},14,57,0,14,{"v":0,"d":"0.0"},{"v":0,"d":"0.00"},18,57,0,18,{"v":0,"d":"0.0"},{"v":0,"d":"0.00"},18,57,0,18,{"v":0,"d":"0.0"},{"v":0,"d":"0.00"},16,57,0,16,{"v":0,"d":"0.0"},{"v":0,"d":"0.00"},13,57,0,13,{"v":0,"d":"0.00"},20,57,0,20]
[{"$nulls":3},{"v":0,"d":"0.0"},{"v":0,"d":"0.00"},{"v":0,"d":"0.0"},{"v":0,"d":"0.00"},{"v":0,"d":"0.00"},14,58,0,14,{"v":0,"d":"0.0"},{"v":0,"d":"0.00"},18,58,0,18,{"v":0,"d":"0.0"},{"v":0,"d":"0.00"},18,58,0,18,{"v":0,"d":"0.0"},{"v":0,"d":"0.00"},16,58,0,16,{"v":0,"d":"0.0"},{"v":0,"d":"0.00"},13,58,0,13,{"v":0,"d":"0.00"},20,58,0,20]
[{"$nulls":3},{"v":0,"d":"0.0"},{"v":0,"d":"0.00"},{"v":0,"d":"0.0"},{"v":0,"d":"0.00"},{"v":0,"d":"0.00"},14,59,0,14,{"v":0,"d":"0.0"},{"v":0,"d":"0.00"},18,59,0,18,{"v":0,"d":"0.0"},{"v":0,"d":"0.00"},18,59,0,18,{"v":0,"d":"0.0"},{"v":0,"d":"0.00"},16,59,0,16,{"v":0,"d":"0.0"},{"v":0,"d":"0.00"},13,59,0,13,{"v":0,"d":"0.00"},20,59,0,20]
[{"$nulls":3},{"v":0,"d":"0.0"},{"v":0,"d":"0.00"},{"v":0,"d":"0.0"},{"v":0,"d":"0.00"},{"v":0,"d":"0.00"},14,60,0,14,{"v":0,"d":"0.0"},{"v":0,"d":"0.00"},18,60,0,18,{"v":0,"d":"0.0"},{"v":0,"d":"0.00"},18,60,0,18,{"v":0,"d":"0.0"},{"v":0,"d":"0.00"},16,60,0,16,{"v":0,"d":"0.0"},{"v":0,"d":"0.00"},13,60,0,13,{"v":0,"d":"0.00"},20,60,0,20]
[{"$nulls":3},{"v":0,"d":"0.0"},{"v":0,"d":"0.00"},{"v":0,"d":"0.0"},{"v":0,"d":"0.00"},{"v":0,"d":"0.00"},14,61,0,14,{"v":0,"d":"0.0"},{"v":0,"d":"0.00"},18,61,0,18,{"v":0,"d":"0.0"},{"v":0,"d":"0.00"},18,61,0,18,{"v":0,"d":"0.0"},{"v":0,"d":"0.00"},16,61,0,16,{"v":0,"d":"0.0"},{"v":0,"d":"0.00"},13,61,0,13,{"v":0,"d":"0.00"},20,61,0,20]
[{"$nulls":3},{"v":0,"d":"0.0"},{"v":0,"d":"0.00"},{"v":0,"d":"0.0"},{"v":0,"d":"0.00"},{"v":0,"d":"0.00"},14,62,0,14,{"v":0,"d":"0.0"},{"v":0,"d":"0.00"},18,62,0,18,{"v":0,"d":"0.0"},{"v":0,"d":"0.00"},18,62,0,18,{"v":0,"d":"0.0"},{"v":0,"d":"0.00"},16,62,0,16,{"v":0,"d":"0.0"},{"v":0,"d":"0.00"},13,62,0,13,{"v":0,"d":"0.00"},20,62,0,20]
[null,"Teams"]
[null,{"$f":"IF(AND(COUNTIF(club,C67)>=3,COUNTIF(club,C67)<=5),\"TEAM\",IF(COUNTIF(club,C67)>5,\"Too Many!!!!!\",\"NO TEAM\"))","v":"TEAM"},"Carlisle",{"$nulls":4},{"$f":"IF($B67=\"NO TEAM\", 0, SUM(LARGE(IF(club=$C67, vault), ROW($1:$3))))","v":{"v":36.4,"d":"36.40"}},{"$nulls":5},{"$f":"IF($B67=\"NO TEAM\", 0, SUM(LARGE(IF(club=$C67, bars), ROW($1:$3))))","v":34.75},{"$nulls":5},{"$f":"IF($B67=\"NO TEAM\", 0, SUM(LARGE(IF(club=$C67, beam), ROW($1:$3))))","v":34.15},{"$nulls":5},{"$f":"IF($B67=\"NO TEAM\", 0, SUM(LARGE(IF(club=$C67, floor), ROW($1:$3))))","v":35.95},{"$nulls":5},{"$f":"IF($B67=\"NO TEAM\", 0, SUM(LARGE(IF(club=$C67, range), ROW($1:$3))))","v":36.85},{"$nulls":4},{"$f":"IF(B67=\"TEAM\", SUMIF(D$2:AJ$2, \"SCORE\", D67:AJ67), 0)","v":{"v":178.1,"d":"178.10"}},{"$f":"VLOOKUP(AK67,AN$67:AO$81, 2,FALSE)","v":1},{"$f":"IF(ISNUMBER(AM66), AM66+1, 1)","v":1},{"$f":"LARGE((AK$67:AK$81), $AM67)","v":178.1},{"$f":"IF(AN67=AN66, AO66, AO66+1)","v":1}]
[null,{"$f":"IF(AND(COUNTIF(club,C68)>=3,COUNTIF(club,C68)<=5),\"TEAM\",IF(COUNTIF(club,C68)>5,\"Too Many!!!!!\",\"NO TEAM\"))","v":"TEAM"},"Darlington",{"$nulls":4},{"$f":"IF($B68=\"NO TEAM\", 0, SUM(LARGE(IF(club=$C68, vault), ROW($1:$3))))","v":{"v":37.7,"d":"37.70"}},{"$nulls":5},{"$f":"IF($B68=\"NO TEAM\", 0, SUM(LARGE(IF(club=$C68, bars), ROW($1:$3))))","v":{"v":34.849999999999994,"d":"34.85"}},{"$nulls":5},{"$f":"IF($B68=\"NO TEAM\", 0, SUM(LARGE(IF(club=$C68, beam), ROW($1:$3))))","v":32.45},{"$nulls":5},{"$f":"IF($B68=\"NO TEAM\", 0, SUM(LARGE(IF(club=$C68, floor), ROW($1:$3))))","v":{"v":35.9,"d":"35.90"}},{"$nulls":5},{"$f":"IF($B68=\"NO TEAM\", 0, SUM(LARGE(IF(club=$C68, range), ROW($1:$3))))","v":33.25},{"$nulls":4},174.15,{"$f":"VLOOKUP(AK68,AN$67:AO$81, 2,FALSE)","v":2},{"$f":"IF(ISNUMBER(AM67), AM67+1, 1)","v":2},{"$f":"LARGE((AK$67:AK$81), $AM68)","v":174.15},{"$f":"IF(AN68=AN67, AO67, AO67+1)","v":2}]
[null,{"$f":"IF(AND(COUNTIF(club,C69)>=3,COUNTIF(club,C69)<=5),\"TEAM\",IF(COUNTIF(club,C69)>5,\"Too Many!!!!!\",\"NO TEAM\"))","v":"TEAM"},"Richmondshire",{"$nulls":4},{"$f":"IF($B69=\"NO TEAM\", 0, SUM(LARGE(IF(club=$C69, vault), ROW($1:$3))))","v":35.75},{"$nulls":5},{"$f":"IF($B69=\"NO TEAM\", 0, SUM(LARGE(IF(club=$C69, bars), ROW($1:$3))))","v":{"v":31.8,"d":"31.80"}},{"$nulls":5},{"$f":"IF($B69=\"NO TEAM\", 0, SUM(LARGE(IF(club=$C69, beam), ROW($1:$3))))","v":27.75},{"$nulls":5},{"$f":"IF($B69=\"NO TEAM\", 0, SUM(LARGE(IF(club=$C69, floor), ROW($1:$3))))","v":{"v":33.8,"d":"33.80"}},{"$nulls":5},{"$f":"IF($B69=\"NO TEAM\", 0, SUM(LARGE(IF(club=$C69, range), ROW($1:$3))))","v":30.55},{"$nulls":4},159.65,4,3,173.55,3]
[null,{"$f":"IF(AND(COUNTIF(club,C70)>=3,COUNTIF(club,C70)<=5),\"TEAM\",IF(COUNTIF(club,C70)>5,\"Too Many!!!!!\",\"NO TEAM\"))","v":"TEAM"},"CNGA",{"$nulls":4},{"$f":"IF($B70=\"NO TEAM\", 0, SUM(LARGE(IF(club=$C70, vault), ROW($1:$3))))","v":37.35},{"$nulls":5},{"$f":"IF($B70=\"NO TEAM\", 0, SUM(LARGE(IF(club=$C70, bars), ROW($1:$3))))","v":{"v":33.3,"d":"33.30"}},{"$nulls":5},{"$f":"IF($B70=\"NO TEAM\", 0, SUM(LARGE(IF(club=$C70, beam), ROW($1:$3))))","v":{"v":31.9,"d":"31.90"}},{"$nulls":5},{"$f":"IF($B70=\"NO TEAM\", 0, SUM(LARGE(IF(club=$C70, floor), ROW($1:$3))))","v":{"v":35.849999999999994,"d":"35.85"}},{"$nulls":5},{"$f":"IF($B70=\"NO TEAM\", 0, SUM(LARGE(IF(club=$C70, range), ROW($1:$3))))","v":35.15},{"$nulls":4},173.55,3,4,159.65,4]
[null,{"$f":"IF(AND(COUNTIF(club,C71)>=3,COUNTIF(club,C71)<=5),\"TEAM\",IF(COUNTIF(club,C71)>5,\"Too Many!!!!!\",\"NO TEAM\"))","v":"NO TEAM"},{"$nulls":5},{"$f":"IF($B71=\"NO TEAM\", 0, SUM(LARGE(IF(club=$C71, vault), ROW($1:$3))))","v":{"v":0,"d":"0.00"}},{"$nulls":5},{"$f":"IF($B71=\"NO TEAM\", 0, SUM(LARGE(IF(club=$C71, bars), ROW($1:$3))))","v":{"v":0,"d":"0.00"}},{"$nulls":5},{"$f":"IF($B71=\"NO TEAM\", 0, SUM(LARGE(IF(club=$C71, beam), ROW($1:$3))))","v":{"v":0,"d":"0.00"}},{"$nulls":5},{"$f":"IF($B71=\"NO TEAM\", 0, SUM(LARGE(IF(club=$C71, floor), ROW($1:$3))))","v":{"v":0,"d":"0.00"}},{"$nulls":5},{"$f":"IF($B71=\"NO TEAM\", 0, SUM(LARGE(IF(club=$C71, range), ROW($1:$3))))","v":{"v":0,"d":"0.00"}},{"$nulls":4},{"v":0,"d":"0.00"},5,5,0,5]
[null,{"$f":"IF(AND(COUNTIF(club,C72)>=3,COUNTIF(club,C72)<=5),\"TEAM\",IF(COUNTIF(club,C72)>5,\"Too Many!!!!!\",\"NO TEAM\"))","v":"NO TEAM"},{"$nulls":5},{"$f":"IF($B72=\"NO TEAM\", 0, SUM(LARGE(IF(club=$C72, vault), ROW($1:$3))))","v":{"v":0,"d":"0.00"}},{"$nulls":5},{"$f":"IF($B72=\"NO TEAM\", 0, SUM(LARGE(IF(club=$C72, bars), ROW($1:$3))))","v":{"v":0,"d":"0.00"}},{"$nulls":5},{"$f":"IF($B72=\"NO TEAM\", 0, SUM(LARGE(IF(club=$C72, beam), ROW($1:$3))))","v":{"v":0,"d":"0.00"}},{"$nulls":5},{"$f":"IF($B72=\"NO TEAM\", 0, SUM(LARGE(IF(club=$C72, floor), ROW($1:$3))))","v":{"v":0,"d":"0.00"}},{"$nulls":5},{"$f":"IF($B72=\"NO TEAM\", 0, SUM(LARGE(IF(club=$C72, range), ROW($1:$3))))","v":{"v":0,"d":"0.00"}},{"$nulls":4},{"v":0,"d":"0.00"},5,6,0,5]
[null,{"$f":"IF(AND(COUNTIF(club,C73)>=3,COUNTIF(club,C73)<=5),\"TEAM\",IF(COUNTIF(club,C73)>5,\"Too Many!!!!!\",\"NO TEAM\"))","v":"NO TEAM"},{"$nulls":5},{"$f":"IF($B73=\"NO TEAM\", 0, SUM(LARGE(IF(club=$C73, vault), ROW($1:$3))))","v":{"v":0,"d":"0.00"}},{"$nulls":5},{"$f":"IF($B73=\"NO TEAM\", 0, SUM(LARGE(IF(club=$C73, bars), ROW($1:$3))))","v":{"v":0,"d":"0.00"}},{"$nulls":5},{"$f":"IF($B73=\"NO TEAM\", 0, SUM(LARGE(IF(club=$C73, beam), ROW($1:$3))))","v":{"v":0,"d":"0.00"}},{"$nulls":5},{"$f":"IF($B73=\"NO TEAM\", 0, SUM(LARGE(IF(club=$C73, floor), ROW($1:$3))))","v":{"v":0,"d":"0.00"}},{"$nulls":5},{"$f":"IF($B73=\"NO TEAM\", 0, SUM(LARGE(IF(club=$C73, range), ROW($1:$3))))","v":{"v":0,"d":"0.00"}},{"$nulls":4},{"v":0,"d":"0.00"},5,7,0,5]
[null,{"$f":"IF(AND(COUNTIF(club,C74)>=3,COUNTIF(club,C74)<=5),\"TEAM\",IF(COUNTIF(club,C74)>5,\"Too Many!!!!!\",\"NO TEAM\"))","v":"NO TEAM"},{"$nulls":5},{"$f":"IF($B74=\"NO TEAM\", 0, SUM(LARGE(IF(club=$C74, vault), ROW($1:$3))))","v":{"v":0,"d":"0.00"}},{"$nulls":5},{"$f":"IF($B74=\"NO TEAM\", 0, SUM(LARGE(IF(club=$C74, bars), ROW($1:$3))))","v":{"v":0,"d":"0.00"}},{"$nulls":5},{"$f":"IF($B74=\"NO TEAM\", 0, SUM(LARGE(IF(club=$C74, beam), ROW($1:$3))))","v":{"v":0,"d":"0.00"}},{"$nulls":5},{"$f":"IF($B74=\"NO TEAM\", 0, SUM(LARGE(IF(club=$C74, floor), ROW($1:$3))))","v":{"v":0,"d":"0.00"}},{"$nulls":5},{"$f":"IF($B74=\"NO TEAM\", 0, SUM(LARGE(IF(club=$C74, range), ROW($1:$3))))","v":{"v":0,"d":"0.00"}},{"$nulls":4},{"v":0,"d":"0.00"},5,8,0,5]
[null,{"$f":"IF(AND(COUNTIF(club,C75)>=3,COUNTIF(club,C75)<=5),\"TEAM\",IF(COUNTIF(club,C75)>5,\"Too Many!!!!!\",\"NO TEAM\"))","v":"NO TEAM"},{"$nulls":5},{"$f":"IF($B75=\"NO TEAM\", 0, SUM(LARGE(IF(club=$C75, vault), ROW($1:$3))))","v":{"v":0,"d":"0.00"}},{"$nulls":5},{"$f":"IF($B75=\"NO TEAM\", 0, SUM(LARGE(IF(club=$C75, bars), ROW($1:$3))))","v":{"v":0,"d":"0.00"}},{"$nulls":5},{"$f":"IF($B75=\"NO TEAM\", 0, SUM(LARGE(IF(club=$C75, beam), ROW($1:$3))))","v":{"v":0,"d":"0.00"}},{"$nulls":5},{"$f":"IF($B75=\"NO TEAM\", 0, SUM(LARGE(IF(club=$C75, floor), ROW($1:$3))))","v":{"v":0,"d":"0.00"}},{"$nulls":5},{"$f":"IF($B75=\"NO TEAM\", 0, SUM(LARGE(IF(club=$C75, range), ROW($1:$3))))","v":{"v":0,"d":"0.00"}},{"$nulls":4},{"v":0,"d":"0.00"},5,9,0,5]
[null,{"$f":"IF(AND(COUNTIF(club,C76)>=3,COUNTIF(club,C76)<=5),\"TEAM\",IF(COUNTIF(club,C76)>5,\"Too Many!!!!!\",\"NO TEAM\"))","v":"NO TEAM"},{"$nulls":5},{"$f":"IF($B76=\"NO TEAM\", 0, SUM(LARGE(IF(club=$C76, vault), ROW($1:$3))))","v":{"v":0,"d":"0.00"}},{"$nulls":5},{"$f":"IF($B76=\"NO TEAM\", 0, SUM(LARGE(IF(club=$C76, bars), ROW($1:$3))))","v":{"v":0,"d":"0.00"}},{"$nulls":5},{"$f":"IF($B76=\"NO TEAM\", 0, SUM(LARGE(IF(club=$C76, beam), ROW($1:$3))))","v":{"v":0,"d":"0.00"}},{"$nulls":5},{"$f":"IF($B76=\"NO TEAM\", 0, SUM(LARGE(IF(club=$C76, floor), ROW($1:$3))))","v":{"v":0,"d":"0.00"}},{"$nulls":5},{"$f":"IF($B76=\"NO TEAM\", 0, SUM(LARGE(IF(club=$C76, range), ROW($1:$3))))","v":{"v":0,"d":"0.00"}},{"$nulls":4},{"v":0,"d":"0.00"},5,10,0,5]
[null,{"$f":"IF(AND(COUNTIF(club,C77)>=3,COUNTIF(club,C77)<=5),\"TEAM\",IF(COUNTIF(club,C77)>5,\"Too Many!!!!!\",\"NO TEAM\"))","v":"NO TEAM"},{"$nulls":5},{"$f":"IF($B77=\"NO TEAM\", 0, SUM(LARGE(IF(club=$C77, vault), ROW($1:$3))))","v":{"v":0,"d":"0.00"}},{"$nulls":5},{"$f":"IF($B77=\"NO TEAM\", 0, SUM(LARGE(IF(club=$C77, bars), ROW($1:$3))))","v":{"v":0,"d":"0.00"}},{"$nulls":5},{"$f":"IF($B77=\"NO TEAM\", 0, SUM(LARGE(IF(club=$C77, beam), ROW($1:$3))))","v":{"v":0,"d":"0.00"}},{"$nulls":5},{"$f":"IF($B77=\"NO TEAM\", 0, SUM(LARGE(IF(club=$C77, floor), ROW($1:$3))))","v":{"v":0,"d":"0.00"}},{"$nulls":5},{"$f":"IF($B77=\"NO TEAM\", 0, SUM(LARGE(IF(club=$C77, range), ROW($1:$3))))","v":{"v":0,"d":"0.00"}},{"$nulls":4},{"v":0,"d":"0.00"},5,11,0,5]
[null,{"$f":"IF(AND(COUNTIF(club,C78)>=3,COUNTIF(club,C78)<=5),\"TEAM\",IF(COUNTIF(club,C78)>5,\"Too Many!!!!!\",\"NO TEAM\"))","v":"NO TEAM"},{"$nulls":5},{"$f":"IF($B78=\"NO TEAM\", 0, SUM(LARGE(IF(club=$C78, vault), ROW($1:$3))))","v":{"v":0,"d":"0.00"}},{"$nulls":5},{"$f":"IF($B78=\"NO TEAM\", 0, SUM(LARGE(IF(club=$C78, bars), ROW($1:$3))))","v":{"v":0,"d":"0.00"}},{"$nulls":5},{"$f":"IF($B78=\"NO TEAM\", 0, SUM(LARGE(IF(club=$C78, beam), ROW($1:$3))))","v":{"v":0,"d":"0.00"}},{"$nulls":5},{"$f":"IF($B78=\"NO TEAM\", 0, SUM(LARGE(IF(club=$C78, floor), ROW($1:$3))))","v":{"v":0,"d":"0.00"}},{"$nulls":5},{"$f":"IF($B78=\"NO TEAM\", 0, SUM(LARGE(IF(club=$C78, range), ROW($1:$3))))","v":{"v":0,"d":"0.00"}},{"$nulls":4},{"v":0,"d":"0.00"},5,12,0,5]
[null,{"$f":"IF(AND(COUNTIF(club,C79)>=3,COUNTIF(club,C79)<=5),\"TEAM\",IF(COUNTIF(club,C79)>5,\"Too Many!!!!!\",\"NO TEAM\"))","v":"NO TEAM"},{"$nulls":5},{"$f":"IF($B79=\"NO TEAM\", 0, SUM(LARGE(IF(club=$C79, vault), ROW($1:$3))))","v":{"v":0,"d":"0.00"}},{"$nulls":5},{"$f":"SUM(LARGE(IF(club=$C79, bars), ROW($1:$3)))","v":{"v":0,"d":"0.00"}},{"$nulls":5},{"$f":"SUM(LARGE(IF(club=$C79, beam), ROW($1:$3)))","v":{"v":0,"d":"0.00"}},{"$nulls":5},{"$f":"SUM(LARGE(IF(club=$C79, floor), ROW($1:$3)))","v":{"v":0,"d":"0.00"}},{"$nulls":5},{"$f":"SUM(LARGE(IF(club=$C79, range), ROW($1:$3)))","v":{"v":0,"d":"0.00"}},{"$nulls":4},{"v":0,"d":"0.00"},5,13,0,5]
[null,{"$f":"IF(AND(COUNTIF(club,C80)>=3,COUNTIF(club,C80)<=5),\"TEAM\",IF(COUNTIF(club,C80)>5,\"Too Many!!!!!\",\"NO TEAM\"))","v":"NO TEAM"},{"$nulls":5},{"$f":"IF($B80=\"NO TEAM\", 0, SUM(LARGE(IF(club=$C80, vault), ROW($1:$3))))","v":{"v":0,"d":"0.00"}},{"$nulls":5},{"$f":"SUM(LARGE(IF(club=$C80, bars), ROW($1:$3)))","v":{"v":0,"d":"0.00"}},{"$nulls":5},{"$f":"SUM(LARGE(IF(club=$C80, beam), ROW($1:$3)))","v":{"v":0,"d":"0.00"}},{"$nulls":5},{"$f":"SUM(LARGE(IF(club=$C80, floor), ROW($1:$3)))","v":{"v":0,"d":"0.00"}},{"$nulls":5},{"$f":"SUM(LARGE(IF(club=$C80, range), ROW($1:$3)))","v":{"v":0,"d":"0.00"}},{"$nulls":4},{"v":0,"d":"0.00"},5,14,0,5]
[null,{"$f":"IF(AND(COUNTIF(club,C81)>=3,COUNTIF(club,C81)<=5),\"TEAM\",IF(COUNTIF(club,C81)>5,\"Too Many!!!!!\",\"NO TEAM\"))","v":"NO TEAM"},{"$nulls":5},{"$f":"IF($B81=\"NO TEAM\", 0, SUM(LARGE(IF(club=$C81, vault), ROW($1:$3))))","v":{"v":0,"d":"0.00"}},{"$nulls":5},{"$f":"SUM(LARGE(IF(club=$C81, bars), ROW($1:$3)))","v":{"v":0,"d":"0.00"}},{"$nulls":5},{"$f":"SUM(LARGE(IF(club=$C81, beam), ROW($1:$3)))","v":{"v":0,"d":"0.00"}},{"$nulls":5},{"$f":"SUM(LARGE(IF(club=$C81, floor), ROW($1:$3)))","v":{"v":0,"d":"0.00"}},{"$nulls":5},{"$f":"SUM(LARGE(IF(club=$C81, range), ROW($1:$3)))","v":{"v":0,"d":"0.00"}},{"$nulls":4},{"v":0,"d":"0.00"},5,15,0,5]

{"sheet":"CGr 5 <11","index":5,"n_rows":81,"n_cols":55,"rows_kept":81,"merged":[[0,3,0,8],[0,12,0,14],[0,18,0,20],[0,24,0,26],[0,30,0,32],[0,36,0,37],[2,45,2,54],[45,44,45,45],[45,48,45,49],[45,52,45,53],[56,44,56,45]]}
[{"$nulls":3},"VAULT",{"$nulls":8},"BARS",{"$nulls":5},"BEAM",{"$nulls":5},"FLOOR",{"$nulls":5},"RANGE",{"$nulls":5},"AA"]
["No","GYMNAST","CLUB","V1 SV","V1","V2 SV","V2","SCORE","POS","idx","sort","ties","SV","SCORE","POS","idx","sort","ties","SV","SCORE","POS","idx","sort","ties","SV","SCORE","POS","idx","sort","ties","SV","SCORE","POS","idx","sort","ties","TOTAL","POS","idx","sort","ties"]
[null,"Club Grade 5 - 11 & Under",{"$nulls":41},{"$f":"B3","v":"Club Grade 5 - 11 & Under"},null,"summary results for presentation"]
[75,"Emmi Bradley","SD",{"v":4,"d":"4.0"},{"v":12.3,"d":"12.30"},{"v":0,"d":"0.0"},{"v":0,"d":"0.00"},{"$f":"MAX(E4, G4)","v":{"v":12.3,"d":"12.30"}},{"$f":"VLOOKUP(H4, K$4:L$65, 2,FALSE)","v":6},{"$f":"IF(ISNUMBER(J3), J3+1, 1)","v":1},{"$f":"LARGE(H$4:H$65,J4)","v":12.7},{"$f":"IF(K4=K3, L3, L3+1)","v":1},{"v":4,"d":"4.0"},10.85,{"$f":"VLOOKUP(N4, Q$4:R$65, 2,FALSE)","v":10},{"$f":"IF(ISNUMBER(P3), P3+1, 1)","v":1},{"$f":"LARGE(N$4:N$65,P4)","v":13.15},{"$f":"IF(Q4=Q3, R3, R3+1)","v":1},{"v":4,"d":"4.0"},{"v":9.5,"d":"9.50"},{"$f":"VLOOKUP(T4, W$4:X$65, 2,FALSE)","v":10},{"$f":"IF(ISNUMBER(V3), V3+1, 1)","v":1},{"$f":"LARGE(T$4:T$65,V4)","v":12.05},{"$f":"IF(W4=W3, X3, X3+1)","v":1},{"v":4,"d":"4.0"},{"v":12.1,"d":"12.10"},{"$f":"VLOOKUP(Z4, AC$4:AD$65, 2,FALSE)","v":5},{"$f":"IF(ISNUMBER(AB3), AB3+1, 1)","v":1},{"$f":"LARGE(Z$4:Z$65,AB4)","v":12.8},{"$f":"IF(AC4=AC3, AD3, AD3+1)","v":1},{"v":4,"d":"4.0"},12.55,{"$f":"VLOOKUP(AF4, AI$4:AJ$65, 2,FALSE)","v":3},{"$f":"IF(ISNUMBER(AH3), AH3+1, 1)","v":1},{"$f":"LARGE(AF$4:AF$65,AH4)","v":13.3},{"$f":"IF(AI4=AI3, AJ3, AJ3+1)","v":1},{"$f":"SUMIF(D$2:AJ$2, \"SCORE\", D4:AJ4)","v":{"v":57.3,"d":"57.30"}},{"$f":"VLOOKUP(AK4, AN$4:AO$65, 2,FALSE)","v":7},{"$f":"IF(ISNUMBER(AM3), AM3+1, 1)","v":1},{"$f":"LARGE($AK$4:$AK$65,$AM4)","v":63.599999999999994},{"$f":"IF(AN4=AN3, AO3, AO3+1)","v":1},null,null,"6th Place",{"$f":"IFERROR(INDEX(vault,MATCH(AR5,gymnasts,0)), \"\")","v":{"v":12.3,"d":"12.30"}},"5th Place",{"$f":"IFERROR(INDEX(vault,MATCH(AT5,gymnasts,0)), \"\")","v":12.35},"4th Place",{"$f":"IFERROR(INDEX(vault,MATCH(AV5,gymnasts,0)), \"\")","v":12.45},"3rd Place",{"$f":"IFERROR(INDEX(vault,MATCH(AX5,gymnasts,0)), \"\")","v":{"v":12.5,"d":"12.50"}},"2nd Place",{"$f":"IFERROR(INDEX(vault,MATCH(AZ5,gymnasts,0)), \"\")","v":{"v":12.6,"d":"12.60"}},"1st Place",{"$f":"IFERROR(INDEX(vault,MATCH(BB5,gymnasts,0)), \"\")","v":{"v":12.7,"d":"12.70"}}]
[76,"Ellie Ritson","SD",{"v":4,"d":"4.0"},12.35,{"v":0,"d":"0.0"},{"v":0,"d":"0.00"},{"$f":"MAX(E5, G5)","v":12.35},{"$f":"VLOOKUP(H5, K$4:L$65, 2,FALSE)","v":5},2,{"$f":"LARGE(H$4:H$65,J5)","v":12.6},{"$f":"IF(K5=K4, L4, L4+1)","v":2},{"v":4,"d":"4.0"},{"v":11.2,"d":"11.20"},{"$f":"VLOOKUP(N5, Q$4:R$65, 2,FALSE)","v":9},2,{"$f":"LARGE(N$4:N$65,P5)","v":12.5},{"$f":"IF(Q5=Q4, R4, R4+1)","v":2},3.5,{"v":11.3,"d":"11.30"},{"$f":"VLOOKUP(T5, W$4:X$65, 2,FALSE)","v":4},2,{"$f":"LARGE(T$4:T$65,V5)","v":11.8},{"$f":"IF(W5=W4, X4, X4+1)","v":2},{"v":4,"d":"4.0"},{"v":12.2,"d":"12.20"},{"$f":"VLOOKUP(Z5, AC$4:AD$65, 2,FALSE)","v":4},2,{"$f":"LARGE(Z$4:Z$65,AB5)","v":12.65},{"$f":"IF(AC5=AC4, AD4, AD4+1)","v":2},{"v":4,"d":"4.0"},{"v":11.7,"d":"11.70"},{"$f":"VLOOKUP(AF5, AI$4:AJ$65, 2,FALSE)","v":8},2,{"$f":"LARGE(AF$4:AF$65,AH5)","v":12.8},{"$f":"IF(AI5=AI4, AJ4, AJ4+1)","v":2},58.75,{"$f":"VLOOKUP(AK5, AN$4:AO$65, 2,FALSE)","v":6},2,{"$f":"LARGE($AK$4:$AK$65,$AM5)","v":61.800000000000004},{"$f":"IF(AN5=AN4, AO4, AO4+1)","v":2},null,"Vault",{"$f":"IFERROR(INDEX(gymnasts, SMALL(IF(VALUE(LEFT(AR$32, 1))=vaultPos, ROW(vaultPos)-MIN(ROW(vaultPos))+1, \"\"), ROW()-4)), \"\")","v":"Emmi Bradley"},{"$f":"IFERROR( INDEX(entries, MATCH(AR5, gymnasts, 0), 2), \"\")","v":"SD"},{"$f":"IFERROR(INDEX(gymnasts, SMALL(IF(VALUE(LEFT(AT$32, 1))=vaultPos, ROW(vaultPos)-MIN(ROW(vaultPos))+1, \"\"), ROW()-4)), \"\")","v":"Ellie Ritson"},{"$f":"IFERROR( INDEX(entries, MATCH(AT5, gymnasts, 0), 2), \"\")","v":"SD"},{"$f":"IFERROR(INDEX(gymnasts, SMALL(IF(VALUE(LEFT(AV$32, 1))=vaultPos, ROW(vaultPos)-MIN(ROW(vaultPos))+1, \"\"), ROW()-4)), \"\")","v":"Evie Almack"},{"$f":"IFERROR( INDEX(entries, MATCH(AV5, gymnasts, 0), 2), \"\")","v":"Richmondshire"},{"$f":"IFERROR(INDEX(gymnasts, SMALL(IF(VALUE(LEFT(AX$32, 1))=vaultPos, ROW(vaultPos)-MIN(ROW(vaultPos))+1, \"\"), ROW()-4)), \"\")","v":"Zoe Hall"},{"$f":"IFERROR( INDEX(entries, MATCH(AX5, gymnasts, 0), 2), \"\")","v":"Richmondshire"},{"$f":"IFERROR(INDEX(gymnasts, SMALL(IF(VALUE(LEFT(AZ$32, 1))=vaultPos, ROW(vaultPos)-MIN(ROW(vaultPos))+1, \"\"), ROW()-4)), \"\")","v":"Hollie Bowers"},{"$f":"IFERROR( INDEX(entries, MATCH(AZ5, gymnasts, 0), 2), \"\")","v":"SD"},{"$f":"IFERROR(INDEX(gymnasts, SMALL(IF(VALUE(LEFT(BB$32, 1))=vaultPos, ROW(vaultPos)-MIN(ROW(vaultPos))+1, \"\"), ROW()-4)), \"\")","v":"Maya Hanson"},{"$f":"IFERROR( INDEX(entries, MATCH(BB5, gymnasts, 0), 2), \"\")","v":"Gymtopia"}]
[77,"Isabelle Parish","SD",{"v":4,"d":"4.0"},12.05,{"v":0,"d":"0.0"},{"v":0,"d":"0.00"},12.05,8,3,12.6,2,{"v":4,"d":"4.0"},12.15,4,3,12.4,3,3.5,{"v":11.1,"d":"11.10"},5,3,11.4,3,{"v":4,"d":"4.0"},{"v":11.4,"d":"11.40"},8,3,12.25,3,{"v":4,"d":"4.0"},{"v":12.8,"d":"12.80"},2,3,12.55,3,{"v":59.5,"d":"59.50"},5,3,60.05,3,null,null,"Daisy Williams",{"$f":"IFERROR( INDEX(entries, MATCH(AR6, gymnasts, 0), 2), \"\")","v":"SD"},"",{"$f":"IFERROR( INDEX(entries, MATCH(AT6, gymnasts, 0), 2), \"\")","v":""},"Natalia Kowal",{"$f":"IFERROR( INDEX(entries, MATCH(AV6, gymnasts, 0), 2), \"\")","v":"North Lakes"},"",{"$f":"IFERROR( INDEX(entries, MATCH(AX6, gymnasts, 0), 2), \"\")","v":""},"Abbie Robertson",{"$f":"IFERROR( INDEX(entries, MATCH(AZ6, gymnasts, 0), 2), \"\")","v":"AAAsports"},"",""]
[78,"Daisy Williams","SD",{"v":4,"d":"4.0"},{"v":12.3,"d":"12.30"},{"v":0,"d":"0.0"},{"v":0,"d":"0.00"},{"v":12.3,"d":"12.30"},6,4,12.5,3,{"v":4,"d":"4.0"},13.15,1,4,12.15,4,{"v":4,"d":"4.0"},12.05,1,4,11.3,4,{"v":4,"d":"4.0"},{"v":12.8,"d":"12.80"},1,4,12.2,4,{"v":4,"d":"4.0"},{"v":13.3,"d":"13.30"},1,4,12.3,4,{"v":63.599999999999994,"d":"63.60"},1,4,59.95,4,null,null,"","","","","","","","","","","",""]
[79,"Hollie Bowers","SD",{"v":4,"d":"4.0"},{"v":12.6,"d":"12.60"},{"v":0,"d":"0.0"},{"v":0,"d":"0.00"},{"v":12.6,"d":"12.60"},2,5,12.45,4,{"v":4,"d":"4.0"},{"v":12.5,"d":"12.50"},2,5,12.05,5,{"v":4,"d":"4.0"},{"v":11.8,"d":"11.80"},2,5,11.1,5,{"v":4,"d":"4.0"},12.65,2,5,12.2,4,{"v":4,"d":"4.0"},12.25,5,5,12.25,5,{"v":61.800000000000004,"d":"61.80"},2,5,59.5,5,null,null,"","","","","","","","","","","",""]
[80,"Violet Lumley","Richmondshire",{"v":4,"d":"4.0"},11.65,{"v":0,"d":"0.0"},{"v":0,"d":"0.00"},11.65,9,6,12.45,4,{"v":4,"d":"4.0"},{"v":11.5,"d":"11.50"},7,6,12,6,{"v":4,"d":"4.0"},9.95,9,6,11.1,5,{"v":4,"d":"4.0"},11.55,7,6,12.1,5,{"v":4,"d":"4.0"},11.75,7,6,11.8,6,{"v":56.39999999999999,"d":"56.40"},9,6,58.75,6,null,null,"","","","","","","","","","","",""]
[81,"Zoe Hall","Richmondshire",{"v":4,"d":"4.0"},{"v":12.5,"d":"12.50"},{"v":0,"d":"0.0"},{"v":0,"d":"0.00"},{"v":12.5,"d":"12.50"},3,7,12.35,5,3.5,4.95,13,7,11.5,7,1.5,{"v":8.9,"d":"8.90"},12,7,10.8,6,{"v":4,"d":"4.0"},12.05,6,7,12.1,5,{"v":4,"d":"4.0"},{"v":11.8,"d":"11.80"},6,7,11.75,7,{"v":50.2,"d":"50.20"},13,7,57.3,7,null,null,"","","","","","","","","","","",""]
[82,"Evie Almack","Richmondshire",{"v":4,"d":"4.0"},12.45,{"v":0,"d":"0.0"},{"v":0,"d":"0.00"},12.45,4,8,12.3,6,{"v":4,"d":"4.0"},{"v":10.5,"d":"10.50"},12,8,11.25,8,{"v":4,"d":"4.0"},{"v":11.1,"d":"11.10"},5,8,10.35,7,{"v":4,"d":"4.0"},11.05,10,8,12.05,6,3.5,{"v":10.8,"d":"10.80"},11,8,11.7,8,{"v":55.89999999999999,"d":"55.90"},10,8,56.49999999999999,8,null,null,"6th Place",{"$f":"IFERROR(INDEX(bars,MATCH(AR12,gymnasts,0)), \"\")","v":{"v":12,"d":"12.00"}},"5th Place",{"$f":"IFERROR(INDEX(bars,MATCH(AT12,gymnasts,0)), \"\")","v":12.05},"4th Place",{"$f":"IFERROR(INDEX(bars,MATCH(AV12,gymnasts,0)), \"\")","v":12.15},"3rd Place",{"$f":"IFERROR(INDEX(bars,MATCH(AX12,gymnasts,0)), \"\")","v":{"v":12.4,"d":"12.40"}},"2nd Place",{"$f":"IFERROR(INDEX(bars,MATCH(AZ12,gymnasts,0)), \"\")","v":{"v":12.5,"d":"12.50"}},"1st Place",{"$f":"IFERROR(INDEX(bars,MATCH(BB12,gymnasts,0)), \"\")","v":13.15}]
[83,"Abbie Robertson","AAAsports",{"v":4,"d":"4.0"},{"v":12.6,"d":"12.60"},{"v":0,"d":"0.0"},{"v":0,"d":"0.00"},{"v":12.6,"d":"12.60"},2,9,12.3,6,{"v":4,"d":"4.0"},12.05,5,9,11.2,9,{"v":4,"d":"4.0"},9.25,11,9,10.2,8,{"v":4,"d":"4.0"},{"v":12.2,"d":"12.20"},4,9,11.55,7,{"v":3,"d":"3.0"},{"v":10.4,"d":"10.40"},12,9,11.6,9,{"v":56.49999999999999,"d":"56.50"},8,9,56.39999999999999,9,null,"Bars",{"$f":"IFERROR(INDEX(gymnasts, SMALL(IF(VALUE(LEFT(AR$32, 1))=BarPos, ROW(BarPos)-MIN(ROW(BarPos))+1, \"\"), ROW()-11)), \"\")","v":"Maya Hanson"},{"$f":"IFERROR( INDEX(entries, MATCH(AR12, gymnasts, 0), 2), \"\")","v":"Gymtopia"},{"$f":"IFERROR(INDEX(gymnasts, SMALL(IF(VALUE(LEFT(AT$32, 1))=BarPos, ROW(BarPos)-MIN(ROW(BarPos))+1, \"\"), ROW()-11)), \"\")","v":"Abbie Robertson"},{"$f":"IFERROR( INDEX(entries, MATCH(AT12, gymnasts, 0), 2), \"\")","v":"AAAsports"},{"$f":"IFERROR(INDEX(gymnasts, SMALL(IF(VALUE(LEFT(AV$32, 1))=BarPos, ROW(BarPos)-MIN(ROW(BarPos))+1, \"\"), ROW()-11)), \"\")","v":"Isabelle Parish"},{"$f":"IFERROR( INDEX(entries, MATCH(AV12, gymnasts, 0), 2), \"\")","v":"SD"},{"$f":"IFERROR(INDEX(gymnasts, SMALL(IF(VALUE(LEFT(AX$32, 1))=BarPos, ROW(BarPos)-MIN(ROW(BarPos))+1, \"\"), ROW()-11)), \"\")","v":"Natalia Kowal"},{"$f":"IFERROR( INDEX(entries, MATCH(AX12, gymnasts, 0), 2), \"\")","v":"North Lakes"},{"$f":"IFERROR(INDEX(gymnasts, SMALL(IF(VALUE(LEFT(AZ$32, 1))=BarPos, ROW(BarPos)-MIN(ROW(BarPos))+1, \"\"), ROW()-11)), \"\")","v":"Hollie Bowers"},{"$f":"IFERROR( INDEX(entries, MATCH(AZ12, gymnasts, 0), 2), \"\")","v":"SD"},{"$f":"IFERROR(INDEX(gymnasts, SMALL(IF(VALUE(LEFT(BB$32, 1))=BarPos, ROW(BarPos)-MIN(ROW(BarPos))+1, \"\"), ROW()-11)), \"\")","v":"Daisy Williams"},{"$f":"IFERROR( INDEX(entries, MATCH(BB12, gymnasts, 0), 2), \"\")","v":"SD"}]
[84,"Ainka Lobb","Kendal",{"v":4,"d":"4.0"},{"v":12.2,"d":"12.20"},{"v":0,"d":"0.0"},{"v":0,"d":"0.00"},{"v":12.2,"d":"12.20"},7,10,12.2,7,{"v":4,"d":"4.0"},10.55,11,10,10.85,10,{"v":4,"d":"4.0"},10.35,7,10,9.95,9,{"v":4,"d":"4.0"},{"v":11.2,"d":"11.20"},9,10,11.55,7,{"v":4,"d":"4.0"},11.45,10,10,11.45,10,55.75,11,10,55.89999999999999,10,null,null,"",{"$f":"IFERROR( INDEX(entries, MATCH(AR13, gymnasts, 0), 2), \"\")","v":""},"",{"$f":"IFERROR( INDEX(entries, MATCH(AT13, gymnasts, 0), 2), \"\")","v":""},"",{"$f":"IFERROR( INDEX(entries, MATCH(AV13, gymnasts, 0), 2), \"\")","v":""},"",{"$f":"IFERROR( INDEX(entries, MATCH(AX13, gymnasts, 0), 2), \"\")","v":""},"",{"$f":"IFERROR( INDEX(entries, MATCH(AZ13, gymnasts, 0), 2), \"\")","v":""},"",""]
[85,"Maya Hanson","Gymtopia",{"v":4,"d":"4.0"},{"v":12.7,"d":"12.70"},{"v":0,"d":"0.0"},{"v":0,"d":"0.00"},{"v":12.7,"d":"12.70"},1,11,12.2,7,{"v":4,"d":"4.0"},{"v":12,"d":"12.00"},6,11,10.55,11,3.5,{"v":10.8,"d":"10.80"},6,11,9.5,10,{"v":4,"d":"4.0"},12.25,3,11,11.4,8,{"v":4,"d":"4.0"},{"v":12.3,"d":"12.30"},4,11,10.8,11,60.05,3,11,55.75,11,null,null,"","","","","","","","","","","",""]
[86,"Ruby Jackson","Gymtopia",{"v":4,"d":"4.0"},{"v":12.2,"d":"12.20"},{"v":0,"d":"0.0"},{"v":0,"d":"0.00"},{"v":12.2,"d":"12.20"},7,12,12.05,8,{"v":4,"d":"4.0"},11.25,8,12,10.5,12,3.5,{"v":10.2,"d":"10.20"},8,12,9.25,11,{"v":4,"d":"4.0"},11.55,7,12,11.2,9,3.5,{"v":10.4,"d":"10.40"},12,12,10.4,12,{"v":55.6,"d":"55.60"},12,12,55.6,12,null,null,"","","","","","","","","","","",""]
[87,"Natalia Kowal","North Lakes",{"v":4,"d":"4.0"},12.45,{"v":0,"d":"0.0"},{"v":0,"d":"0.00"},12.45,4,13,11.65,9,{"v":4,"d":"4.0"},{"v":12.4,"d":"12.40"},3,13,4.95,13,{"v":4,"d":"4.0"},{"v":11.4,"d":"11.40"},3,13,8.9,12,{"v":4,"d":"4.0"},{"v":12.1,"d":"12.10"},5,13,11.05,10,{"v":4,"d":"4.0"},{"v":11.6,"d":"11.60"},9,13,10.4,12,59.95,4,13,50.2,13,null,null,"","","","","","","","","","","",""]
[{"$nulls":3},{"v":0,"d":"0.0"},{"v":0,"d":"0.00"},{"v":0,"d":"0.0"},{"v":0,"d":"0.00"},{"v":0,"d":"0.00"},10,14,0,10,{"v":0,"d":"0.0"},{"v":0,"d":"0.00"},14,14,0,14,{"v":0,"d":"0.0"},{"v":0,"d":"0.00"},13,14,0,13,{"v":0,"d":"0.0"},{"v":0,"d":"0.00"},11,14,0,11,{"v":0,"d":"0.0"},{"v":0,"d":"0.00"},13,14,0,13,{"v":0,"d":"0.00"},14,14,0,14,null,null,"","","","","","","","","","","",""]
[{"$nulls":3},{"v":0,"d":"0.0"},{"v":0,"d":"0.00"},{"v":0,"d":"0.0"},{"v":0,"d":"0.00"},{"v":0,"d":"0.00"},10,15,0,10,{"v":0,"d":"0.0"},{"v":0,"d":"0.00"},14,15,0,14,{"v":0,"d":"0.0"},{"v":0,"d":"0.00"},13,15,0,13,{"v":0,"d":"0.0"},{"v":0,"d":"0.00"},11,15,0,11,{"v":0,"d":"0.0"},{"v":0,"d":"0.00"},13,15,0,13,{"v":0,"d":"0.00"},14,15,0,14,null,null,"6th Place",{"$f":"IFERROR(INDEX(beam,MATCH(AR19,gymnasts,0)), \"\")","v":{"v":10.8,"d":"10.80"}},"5th Place",{"$f":"IFERROR(INDEX(beam,MATCH(AT19,gymnasts,0)), \"\")","v":{"v":11.1,"d":"11.10"}},"4th Place",{"$f":"IFERROR(INDEX(beam,MATCH(AV19,gymnasts,0)), \"\")","v":{"v":11.3,"d":"11.30"}},"3rd Place",{"$f":"IFERROR(INDEX(beam,MATCH(AX19,gymnasts,0)), \"\")","v":{"v":11.4,"d":"11.40"}},"2nd Place",{"$f":"IFERROR(INDEX(beam,MATCH(AZ19,gymnasts,0)), \"\")","v":{"v":11.8,"d":"11.80"}},"1st Place",{"$f":"IFERROR(INDEX(beam,MATCH(BB19,gymnasts,0)), \"\")","v":12.05}]
[{"$nulls":3},{"v":0,"d":"0.0"},{"v":0,"d":"0.00"},{"v":0,"d":"0.0"},{"v":0,"d":"0.00"},{"v":0,"d":"0.00"},10,16,0,10,{"v":0,"d":"0.0"},{"v":0,"d":"0.00"},14,16,0,14,{"v":0,"d":"0.0"},{"v":0,"d":"0.00"},13,16,0,13,{"v":0,"d":"0.0"},{"v":0,"d":"0.00"},11,16,0,11,{"v":0,"d":"0.0"},{"v":0,"d":"0.00"},13,16,0,13,{"v":0,"d":"0.00"},14,16,0,14,null,"Beam",{"$f":"IFERROR(INDEX(gymnasts, SMALL(IF(VALUE(LEFT(AR$32, 1))=BeamPos, ROW(BeamPos)-MIN(ROW(BeamPos))+1, \"\"), ROW()-18)), \"\")","v":"Maya Hanson"},{"$f":"IFERROR( INDEX(entries, MATCH(AR19, gymnasts, 0), 2), \"\")","v":"Gymtopia"},{"$f":"IFERROR(INDEX(gymnasts, SMALL(IF(VALUE(LEFT(AT$32, 1))=BeamPos, ROW(BeamPos)-MIN(ROW(BeamPos))+1, \"\"), ROW()-18)), \"\")","v":"Isabelle Parish"},{"$f":"IFERROR( INDEX(entries, MATCH(AT19, gymnasts, 0), 2), \"\")","v":"SD"},{"$f":"IFERROR(INDEX(gymnasts, SMALL(IF(VALUE(LEFT(AV$32, 1))=BeamPos, ROW(BeamPos)-MIN(ROW(BeamPos))+1, \"\"), ROW()-18)), \"\")","v":"Ellie Ritson"},{"$f":"IFERROR( INDEX(entries, MATCH(AV19, gymnasts, 0), 2), \"\")","v":"SD"},{"$f":"IFERROR(INDEX(gymnasts, SMALL(IF(VALUE(LEFT(AX$32, 1))=BeamPos, ROW(BeamPos)-MIN(ROW(BeamPos))+1, \"\"), ROW()-18)), \"\")","v":"Natalia Kowal"},{"$f":"IFERROR( INDEX(entries, MATCH(AX19, gymnasts, 0), 2), \"\")","v":"North Lakes"},{"$f":"IFERROR(INDEX(gymnasts, SMALL(IF(VALUE(LEFT(AZ$32, 1))=BeamPos, ROW(BeamPos)-MIN(ROW(BeamPos))+1, \"\"), ROW()-18)), \"\")","v":"Hollie Bowers"},{"$f":"IFERROR( INDEX(entries, MATCH(AZ19, gymnasts, 0), 2), \"\")","v":"SD"},{"$f":"IFERROR(INDEX(gymnasts, SMALL(IF(VALUE(LEFT(BB$32, 1))=BeamPos, ROW(BeamPos)-MIN(ROW(BeamPos))+1, \"\"), ROW()-18)), \"\")","v":"Daisy Williams"},{"$f":"IFERROR( INDEX(entries, MATCH(BB19, gymnasts, 0), 2), \"\")","v":"SD"}]
[{"$nulls":3},{"v":0,"d":"0.0"},{"v":0,"d":"0.00"},{"v":0,"d":"0.0"},{"v":0,"d":"0.00"},{"v":0,"d":"0.00"},10,17,0,10,{"v":0,"d":"0.0"},{"v":0,"d":"0.00"},14,17,0,14,{"v":0,"d":"0.0"},{"v":0,"d":"0.00"},13,17,0,13,{"v":0,"d":"0.0"},{"v":0,"d":"0.00"},11,17,0,11,{"v":0,"d":"0.0"},{"v":0,"d":"0.00"},13,17,0,13,{"v":0,"d":"0.00"},14,17,0,14,null,null,"",{"$f":"IFERROR( INDEX(entries, MATCH(AR20, gymnasts, 0), 2), \"\")","v":""},"Evie Almack",{"$f":"IFERROR( INDEX(entries, MATCH(AT20, gymnasts, 0), 2), \"\")","v":"Richmondshire"},"",{"$f":"IFERROR( INDEX(entries, MATCH(AV20, gymnasts, 0), 2), \"\")","v":""},"",{"$f":"IFERROR( INDEX(entries, MATCH(AX20, gymnasts, 0), 2), \"\")","v":""},"",{"$f":"IFERROR( INDEX(entries, MATCH(AZ20, gymnasts, 0), 2), \"\")","v":""},"",""]
[{"$nulls":3},{"v":0,"d":"0.0"},{"v":0,"d":"0.00"},{"v":0,"d":"0.0"},{"v":0,"d":"0.00"},{"v":0,"d":"0.00"},10,18,0,10,{"v":0,"d":"0.0"},{"v":0,"d":"0.00"},14,18,0,14,{"v":0,"d":"0.0"},{"v":0,"d":"0.00"},13,18,0,13,{"v":0,"d":"0.0"},{"v":0,"d":"0.00"},11,18,0,11,{"v":0,"d":"0.0"},{"v":0,"d":"0.00"},13,18,0,13,{"v":0,"d":"0.00"},14,18,0,14,null,null,"","","","","","","","","","","",""]
[{"$nulls":3},{"v":0,"d":"0.0"},{"v":0,"d":"0.00"},{"v":0,"d":"0.0"},{"v":0,"d":"0.00"},{"v":0,"d":"0.00"},10,19,0,10,{"v":0,"d":"0.0"},{"v":0,"d":"0.00"},14,19,0,14,{"v":0,"d":"0.0"},{"v":0,"d":"0.00"},13,19,0,13,{"v":0,"d":"0.0"},{"v":0,"d":"0.00"},11,19,0,11,{"v":0,"d":"0.0"},{"v":0,"d":"0.00"},13,19,0,13,{"v":0,"d":"0.00"},14,19,0,14,null,null,"","","","","","","","","","","",""]
[{"$nulls":3},{"v":0,"d":"0.0"},{"v":0,"d":"0.00"},{"v":0,"d":"0.0"},{"v":0,"d":"0.00"},{"v":0,"d":"0.00"},10,20,0,10,{"v":0,"d":"0.0"},{"v":0,"d":"0.00"},14,20,0,14,{"v":0,"d":"0.0"},{"v":0,"d":"0.00"},13,20,0,13,{"v":0,"d":"0.0"},{"v":0,"d":"0.00"},11,20,0,11,{"v":0,"d":"0.0"},{"v":0,"d":"0.00"},13,20,0,13,{"v":0,"d":"0.00"},14,20,0,14,null,null,"","","","","","","","","","","",""]
[{"$nulls":3},{"v":0,"d":"0.0"},{"v":0,"d":"0.00"},{"v":0,"d":"0.0"},{"v":0,"d":"0.00"},{"v":0,"d":"0.00"},10,21,0,10,{"v":0,"d":"0.0"},{"v":0,"d":"0.00"},14,21,0,14,{"v":0,"d":"0.0"},{"v":0,"d":"0.00"},13,21,0,13,{"v":0,"d":"0.0"},{"v":0,"d":"0.00"},11,21,0,11,{"v":0,"d":"0.0"},{"v":0,"d":"0.00"},13,21,0,13,{"v":0,"d":"0.00"},14,21,0,14,null,null,"","","","","","","","","","","",""]
[{"$nulls":3},{"v":0,"d":"0.0"},{"v":0,"d":"0.00"},{"v":0,"d":"0.0"},{"v":0,"d":"0.00"},{"v":0,"d":"0.00"},10,22,0,10,{"v":0,"d":"0.0"},{"v":0,"d":"0.00"},14,22,0,14,{"v":0,"d":"0.0"},{"v":0,"d":"0.00"},13,22,0,13,{"v":0,"d":"0.0"},{"v":0,"d":"0.00"},11,22,0,11,{"v":0,"d":"0.0"},{"v":0,"d":"0.00"},13,22,0,13,{"v":0,"d":"0.00"},14,22,0,14,null,null,"6th Place",{"$f":"IFERROR(INDEX(floor,MATCH(AR26,gymnasts,0)), \"\")","v":12.05},"5th Place",{"$f":"IFERROR(INDEX(floor,MATCH(AT26,gymnasts,0)), \"\")","v":{"v":12.1,"d":"12.10"}},"4th Place",{"$f":"IFERROR(INDEX(floor,MATCH(AV26,gymnasts,0)), \"\")","v":{"v":12.2,"d":"12.20"}},"3rd Place",{"$f":"IFERROR(INDEX(floor,MATCH(AX26,gymnasts,0)), \"\")","v":12.25},"2nd Place",{"$f":"IFERROR(INDEX(floor,MATCH(AZ26,gymnasts,0)), \"\")","v":12.65},"1st Place",{"$f":"IFERROR(INDEX(floor,MATCH(BB26,gymnasts,0)), \"\")","v":{"v":12.8,"d":"12.80"}}]
[{"$nulls":3},{"v":0,"d":"0.0"},{"v":0,"d":"0.00"},{"v":0,"d":"0.0"},{"v":0,"d":"0.00"},{"v":0,"d":"0.00"},10,23,0,10,{"v":0,"d":"0.0"},{"v":0,"d":"0.00"},14,23,0,14,{"v":0,"d":"0.0"},{"v":0,"d":"0.00"},13,23,0,13,{"v":0,"d":"0.0"},{"v":0,"d":"0.00"},11,23,0,11,{"v":0,"d":"0.0"},{"v":0,"d":"0.00"},13,23,0,13,{"v":0,"d":"0.00"},14,23,0,14,null,"Floor",{"$f":"IFERROR(INDEX(gymnasts, SMALL(IF(VALUE(LEFT(AR$32, 1))=FloorPos, ROW(FloorPos)-MIN(ROW(FloorPos))+1, \"\"), ROW()-25)), \"\")","v":"Zoe Hall"},{"$f":"IFERROR( INDEX(entries, MATCH(AR26, gymnasts, 0), 2), \"\")","v":"Richmondshire"},{"$f":"IFERROR(INDEX(gymnasts, SMALL(IF(VALUE(LEFT(AT$32, 1))=FloorPos, ROW(FloorPos)-MIN(ROW(FloorPos))+1, \"\"), ROW()-25)), \"\")","v":"Emmi Bradley"},{"$f":"IFERROR( INDEX(entries, MATCH(AT26, gymnasts, 0), 2), \"\")","v":"SD"},{"$f":"IFERROR(INDEX(gymnasts, SMALL(IF(VALUE(LEFT(AV$32, 1))=FloorPos, ROW(FloorPos)-MIN(ROW(FloorPos))+1, \"\"), ROW()-25)), \"\")","v":"Ellie Ritson"},{"$f":"IFERROR( INDEX(entries, MATCH(AV26, gymnasts, 0), 2), \"\")","v":"SD"},{"$f":"IFERROR(INDEX(gymnasts, SMALL(IF(VALUE(LEFT(AX$32, 1))=FloorPos, ROW(FloorPos)-MIN(ROW(FloorPos))+1, \"\"), ROW()-25)), \"\")","v":"Maya Hanson"},{"$f":"IFERROR( INDEX(entries, MATCH(AX26, gymnasts, 0), 2), \"\")","v":"Gymtopia"},{"$f":"IFERROR(INDEX(gymnasts, SMALL(IF(VALUE(LEFT(AZ$32, 1))=FloorPos, ROW(FloorPos)-MIN(ROW(FloorPos))+1, \"\"), ROW()-25)), \"\")","v":"Hollie Bowers"},{"$f":"IFERROR( INDEX(entries, MATCH(AZ26, gymnasts, 0), 2), \"\")","v":"SD"},{"$f":"IFERROR(INDEX(gymnasts, SMALL(IF(VALUE(LEFT(BB$32, 1))=FloorPos, ROW(FloorPos)-MIN(ROW(FloorPos))+1, \"\"), ROW()-25)), \"\")","v":"Daisy Williams"},{"$f":"IFERROR( INDEX(entries, MATCH(BB26, gymnasts, 0), 2), \"\")","v":"SD"}]
[{"$nulls":3},{"v":0,"d":"0.0"},{"v":0,"d":"0.00"},{"v":0,"d":"0.0"},{"v":0,"d":"0.00"},{"v":0,"d":"0.00"},10,24,0,10,{"v":0,"d":"0.0"},{"v":0,"d":"0.00"},14,24,0,14,{"v":0,"d":"0.0"},{"v":0,"d":"0.00"},13,24,0,13,{"v":0,"d":"0.0"},{"v":0,"d":"0.00"},11,24,0,11,{"v":0,"d":"0.0"},{"v":0,"d":"0.00"},13,24,0,13,{"v":0,"d":"0.00"},14,24,0,14,null,null,"",{"$f":"IFERROR( INDEX(entries, MATCH(AR27, gymnasts, 0), 2), \"\")","v":""},"Natalia Kowal",{"$f":"IFERROR( INDEX(entries, MATCH(AT27, gymnasts, 0), 2), \"\")","v":"North Lakes"},"Abbie Robertson",{"$f":"IFERROR( INDEX(entries, MATCH(AV27, gymnasts, 0), 2), \"\")","v":"AAAsports"},"",{"$f":"IFERROR( INDEX(entries, MATCH(AX27, gymnasts, 0), 2), \"\")","v":""},"",{"$f":"IFERROR( INDEX(entries, MATCH(AZ27, gymnasts, 0), 2), \"\")","v":""},"",""]
[{"$nulls":3},{"v":0,"d":"0.0"},{"v":0,"d":"0.00"},{"v":0,"d":"0.0"},{"v":0,"d":"0.00"},{"v":0,"d":"0.00"},10,25,0,10,{"v":0,"d":"0.0"},{"v":0,"d":"0.00"},14,25,0,14,{"v":0,"d":"0.0"},{"v":0,"d":"0.00"},13,25,0,13,{"v":0,"d":"0.0"},{"v":0,"d":"0.00"},11,25,0,11,{"v":0,"d":"0.0"},{"v":0,"d":"0.00"},13,25,0,13,{"v":0,"d":"0.00"},14,25,0,14,null,null,"","","","","","","","","","","",""]
[{"$nulls":3},{"v":0,"d":"0.0"},{"v":0,"d":"0.00"},{"v":0,"d":"0.0"},{"v":0,"d":"0.00"},{"v":0,"d":"0.00"},10,26,0,10,{"v":0,"d":"0.0"},{"v":0,"d":"0.00"},14,26,0,14,{"v":0,"d":"0.0"},{"v":0,"d":"0.00"},13,26,0,13,{"v":0,"d":"0.0"},{"v":0,"d":"0.00"},11,26,0,11,{"v":0,"d":"0.0"},{"v":0,"d":"0.00"},13,26,0,13,{"v":0,"d":"0.00"},14,26,0,14,null,null,"","","","","","","","","","","",""]
[{"$nulls":3},{"v":0,"d":"0.0"},{"v":0,"d":"0.00"},{"v":0,"d":"0.0"},{"v":0,"d":"0.00"},{"v":0,"d":"0.00"},10,27,0,10,{"v":0,"d":"0.0"},{"v":0,"d":"0.00"},14,27,0,14,{"v":0,"d":"0.0"},{"v":0,"d":"0.00"},13,27,0,13,{"v":0,"d":"0.0"},{"v":0,"d":"0.00"},11,27,0,11,{"v":0,"d":"0.0"},{"v":0,"d":"0.00"},13,27,0,13,{"v":0,"d":"0.00"},14,27,0,14,null,null,"","","","","","","","","","","",""]
[{"$nulls":3},{"v":0,"d":"0.0"},{"v":0,"d":"0.00"},{"v":0,"d":"0.0"},{"v":0,"d":"0.00"},{"v":0,"d":"0.00"},10,28,0,10,{"v":0,"d":"0.0"},{"v":0,"d":"0.00"},14,28,0,14,{"v":0,"d":"0.0"},{"v":0,"d":"0.00"},13,28,0,13,{"v":0,"d":"0.0"},{"v":0,"d":"0.00"},11,28,0,11,{"v":0,"d":"0.0"},{"v":0,"d":"0.00"},13,28,0,13,{"v":0,"d":"0.00"},14,28,0,14,null,null,"","","","","","","","","","","",""]
[{"$nulls":3},{"v":0,"d":"0.0"},{"v":0,"d":"0.00"},{"v":0,"d":"0.0"},{"v":0,"d":"0.00"},{"v":0,"d":"0.00"},10,29,0,10,{"v":0,"d":"0.0"},{"v":0,"d":"0.00"},14,29,0,14,{"v":0,"d":"0.0"},{"v":0,"d":"0.00"},13,29,0,13,{"v":0,"d":"0.0"},{"v":0,"d":"0.00"},11,29,0,11,{"v":0,"d":"0.0"},{"v":0,"d":"0.00"},13,29,0,13,{"v":0,"d":"0.00"},14,29,0,14,null,null,"6th Place",{"$f":"IFERROR(INDEX(range,MATCH(AR33,gymnasts,0)), \"\")","v":{"v":11.8,"d":"11.80"}},"5th Place",{"$f":"IFERROR(INDEX(range,MATCH(AT33,gymnasts,0)), \"\")","v":12.25},"4th Place",{"$f":"IFERROR(INDEX(range,MATCH(AV33,gymnasts,0)), \"\")","v":{"v":12.3,"d":"12.30"}},"3rd Place",{"$f":"IFERROR(INDEX(range,MATCH(AX33,gymnasts,0)), \"\")","v":12.55},"2nd Place",{"$f":"IFERROR(INDEX(range,MATCH(AZ33,gymnasts,0)), \"\")","v":{"v":12.8,"d":"12.80"}},"1st Place",{"$f":"IFERROR(INDEX(range,MATCH(BB33,gymnasts,0)), \"\")","v":{"v":13.3,"d":"13.30"}}]
[{"$nulls":3},{"v":0,"d":"0.0"},{"v":0,"d":"0.00"},{"v":0,"d":"0.0"},{"v":0,"d":"0.00"},{"v":0,"d":"0.00"},10,30,0,10,{"v":0,"d":"0.0"},{"v":0,"d":"0.00"},14,30,0,14,{"v":0,"d":"0.0"},{"v":0,"d":"0.00"},13,30,0,13,{"v":0,"d":"0.0"},{"v":0,"d":"0.00"},11,30,0,11,{"v":0,"d":"0.0"},{"v":0,"d":"0.00"},13,30,0,13,{"v":0,"d":"0.00"},14,30,0,14,null,"Range",{"$f":"IFERROR(INDEX(gymnasts, SMALL(IF(VALUE(LEFT(AR$32, 1))=RangePos, ROW(RangePos)-MIN(ROW(RangePos))+1, \"\"), ROW()-32)), \"\")","v":"Zoe Hall"},{"$f":"IFERROR( INDEX(entries, MATCH(AR33, gymnasts, 0), 2), \"\")","v":"Richmondshire"},{"$f":"IFERROR(INDEX(gymnasts, SMALL(IF(VALUE(LEFT(AT$32, 1))=RangePos, ROW(RangePos)-MIN(ROW(RangePos))+1, \"\"), ROW()-32)), \"\")","v":"Hollie Bowers"},{"$f":"IFERROR( INDEX(entries, MATCH(AT33, gymnasts, 0), 2), \"\")","v":"SD"},{"$f":"IFERROR(INDEX(gymnasts, SMALL(IF(VALUE(LEFT(AV$32, 1))=RangePos, ROW(RangePos)-MIN(ROW(RangePos))+1, \"\"), ROW()-32)), \"\")","v":"Maya Hanson"},{"$f":"IFERROR( INDEX(entries, MATCH(AV33, gymnasts, 0), 2), \"\")","v":"Gymtopia"},{"$f":"IFERROR(INDEX(gymnasts, SMALL(IF(VALUE(LEFT(AX$32, 1))=RangePos, ROW(RangePos)-MIN(ROW(RangePos))+1, \"\"), ROW()-32)), \"\")","v":"Emmi Bradley"},{"$f":"IFERROR( INDEX(entries, MATCH(AX33, gymnasts, 0), 2), \"\")","v":"SD"},{"$f":"IFERROR(INDEX(gymnasts, SMALL(IF(VALUE(LEFT(AZ$32, 1))=RangePos, ROW(RangePos)-MIN(ROW(RangePos))+1, \"\"), ROW()-32)), \"\")","v":"Isabelle Parish"},{"$f":"IFERROR( INDEX(entries, MATCH(AZ33, gymnasts, 0), 2), \"\")","v":"SD"},{"$f":"IFERROR(INDEX(gymnasts, SMALL(IF(VALUE(LEFT(BB$32, 1))=RangePos, ROW(RangePos)-MIN(ROW(RangePos))+1, \"\"), ROW()-32)), \"\")","v":"Daisy Williams"},{"$f":"IFERROR( INDEX(entries, MATCH(BB33, gymnasts, 0), 2), \"\")","v":"SD"}]
[{"$nulls":3},{"v":0,"d":"0.0"},{"v":0,"d":"0.00"},{"v":0,"d":"0.0"},{"v":0,"d":"0.00"},{"v":0,"d":"0.00"},10,31,0,10,{"v":0,"d":"0.0"},{"v":0,"d":"0.00"},14,31,0,14,{"v":0,"d":"0.0"},{"v":0,"d":"0.00"},13,31,0,13,{"v":0,"d":"0.0"},{"v":0,"d":"0.00"},11,31,0,11,{"v":0,"d":"0.0"},{"v":0,"d":"0.00"},13,31,0,13,{"v":0,"d":"0.00"},14,31,0,14,null,null,"",{"$f":"IFERROR( INDEX(entries, MATCH(AR34, gymnasts, 0), 2), \"\")","v":""},"",{"$f":"IFERROR( INDEX(entries, MATCH(AT34, gymnasts, 0), 2), \"\")","v":""},"",{"$f":"IFERROR( INDEX(entries, MATCH(AV34, gymnasts, 0), 2), \"\")","v":""},"",{"$f":"IFERROR( INDEX(entries, MATCH(AX34, gymnasts, 0), 2), \"\")","v":""},"",{"$f":"IFERROR( INDEX(entries, MATCH(AZ34, gymnasts, 0), 2), \"\")","v":""},"",""]
[{"$nulls":3},{"v":0,"d":"0.0"},{"v":0,"d":"0.00"},{"v":0,"d":"0.0"},{"v":0,"d":"0.00"},{"v":0,"d":"0.00"},10,32,0,10,{"v":0,"d":"0.0"},{"v":0,"d":"0.00"},14,32,0,14,{"v":0,"d":"0.0"},{"v":0,"d":"0.00"},13,32,0,13,{"v":0,"d":"0.0"},{"v":0,"d":"0.00"},11,32,0,11,{"v":0,"d":"0.0"},{"v":0,"d":"0.00"},13,32,0,13,{"v":0,"d":"0.00"},14,32,0,14,null,null,"","","","","","","","","","","",""]
[{"$nulls":3},{"v":0,"d":"0.0"},{"v":0,"d":"0.00"},{"v":0,"d":"0.0"},{"v":0,"d":"0.00"},{"v":0,"d":"0.00"},10,33,0,10,{"v":0,"d":"0.0"},{"v":0,"d":"0.00"},14,33,0,14,{"v":0,"d":"0.0"},{"v":0,"d":"0.00"},13,33,0,13,{"v":0,"d":"0.0"},{"v":0,"d":"0.00"},11,33,0,11,{"v":0,"d":"0.0"},{"v":0,"d":"0.00"},13,33,0,13,{"$f":"SUMIF(D$2:AJ$2, \"SCORE\", D36:AJ36)","v":{"v":0,"d":"0.00"}},14,33,0,14,null,null,"","","","","","","","","","","",""]
[{"$nulls":3},{"v":0,"d":"0.0"},{"v":0,"d":"0.00"},{"v":0,"d":"0.0"},{"v":0,"d":"0.00"},{"v":0,"d":"0.00"},10,34,0,10,{"v":0,"d":"0.0"},{"v":0,"d":"0.00"},14,34,0,14,{"v":0,"d":"0.0"},{"v":0,"d":"0.00"},13,34,0,13,{"v":0,"d":"0.0"},{"v":0,"d":"0.00"},11,34,0,11,{"v":0,"d":"0.0"},{"v":0,"d":"0.00"},13,34,0,13,{"v":0,"d":"0.00"},14,34,0,14,null,null,"","","","","","","","","","","",""]
[{"$nulls":3},{"v":0,"d":"0.0"},{"v":0,"d":"0.00"},{"v":0,"d":"0.0"},{"v":0,"d":"0.00"},{"v":0,"d":"0.00"},10,35,0,10,{"v":0,"d":"0.0"},{"v":0,"d":"0.00"},14,35,0,14,{"v":0,"d":"0.0"},{"v":0,"d":"0.00"},13,35,0,13,{"v":0,"d":"0.0"},{"v":0,"d":"0.00"},11,35,0,11,{"v":0,"d":"0.0"},{"v":0,"d":"0.00"},13,35,0,13,{"v":0,"d":"0.00"},14,35,0,14,null,null,"","","","","","","","","","","",""]
[{"$nulls":3},{"v":0,"d":"0.0"},{"v":0,"d":"0.00"},{"v":0,"d":"0.0"},{"v":0,"d":"0.00"},{"v":0,"d":"0.00"},10,36,0,10,{"v":0,"d":"0.0"},{"v":0,"d":"0.00"},14,36,0,14,{"v":0,"d":"0.0"},{"v":0,"d":"0.00"},13,36,0,13,{"v":0,"d":"0.0"},{"v":0,"d":"0.00"},11,36,0,11,{"v":0,"d":"0.0"},{"v":0,"d":"0.00"},13,36,0,13,{"v":0,"d":"0.00"},14,36,0,14,null,null,"6th Place",{"$f":"IFERROR(INDEX(AAscores,MATCH(AR40,gymnasts,0)), \"\")","v":58.75},"5th Place",{"$f":"IFERROR(INDEX(AAscores,MATCH(AT40,gymnasts,0)), \"\")","v":{"v":59.5,"d":"59.50"}},"4th Place",{"$f":"IFERROR(INDEX(AAscores,MATCH(AV40,gymnasts,0)), \"\")","v":59.95},"3rd Place",{"$f":"IFERROR(INDEX(AAscores,MATCH(AX40,gymnasts,0)), \"\")","v":60.05},"2nd Place",{"$f":"IFERROR(INDEX(AAscores,MATCH(AZ40,gymnasts,0)), \"\")","v":{"v":61.800000000000004,"d":"61.80"}},"1st Place",{"$f":"IFERROR(INDEX(AAscores,MATCH(BB40,gymnasts,0)), \"\")","v":{"v":63.599999999999994,"d":"63.60"}}]
[{"$nulls":3},{"v":0,"d":"0.0"},{"v":0,"d":"0.00"},{"v":0,"d":"0.0"},{"v":0,"d":"0.00"},{"v":0,"d":"0.00"},10,37,0,10,{"v":0,"d":"0.0"},{"v":0,"d":"0.00"},14,37,0,14,{"v":0,"d":"0.0"},{"v":0,"d":"0.00"},13,37,0,13,{"v":0,"d":"0.0"},{"v":0,"d":"0.00"},11,37,0,11,{"v":0,"d":"0.0"},{"v":0,"d":"0.00"},13,37,0,13,{"v":0,"d":"0.00"},14,37,0,14,null,"AA",{"$f":"IFERROR(INDEX(gymnasts, SMALL(IF(VALUE(LEFT(AR$39, 1))=AApos, ROW(AApos)-MIN(ROW(AApos))+1, \"\"), ROW()-39)), \"\")","v":"Ellie Ritson"},{"$f":"IFERROR( INDEX(entries, MATCH(AR40, gymnasts, 0), 2), \"\")","v":"SD"},{"$f":"IFERROR(INDEX(gymnasts, SMALL(IF(VALUE(LEFT(AT$39, 1))=AApos, ROW(AApos)-MIN(ROW(AApos))+1, \"\"), ROW()-39)), \"\")","v":"Isabelle Parish"},{"$f":"IFERROR( INDEX(entries, MATCH(AT40, gymnasts, 0), 2), \"\")","v":"SD"},{"$f":"IFERROR(INDEX(gymnasts, SMALL(IF(VALUE(LEFT(AV$39, 1))=AApos, ROW(AApos)-MIN(ROW(AApos))+1, \"\"), ROW()-39)), \"\")","v":"Natalia Kowal"},{"$f":"IFERROR( INDEX(entries, MATCH(AV40, gymnasts, 0), 2), \"\")","v":"North Lakes"},{"$f":"IFERROR(INDEX(gymnasts, SMALL(IF(VALUE(LEFT(AX$39, 1))=AApos, ROW(AApos)-MIN(ROW(AApos))+1, \"\"), ROW()-39)), \"\")","v":"Maya Hanson"},{"$f":"IFERROR( INDEX(entries, MATCH(AX40, gymnasts, 0), 2), \"\")","v":"Gymtopia"},{"$f":"IFERROR(INDEX(gymnasts, SMALL(IF(VALUE(LEFT(AZ$39, 1))=AApos, ROW(AApos)-MIN(ROW(AApos))+1, \"\"), ROW()-39)), \"\")","v":"Hollie Bowers"},{"$f":"IFERROR( INDEX(entries, MATCH(AZ40, gymnasts, 0), 2), \"\")","v":"SD"},{"$f":"IFERROR(INDEX(gymnasts, SMALL(IF(VALUE(LEFT(BB$39, 1))=AApos, ROW(AApos)-MIN(ROW(AApos))+1, \"\"), ROW()-39)), \"\")","v":"Daisy Williams"},{"$f":"IFERROR( INDEX(entries, MATCH(BB40, gymnasts, 0), 2), \"\")","v":"SD"}]
[{"$nulls":3},{"v":0,"d":"0.0"},{"v":0,"d":"0.00"},{"v":0,"d":"0.0"},{"v":0,"d":"0.00"},{"v":0,"d":"0.00"},10,38,0,10,{"v":0,"d":"0.0"},{"v":0,"d":"0.00"},14,38,0,14,{"v":0,"d":"0.0"},{"v":0,"d":"0.00"},13,38,0,13,{"v":0,"d":"0.0"},{"v":0,"d":"0.00"},11,38,0,11,{"v":0,"d":"0.0"},{"v":0,"d":"0.00"},13,38,0,13,{"v":0,"d":"0.00"},14,38,0,14,null,null,"",{"$f":"IFERROR( INDEX(entries, MATCH(AR41, gymnasts, 0), 2), \"\")","v":""},"",{"$f":"IFERROR( INDEX(entries, MATCH(AT41, gymnasts, 0), 2), \"\")","v":""},"",{"$f":"IFERROR( INDEX(entries, MATCH(AV41, gymnasts, 0), 2), \"\")","v":""},"",{"$f":"IFERROR( INDEX(entries, MATCH(AX41, gymnasts, 0), 2), \"\")","v":""},"",{"$f":"IFERROR( INDEX(entries, MATCH(AZ41, gymnasts, 0), 2), \"\")","v":""},"",""]
[{"$nulls":3},{"v":0,"d":"0.0"},{"v":0,"d":"0.00"},{"v":0,"d":"0.0"},{"v":0,"d":"0.00"},{"v":0,"d":"0.00"},10,39,0,10,{"v":0,"d":"0.0"},{"v":0,"d":"0.00"},14,39,0,14,{"v":0,"d":"0.0"},{"v":0,"d":"0.00"},13,39,0,13,{"v":0,"d":"0.0"},{"v":0,"d":"0.00"},11,39,0,11,{"v":0,"d":"0.0"},{"v":0,"d":"0.00"},13,39,0,13,{"v":0,"d":"0.00"},14,39,0,14,null,null,"","","","","","","","","","","",""]
[{"$nulls":3},{"v":0,"d":"0.0"},{"v":0,"d":"0.00"},{"v":0,"d":"0.0"},{"v":0,"d":"0.00"},{"v":0,"d":"0.00"},10,40,0,10,{"v":0,"d":"0.0"},{"v":0,"d":"0.00"},14,40,0,14,{"v":0,"d":"0.0"},{"v":0,"d":"0.00"},13,40,0,13,{"v":0,"d":"0.0"},{"v":0,"d":"0.00"},11,40,0,11,{"v":0,"d":"0.0"},{"v":0,"d":"0.00"},13,40,0,13,{"v":0,"d":"0.00"},14,40,0,14,null,null,"","","","","","","","","","","",""]
[{"$nulls":3},{"v":0,"d":"0.0"},{"v":0,"d":"0.00"},{"v":0,"d":"0.0"},{"v":0,"d":"0.00"},{"v":0,"d":"0.00"},10,41,0,10,{"v":0,"d":"0.0"},{"v":0,"d":"0.00"},14,41,0,14,{"v":0,"d":"0.0"},{"v":0,"d":"0.00"},13,41,0,13,{"v":0,"d":"0.0"},{"v":0,"d":"0.00"},11,41,0,11,{"v":0,"d":"0.0"},{"v":0,"d":"0.00"},13,41,0,13,{"v":0,"d":"0.00"},14,41,0,14,null,null,"","","","","","","","","","","",""]
[{"$nulls":3},{"v":0,"d":"0.0"},{"v":0,"d":"0.00"},{"v":0,"d":"0.0"},{"v":0,"d":"0.00"},{"v":0,"d":"0.00"},10,42,0,10,{"v":0,"d":"0.0"},{"v":0,"d":"0.00"},14,42,0,14,{"v":0,"d":"0.0"},{"v":0,"d":"0.00"},13,42,0,13,{"v":0,"d":"0.0"},{"v":0,"d":"0.00"},11,42,0,11,{"v":0,"d":"0.0"},{"v":0,"d":"0.00"},13,42,0,13,{"v":0,"d":"0.00"},14,42,0,14,null,null,"","","","","","","","","","","",""]
[{"$nulls":3},{"v":0,"d":"0.0"},{"v":0,"d":"0.00"},{"v":0,"d":"0.0"},{"v":0,"d":"0.00"},{"v":0,"d":"0.00"},10,43,0,10,{"v":0,"d":"0.0"},{"v":0,"d":"0.00"},14,43,0,14,{"v":0,"d":"0.0"},{"v":0,"d":"0.00"},13,43,0,13,{"v":0,"d":"0.0"},{"v":0,"d":"0.00"},11,43,0,11,{"v":0,"d":"0.0"},{"v":0,"d":"0.00"},13,43,0,13,{"v":0,"d":"0.00"},14,43,0,14,null,"Team","3rd place Team",{"$f":"IF(COUNTIF(AR47, 0), \"\", INDEX(teamTotals, MATCH(AR47, teams, 0)))","v":""},null,null,"2nd Place Team",{"$f":"IF(COUNTIF(AV47, 0), \"\", INDEX(teamTotals, MATCH(AV47, teams, 0)))","v":{"v":162.5,"d":"162.50"}},null,null,"1st Place Team",{"$f":"IF(COUNTIF(AZ47, 0), \"\", INDEX(teamTotals, MATCH(AZ47, teams, 0)))","v":{"v":186.50000000000003,"d":"186.50"}}]
[{"$nulls":3},{"v":0,"d":"0.0"},{"v":0,"d":"0.00"},{"v":0,"d":"0.0"},{"v":0,"d":"0.00"},{"v":0,"d":"0.00"},10,44,0,10,{"v":0,"d":"0.0"},{"v":0,"d":"0.00"},14,44,0,14,{"v":0,"d":"0.0"},{"v":0,"d":"0.00"},13,44,0,13,{"v":0,"d":"0.0"},{"v":0,"d":"0.00"},11,44,0,11,{"v":0,"d":"0.0"},{"v":0,"d":"0.00"},13,44,0,13,{"v":0,"d":"0.00"},14,44,0,14,null,null,{"$f":"IFERROR(INDEX(teams, SMALL(IF(VALUE(LEFT(AR$46, 1))=teamPos, ROW(teamPos)-MIN(ROW(teamPos))+1, \"\"), ROW()-46)), \"\")","v":0},{"$f":"IFERROR(IF(COUNTIF(AR47, 0), \"\", INDEX(gymnasts, SMALL(IF(AR$47=club, ROW(club)-MIN(ROW(club))+1, \"\"), ROW()-46))), \"\")","v":""},null,null,{"$f":"IFERROR(INDEX(teams, SMALL(IF(VALUE(LEFT(AV$46, 1))=teamPos, ROW(teamPos)-MIN(ROW(teamPos))+1, \"\"), ROW()-46)), \"\")","v":"Richmondshire"},{"$f":"IFERROR(IF(COUNTIF(AV47, 0), \"\", INDEX(gymnasts, SMALL(IF(AV$47=club, ROW(club)-MIN(ROW(club))+1, \"\"), ROW()-46))), \"\")","v":"Violet Lumley"},null,null,{"$f":"IFERROR(INDEX(teams, SMALL(IF(VALUE(LEFT(AZ$46, 1))=teamPos, ROW(teamPos)-MIN(ROW(teamPos))+1, \"\"), ROW()-46)), \"\")","v":"SD"},{"$f":"IFERROR(IF(COUNTIF(AZ47, 0), \"\", INDEX(gymnasts, SMALL(IF(AZ$47=club, ROW(club)-MIN(ROW(club))+1, \"\"), ROW()-46))), \"\")","v":"Emmi Bradley"}]
[{"$nulls":3},{"v":0,"d":"0.0"},{"v":0,"d":"0.00"},{"v":0,"d":"0.0"},{"v":0,"d":"0.00"},{"v":0,"d":"0.00"},10,45,0,10,{"v":0,"d":"0.0"},{"v":0,"d":"0.00"},14,45,0,14,{"v":0,"d":"0.0"},{"v":0,"d":"0.00"},13,45,0,13,{"v":0,"d":"0.0"},{"v":0,"d":"0.00"},11,45,0,11,{"v":0,"d":"0.0"},{"v":0,"d":"0.00"},13,45,0,13,{"v":0,"d":"0.00"},14,45,0,14,{"$nulls":3},{"$f":"IFERROR(IF(COUNTIF(AR48, 0), \"\", INDEX(gymnasts, SMALL(IF(AR$47=club, ROW(club)-MIN(ROW(club))+1, \"\"), ROW()-46))), \"\")","v":0},{"$nulls":3},{"$f":"IFERROR(IF(COUNTIF(AV48, 0), \"\", INDEX(gymnasts, SMALL(IF(AV$47=club, ROW(club)-MIN(ROW(club))+1, \"\"), ROW()-46))), \"\")","v":"Zoe Hall"},{"$nulls":3},{"$f":"IFERROR(IF(COUNTIF(AZ48, 0), \"\", INDEX(gymnasts, SMALL(IF(AZ$47=club, ROW(club)-MIN(ROW(club))+1, \"\"), ROW()-46))), \"\")","v":"Ellie Ritson"}]
[{"$nulls":3},{"v":0,"d":"0.0"},{"v":0,"d":"0.00"},{"v":0,"d":"0.0"},{"v":0,"d":"0.00"},{"v":0,"d":"0.00"},10,46,0,10,{"v":0,"d":"0.0"},{"v":0,"d":"0.00"},14,46,0,14,{"v":0,"d":"0.0"},{"v":0,"d":"0.00"},13,46,0,13,{"v":0,"d":"0.0"},{"v":0,"d":"0.00"},11,46,0,11,{"v":0,"d":"0.0"},{"v":0,"d":"0.00"},13,46,0,13,{"v":0,"d":"0.00"},14,46,0,14,{"$nulls":3},{"$f":"IFERROR(IF(COUNTIF(AR49, 0), \"\", INDEX(gymnasts, SMALL(IF(AR$47=club, ROW(club)-MIN(ROW(club))+1, \"\"), ROW()-46))), \"\")","v":0},{"$nulls":3},{"$f":"IFERROR(IF(COUNTIF(AV49, 0), \"\", INDEX(gymnasts, SMALL(IF(AV$47=club, ROW(club)-MIN(ROW(club))+1, \"\"), ROW()-46))), \"\")","v":"Evie Almack"},{"$nulls":3},{"$f":"IFERROR(IF(COUNTIF(AZ49, 0), \"\", INDEX(gymnasts, SMALL(IF(AZ$47=club, ROW(club)-MIN(ROW(club))+1, \"\"), ROW()-46))), \"\")","v":"Isabelle Parish"}]
[{"$nulls":3},{"v":0,"d":"0.0"},{"v":0,"d":"0.00"},{"v":0,"d":"0.0"},{"v":0,"d":"0.00"},{"v":0,"d":"0.00"},10,47,0,10,{"v":0,"d":"0.0"},{"v":0,"d":"0.00"},14,47,0,14,{"v":0,"d":"0.0"},{"v":0,"d":"0.00"},13,47,0,13,{"v":0,"d":"0.0"},{"v":0,"d":"0.00"},11,47,0,11,{"v":0,"d":"0.0"},{"v":0,"d":"0.00"},13,47,0,13,{"v":0,"d":"0.00"},14,47,0,14,{"$nulls":3},{"$f":"IFERROR(IF(COUNTIF(AR50, 0), \"\", INDEX(gymnasts, SMALL(IF(AR$47=club, ROW(club)-MIN(ROW(club))+1, \"\"), ROW()-46))), \"\")","v":0},{"$nulls":3},{"$f":"IFERROR(IF(COUNTIF(AV50, 0), \"\", INDEX(gymnasts, SMALL(IF(AV$47=club, ROW(club)-MIN(ROW(club))+1, \"\"), ROW()-46))), \"\")","v":""},{"$nulls":3},{"$f":"IFERROR(IF(COUNTIF(AZ50, 0), \"\", INDEX(gymnasts, SMALL(IF(AZ$47=club, ROW(club)-MIN(ROW(club))+1, \"\"), ROW()-46))), \"\")","v":"Daisy Williams"}]
[{"$nulls":3},{"v":0,"d":"0.0"},{"v":0,"d":"0.00"},{"v":0,"d":"0.0"},{"v":0,"d":"0.00"},{"v":0,"d":"0.00"},10,48,0,10,{"v":0,"d":"0.0"},{"v":0,"d":"0.00"},14,48,0,14,{"v":0,"d":"0.0"},{"v":0,"d":"0.00"},13,48,0,13,{"v":0,"d":"0.0"},{"v":0,"d":"0.00"},11,48,0,11,{"v":0,"d":"0.0"},{"v":0,"d":"0.00"},13,48,0,13,{"v":0,"d":"0.00"},14,48,0,14,{"$nulls":3},{"$f":"IFERROR(IF(COUNTIF(AR51, 0), \"\", INDEX(gymnasts, SMALL(IF(AR$47=club, ROW(club)-MIN(ROW(club))+1, \"\"), ROW()-46))), \"\")","v":0},{"$nulls":3},{"$f":"IFERROR(IF(COUNTIF(AV51, 0), \"\", INDEX(gymnasts, SMALL(IF(AV$47=club, ROW(club)-MIN(ROW(club))+1, \"\"), ROW()-46))), \"\")","v":""},{"$nulls":3},{"$f":"IFERROR(IF(COUNTIF(AZ51, 0), \"\", INDEX(gymnasts, SMALL(IF(AZ$47=club, ROW(club)-MIN(ROW(club))+1, \"\"), ROW()-46))), \"\")","v":"Hollie Bowers"}]
[{"$nulls":3},{"v":0,"d":"0.0"},{"v":0,"d":"0.00"},{"v":0,"d":"0.0"},{"v":0,"d":"0.00"},{"v":0,"d":"0.00"},10,49,0,10,{"v":0,"d":"0.0"},{"v":0,"d":"0.00"},14,49,0,14,{"v":0,"d":"0.0"},{"v":0,"d":"0.00"},13,49,0,13,{"v":0,"d":"0.0"},{"v":0,"d":"0.00"},11,49,0,11,{"v":0,"d":"0.0"},{"v":0,"d":"0.00"},13,49,0,13,{"v":0,"d":"0.00"},14,49,0,14,null,null,{"$f":"IFERROR(INDEX(teams, SMALL(IF(VALUE(LEFT(AR$46, 1))=teamPos, ROW(teamPos)-MIN(ROW(teamPos))+1, \"\"), ROW()-50)), \"\")","v":0},{"$f":"IFERROR(IF(COUNTIF(AR$52, 0), \"\", INDEX(gymnasts, SMALL(IF(AR$52=club, ROW(club)-MIN(ROW(club))+1, \"\"), ROW()-51))), \"\")","v":""},null,null,{"$f":"IFERROR(INDEX(teams, SMALL(IF(VALUE(LEFT(AV$46, 1))=teamPos, ROW(teamPos)-MIN(ROW(teamPos))+1, \"\"), ROW()-50)), \"\")","v":""},{"$f":"IFERROR(IF(COUNTIF(AV$52, 0), \"\", INDEX(gymnasts, SMALL(IF(AV$52=club, ROW(club)-MIN(ROW(club))+1, \"\"), ROW()-51))), \"\")","v":0},null,null,{"$f":"IFERROR(INDEX(teams, SMALL(IF(VALUE(LEFT(AZ$46, 1))=teamPos, ROW(teamPos)-MIN(ROW(teamPos))+1, \"\"), ROW()-50)), \"\")","v":""},{"$f":"IFERROR(IF(COUNTIF(AZ$52, 0), \"\", INDEX(gymnasts, SMALL(IF(AZ$52=club, ROW(club)-MIN(ROW(club))+1, \"\"), ROW()-51))), \"\")","v":0}]
[{"$nulls":3},{"v":0,"d":"0.0"},{"v":0,"d":"0.00"},{"v":0,"d":"0.0"},{"v":0,"d":"0.00"},{"v":0,"d":"0.00"},10,50,0,10,{"v":0,"d":"0.0"},{"v":0,"d":"0.00"},14,50,0,14,{"v":0,"d":"0.0"},{"v":0,"d":"0.00"},13,50,0,13,{"v":0,"d":"0.0"},{"v":0,"d":"0.00"},11,50,0,11,{"v":0,"d":"0.0"},{"v":0,"d":"0.00"},13,50,0,13,{"v":0,"d":"0.00"},14,50,0,14,{"$nulls":3},{"$f":"IFERROR(IF(COUNTIF(AR$52, 0), \"\", INDEX(gymnasts, SMALL(IF(AR$52=club, ROW(club)-MIN(ROW(club))+1, \"\"), ROW()-51))), \"\")","v":""},{"$nulls":3},{"$f":"IFERROR(IF(COUNTIF(AV$52, 0), \"\", INDEX(gymnasts, SMALL(IF(AV$52=club, ROW(club)-MIN(ROW(club))+1, \"\"), ROW()-51))), \"\")","v":0},{"$nulls":3},{"$f":"IFERROR(IF(COUNTIF(AZ$52, 0), \"\", INDEX(gymnasts, SMALL(IF(AZ$52=club, ROW(club)-MIN(ROW(club))+1, \"\"), ROW()-51))), \"\")","v":0}]
[{"$nulls":3},{"v":0,"d":"0.0"},{"v":0,"d":"0.00"},{"v":0,"d":"0.0"},{"v":0,"d":"0.00"},{"v":0,"d":"0.00"},10,51,0,10,{"v":0,"d":"0.0"},{"v":0,"d":"0.00"},14,51,0,14,{"v":0,"d":"0.0"},{"v":0,"d":"0.00"},13,51,0,13,{"v":0,"d":"0.0"},{"v":0,"d":"0.00"},11,51,0,11,{"v":0,"d":"0.0"},{"v":0,"d":"0.00"},13,51,0,13,{"v":0,"d":"0.00"},14,51,0,14,{"$nulls":3},{"$f":"IFERROR(IF(COUNTIF(AR$52, 0), \"\", INDEX(gymnasts, SMALL(IF(AR$52=club, ROW(club)-MIN(ROW(club))+1, \"\"), ROW()-51))), \"\")","v":""},{"$nulls":3},{"$f":"IFERROR(IF(COUNTIF(AV$52, 0), \"\", INDEX(gymnasts, SMALL(IF(AV$52=club, ROW(club)-MIN(ROW(club))+1, \"\"), ROW()-51))), \"\")","v":0},{"$nulls":3},{"$f":"IFERROR(IF(COUNTIF(AZ$52, 0), \"\", INDEX(gymnasts, SMALL(IF(AZ$52=club, ROW(club)-MIN(ROW(club))+1, \"\"), ROW()-51))), \"\")","v":0}]
[{"$nulls":3},{"v":0,"d":"0.0"},{"v":0,"d":"0.00"},{"v":0,"d":"0.0"},{"v":0,"d":"0.00"},{"v":0,"d":"0.00"},10,52,0,10,{"v":0,"d":"0.0"},{"v":0,"d":"0.00"},14,52,0,14,{"v":0,"d":"0.0"},{"v":0,"d":"0.00"},13,52,0,13,{"v":0,"d":"0.0"},{"v":0,"d":"0.00"},11,52,0,11,{"v":0,"d":"0.0"},{"v":0,"d":"0.00"},13,52,0,13,{"v":0,"d":"0.00"},14,52,0,14,{"$nulls":3},{"$f":"IFERROR(IF(COUNTIF(AR$52, 0), \"\", INDEX(gymnasts, SMALL(IF(AR$52=club, ROW(club)-MIN(ROW(club))+1, \"\"), ROW()-51))), \"\")","v":""},{"$nulls":3},{"$f":"IFERROR(IF(COUNTIF(AV$52, 0), \"\", INDEX(gymnasts, SMALL(IF(AV$52=club, ROW(club)-MIN(ROW(club))+1, \"\"), ROW()-51))), \"\")","v":0},{"$nulls":3},{"$f":"IFERROR(IF(COUNTIF(AZ$52, 0), \"\", INDEX(gymnasts, SMALL(IF(AZ$52=club, ROW(club)-MIN(ROW(club))+1, \"\"), ROW()-51))), \"\")","v":0}]
[{"$nulls":3},{"v":0,"d":"0.0"},{"v":0,"d":"0.00"},{"v":0,"d":"0.0"},{"v":0,"d":"0.00"},{"v":0,"d":"0.00"},10,53,0,10,{"v":0,"d":"0.0"},{"v":0,"d":"0.00"},14,53,0,14,{"v":0,"d":"0.0"},{"v":0,"d":"0.00"},13,53,0,13,{"v":0,"d":"0.0"},{"v":0,"d":"0.00"},11,53,0,11,{"v":0,"d":"0.0"},{"v":0,"d":"0.00"},13,53,0,13,{"v":0,"d":"0.00"},14,53,0,14,{"$nulls":3},{"$f":"IFERROR(IF(ISTEXT(AR$52), INDEX(gymnasts, SMALL(IF(AR$52=club, ROW(club)-MIN(ROW(club))+1, \"\"), ROW()-51)), \"\"), \"\")","v":""},{"$nulls":3},{"$f":"IFERROR(IF(ISTEXT(AV$52), INDEX(gymnasts, SMALL(IF(AV$52=club, ROW(club)-MIN(ROW(club))+1, \"\"), ROW()-51)), \"\"), \"\")","v":0},{"$nulls":3},{"$f":"IFERROR(IF(ISTEXT(AZ$52), INDEX(gymnasts, SMALL(IF(AZ$52=club, ROW(club)-MIN(ROW(club))+1, \"\"), ROW()-51)), \"\"), \"\")","v":0}]
[{"$nulls":3},{"v":0,"d":"0.0"},{"v":0,"d":"0.00"},{"v":0,"d":"0.0"},{"v":0,"d":"0.00"},{"v":0,"d":"0.00"},10,54,0,10,{"v":0,"d":"0.0"},{"v":0,"d":"0.00"},14,54,0,14,{"v":0,"d":"0.0"},{"v":0,"d":"0.00"},13,54,0,13,{"v":0,"d":"0.0"},{"v":0,"d":"0.00"},11,54,0,11,{"v":0,"d":"0.0"},{"v":0,"d":"0.00"},13,54,0,13,{"v":0,"d":"0.00"},14,54,0,14]
[{"$nulls":3},{"v":0,"d":"0.0"},{"v":0,"d":"0.00"},{"v":0,"d":"0.0"},{"v":0,"d":"0.00"},{"v":0,"d":"0.00"},10,55,0,10,{"v":0,"d":"0.0"},{"v":0,"d":"0.00"},14,55,0,14,{"v":0,"d":"0.0"},{"v":0,"d":"0.00"},13,55,0,13,{"v":0,"d":"0.0"},{"v":0,"d":"0.00"},11,55,0,11,{"v":0,"d":"0.0"},{"v":0,"d":"0.00"},13,55,0,13,{"v":0,"d":"0.00"},14,55,0,14]
[{"$nulls":3},{"v":0,"d":"0.0"},{"v":0,"d":"0.00"},{"v":0,"d":"0.0"},{"v":0,"d":"0.00"},{"v":0,"d":"0.00"},10,56,0,10,{"v":0,"d":"0.0"},{"v":0,"d":"0.00"},14,56,0,14,{"v":0,"d":"0.0"},{"v":0,"d":"0.00"},13,56,0,13,{"v":0,"d":"0.0"},{"v":0,"d":"0.00"},11,56,0,11,{"v":0,"d":"0.0"},{"v":0,"d":"0.00"},13,56,0,13,{"v":0,"d":"0.00"},14,56,0,14]
[{"$nulls":3},{"v":0,"d":"0.0"},{"v":0,"d":"0.00"},{"v":0,"d":"0.0"},{"v":0,"d":"0.00"},{"v":0,"d":"0.00"},10,57,0,10,{"v":0,"d":"0.0"},{"v":0,"d":"0.00"},14,57,0,14,{"v":0,"d":"0.0"},{"v":0,"d":"0.00"},13,57,0,13,{"v":0,"d":"0.0"},{"v":0,"d":"0.00"},11,57,0,11,{"v":0,"d":"0.0"},{"v":0,"d":"0.00"},13,57,0,13,{"v":0,"d":"0.00"},14,57,0,14]
[{"$nulls":3},{"v":0,"d":"0.0"},{"v":0,"d":"0.00"},{"v":0,"d":"0.0"},{"v":0,"d":"0.00"},{"v":0,"d":"0.00"},10,58,0,10,{"v":0,"d":"0.0"},{"v":0,"d":"0.00"},14,58,0,14,{"v":0,"d":"0.0"},{"v":0,"d":"0.00"},13,58,0,13,{"v":0,"d":"0.0"},{"v":0,"d":"0.00"},11,58,0,11,{"v":0,"d":"0.0"},{"v":0,"d":"0.00"},13,58,0,13,{"v":0,"d":"0.00"},14,58,0,14]
[{"$nulls":3},{"v":0,"d":"0.0"},{"v":0,"d":"0.00"},{"v":0,"d":"0.0"},{"v":0,"d":"0.00"},{"v":0,"d":"0.00"},10,59,0,10,{"v":0,"d":"0.0"},{"v":0,"d":"0.00"},14,59,0,14,{"v":0,"d":"0.0"},{"v":0,"d":"0.00"},13,59,0,13,{"v":0,"d":"0.0"},{"v":0,"d":"0.00"},11,59,0,11,{"v":0,"d":"0.0"},{"v":0,"d":"0.00"},13,59,0,13,{"v":0,"d":"0.00"},14,59,0,14]
[{"$nulls":3},{"v":0,"d":"0.0"},{"v":0,"d":"0.00"},{"v":0,"d":"0.0"},{"v":0,"d":"0.00"},{"v":0,"d":"0.00"},10,60,0,10,{"v":0,"d":"0.0"},{"v":0,"d":"0.00"},14,60,0,14,{"v":0,"d":"0.0"},{"v":0,"d":"0.00"},13,60,0,13,{"v":0,"d":"0.0"},{"v":0,"d":"0.00"},11,60,0,11,{"v":0,"d":"0.0"},{"v":0,"d":"0.00"},13,60,0,13,{"v":0,"d":"0.00"},14,60,0,14]
[{"$nulls":3},{"v":0,"d":"0.0"},{"v":0,"d":"0.00"},{"v":0,"d":"0.0"},{"v":0,"d":"0.00"},{"v":0,"d":"0.00"},10,61,0,10,{"v":0,"d":"0.0"},{"v":0,"d":"0.00"},14,61,0,14,{"v":0,"d":"0.0"},{"v":0,"d":"0.00"},13,61,0,13,{"v":0,"d":"0.0"},{"v":0,"d":"0.00"},11,61,0,11,{"v":0,"d":"0.0"},{"v":0,"d":"0.00"},13,61,0,13,{"v":0,"d":"0.00"},14,61,0,14]
[{"$nulls":3},{"v":0,"d":"0.0"},{"v":0,"d":"0.00"},{"v":0,"d":"0.0"},{"v":0,"d":"0.00"},{"v":0,"d":"0.00"},10,62,0,10,{"v":0,"d":"0.0"},{"v":0,"d":"0.00"},14,62,0,14,{"v":0,"d":"0.0"},{"v":0,"d":"0.00"},13,62,0,13,{"v":0,"d":"0.0"},{"v":0,"d":"0.00"},11,62,0,11,{"v":0,"d":"0.0"},{"v":0,"d":"0.00"},13,62,0,13,{"v":0,"d":"0.00"},14,62,0,14]
[null,"Teams"]
[null,{"$f":"IF(AND(COUNTIF(club,C67)>=3,COUNTIF(club,C67)<=5),\"TEAM\",IF(COUNTIF(club,C67)>5,\"Too Many!!!!!\",\"NO TEAM\"))","v":"TEAM"},"SD",{"$nulls":4},{"$f":"IF($B67=\"NO TEAM\", 0, SUM(LARGE(IF(club=$C67, vault), ROW($1:$3))))","v":37.25},{"$nulls":5},{"$f":"IF($B67=\"NO TEAM\", 0, SUM(LARGE(IF(club=$C67, bars), ROW($1:$3))))","v":{"v":37.8,"d":"37.80"}},{"$nulls":5},{"$f":"IF($B67=\"NO TEAM\", 0, SUM(LARGE(IF(club=$C67, beam), ROW($1:$3))))","v":{"v":35.150000000000006,"d":"35.15"}},{"$nulls":5},{"$f":"IF($B67=\"NO TEAM\", 0, SUM(LARGE(IF(club=$C67, floor), ROW($1:$3))))","v":{"v":37.650000000000006,"d":"37.65"}},{"$nulls":5},{"$f":"IF($B67=\"NO TEAM\", 0, SUM(LARGE(IF(club=$C67, range), ROW($1:$3))))","v":{"v":38.650000000000006,"d":"38.65"}},{"$nulls":4},{"$f":"IF(B67=\"TEAM\", SUMIF(D$2:AJ$2, \"SCORE\", D67:AJ67), 0)","v":{"v":186.50000000000003,"d":"186.50"}},{"$f":"VLOOKUP(AK67,AN$67:AO$81, 2,FALSE)","v":1},{"$f":"IF(ISNUMBER(AM66), AM66+1, 1)","v":1},{"$f":"LARGE((AK$67:AK$81), $AM67)","v":186.50000000000003},{"$f":"IF(AN67=AN66, AO66, AO66+1)","v":1}]
[null,{"$f":"IF(AND(COUNTIF(club,C68)>=3,COUNTIF(club,C68)<=5),\"TEAM\",IF(COUNTIF(club,C68)>5,\"Too Many!!!!!\",\"NO TEAM\"))","v":"TEAM"},"Richmondshire",{"$nulls":4},{"$f":"IF($B68=\"NO TEAM\", 0, SUM(LARGE(IF(club=$C68, vault), ROW($1:$3))))","v":{"v":36.6,"d":"36.60"}},{"$nulls":5},{"$f":"IF($B68=\"NO TEAM\", 0, SUM(LARGE(IF(club=$C68, bars), ROW($1:$3))))","v":26.95},{"$nulls":5},{"$f":"IF($B68=\"NO TEAM\", 0, SUM(LARGE(IF(club=$C68, beam), ROW($1:$3))))","v":{"v":29.949999999999996,"d":"29.95"}},{"$nulls":5},{"$f":"IF($B68=\"NO TEAM\", 0, SUM(LARGE(IF(club=$C68, floor), ROW($1:$3))))","v":{"v":34.650000000000006,"d":"34.65"}},{"$nulls":5},{"$f":"IF($B68=\"NO TEAM\", 0, SUM(LARGE(IF(club=$C68, range), ROW($1:$3))))","v":34.35},{"$nulls":4},{"v":162.5,"d":"162.50"},{"$f":"VLOOKUP(AK68,AN$67:AO$81, 2,FALSE)","v":2},{"$f":"IF(ISNUMBER(AM67), AM67+1, 1)","v":2},{"$f":"LARGE((AK$67:AK$81), $AM68)","v":162.5},{"$f":"IF(AN68=AN67, AO67, AO67+1)","v":2}]
[null,{"$f":"IF(AND(COUNTIF(club,C69)>=3,COUNTIF(club,C69)<=5),\"TEAM\",IF(COUNTIF(club,C69)>5,\"Too Many!!!!!\",\"NO TEAM\"))","v":"NO TEAM"},{"$nulls":5},{"$f":"IF($B69=\"NO TEAM\", 0, SUM(LARGE(IF(club=$C69, vault), ROW($1:$3))))","v":{"v":0,"d":"0.00"}},{"$nulls":5},{"$f":"IF($B69=\"NO TEAM\", 0, SUM(LARGE(IF(club=$C69, bars), ROW($1:$3))))","v":{"v":0,"d":"0.00"}},{"$nulls":5},{"$f":"IF($B69=\"NO TEAM\", 0, SUM(LARGE(IF(club=$C69, beam), ROW($1:$3))))","v":{"v":0,"d":"0.00"}},{"$nulls":5},{"$f":"IF($B69=\"NO TEAM\", 0, SUM(LARGE(IF(club=$C69, floor), ROW($1:$3))))","v":{"v":0,"d":"0.00"}},{"$nulls":5},{"$f":"IF($B69=\"NO TEAM\", 0, SUM(LARGE(IF(club=$C69, range), ROW($1:$3))))","v":{"v":0,"d":"0.00"}},{"$nulls":4},{"v":0,"d":"0.00"},3,3,0,3]
[null,{"$f":"IF(AND(COUNTIF(club,C70)>=3,COUNTIF(club,C70)<=5),\"TEAM\",IF(COUNTIF(club,C70)>5,\"Too Many!!!!!\",\"NO TEAM\"))","v":"NO TEAM"},{"$nulls":5},{"$f":"IF($B70=\"NO TEAM\", 0, SUM(LARGE(IF(club=$C70, vault), ROW($1:$3))))","v":{"v":0,"d":"0.00"}},{"$nulls":5},{"$f":"IF($B70=\"NO TEAM\", 0, SUM(LARGE(IF(club=$C70, bars), ROW($1:$3))))","v":{"v":0,"d":"0.00"}},{"$nulls":5},{"$f":"IF($B70=\"NO TEAM\", 0, SUM(LARGE(IF(club=$C70, beam), ROW($1:$3))))","v":{"v":0,"d":"0.00"}},{"$nulls":5},{"$f":"IF($B70=\"NO TEAM\", 0, SUM(LARGE(IF(club=$C70, floor), ROW($1:$3))))","v":{"v":0,"d":"0.00"}},{"$nulls":5},{"$f":"IF($B70=\"NO TEAM\", 0, SUM(LARGE(IF(club=$C70, range), ROW($1:$3))))","v":{"v":0,"d":"0.00"}},{"$nulls":4},{"v":0,"d":"0.00"},3,4,0,3]
[null,{"$f":"IF(AND(COUNTIF(club,C71)>=3,COUNTIF(club,C71)<=5),\"TEAM\",IF(COUNTIF(club,C71)>5,\"Too Many!!!!!\",\"NO TEAM\"))","v":"NO TEAM"},{"$nulls":5},{"$f":"IF($B71=\"NO TEAM\", 0, SUM(LARGE(IF(club=$C71, vault), ROW($1:$3))))","v":{"v":0,"d":"0.00"}},{"$nulls":5},{"$f":"IF($B71=\"NO TEAM\", 0, SUM(LARGE(IF(club=$C71, bars), ROW($1:$3))))","v":{"v":0,"d":"0.00"}},{"$nulls":5},{"$f":"IF($B71=\"NO TEAM\", 0, SUM(LARGE(IF(club=$C71, beam), ROW($1:$3))))","v":{"v":0,"d":"0.00"}},{"$nulls":5},{"$f":"IF($B71=\"NO TEAM\", 0, SUM(LARGE(IF(club=$C71, floor), ROW($1:$3))))","v":{"v":0,"d":"0.00"}},{"$nulls":5},{"$f":"IF($B71=\"NO TEAM\", 0, SUM(LARGE(IF(club=$C71, range), ROW($1:$3))))","v":{"v":0,"d":"0.00"}},{"$nulls":4},{"v":0,"d":"0.00"},3,5,0,3]
[null,{"$f":"IF(AND(COUNTIF(club,C72)>=3,COUNTIF(club,C72)<=5),\"TEAM\",IF(COUNTIF(club,C72)>5,\"Too Many!!!!!\",\"NO TEAM\"))","v":"NO TEAM"},{"$nulls":5},{"$f":"IF($B72=\"NO TEAM\", 0, SUM(LARGE(IF(club=$C72, vault), ROW($1:$3))))","v":{"v":0,"d":"0.00"}},{"$nulls":5},{"$f":"IF($B72=\"NO TEAM\", 0, SUM(LARGE(IF(club=$C72, bars), ROW($1:$3))))","v":{"v":0,"d":"0.00"}},{"$nulls":5},{"$f":"IF($B72=\"NO TEAM\", 0, SUM(LARGE(IF(club=$C72, beam), ROW($1:$3))))","v":{"v":0,"d":"0.00"}},{"$nulls":5},{"$f":"IF($B72=\"NO TEAM\", 0, SUM(LARGE(IF(club=$C72, floor), ROW($1:$3))))","v":{"v":0,"d":"0.00"}},{"$nulls":5},{"$f":"IF($B72=\"NO TEAM\", 0, SUM(LARGE(IF(club=$C72, range), ROW($1:$3))))","v":{"v":0,"d":"0.00"}},{"$nulls":4},{"v":0,"d":"0.00"},3,6,0,3]
[null,{"$f":"IF(AND(COUNTIF(club,C73)>=3,COUNTIF(club,C73)<=5),\"TEAM\",IF(COUNTIF(club,C73)>5,\"Too Many!!!!!\",\"NO TEAM\"))","v":"NO TEAM"},{"$nulls":5},{"$f":"IF($B73=\"NO TEAM\", 0, SUM(LARGE(IF(club=$C73, vault), ROW($1:$3))))","v":{"v":0,"d":"0.00"}},{"$nulls":5},{"$f":"IF($B73=\"NO TEAM\", 0, SUM(LARGE(IF(club=$C73, bars), ROW($1:$3))))","v":{"v":0,"d":"0.00"}},{"$nulls":5},{"$f":"IF($B73=\"NO TEAM\", 0, SUM(LARGE(IF(club=$C73, beam), ROW($1:$3))))","v":{"v":0,"d":"0.00"}},{"$nulls":5},{"$f":"IF($B73=\"NO TEAM\", 0, SUM(LARGE(IF(club=$C73, floor), ROW($1:$3))))","v":{"v":0,"d":"0.00"}},{"$nulls":5},{"$f":"IF($B73=\"NO TEAM\", 0, SUM(LARGE(IF(club=$C73, range), ROW($1:$3))))","v":{"v":0,"d":"0.00"}},{"$nulls":4},{"v":0,"d":"0.00"},3,7,0,3]
[null,{"$f":"IF(AND(COUNTIF(club,C74)>=3,COUNTIF(club,C74)<=5),\"TEAM\",IF(COUNTIF(club,C74)>5,\"Too Many!!!!!\",\"NO TEAM\"))","v":"NO TEAM"},{"$nulls":5},{"$f":"IF($B74=\"NO TEAM\", 0, SUM(LARGE(IF(club=$C74, vault), ROW($1:$3))))","v":{"v":0,"d":"0.00"}},{"$nulls":5},{"$f":"IF($B74=\"NO TEAM\", 0, SUM(LARGE(IF(club=$C74, bars), ROW($1:$3))))","v":{"v":0,"d":"0.00"}},{"$nulls":5},{"$f":"IF($B74=\"NO TEAM\", 0, SUM(LARGE(IF(club=$C74, beam), ROW($1:$3))))","v":{"v":0,"d":"0.00"}},{"$nulls":5},{"$f":"IF($B74=\"NO TEAM\", 0, SUM(LARGE(IF(club=$C74, floor), ROW($1:$3))))","v":{"v":0,"d":"0.00"}},{"$nulls":5},{"$f":"IF($B74=\"NO TEAM\", 0, SUM(LARGE(IF(club=$C74, range), ROW($1:$3))))","v":{"v":0,"d":"0.00"}},{"$nulls":4},{"v":0,"d":"0.00"},3,8,0,3]
[null,{"$f":"IF(AND(COUNTIF(club,C75)>=3,COUNTIF(club,C75)<=5),\"TEAM\",IF(COUNTIF(club,C75)>5,\"Too Many!!!!!\",\"NO TEAM\"))","v":"NO TEAM"},{"$nulls":5},{"$f":"IF($B75=\"NO TEAM\", 0, SUM(LARGE(IF(club=$C75, vault), ROW($1:$3))))","v":{"v":0,"d":"0.00"}},{"$nulls":5},{"$f":"IF($B75=\"NO TEAM\", 0, SUM(LARGE(IF(club=$C75, bars), ROW($1:$3))))","v":{"v":0,"d":"0.00"}},{"$nulls":5},{"$f":"IF($B75=\"NO TEAM\", 0, SUM(LARGE(IF(club=$C75, beam), ROW($1:$3))))","v":{"v":0,"d":"0.00"}},{"$nulls":5},{"$f":"IF($B75=\"NO TEAM\", 0, SUM(LARGE(IF(club=$C75, floor), ROW($1:$3))))","v":{"v":0,"d":"0.00"}},{"$nulls":5},{"$f":"IF($B75=\"NO TEAM\", 0, SUM(LARGE(IF(club=$C75, range), ROW($1:$3))))","v":{"v":0,"d":"0.00"}},{"$nulls":4},{"v":0,"d":"0.00"},3,9,0,3]
[null,{"$f":"IF(AND(COUNTIF(club,C76)>=3,COUNTIF(club,C76)<=5),\"TEAM\",IF(COUNTIF(club,C76)>5,\"Too Many!!!!!\",\"NO TEAM\"))","v":"NO TEAM"},{"$nulls":5},{"$f":"IF($B76=\"NO TEAM\", 0, SUM(LARGE(IF(club=$C76, vault), ROW($1:$3))))","v":{"v":0,"d":"0.00"}},{"$nulls":5},{"$f":"IF($B76=\"NO TEAM\", 0, SUM(LARGE(IF(club=$C76, bars), ROW($1:$3))))","v":{"v":0,"d":"0.00"}},{"$nulls":5},{"$f":"IF($B76=\"NO TEAM\", 0, SUM(LARGE(IF(club=$C76, beam), ROW($1:$3))))","v":{"v":0,"d":"0.00"}},{"$nulls":5},{"$f":"IF($B76=\"NO TEAM\", 0, SUM(LARGE(IF(club=$C76, floor), ROW($1:$3))))","v":{"v":0,"d":"0.00"}},{"$nulls":5},{"$f":"IF($B76=\"NO TEAM\", 0, SUM(LARGE(IF(club=$C76, range), ROW($1:$3))))","v":{"v":0,"d":"0.00"}},{"$nulls":4},{"v":0,"d":"0.00"},3,10,0,3]
[null,{"$f":"IF(AND(COUNTIF(club,C77)>=3,COUNTIF(club,C77)<=5),\"TEAM\",IF(COUNTIF(club,C77)>5,\"Too Many!!!!!\",\"NO TEAM\"))","v":"NO TEAM"},{"$nulls":5},{"$f":"IF($B77=\"NO TEAM\", 0, SUM(LARGE(IF(club=$C77, vault), ROW($1:$3))))","v":{"v":0,"d":"0.00"}},{"$nulls":5},{"$f":"IF($B77=\"NO TEAM\", 0, SUM(LARGE(IF(club=$C77, bars), ROW($1:$3))))","v":{"v":0,"d":"0.00"}},{"$nulls":5},{"$f":"IF($B77=\"NO TEAM\", 0, SUM(LARGE(IF(club=$C77, beam), ROW($1:$3))))","v":{"v":0,"d":"0.00"}},{"$nulls":5},{"$f":"IF($B77=\"NO TEAM\", 0, SUM(LARGE(IF(club=$C77, floor), ROW($1:$3))))","v":{"v":0,"d":"0.00"}},{"$nulls":5},{"$f":"IF($B77=\"NO TEAM\", 0, SUM(LARGE(IF(club=$C77, range), ROW($1:$3))))","v":{"v":0,"d":"0.00"}},{"$nulls":4},{"v":0,"d":"0.00"},3,11,0,3]
[null,{"$f":"IF(AND(COUNTIF(club,C78)>=3,COUNTIF(club,C78)<=5),\"TEAM\",IF(COUNTIF(club,C78)>5,\"Too Many!!!!!\",\"NO TEAM\"))","v":"NO TEAM"},{"$nulls":5},{"$f":"IF($B78=\"NO TEAM\", 0, SUM(LARGE(IF(club=$C78, vault), ROW($1:$3))))","v":{"v":0,"d":"0.00"}},{"$nulls":5},{"$f":"IF($B78=\"NO TEAM\", 0, SUM(LARGE(IF(club=$C78, bars), ROW($1:$3))))","v":{"v":0,"d":"0.00"}},{"$nulls":5},{"$f":"IF($B78=\"NO TEAM\", 0, SUM(LARGE(IF(club=$C78, beam), ROW($1:$3))))","v":{"v":0,"d":"0.00"}},{"$nulls":5},{"$f":"IF($B78=\"NO TEAM\", 0, SUM(LARGE(IF(club=$C78, floor), ROW($1:$3))))","v":{"v":0,"d":"0.00"}},{"$nulls":5},{"$f":"IF($B78=\"NO TEAM\", 0, SUM(LARGE(IF(club=$C78, range), ROW($1:$3))))","v":{"v":0,"d":"0.00"}},{"$nulls":4},{"v":0,"d":"0.00"},3,12,0,3]
[null,{"$f":"IF(AND(COUNTIF(club,C79)>=3,COUNTIF(club,C79)<=5),\"TEAM\",IF(COUNTIF(club,C79)>5,\"Too Many!!!!!\",\"NO TEAM\"))","v":"NO TEAM"},{"$nulls":5},{"$f":"IF($B79=\"NO TEAM\", 0, SUM(LARGE(IF(club=$C79, vault), ROW($1:$3))))","v":{"v":0,"d":"0.00"}},{"$nulls":5},{"$f":"SUM(LARGE(IF(club=$C79, bars), ROW($1:$3)))","v":{"v":0,"d":"0.00"}},{"$nulls":5},{"$f":"SUM(LARGE(IF(club=$C79, beam), ROW($1:$3)))","v":{"v":0,"d":"0.00"}},{"$nulls":5},{"$f":"SUM(LARGE(IF(club=$C79, floor), ROW($1:$3)))","v":{"v":0,"d":"0.00"}},{"$nulls":5},{"$f":"SUM(LARGE(IF(club=$C79, range), ROW($1:$3)))","v":{"v":0,"d":"0.00"}},{"$nulls":4},{"v":0,"d":"0.00"},3,13,0,3]
[null,{"$f":"IF(AND(COUNTIF(club,C80)>=3,COUNTIF(club,C80)<=5),\"TEAM\",IF(COUNTIF(club,C80)>5,\"Too Many!!!!!\",\"NO TEAM\"))","v":"NO TEAM"},{"$nulls":5},{"$f":"IF($B80=\"NO TEAM\", 0, SUM(LARGE(IF(club=$C80, vault), ROW($1:$3))))","v":{"v":0,"d":"0.00"}},{"$nulls":5},{"$f":"SUM(LARGE(IF(club=$C80, bars), ROW($1:$3)))","v":{"v":0,"d":"0.00"}},{"$nulls":5},{"$f":"SUM(LARGE(IF(club=$C80, beam), ROW($1:$3)))","v":{"v":0,"d":"0.00"}},{"$nulls":5},{"$f":"SUM(LARGE(IF(club=$C80, floor), ROW($1:$3)))","v":{"v":0,"d":"0.00"}},{"$nulls":5},{"$f":"SUM(LARGE(IF(club=$C80, range), ROW($1:$3)))","v":{"v":0,"d":"0.00"}},{"$nulls":4},{"v":0,"d":"0.00"},3,14,0,3]
[null,{"$f":"IF(AND(COUNTIF(club,C81)>=3,COUNTIF(club,C81)<=5),\"TEAM\",IF(COUNTIF(club,C81)>5,\"Too Many!!!!!\",\"NO TEAM\"))","v":"NO TEAM"},{"$nulls":5},{"$f":"IF($B81=\"NO TEAM\", 0, SUM(LARGE(IF(club=$C81, vault), ROW($1:$3))))","v":{"v":0,"d":"0.00"}},{"$nulls":5},{"$f":"SUM(LARGE(IF(club=$C81, bars), ROW($1:$3)))","v":{"v":0,"d":"0.00"}},{"$nulls":5},{"$f":"SUM(LARGE(IF(club=$C81, beam), ROW($1:$3)))","v":{"v":0,"d":"0.00"}},{"$nulls":5},{"$f":"SUM(LARGE(IF(club=$C81, floor), ROW($1:$3)))","v":{"v":0,"d":"0.00"}},{"$nulls":5},{"$f":"SUM(LARGE(IF(club=$C81, range), ROW($1:$3)))","v":{"v":0,"d":"0.00"}},{"$nulls":4},{"v":0,"d":"0.00"},3,15,0,3]

{"sheet":"NGr 4 <11","index":6,"n_rows":81,"n_cols":55,"rows_kept":81,"merged":[[0,3,0,8],[0,12,0,14],[0,18,0,20],[0,24,0,26],[0,30,0,32],[0,36,0,37],[2,45,2,54],[45,44,45,45],[45,48,45,49],[45,52,45,53],[56,44,56,45]]}
[{"$nulls":3},"VAULT",{"$nulls":8},"BARS",{"$nulls":5},"BEAM",{"$nulls":5},"FLOOR",{"$nulls":5},"RANGE",{"$nulls":5},"AA"]
["No","GYMNAST","CLUB","V1 SV","V1","V2 SV","V2","SCORE","POS","idx","sort","ties","SV","SCORE","POS","idx","sort","ties","SV","SCORE","POS","idx","sort","ties","SV","SCORE","POS","idx","sort","ties","SV","SCORE","POS","idx","sort","ties","TOTAL","POS","idx","sort","ties"]
[null,"North Grade 4 - 11 & Under",{"$nulls":41},{"$f":"B3","v":"North Grade 4 - 11 & Under"},null,"summary results for presentation"]
[90,"Emily Lineham","SD",{"v":4,"d":"4.0"},12.35,{"v":0,"d":"0.0"},{"v":0,"d":"0.00"},{"$f":"MAX(E4, G4)","v":12.35},{"$f":"VLOOKUP(H4, K$4:L$65, 2,FALSE)","v":5},{"$f":"IF(ISNUMBER(J3), J3+1, 1)","v":1},{"$f":"LARGE(H$4:H$65,J4)","v":12.65},{"$f":"IF(K4=K3, L3, L3+1)","v":1},{"v":4,"d":"4.0"},12.15,{"$f":"VLOOKUP(N4, Q$4:R$65, 2,FALSE)","v":13},{"$f":"IF(ISNUMBER(P3), P3+1, 1)","v":1},{"$f":"LARGE(N$4:N$65,P4)","v":13.2},{"$f":"IF(Q4=Q3, R3, R3+1)","v":1},{"v":4,"d":"4.0"},8.95,{"$f":"VLOOKUP(T4, W$4:X$65, 2,FALSE)","v":16},{"$f":"IF(ISNUMBER(V3), V3+1, 1)","v":1},{"$f":"LARGE(T$4:T$65,V4)","v":12.75},{"$f":"IF(W4=W3, X3, X3+1)","v":1},{"v":4,"d":"4.0"},{"v":10.9,"d":"10.90"},{"$f":"VLOOKUP(Z4, AC$4:AD$65, 2,FALSE)","v":15},{"$f":"IF(ISNUMBER(AB3), AB3+1, 1)","v":1},{"$f":"LARGE(Z$4:Z$65,AB4)","v":12.4},{"$f":"IF(AC4=AC3, AD3, AD3+1)","v":1},3.5,{"v":11.9,"d":"11.90"},{"$f":"VLOOKUP(AF4, AI$4:AJ$65, 2,FALSE)","v":6},{"$f":"IF(ISNUMBER(AH3), AH3+1, 1)","v":1},{"$f":"LARGE(AF$4:AF$65,AH4)","v":13.1},{"$f":"IF(AI4=AI3, AJ3, AJ3+1)","v":1},{"$f":"SUMIF(D$2:AJ$2, \"SCORE\", D4:AJ4)","v":56.25},{"$f":"VLOOKUP(AK4, AN$4:AO$65, 2,FALSE)","v":16},{"$f":"IF(ISNUMBER(AM3), AM3+1, 1)","v":1},{"$f":"LARGE($AK$4:$AK$65,$AM4)","v":61.4},{"$f":"IF(AN4=AN3, AO3, AO3+1)","v":1},null,null,"6th Place",{"$f":"IFERROR(INDEX(vault,MATCH(AR5,gymnasts,0)), \"\")","v":{"v":12.2,"d":"12.20"}},"5th Place",{"$f":"IFERROR(INDEX(vault,MATCH(AT5,gymnasts,0)), \"\")","v":12.35},"4th Place",{"$f":"IFERROR(INDEX(vault,MATCH(AV5,gymnasts,0)), \"\")","v":{"v":12.4,"d":"12.40"}},"3rd Place",{"$f":"IFERROR(INDEX(vault,MATCH(AX5,gymnasts,0)), \"\")","v":12.45},"2nd Place",{"$f":"IFERROR(INDEX(vault,MATCH(AZ5,gymnasts,0)), \"\")","v":{"v":12.6,"d":"12.60"}},"1st Place",{"$f":"IFERROR(INDEX(vault,MATCH(BB5,gymnasts,0)), \"\")","v":12.65}]
[91,"Adalyn Byers","SD",{"v":4,"d":"4.0"},12.45,{"v":0,"d":"0.0"},{"v":0,"d":"0.00"},{"$f":"MAX(E5, G5)","v":12.45},{"$f":"VLOOKUP(H5, K$4:L$65, 2,FALSE)","v":3},2,{"$f":"LARGE(H$4:H$65,J5)","v":12.6},{"$f":"IF(K5=K4, L4, L4+1)","v":2},{"v":4,"d":"4.0"},13.05,{"$f":"VLOOKUP(N5, Q$4:R$65, 2,FALSE)","v":2},2,{"$f":"LARGE(N$4:N$65,P5)","v":13.05},{"$f":"IF(Q5=Q4, R4, R4+1)","v":2},{"v":4,"d":"4.0"},11.75,{"$f":"VLOOKUP(T5, W$4:X$65, 2,FALSE)","v":2},2,{"$f":"LARGE(T$4:T$65,V5)","v":11.75},{"$f":"IF(W5=W4, X4, X4+1)","v":2},{"v":4,"d":"4.0"},{"v":11.6,"d":"11.60"},{"$f":"VLOOKUP(Z5, AC$4:AD$65, 2,FALSE)","v":9},2,{"$f":"LARGE(Z$4:Z$65,AB5)","v":12.35},{"$f":"IF(AC5=AC4, AD4, AD4+1)","v":2},3.5,{"v":11.9,"d":"11.90"},{"$f":"VLOOKUP(AF5, AI$4:AJ$65, 2,FALSE)","v":6},2,{"$f":"LARGE(AF$4:AF$65,AH5)","v":12.95},{"$f":"IF(AI5=AI4, AJ4, AJ4+1)","v":2},60.75,{"$f":"VLOOKUP(AK5, AN$4:AO$65, 2,FALSE)","v":2},2,{"$f":"LARGE($AK$4:$AK$65,$AM5)","v":60.75},{"$f":"IF(AN5=AN4, AO4, AO4+1)","v":2},null,"Vault",{"$f":"IFERROR(INDEX(gymnasts, SMALL(IF(VALUE(LEFT(AR$32, 1))=vaultPos, ROW(vaultPos)-MIN(ROW(vaultPos))+1, \"\"), ROW()-4)), \"\")","v":"Chloe Proud"},{"$f":"IFERROR( INDEX(entries, MATCH(AR5, gymnasts, 0), 2), \"\")","v":"Richmondshire"},{"$f":"IFERROR(INDEX(gymnasts, SMALL(IF(VALUE(LEFT(AT$32, 1))=vaultPos, ROW(vaultPos)-MIN(ROW(vaultPos))+1, \"\"), ROW()-4)), \"\")","v":"Emily Lineham"},{"$f":"IFERROR( INDEX(entries, MATCH(AT5, gymnasts, 0), 2), \"\")","v":"SD"},{"$f":"IFERROR(INDEX(gymnasts, SMALL(IF(VALUE(LEFT(AV$32, 1))=vaultPos, ROW(vaultPos)-MIN(ROW(vaultPos))+1, \"\"), ROW()-4)), \"\")","v":"Olivia Scrafton"},{"$f":"IFERROR( INDEX(entries, MATCH(AV5, gymnasts, 0), 2), \"\")","v":"SD"},{"$f":"IFERROR(INDEX(gymnasts, SMALL(IF(VALUE(LEFT(AX$32, 1))=vaultPos, ROW(vaultPos)-MIN(ROW(vaultPos))+1, \"\"), ROW()-4)), \"\")","v":"Adalyn Byers"},{"$f":"IFERROR( INDEX(entries, MATCH(AX5, gymnasts, 0), 2), \"\")","v":"SD"},{"$f":"IFERROR(INDEX(gymnasts, SMALL(IF(VALUE(LEFT(AZ$32, 1))=vaultPos, ROW(vaultPos)-MIN(ROW(vaultPos))+1, \"\"), ROW()-4)), \"\")","v":"Lani Tyzack"},{"$f":"IFERROR( INDEX(entries, MATCH(AZ5, gymnasts, 0), 2), \"\")","v":"Redcar"},{"$f":"IFERROR(INDEX(gymnasts, SMALL(IF(VALUE(LEFT(BB$32, 1))=vaultPos, ROW(vaultPos)-MIN(ROW(vaultPos))+1, \"\"), ROW()-4)), \"\")","v":"Betty Bamford"},{"$f":"IFERROR( INDEX(entries, MATCH(BB5, gymnasts, 0), 2), \"\")","v":"Gymtopia"}]
[92,"Olivia Scrafton","SD",{"v":4,"d":"4.0"},{"v":12.4,"d":"12.40"},{"v":0,"d":"0.0"},{"v":0,"d":"0.00"},{"v":12.4,"d":"12.40"},4,3,12.6,2,{"v":4,"d":"4.0"},12.95,4,3,13,3,{"v":4,"d":"4.0"},{"v":10.5,"d":"10.50"},6,3,11.45,3,{"v":4,"d":"4.0"},{"v":11.7,"d":"11.70"},8,3,12.25,3,{"v":4,"d":"4.0"},{"v":12.6,"d":"12.60"},3,3,12.6,3,60.15,5,3,60.55,3,null,null,"Lily Slater",{"$f":"IFERROR( INDEX(entries, MATCH(AR6, gymnasts, 0), 2), \"\")","v":"Kendal"},"Frankie Atherton-Brand",{"$f":"IFERROR( INDEX(entries, MATCH(AT6, gymnasts, 0), 2), \"\")","v":"CNGA"},"Scarlett Laidler",{"$f":"IFERROR( INDEX(entries, MATCH(AV6, gymnasts, 0), 2), \"\")","v":"CNGA"},"",{"$f":"IFERROR( INDEX(entries, MATCH(AX6, gymnasts, 0), 2), \"\")","v":""},"Ella Brown",{"$f":"IFERROR( INDEX(entries, MATCH(AZ6, gymnasts, 0), 2), \"\")","v":"Hartlepool"},"",""]
[93,"Lani Tyzack","Redcar",{"v":4,"d":"4.0"},{"v":12.6,"d":"12.60"},{"v":0,"d":"0.0"},{"v":0,"d":"0.00"},{"v":12.6,"d":"12.60"},2,4,12.45,3,{"v":4,"d":"4.0"},{"v":13,"d":"13.00"},3,4,13,3,{"v":4,"d":"4.0"},{"v":9.2,"d":"9.20"},14,4,11.2,4,{"v":4,"d":"4.0"},{"v":12,"d":"12.00"},5,4,12.25,3,3.5,{"v":11.5,"d":"11.50"},9,4,12.35,4,{"v":58.3,"d":"58.30"},10,4,60.25,4,null,null,"","","","","","","","","","","",""]
[94,"Isobelle Simpson","Redcar",{"v":4,"d":"4.0"},{"v":11.9,"d":"11.90"},{"v":0,"d":"0.0"},{"v":0,"d":"0.00"},{"v":11.9,"d":"11.90"},9,5,12.4,4,{"v":4,"d":"4.0"},12.65,7,5,12.95,4,{"v":4,"d":"4.0"},{"v":8.6,"d":"8.60"},19,5,10.95,5,{"v":4,"d":"4.0"},{"v":12.1,"d":"12.10"},4,5,12.1,4,3.5,{"v":11.5,"d":"11.50"},9,5,12.3,5,56.75,13,5,60.15,5,null,null,"","","","","","","","","","","",""]
[95,"Ava Jackson","Redcar",{"v":4,"d":"4.0"},{"v":11.8,"d":"11.80"},{"v":0,"d":"0.0"},{"v":0,"d":"0.00"},{"v":11.8,"d":"11.80"},10,6,12.4,4,{"v":4,"d":"4.0"},12.55,9,6,12.95,4,{"v":4,"d":"4.0"},9.95,9,6,10.5,6,{"v":4,"d":"4.0"},{"v":11.5,"d":"11.50"},11,6,12,5,3.5,{"v":11,"d":"11.00"},15,6,11.9,6,{"v":56.8,"d":"56.80"},12,6,59.45,6,null,null,"","","","","","","","","","","",""]
[96,"Scarlett Laidler","CNGA",{"v":4,"d":"4.0"},{"v":12.4,"d":"12.40"},{"v":0,"d":"0.0"},{"v":0,"d":"0.00"},{"v":12.4,"d":"12.40"},4,7,12.35,5,{"v":4,"d":"4.0"},12.25,11,7,12.8,5,{"v":4,"d":"4.0"},{"v":8.9,"d":"8.90"},17,7,10.4,7,{"v":4,"d":"4.0"},11.85,7,7,11.95,6,3.5,{"v":10.7,"d":"10.70"},16,7,11.9,6,{"v":56.099999999999994,"d":"56.10"},17,7,59.199999999999996,7,null,null,"","","","","","","","","","","",""]
[97,"Frankie Atherton-Brand","CNGA",{"v":4,"d":"4.0"},12.35,{"v":0,"d":"0.0"},{"v":0,"d":"0.00"},12.35,5,8,12.35,5,{"v":4,"d":"4.0"},12.95,4,8,12.7,6,{"v":4,"d":"4.0"},9.95,9,8,10.15,8,{"v":4,"d":"4.0"},12.25,3,8,11.85,7,{"v":3,"d":"3.0"},{"v":11.3,"d":"11.30"},12,8,11.85,7,{"v":58.8,"d":"58.80"},8,8,58.8,8,null,null,"6th Place",{"$f":"IFERROR(INDEX(bars,MATCH(AR12,gymnasts,0)), \"\")","v":{"v":12.7,"d":"12.70"}},"5th Place",{"$f":"IFERROR(INDEX(bars,MATCH(AT12,gymnasts,0)), \"\")","v":{"v":12.8,"d":"12.80"}},"4th Place",{"$f":"IFERROR(INDEX(bars,MATCH(AV12,gymnasts,0)), \"\")","v":12.95},"3rd Place",{"$f":"IFERROR(INDEX(bars,MATCH(AX12,gymnasts,0)), \"\")","v":{"v":13,"d":"13.00"}},"2nd Place",{"$f":"IFERROR(INDEX(bars,MATCH(AZ12,gymnasts,0)), \"\")","v":13.05},"1st Place",{"$f":"IFERROR(INDEX(bars,MATCH(BB12,gymnasts,0)), \"\")","v":{"v":13.2,"d":"13.20"}}]
[98,"Macey Dixon","CNGA",{"v":4,"d":"4.0"},{"v":11.8,"d":"11.80"},{"v":0,"d":"0.0"},{"v":0,"d":"0.00"},{"v":11.8,"d":"11.80"},10,9,12.2,6,{"v":4,"d":"4.0"},{"v":13.2,"d":"13.20"},1,9,12.65,7,{"v":4,"d":"4.0"},10.15,8,9,9.95,9,{"v":4,"d":"4.0"},{"v":11.7,"d":"11.70"},8,9,11.7,8,{"v":4,"d":"4.0"},12.35,4,9,11.6,8,{"v":59.199999999999996,"d":"59.20"},7,9,58.650000000000006,9,null,"Bars",{"$f":"IFERROR(INDEX(gymnasts, SMALL(IF(VALUE(LEFT(AR$32, 1))=BarPos, ROW(BarPos)-MIN(ROW(BarPos))+1, \"\"), ROW()-11)), \"\")","v":"Macy Moore"},{"$f":"IFERROR( INDEX(entries, MATCH(AR12, gymnasts, 0), 2), \"\")","v":"Hartlepool"},{"$f":"IFERROR(INDEX(gymnasts, SMALL(IF(VALUE(LEFT(AT$32, 1))=BarPos, ROW(BarPos)-MIN(ROW(BarPos))+1, \"\"), ROW()-11)), \"\")","v":"Charlotte Mitchell"},{"$f":"IFERROR( INDEX(entries, MATCH(AT12, gymnasts, 0), 2), \"\")","v":"Hartlepool"},{"$f":"IFERROR(INDEX(gymnasts, SMALL(IF(VALUE(LEFT(AV$32, 1))=BarPos, ROW(BarPos)-MIN(ROW(BarPos))+1, \"\"), ROW()-11)), \"\")","v":"Olivia Scrafton"},{"$f":"IFERROR( INDEX(entries, MATCH(AV12, gymnasts, 0), 2), \"\")","v":"SD"},{"$f":"IFERROR(INDEX(gymnasts, SMALL(IF(VALUE(LEFT(AX$32, 1))=BarPos, ROW(BarPos)-MIN(ROW(BarPos))+1, \"\"), ROW()-11)), \"\")","v":"Lani Tyzack"},{"$f":"IFERROR( INDEX(entries, MATCH(AX12, gymnasts, 0), 2), \"\")","v":"Redcar"},{"$f":"IFERROR(INDEX(gymnasts, SMALL(IF(VALUE(LEFT(AZ$32, 1))=BarPos, ROW(BarPos)-MIN(ROW(BarPos))+1, \"\"), ROW()-11)), \"\")","v":"Adalyn Byers"},{"$f":"IFERROR( INDEX(entries, MATCH(AZ12, gymnasts, 0), 2), \"\")","v":"SD"},{"$f":"IFERROR(INDEX(gymnasts, SMALL(IF(VALUE(LEFT(BB$32, 1))=BarPos, ROW(BarPos)-MIN(ROW(BarPos))+1, \"\"), ROW()-11)), \"\")","v":"Macey Dixon"},{"$f":"IFERROR( INDEX(entries, MATCH(BB12, gymnasts, 0), 2), \"\")","v":"CNGA"}]
[100,"Charlotte Mitchell","Hartlepool",{"v":4,"d":"4.0"},12.15,{"v":0,"d":"0.0"},{"v":0,"d":"0.00"},12.15,7,10,12.2,6,{"v":4,"d":"4.0"},{"v":12.8,"d":"12.80"},5,10,12.6,8,{"v":4,"d":"4.0"},{"v":11.2,"d":"11.20"},4,10,9.95,9,{"v":4,"d":"4.0"},{"v":10.9,"d":"10.90"},15,10,11.7,8,3.5,{"v":11.6,"d":"11.60"},8,10,11.5,9,{"v":58.650000000000006,"d":"58.65"},9,10,58.3,10,null,null,"",{"$f":"IFERROR( INDEX(entries, MATCH(AR13, gymnasts, 0), 2), \"\")","v":""},"",{"$f":"IFERROR( INDEX(entries, MATCH(AT13, gymnasts, 0), 2), \"\")","v":""},"Frankie Atherton-Brand",{"$f":"IFERROR( INDEX(entries, MATCH(AV13, gymnasts, 0), 2), \"\")","v":"CNGA"},"Ella Brown",{"$f":"IFERROR( INDEX(entries, MATCH(AX13, gymnasts, 0), 2), \"\")","v":"Hartlepool"},"",{"$f":"IFERROR( INDEX(entries, MATCH(AZ13, gymnasts, 0), 2), \"\")","v":""},"",""]
[101,"Ella Brown","Hartlepool",{"v":4,"d":"4.0"},{"v":12.6,"d":"12.60"},{"v":0,"d":"0.0"},{"v":0,"d":"0.00"},{"v":12.6,"d":"12.60"},2,11,12.15,7,{"v":4,"d":"4.0"},{"v":13,"d":"13.00"},3,11,12.55,9,{"v":4,"d":"4.0"},12.75,1,11,9.85,10,{"v":4,"d":"4.0"},{"v":12.4,"d":"12.40"},1,11,11.6,9,{"v":4,"d":"4.0"},10.65,17,11,11.5,9,{"v":61.4,"d":"61.40"},1,11,57.2,11,null,null,"","","","","","","","","","","",""]
[102,"Macy Moore","Hartlepool",{"v":4,"d":"4.0"},12.15,{"v":0,"d":"0.0"},{"v":0,"d":"0.00"},12.15,7,12,12.15,7,{"v":4,"d":"4.0"},{"v":12.7,"d":"12.70"},6,12,12.4,10,{"v":4,"d":"4.0"},11.45,3,12,9.65,11,{"v":4,"d":"4.0"},11.95,6,12,11.55,10,{"v":4,"d":"4.0"},{"v":12.3,"d":"12.30"},5,12,11.5,9,60.55,3,12,56.8,12,null,null,"","","","","","","","","","","",""]
[103,"Belle Holliday","Carlisle",{"v":4,"d":"4.0"},{"v":11.7,"d":"11.70"},{"v":0,"d":"0.0"},{"v":0,"d":"0.00"},{"v":11.7,"d":"11.70"},11,13,12.05,8,{"v":4,"d":"4.0"},{"v":12.2,"d":"12.20"},12,13,12.25,11,3.5,9.65,11,13,9.4,12,{"v":4,"d":"4.0"},{"v":11.5,"d":"11.50"},11,13,11.5,11,3.5,11.35,11,13,11.45,10,{"v":56.4,"d":"56.40"},15,13,56.75,13,null,null,"","","","","","","","","","","",""]
[104,"Isla Bell","Carlisle",{"v":4,"d":"4.0"},11.55,{"v":0,"d":"0.0"},{"v":0,"d":"0.00"},11.55,12,14,11.9,9,{"v":4,"d":"4.0"},11.25,19,14,12.2,12,{"v":4,"d":"4.0"},9.85,10,14,9.3,13,{"v":4,"d":"4.0"},{"v":11.4,"d":"11.40"},13,14,11.5,11,{"v":4,"d":"4.0"},10.35,18,14,11.35,11,{"v":54.4,"d":"54.40"},20,14,56.6,14,null,null,"","","","","","","","","","","",""]
[105,"Caitlin Petitjean","Darlington",{"v":4,"d":"4.0"},{"v":11.9,"d":"11.90"},{"v":0,"d":"0.0"},{"v":0,"d":"0.00"},{"v":11.9,"d":"11.90"},9,15,11.9,9,{"v":4,"d":"4.0"},11.95,16,15,12.15,13,{"v":4,"d":"4.0"},10.95,5,15,9.2,14,{"v":4,"d":"4.0"},12.35,2,15,11.45,12,{"v":4,"d":"4.0"},{"v":13.1,"d":"13.10"},1,15,11.3,12,60.25,4,15,56.4,15,null,null,"6th Place",{"$f":"IFERROR(INDEX(beam,MATCH(AR19,gymnasts,0)), \"\")","v":{"v":10.5,"d":"10.50"}},"5th Place",{"$f":"IFERROR(INDEX(beam,MATCH(AT19,gymnasts,0)), \"\")","v":10.95},"4th Place",{"$f":"IFERROR(INDEX(beam,MATCH(AV19,gymnasts,0)), \"\")","v":{"v":11.2,"d":"11.20"}},"3rd Place",{"$f":"IFERROR(INDEX(beam,MATCH(AX19,gymnasts,0)), \"\")","v":11.45},"2nd Place",{"$f":"IFERROR(INDEX(beam,MATCH(AZ19,gymnasts,0)), \"\")","v":11.75},"1st Place",{"$f":"IFERROR(INDEX(beam,MATCH(BB19,gymnasts,0)), \"\")","v":12.75}]
[106,"Maddy Lynn","Darlington",{"v":4,"d":"4.0"},{"v":11.8,"d":"11.80"},{"v":0,"d":"0.0"},{"v":0,"d":"0.00"},{"v":11.8,"d":"11.80"},10,16,11.8,10,{"v":4,"d":"4.0"},12.05,15,16,12.1,14,{"v":4,"d":"4.0"},{"v":10.4,"d":"10.40"},7,16,9,15,{"v":4,"d":"4.0"},12.25,3,16,11.4,13,{"v":4,"d":"4.0"},12.95,2,16,11.1,13,59.45,6,16,56.25,16,null,"Beam",{"$f":"IFERROR(INDEX(gymnasts, SMALL(IF(VALUE(LEFT(AR$32, 1))=BeamPos, ROW(BeamPos)-MIN(ROW(BeamPos))+1, \"\"), ROW()-18)), \"\")","v":"Olivia Scrafton"},{"$f":"IFERROR( INDEX(entries, MATCH(AR19, gymnasts, 0), 2), \"\")","v":"SD"},{"$f":"IFERROR(INDEX(gymnasts, SMALL(IF(VALUE(LEFT(AT$32, 1))=BeamPos, ROW(BeamPos)-MIN(ROW(BeamPos))+1, \"\"), ROW()-18)), \"\")","v":"Caitlin Petitjean"},{"$f":"IFERROR( INDEX(entries, MATCH(AT19, gymnasts, 0), 2), \"\")","v":"Darlington"},{"$f":"IFERROR(INDEX(gymnasts, SMALL(IF(VALUE(LEFT(AV$32, 1))=BeamPos, ROW(BeamPos)-MIN(ROW(BeamPos))+1, \"\"), ROW()-18)), \"\")","v":"Charlotte Mitchell"},{"$f":"IFERROR( INDEX(entries, MATCH(AV19, gymnasts, 0), 2), \"\")","v":"Hartlepool"},{"$f":"IFERROR(INDEX(gymnasts, SMALL(IF(VALUE(LEFT(AX$32, 1))=BeamPos, ROW(BeamPos)-MIN(ROW(BeamPos))+1, \"\"), ROW()-18)), \"\")","v":"Macy Moore"},{"$f":"IFERROR( INDEX(entries, MATCH(AX19, gymnasts, 0), 2), \"\")","v":"Hartlepool"},{"$f":"IFERROR(INDEX(gymnasts, SMALL(IF(VALUE(LEFT(AZ$32, 1))=BeamPos, ROW(BeamPos)-MIN(ROW(BeamPos))+1, \"\"), ROW()-18)), \"\")","v":"Adalyn Byers"},{"$f":"IFERROR( INDEX(entries, MATCH(AZ19, gymnasts, 0), 2), \"\")","v":"SD"},{"$f":"IFERROR(INDEX(gymnasts, SMALL(IF(VALUE(LEFT(BB$32, 1))=BeamPos, ROW(BeamPos)-MIN(ROW(BeamPos))+1, \"\"), ROW()-18)), \"\")","v":"Ella Brown"},{"$f":"IFERROR( INDEX(entries, MATCH(BB19, gymnasts, 0), 2), \"\")","v":"Hartlepool"}]
[107,"Indai Clay","Richmondshire",{"v":4,"d":"4.0"},12.05,{"v":0,"d":"0.0"},{"v":0,"d":"0.00"},12.05,8,17,11.8,10,{"v":4,"d":"4.0"},{"v":12.4,"d":"12.40"},10,17,12.05,15,3.5,6.35,21,17,8.95,16,{"v":4,"d":"4.0"},{"v":10.3,"d":"10.30"},16,17,11.4,13,3.5,11.05,14,17,11.05,14,{"v":52.150000000000006,"d":"52.15"},22,17,56.099999999999994,17,null,null,"",{"$f":"IFERROR( INDEX(entries, MATCH(AR20, gymnasts, 0), 2), \"\")","v":""},"",{"$f":"IFERROR( INDEX(entries, MATCH(AT20, gymnasts, 0), 2), \"\")","v":""},"",{"$f":"IFERROR( INDEX(entries, MATCH(AV20, gymnasts, 0), 2), \"\")","v":""},"",{"$f":"IFERROR( INDEX(entries, MATCH(AX20, gymnasts, 0), 2), \"\")","v":""},"",{"$f":"IFERROR( INDEX(entries, MATCH(AZ20, gymnasts, 0), 2), \"\")","v":""},"",""]
[108,"Chloe Proud","Richmondshire",{"v":4,"d":"4.0"},{"v":12.2,"d":"12.20"},{"v":0,"d":"0.0"},{"v":0,"d":"0.00"},{"v":12.2,"d":"12.20"},6,18,11.8,10,{"v":4,"d":"4.0"},11.75,17,18,11.95,16,3.5,{"v":9.4,"d":"9.40"},12,18,8.9,17,{"v":4,"d":"4.0"},{"v":11.4,"d":"11.40"},13,18,11.2,14,3.5,11.85,7,18,11,15,{"v":56.6,"d":"56.60"},14,18,54.95,18,null,null,"","","","","","","","","","","",""]
[109,"Imogen Borthwick","DC Gymnastics",{"v":4,"d":"4.0"},{"v":11.7,"d":"11.70"},{"v":0,"d":"0.0"},{"v":0,"d":"0.00"},{"v":11.7,"d":"11.70"},11,19,11.8,10,{"v":4,"d":"4.0"},11.25,19,19,11.75,17,3.5,{"v":9.3,"d":"9.30"},13,19,8.65,18,{"v":4,"d":"4.0"},{"v":10.9,"d":"10.90"},15,19,10.9,15,3.5,9.75,19,19,10.7,16,{"v":52.9,"d":"52.90"},21,19,54.65,19,null,null,"","","","","","","","","","","",""]
[110,"Imogen Pearce","Kendal",{"v":4,"d":"4.0"},{"v":11.8,"d":"11.80"},{"v":0,"d":"0.0"},{"v":0,"d":"0.00"},{"v":11.8,"d":"11.80"},10,20,11.7,11,{"v":4,"d":"4.0"},{"v":12.1,"d":"12.10"},14,20,11.45,18,3.5,{"v":8.1,"d":"8.10"},20,20,8.6,19,{"v":4,"d":"4.0"},11.55,10,20,10.9,15,3.5,{"v":11.1,"d":"11.10"},13,20,10.65,17,54.65,19,20,54.4,20,null,null,"","","","","","","","","","","",""]
[111,"Lily Slater","Kendal",{"v":4,"d":"4.0"},{"v":12.2,"d":"12.20"},{"v":0,"d":"0.0"},{"v":0,"d":"0.00"},{"v":12.2,"d":"12.20"},6,21,11.7,11,{"v":4,"d":"4.0"},11.45,18,21,11.25,19,3.5,8.65,18,21,8.1,20,{"v":4,"d":"4.0"},{"v":11.2,"d":"11.20"},14,21,10.9,15,3.5,11.45,10,21,10.35,18,54.95,18,21,52.9,21,null,null,"","","","","","","","","","","",""]
[112,"Betty Bamford","Gymtopia",{"v":4,"d":"4.0"},12.65,{"v":0,"d":"0.0"},{"v":0,"d":"0.00"},12.65,1,22,11.55,12,{"v":4,"d":"4.0"},{"v":12.6,"d":"12.60"},8,22,11.25,19,{"v":4,"d":"4.0"},{"v":9,"d":"9.00"},15,22,6.35,21,{"v":4,"d":"4.0"},11.45,12,22,10.3,16,{"v":4,"d":"4.0"},{"v":11.5,"d":"11.50"},9,22,9.75,19,{"v":57.2,"d":"57.20"},11,22,52.150000000000006,22,null,null,"6th Place",{"$f":"IFERROR(INDEX(floor,MATCH(AR26,gymnasts,0)), \"\")","v":11.95},"5th Place",{"$f":"IFERROR(INDEX(floor,MATCH(AT26,gymnasts,0)), \"\")","v":{"v":12,"d":"12.00"}},"4th Place",{"$f":"IFERROR(INDEX(floor,MATCH(AV26,gymnasts,0)), \"\")","v":{"v":12.1,"d":"12.10"}},"3rd Place",{"$f":"IFERROR(INDEX(floor,MATCH(AX26,gymnasts,0)), \"\")","v":12.25},"2nd Place",{"$f":"IFERROR(INDEX(floor,MATCH(AZ26,gymnasts,0)), \"\")","v":12.35},"1st Place",{"$f":"IFERROR(INDEX(floor,MATCH(BB26,gymnasts,0)), \"\")","v":{"v":12.4,"d":"12.40"}}]
[113,"Evie Blake","North Lakes",{"v":0,"d":"0.0"},{"v":0,"d":"0.00"},{"v":0,"d":"0.0"},{"v":0,"d":"0.00"},{"v":0,"d":"0.00"},13,23,0,13,{"v":0,"d":"0.0"},{"v":0,"d":"0.00"},20,23,0,20,{"v":0,"d":"0.0"},{"v":0,"d":"0.00"},22,23,0,22,{"v":0,"d":"0.0"},{"v":0,"d":"0.00"},17,23,0,17,{"v":0,"d":"0.0"},{"v":0,"d":"0.00"},20,23,0,20,{"v":0,"d":"0.00"},23,23,0,23,null,"Floor",{"$f":"IFERROR(INDEX(gymnasts, SMALL(IF(VALUE(LEFT(AR$32, 1))=FloorPos, ROW(FloorPos)-MIN(ROW(FloorPos))+1, \"\"), ROW()-25)), \"\")","v":"Macy Moore"},{"$f":"IFERROR( INDEX(entries, MATCH(AR26, gymnasts, 0), 2), \"\")","v":"Hartlepool"},{"$f":"IFERROR(INDEX(gymnasts, SMALL(IF(VALUE(LEFT(AT$32, 1))=FloorPos, ROW(FloorPos)-MIN(ROW(FloorPos))+1, \"\"), ROW()-25)), \"\")","v":"Lani Tyzack"},{"$f":"IFERROR( INDEX(entries, MATCH(AT26, gymnasts, 0), 2), \"\")","v":"Redcar"},{"$f":"IFERROR(INDEX(gymnasts, SMALL(IF(VALUE(LEFT(AV$32, 1))=FloorPos, ROW(FloorPos)-MIN(ROW(FloorPos))+1, \"\"), ROW()-25)), \"\")","v":"Isobelle Simpson"},{"$f":"IFERROR( INDEX(entries, MATCH(AV26, gymnasts, 0), 2), \"\")","v":"Redcar"},{"$f":"IFERROR(INDEX(gymnasts, SMALL(IF(VALUE(LEFT(AX$32, 1))=FloorPos, ROW(FloorPos)-MIN(ROW(FloorPos))+1, \"\"), ROW()-25)), \"\")","v":"Frankie Atherton-Brand"},{"$f":"IFERROR( INDEX(entries, MATCH(AX26, gymnasts, 0), 2), \"\")","v":"CNGA"},{"$f":"IFERROR(INDEX(gymnasts, SMALL(IF(VALUE(LEFT(AZ$32, 1))=FloorPos, ROW(FloorPos)-MIN(ROW(FloorPos))+1, \"\"), ROW()-25)), \"\")","v":"Caitlin Petitjean"},{"$f":"IFERROR( INDEX(entries, MATCH(AZ26, gymnasts, 0), 2), \"\")","v":"Darlington"},{"$f":"IFERROR(INDEX(gymnasts, SMALL(IF(VALUE(LEFT(BB$32, 1))=FloorPos, ROW(FloorPos)-MIN(ROW(FloorPos))+1, \"\"), ROW()-25)), \"\")","v":"Ella Brown"},{"$f":"IFERROR( INDEX(entries, MATCH(BB26, gymnasts, 0), 2), \"\")","v":"Hartlepool"}]
[{"$nulls":3},{"v":0,"d":"0.0"},{"v":0,"d":"0.00"},{"v":0,"d":"0.0"},{"v":0,"d":"0.00"},{"v":0,"d":"0.00"},13,24,0,13,{"v":0,"d":"0.0"},{"v":0,"d":"0.00"},20,24,0,20,{"v":0,"d":"0.0"},{"v":0,"d":"0.00"},22,24,0,22,{"v":0,"d":"0.0"},{"v":0,"d":"0.00"},17,24,0,17,{"v":0,"d":"0.0"},{"v":0,"d":"0.00"},20,24,0,20,{"v":0,"d":"0.00"},23,24,0,23,null,null,"",{"$f":"IFERROR( INDEX(entries, MATCH(AR27, gymnasts, 0), 2), \"\")","v":""},"",{"$f":"IFERROR( INDEX(entries, MATCH(AT27, gymnasts, 0), 2), \"\")","v":""},"",{"$f":"IFERROR( INDEX(entries, MATCH(AV27, gymnasts, 0), 2), \"\")","v":""},"Maddy Lynn",{"$f":"IFERROR( INDEX(entries, MATCH(AX27, gymnasts, 0), 2), \"\")","v":"Darlington"},"",{"$f":"IFERROR( INDEX(entries, MATCH(AZ27, gymnasts, 0), 2), \"\")","v":""},"",""]
[{"$nulls":3},{"v":0,"d":"0.0"},{"v":0,"d":"0.00"},{"v":0,"d":"0.0"},{"v":0,"d":"0.00"},{"v":0,"d":"0.00"},13,25,0,13,{"v":0,"d":"0.0"},{"v":0,"d":"0.00"},20,25,0,20,{"v":0,"d":"0.0"},{"v":0,"d":"0.00"},22,25,0,22,{"v":0,"d":"0.0"},{"v":0,"d":"0.00"},17,25,0,17,{"v":0,"d":"0.0"},{"v":0,"d":"0.00"},20,25,0,20,{"v":0,"d":"0.00"},23,25,0,23,null,null,"","","","","","","","","","","",""]
[{"$nulls":3},{"v":0,"d":"0.0"},{"v":0,"d":"0.00"},{"v":0,"d":"0.0"},{"v":0,"d":"0.00"},{"v":0,"d":"0.00"},13,26,0,13,{"v":0,"d":"0.0"},{"v":0,"d":"0.00"},20,26,0,20,{"v":0,"d":"0.0"},{"v":0,"d":"0.00"},22,26,0,22,{"v":0,"d":"0.0"},{"v":0,"d":"0.00"},17,26,0,17,{"v":0,"d":"0.0"},{"v":0,"d":"0.00"},20,26,0,20,{"v":0,"d":"0.00"},23,26,0,23,null,null,"","","","","","","","","","","",""]
[{"$nulls":3},{"v":0,"d":"0.0"},{"v":0,"d":"0.00"},{"v":0,"d":"0.0"},{"v":0,"d":"0.00"},{"v":0,"d":"0.00"},13,27,0,13,{"v":0,"d":"0.0"},{"v":0,"d":"0.00"},20,27,0,20,{"v":0,"d":"0.0"},{"v":0,"d":"0.00"},22,27,0,22,{"v":0,"d":"0.0"},{"v":0,"d":"0.00"},17,27,0,17,{"v":0,"d":"0.0"},{"v":0,"d":"0.00"},20,27,0,20,{"v":0,"d":"0.00"},23,27,0,23,null,null,"","","","","","","","","","","",""]
[{"$nulls":3},{"v":0,"d":"0.0"},{"v":0,"d":"0.00"},{"v":0,"d":"0.0"},{"v":0,"d":"0.00"},{"v":0,"d":"0.00"},13,28,0,13,{"v":0,"d":"0.0"},{"v":0,"d":"0.00"},20,28,0,20,{"v":0,"d":"0.0"},{"v":0,"d":"0.00"},22,28,0,22,{"v":0,"d":"0.0"},{"v":0,"d":"0.00"},17,28,0,17,{"v":0,"d":"0.0"},{"v":0,"d":"0.00"},20,28,0,20,{"v":0,"d":"0.00"},23,28,0,23,null,null,"","","","","","","","","","","",""]
[{"$nulls":3},{"v":0,"d":"0.0"},{"v":0,"d":"0.00"},{"v":0,"d":"0.0"},{"v":0,"d":"0.00"},{"v":0,"d":"0.00"},13,29,0,13,{"v":0,"d":"0.0"},{"v":0,"d":"0.00"},20,29,0,20,{"v":0,"d":"0.0"},{"v":0,"d":"0.00"},22,29,0,22,{"v":0,"d":"0.0"},{"v":0,"d":"0.00"},17,29,0,17,{"v":0,"d":"0.0"},{"v":0,"d":"0.00"},20,29,0,20,{"v":0,"d":"0.00"},23,29,0,23,null,null,"6th Place",{"$f":"IFERROR(INDEX(range,MATCH(AR33,gymnasts,0)), \"\")","v":{"v":11.9,"d":"11.90"}},"5th Place",{"$f":"IFERROR(INDEX(range,MATCH(AT33,gymnasts,0)), \"\")","v":{"v":12.3,"d":"12.30"}},"4th Place",{"$f":"IFERROR(INDEX(range,MATCH(AV33,gymnasts,0)), \"\")","v":12.35},"3rd Place",{"$f":"IFERROR(INDEX(range,MATCH(AX33,gymnasts,0)), \"\")","v":{"v":12.6,"d":"12.60"}},"2nd Place",{"$f":"IFERROR(INDEX(range,MATCH(AZ33,gymnasts,0)), \"\")","v":12.95},"1st Place",{"$f":"IFERROR(INDEX(range,MATCH(BB33,gymnasts,0)), \"\")","v":{"v":13.1,"d":"13.10"}}]
[{"$nulls":3},{"v":0,"d":"0.0"},{"v":0,"d":"0.00"},{"v":0,"d":"0.0"},{"v":0,"d":"0.00"},{"v":0,"d":"0.00"},13,30,0,13,{"v":0,"d":"0.0"},{"v":0,"d":"0.00"},20,30,0,20,{"v":0,"d":"0.0"},{"v":0,"d":"0.00"},22,30,0,22,{"v":0,"d":"0.0"},{"v":0,"d":"0.00"},17,30,0,17,{"v":0,"d":"0.0"},{"v":0,"d":"0.00"},20,30,0,20,{"v":0,"d":"0.00"},23,30,0,23,null,"Range",{"$f":"IFERROR(INDEX(gymnasts, SMALL(IF(VALUE(LEFT(AR$32, 1))=RangePos, ROW(RangePos)-MIN(ROW(RangePos))+1, \"\"), ROW()-32)), \"\")","v":"Emily Lineham"},{"$f":"IFERROR( INDEX(entries, MATCH(AR33, gymnasts, 0), 2), \"\")","v":"SD"},{"$f":"IFERROR(INDEX(gymnasts, SMALL(IF(VALUE(LEFT(AT$32, 1))=RangePos, ROW(RangePos)-MIN(ROW(RangePos))+1, \"\"), ROW()-32)), \"\")","v":"Macy Moore"},{"$f":"IFERROR( INDEX(entries, MATCH(AT33, gymnasts, 0), 2), \"\")","v":"Hartlepool"},{"$f":"IFERROR(INDEX(gymnasts, SMALL(IF(VALUE(LEFT(AV$32, 1))=RangePos, ROW(RangePos)-MIN(ROW(RangePos))+1, \"\"), ROW()-32)), \"\")","v":"Macey Dixon"},{"$f":"IFERROR( INDEX(entries, MATCH(AV33, gymnasts, 0), 2), \"\")","v":"CNGA"},{"$f":"IFERROR(INDEX(gymnasts, SMALL(IF(VALUE(LEFT(AX$32, 1))=RangePos, ROW(RangePos)-MIN(ROW(RangePos))+1, \"\"), ROW()-32)), \"\")","v":"Olivia Scrafton"},{"$f":"IFERROR( INDEX(entries, MATCH(AX33, gymnasts, 0), 2), \"\")","v":"SD"},{"$f":"IFERROR(INDEX(gymnasts, SMALL(IF(VALUE(LEFT(AZ$32, 1))=RangePos, ROW(RangePos)-MIN(ROW(RangePos))+1, \"\"), ROW()-32)), \"\")","v":"Maddy Lynn"},{"$f":"IFERROR( INDEX(entries, MATCH(AZ33, gymnasts, 0), 2), \"\")","v":"Darlington"},{"$f":"IFERROR(INDEX(gymnasts, SMALL(IF(VALUE(LEFT(BB$32, 1))=RangePos, ROW(RangePos)-MIN(ROW(RangePos))+1, \"\"), ROW()-32)), \"\")","v":"Caitlin Petitjean"},{"$f":"IFERROR( INDEX(entries, MATCH(BB33, gymnasts, 0), 2), \"\")","v":"Darlington"}]
[{"$nulls":3},{"v":0,"d":"0.0"},{"v":0,"d":"0.00"},{"v":0,"d":"0.0"},{"v":0,"d":"0.00"},{"v":0,"d":"0.00"},13,31,0,13,{"v":0,"d":"0.0"},{"v":0,"d":"0.00"},20,31,0,20,{"v":0,"d":"0.0"},{"v":0,"d":"0.00"},22,31,0,22,{"v":0,"d":"0.0"},{"v":0,"d":"0.00"},17,31,0,17,{"v":0,"d":"0.0"},{"v":0,"d":"0.00"},20,31,0,20,{"v":0,"d":"0.00"},23,31,0,23,null,null,"Adalyn Byers",{"$f":"IFERROR( INDEX(entries, MATCH(AR34, gymnasts, 0), 2), \"\")","v":"SD"},"",{"$f":"IFERROR( INDEX(entries, MATCH(AT34, gymnasts, 0), 2), \"\")","v":""},"",{"$f":"IFERROR( INDEX(entries, MATCH(AV34, gymnasts, 0), 2), \"\")","v":""},"",{"$f":"IFERROR( INDEX(entries, MATCH(AX34, gymnasts, 0), 2), \"\")","v":""},"",{"$f":"IFERROR( INDEX(entries, MATCH(AZ34, gymnasts, 0), 2), \"\")","v":""},"",""]
[{"$nulls":3},{"v":0,"d":"0.0"},{"v":0,"d":"0.00"},{"v":0,"d":"0.0"},{"v":0,"d":"0.00"},{"v":0,"d":"0.00"},13,32,0,13,{"v":0,"d":"0.0"},{"v":0,"d":"0.00"},20,32,0,20,{"v":0,"d":"0.0"},{"v":0,"d":"0.00"},22,32,0,22,{"v":0,"d":"0.0"},{"v":0,"d":"0.00"},17,32,0,17,{"v":0,"d":"0.0"},{"v":0,"d":"0.00"},20,32,0,20,{"v":0,"d":"0.00"},23,32,0,23,null,null,"","","","","","","","","","","",""]
[{"$nulls":3},{"v":0,"d":"0.0"},{"v":0,"d":"0.00"},{"v":0,"d":"0.0"},{"v":0,"d":"0.00"},{"v":0,"d":"0.00"},13,33,0,13,{"v":0,"d":"0.0"},{"v":0,"d":"0.00"},20,33,0,20,{"v":0,"d":"0.0"},{"v":0,"d":"0.00"},22,33,0,22,{"v":0,"d":"0.0"},{"v":0,"d":"0.00"},17,33,0,17,{"v":0,"d":"0.0"},{"v":0,"d":"0.00"},20,33,0,20,{"$f":"SUMIF(D$2:AJ$2, \"SCORE\", D36:AJ36)","v":{"v":0,"d":"0.00"}},23,33,0,23,null,null,"","","","","","","","","","","",""]
[{"$nulls":3},{"v":0,"d":"0.0"},{"v":0,"d":"0.00"},{"v":0,"d":"0.0"},{"v":0,"d":"0.00"},{"v":0,"d":"0.00"},13,34,0,13,{"v":0,"d":"0.0"},{"v":0,"d":"0.00"},20,34,0,20,{"v":0,"d":"0.0"},{"v":0,"d":"0.00"},22,34,0,22,{"v":0,"d":"0.0"},{"v":0,"d":"0.00"},17,34,0,17,{"v":0,"d":"0.0"},{"v":0,"d":"0.00"},20,34,0,20,{"v":0,"d":"0.00"},23,34,0,23,null,null,"","","","","","","","","","","",""]
[{"$nulls":3},{"v":0,"d":"0.0"},{"v":0,"d":"0.00"},{"v":0,"d":"0.0"},{"v":0,"d":"0.00"},{"v":0,"d":"0.00"},13,35,0,13,{"v":0,"d":"0.0"},{"v":0,"d":"0.00"},20,35,0,20,{"v":0,"d":"0.0"},{"v":0,"d":"0.00"},22,35,0,22,{"v":0,"d":"0.0"},{"v":0,"d":"0.00"},17,35,0,17,{"v":0,"d":"0.0"},{"v":0,"d":"0.00"},20,35,0,20,{"v":0,"d":"0.00"},23,35,0,23,null,null,"","","","","","","","","","","",""]
[{"$nulls":3},{"v":0,"d":"0.0"},{"v":0,"d":"0.00"},{"v":0,"d":"0.0"},{"v":0,"d":"0.00"},{"v":0,"d":"0.00"},13,36,0,13,{"v":0,"d":"0.0"},{"v":0,"d":"0.00"},20,36,0,20,{"v":0,"d":"0.0"},{"v":0,"d":"0.00"},22,36,0,22,{"v":0,"d":"0.0"},{"v":0,"d":"0.00"},17,36,0,17,{"v":0,"d":"0.0"},{"v":0,"d":"0.00"},20,36,0,20,{"v":0,"d":"0.00"},23,36,0,23,null,null,"6th Place",{"$f":"IFERROR(INDEX(AAscores,MATCH(AR40,gymnasts,0)), \"\")","v":59.45},"5th Place",{"$f":"IFERROR(INDEX(AAscores,MATCH(AT40,gymnasts,0)), \"\")","v":60.15},"4th Place",{"$f":"IFERROR(INDEX(AAscores,MATCH(AV40,gymnasts,0)), \"\")","v":60.25},"3rd Place",{"$f":"IFERROR(INDEX(AAscores,MATCH(AX40,gymnasts,0)), \"\")","v":60.55},"2nd Place",{"$f":"IFERROR(INDEX(AAscores,MATCH(AZ40,gymnasts,0)), \"\")","v":60.75},"1st Place",{"$f":"IFERROR(INDEX(AAscores,MATCH(BB40,gymnasts,0)), \"\")","v":{"v":61.4,"d":"61.40"}}]
[{"$nulls":3},{"v":0,"d":"0.0"},{"v":0,"d":"0.00"},{"v":0,"d":"0.0"},{"v":0,"d":"0.00"},{"v":0,"d":"0.00"},13,37,0,13,{"v":0,"d":"0.0"},{"v":0,"d":"0.00"},20,37,0,20,{"v":0,"d":"0.0"},{"v":0,"d":"0.00"},22,37,0,22,{"v":0,"d":"0.0"},{"v":0,"d":"0.00"},17,37,0,17,{"v":0,"d":"0.0"},{"v":0,"d":"0.00"},20,37,0,20,{"v":0,"d":"0.00"},23,37,0,23,null,"AA",{"$f":"IFERROR(INDEX(gymnasts, SMALL(IF(VALUE(LEFT(AR$39, 1))=AApos, ROW(AApos)-MIN(ROW(AApos))+1, \"\"), ROW()-39)), \"\")","v":"Maddy Lynn"},{"$f":"IFERROR( INDEX(entries, MATCH(AR40, gymnasts, 0), 2), \"\")","v":"Darlington"},{"$f":"IFERROR(INDEX(gymnasts, SMALL(IF(VALUE(LEFT(AT$39, 1))=AApos, ROW(AApos)-MIN(ROW(AApos))+1, \"\"), ROW()-39)), \"\")","v":"Olivia Scrafton"},{"$f":"IFERROR( INDEX(entries, MATCH(AT40, gymnasts, 0), 2), \"\")","v":"SD"},{"$f":"IFERROR(INDEX(gymnasts, SMALL(IF(VALUE(LEFT(AV$39, 1))=AApos, ROW(AApos)-MIN(ROW(AApos))+1, \"\"), ROW()-39)), \"\")","v":"Caitlin Petitjean"},{"$f":"IFERROR( INDEX(entries, MATCH(AV40, gymnasts, 0), 2), \"\")","v":"Darlington"},{"$f":"IFERROR(INDEX(gymnasts, SMALL(IF(VALUE(LEFT(AX$39, 1))=AApos, ROW(AApos)-MIN(ROW(AApos))+1, \"\"), ROW()-39)), \"\")","v":"Macy Moore"},{"$f":"IFERROR( INDEX(entries, MATCH(AX40, gymnasts, 0), 2), \"\")","v":"Hartlepool"},{"$f":"IFERROR(INDEX(gymnasts, SMALL(IF(VALUE(LEFT(AZ$39, 1))=AApos, ROW(AApos)-MIN(ROW(AApos))+1, \"\"), ROW()-39)), \"\")","v":"Adalyn Byers"},{"$f":"IFERROR( INDEX(entries, MATCH(AZ40, gymnasts, 0), 2), \"\")","v":"SD"},{"$f":"IFERROR(INDEX(gymnasts, SMALL(IF(VALUE(LEFT(BB$39, 1))=AApos, ROW(AApos)-MIN(ROW(AApos))+1, \"\"), ROW()-39)), \"\")","v":"Ella Brown"},{"$f":"IFERROR( INDEX(entries, MATCH(BB40, gymnasts, 0), 2), \"\")","v":"Hartlepool"}]
[{"$nulls":3},{"v":0,"d":"0.0"},{"v":0,"d":"0.00"},{"v":0,"d":"0.0"},{"v":0,"d":"0.00"},{"v":0,"d":"0.00"},13,38,0,13,{"v":0,"d":"0.0"},{"v":0,"d":"0.00"},20,38,0,20,{"v":0,"d":"0.0"},{"v":0,"d":"0.00"},22,38,0,22,{"v":0,"d":"0.0"},{"v":0,"d":"0.00"},17,38,0,17,{"v":0,"d":"0.0"},{"v":0,"d":"0.00"},20,38,0,20,{"v":0,"d":"0.00"},23,38,0,23,null,null,"",{"$f":"IFERROR( INDEX(entries, MATCH(AR41, gymnasts, 0), 2), \"\")","v":""},"",{"$f":"IFERROR( INDEX(entries, MATCH(AT41, gymnasts, 0), 2), \"\")","v":""},"",{"$f":"IFERROR( INDEX(entries, MATCH(AV41, gymnasts, 0), 2), \"\")","v":""},"",{"$f":"IFERROR( INDEX(entries, MATCH(AX41, gymnasts, 0), 2), \"\")","v":""},"",{"$f":"IFERROR( INDEX(entries, MATCH(AZ41, gymnasts, 0), 2), \"\")","v":""},"",""]
[{"$nulls":3},{"v":0,"d":"0.0"},{"v":0,"d":"0.00"},{"v":0,"d":"0.0"},{"v":0,"d":"0.00"},{"v":0,"d":"0.00"},13,39,0,13,{"v":0,"d":"0.0"},{"v":0,"d":"0.00"},20,39,0,20,{"v":0,"d":"0.0"},{"v":0,"d":"0.00"},22,39,0,22,{"v":0,"d":"0.0"},{"v":0,"d":"0.00"},17,39,0,17,{"v":0,"d":"0.0"},{"v":0,"d":"0.00"},20,39,0,20,{"v":0,"d":"0.00"},23,39,0,23,null,null,"","","","","","","","","","","",""]
[{"$nulls":3},{"v":0,"d":"0.0"},{"v":0,"d":"0.00"},{"v":0,"d":"0.0"},{"v":0,"d":"0.00"},{"v":0,"d":"0.00"},13,40,0,13,{"v":0,"d":"0.0"},{"v":0,"d":"0.00"},20,40,0,20,{"v":0,"d":"0.0"},{"v":0,"d":"0.00"},22,40,0,22,{"v":0,"d":"0.0"},{"v":0,"d":"0.00"},17,40,0,17,{"v":0,"d":"0.0"},{"v":0,"d":"0.00"},20,40,0,20,{"v":0,"d":"0.00"},23,40,0,23,null,null,"","","","","","","","","","","",""]
[{"$nulls":3},{"v":0,"d":"0.0"},{"v":0,"d":"0.00"},{"v":0,"d":"0.0"},{"v":0,"d":"0.00"},{"v":0,"d":"0.00"},13,41,0,13,{"v":0,"d":"0.0"},{"v":0,"d":"0.00"},20,41,0,20,{"v":0,"d":"0.0"},{"v":0,"d":"0.00"},22,41,0,22,{"v":0,"d":"0.0"},{"v":0,"d":"0.00"},17,41,0,17,{"v":0,"d":"0.0"},{"v":0,"d":"0.00"},20,41,0,20,{"v":0,"d":"0.00"},23,41,0,23,null,null,"","","","","","","","","","","",""]
[{"$nulls":3},{"v":0,"d":"0.0"},{"v":0,"d":"0.00"},{"v":0,"d":"0.0"},{"v":0,"d":"0.00"},{"v":0,"d":"0.00"},13,42,0,13,{"v":0,"d":"0.0"},{"v":0,"d":"0.00"},20,42,0,20,{"v":0,"d":"0.0"},{"v":0,"d":"0.00"},22,42,0,22,{"v":0,"d":"0.0"},{"v":0,"d":"0.00"},17,42,0,17,{"v":0,"d":"0.0"},{"v":0,"d":"0.00"},20,42,0,20,{"v":0,"d":"0.00"},23,42,0,23,null,null,"","","","","","","","","","","",""]
[{"$nulls":3},{"v":0,"d":"0.0"},{"v":0,"d":"0.00"},{"v":0,"d":"0.0"},{"v":0,"d":"0.00"},{"v":0,"d":"0.00"},13,43,0,13,{"v":0,"d":"0.0"},{"v":0,"d":"0.00"},20,43,0,20,{"v":0,"d":"0.0"},{"v":0,"d":"0.00"},22,43,0,22,{"v":0,"d":"0.0"},{"v":0,"d":"0.00"},17,43,0,17,{"v":0,"d":"0.0"},{"v":0,"d":"0.00"},20,43,0,20,{"v":0,"d":"0.00"},23,43,0,23,null,"Team","3rd place Team",{"$f":"IF(COUNTIF(AR47, 0), \"\", INDEX(teamTotals, MATCH(AR47, teams, 0)))","v":{"v":174.1,"d":"174.10"}},null,null,"2nd Place Team",{"$f":"IF(COUNTIF(AV47, 0), \"\", INDEX(teamTotals, MATCH(AV47, teams, 0)))","v":177.15},null,null,"1st Place Team",{"$f":"IF(COUNTIF(AZ47, 0), \"\", INDEX(teamTotals, MATCH(AZ47, teams, 0)))","v":{"v":180.60000000000002,"d":"180.60"}}]
[{"$nulls":3},{"v":0,"d":"0.0"},{"v":0,"d":"0.00"},{"v":0,"d":"0.0"},{"v":0,"d":"0.00"},{"v":0,"d":"0.00"},13,44,0,13,{"v":0,"d":"0.0"},{"v":0,"d":"0.00"},20,44,0,20,{"v":0,"d":"0.0"},{"v":0,"d":"0.00"},22,44,0,22,{"v":0,"d":"0.0"},{"v":0,"d":"0.00"},17,44,0,17,{"v":0,"d":"0.0"},{"v":0,"d":"0.00"},20,44,0,20,{"v":0,"d":"0.00"},23,44,0,23,null,null,{"$f":"IFERROR(INDEX(teams, SMALL(IF(VALUE(LEFT(AR$46, 1))=teamPos, ROW(teamPos)-MIN(ROW(teamPos))+1, \"\"), ROW()-46)), \"\")","v":"CNGA"},{"$f":"IFERROR(IF(COUNTIF(AR47, 0), \"\", INDEX(gymnasts, SMALL(IF(AR$47=club, ROW(club)-MIN(ROW(club))+1, \"\"), ROW()-46))), \"\")","v":"Scarlett Laidler"},null,null,{"$f":"IFERROR(INDEX(teams, SMALL(IF(VALUE(LEFT(AV$46, 1))=teamPos, ROW(teamPos)-MIN(ROW(teamPos))+1, \"\"), ROW()-46)), \"\")","v":"SD"},{"$f":"IFERROR(IF(COUNTIF(AV47, 0), \"\", INDEX(gymnasts, SMALL(IF(AV$47=club, ROW(club)-MIN(ROW(club))+1, \"\"), ROW()-46))), \"\")","v":"Emily Lineham"},null,null,{"$f":"IFERROR(INDEX(teams, SMALL(IF(VALUE(LEFT(AZ$46, 1))=teamPos, ROW(teamPos)-MIN(ROW(teamPos))+1, \"\"), ROW()-46)), \"\")","v":"Hartlepool"},{"$f":"IFERROR(IF(COUNTIF(AZ47, 0), \"\", INDEX(gymnasts, SMALL(IF(AZ$47=club, ROW(club)-MIN(ROW(club))+1, \"\"), ROW()-46))), \"\")","v":"Charlotte Mitchell"}]
[{"$nulls":3},{"v":0,"d":"0.0"},{"v":0,"d":"0.00"},{"v":0,"d":"0.0"},{"v":0,"d":"0.00"},{"v":0,"d":"0.00"},13,45,0,13,{"v":0,"d":"0.0"},{"v":0,"d":"0.00"},20,45,0,20,{"v":0,"d":"0.0"},{"v":0,"d":"0.00"},22,45,0,22,{"v":0,"d":"0.0"},{"v":0,"d":"0.00"},17,45,0,17,{"v":0,"d":"0.0"},{"v":0,"d":"0.00"},20,45,0,20,{"v":0,"d":"0.00"},23,45,0,23,{"$nulls":3},{"$f":"IFERROR(IF(COUNTIF(AR48, 0), \"\", INDEX(gymnasts, SMALL(IF(AR$47=club, ROW(club)-MIN(ROW(club))+1, \"\"), ROW()-46))), \"\")","v":"Frankie Atherton-Brand"},{"$nulls":3},{"$f":"IFERROR(IF(COUNTIF(AV48, 0), \"\", INDEX(gymnasts, SMALL(IF(AV$47=club, ROW(club)-MIN(ROW(club))+1, \"\"), ROW()-46))), \"\")","v":"Adalyn Byers"},{"$nulls":3},{"$f":"IFERROR(IF(COUNTIF(AZ48, 0), \"\", INDEX(gymnasts, SMALL(IF(AZ$47=club, ROW(club)-MIN(ROW(club))+1, \"\"), ROW()-46))), \"\")","v":"Ella Brown"}]
[{"$nulls":3},{"v":0,"d":"0.0"},{"v":0,"d":"0.00"},{"v":0,"d":"0.0"},{"v":0,"d":"0.00"},{"v":0,"d":"0.00"},13,46,0,13,{"v":0,"d":"0.0"},{"v":0,"d":"0.00"},20,46,0,20,{"v":0,"d":"0.0"},{"v":0,"d":"0.00"},22,46,0,22,{"v":0,"d":"0.0"},{"v":0,"d":"0.00"},17,46,0,17,{"v":0,"d":"0.0"},{"v":0,"d":"0.00"},20,46,0,20,{"v":0,"d":"0.00"},23,46,0,23,{"$nulls":3},{"$f":"IFERROR(IF(COUNTIF(AR49, 0), \"\", INDEX(gymnasts, SMALL(IF(AR$47=club, ROW(club)-MIN(ROW(club))+1, \"\"), ROW()-46))), \"\")","v":"Macey Dixon"},{"$nulls":3},{"$f":"IFERROR(IF(COUNTIF(AV49, 0), \"\", INDEX(gymnasts, SMALL(IF(AV$47=club, ROW(club)-MIN(ROW(club))+1, \"\"), ROW()-46))), \"\")","v":"Olivia Scrafton"},{"$nulls":3},{"$f":"IFERROR(IF(COUNTIF(AZ49, 0), \"\", INDEX(gymnasts, SMALL(IF(AZ$47=club, ROW(club)-MIN(ROW(club))+1, \"\"), ROW()-46))), \"\")","v":"Macy Moore"}]
[{"$nulls":3},{"v":0,"d":"0.0"},{"v":0,"d":"0.00"},{"v":0,"d":"0.0"},{"v":0,"d":"0.00"},{"v":0,"d":"0.00"},13,47,0,13,{"v":0,"d":"0.0"},{"v":0,"d":"0.00"},20,47,0,20,{"v":0,"d":"0.0"},{"v":0,"d":"0.00"},22,47,0,22,{"v":0,"d":"0.0"},{"v":0,"d":"0.00"},17,47,0,17,{"v":0,"d":"0.0"},{"v":0,"d":"0.00"},20,47,0,20,{"v":0,"d":"0.00"},23,47,0,23,{"$nulls":3},{"$f":"IFERROR(IF(COUNTIF(AR50, 0), \"\", INDEX(gymnasts, SMALL(IF(AR$47=club, ROW(club)-MIN(ROW(club))+1, \"\"), ROW()-46))), \"\")","v":""},{"$nulls":3},{"$f":"IFERROR(IF(COUNTIF(AV50, 0), \"\", INDEX(gymnasts, SMALL(IF(AV$47=club, ROW(club)-MIN(ROW(club))+1, \"\"), ROW()-46))), \"\")","v":""},{"$nulls":3},{"$f":"IFERROR(IF(COUNTIF(AZ50, 0), \"\", INDEX(gymnasts, SMALL(IF(AZ$47=club, ROW(club)-MIN(ROW(club))+1, \"\"), ROW()-46))), \"\")","v":""}]
[{"$nulls":3},{"v":0,"d":"0.0"},{"v":0,"d":"0.00"},{"v":0,"d":"0.0"},{"v":0,"d":"0.00"},{"v":0,"d":"0.00"},13,48,0,13,{"v":0,"d":"0.0"},{"v":0,"d":"0.00"},20,48,0,20,{"v":0,"d":"0.0"},{"v":0,"d":"0.00"},22,48,0,22,{"v":0,"d":"0.0"},{"v":0,"d":"0.00"},17,48,0,17,{"v":0,"d":"0.0"},{"v":0,"d":"0.00"},20,48,0,20,{"v":0,"d":"0.00"},23,48,0,23,{"$nulls":3},{"$f":"IFERROR(IF(COUNTIF(AR51, 0), \"\", INDEX(gymnasts, SMALL(IF(AR$47=club, ROW(club)-MIN(ROW(club))+1, \"\"), ROW()-46))), \"\")","v":""},{"$nulls":3},{"$f":"IFERROR(IF(COUNTIF(AV51, 0), \"\", INDEX(gymnasts, SMALL(IF(AV$47=club, ROW(club)-MIN(ROW(club))+1, \"\"), ROW()-46))), \"\")","v":""},{"$nulls":3},{"$f":"IFERROR(IF(COUNTIF(AZ51, 0), \"\", INDEX(gymnasts, SMALL(IF(AZ$47=club, ROW(club)-MIN(ROW(club))+1, \"\"), ROW()-46))), \"\")","v":""}]
[{"$nulls":3},{"v":0,"d":"0.0"},{"v":0,"d":"0.00"},{"v":0,"d":"0.0"},{"v":0,"d":"0.00"},{"v":0,"d":"0.00"},13,49,0,13,{"v":0,"d":"0.0"},{"v":0,"d":"0.00"},20,49,0,20,{"v":0,"d":"0.0"},{"v":0,"d":"0.00"},22,49,0,22,{"v":0,"d":"0.0"},{"v":0,"d":"0.00"},17,49,0,17,{"v":0,"d":"0.0"},{"v":0,"d":"0.00"},20,49,0,20,{"v":0,"d":"0.00"},23,49,0,23,null,null,{"$f":"IFERROR(INDEX(teams, SMALL(IF(VALUE(LEFT(AR$46, 1))=teamPos, ROW(teamPos)-MIN(ROW(teamPos))+1, \"\"), ROW()-50)), \"\")","v":""},{"$f":"IFERROR(IF(COUNTIF(AR$52, 0), \"\", INDEX(gymnasts, SMALL(IF(AR$52=club, ROW(club)-MIN(ROW(club))+1, \"\"), ROW()-51))), \"\")","v":0},null,null,{"$f":"IFERROR(INDEX(teams, SMALL(IF(VALUE(LEFT(AV$46, 1))=teamPos, ROW(teamPos)-MIN(ROW(teamPos))+1, \"\"), ROW()-50)), \"\")","v":""},{"$f":"IFERROR(IF(COUNTIF(AV$52, 0), \"\", INDEX(gymnasts, SMALL(IF(AV$52=club, ROW(club)-MIN(ROW(club))+1, \"\"), ROW()-51))), \"\")","v":0},null,null,{"$f":"IFERROR(INDEX(teams, SMALL(IF(VALUE(LEFT(AZ$46, 1))=teamPos, ROW(teamPos)-MIN(ROW(teamPos))+1, \"\"), ROW()-50)), \"\")","v":""},{"$f":"IFERROR(IF(COUNTIF(AZ$52, 0), \"\", INDEX(gymnasts, SMALL(IF(AZ$52=club, ROW(club)-MIN(ROW(club))+1, \"\"), ROW()-51))), \"\")","v":0}]
[{"$nulls":3},{"v":0,"d":"0.0"},{"v":0,"d":"0.00"},{"v":0,"d":"0.0"},{"v":0,"d":"0.00"},{"v":0,"d":"0.00"},13,50,0,13,{"v":0,"d":"0.0"},{"v":0,"d":"0.00"},20,50,0,20,{"v":0,"d":"0.0"},{"v":0,"d":"0.00"},22,50,0,22,{"v":0,"d":"0.0"},{"v":0,"d":"0.00"},17,50,0,17,{"v":0,"d":"0.0"},{"v":0,"d":"0.00"},20,50,0,20,{"v":0,"d":"0.00"},23,50,0,23,{"$nulls":3},{"$f":"IFERROR(IF(COUNTIF(AR$52, 0), \"\", INDEX(gymnasts, SMALL(IF(AR$52=club, ROW(club)-MIN(ROW(club))+1, \"\"), ROW()-51))), \"\")","v":0},{"$nulls":3},{"$f":"IFERROR(IF(COUNTIF(AV$52, 0), \"\", INDEX(gymnasts, SMALL(IF(AV$52=club, ROW(club)-MIN(ROW(club))+1, \"\"), ROW()-51))), \"\")","v":0},{"$nulls":3},{"$f":"IFERROR(IF(COUNTIF(AZ$52, 0), \"\", INDEX(gymnasts, SMALL(IF(AZ$52=club, ROW(club)-MIN(ROW(club))+1, \"\"), ROW()-51))), \"\")","v":0}]
[{"$nulls":3},{"v":0,"d":"0.0"},{"v":0,"d":"0.00"},{"v":0,"d":"0.0"},{"v":0,"d":"0.00"},{"v":0,"d":"0.00"},13,51,0,13,{"v":0,"d":"0.0"},{"v":0,"d":"0.00"},20,51,0,20,{"v":0,"d":"0.0"},{"v":0,"d":"0.00"},22,51,0,22,{"v":0,"d":"0.0"},{"v":0,"d":"0.00"},17,51,0,17,{"v":0,"d":"0.0"},{"v":0,"d":"0.00"},20,51,0,20,{"v":0,"d":"0.00"},23,51,0,23,{"$nulls":3},{"$f":"IFERROR(IF(COUNTIF(AR$52, 0), \"\", INDEX(gymnasts, SMALL(IF(AR$52=club, ROW(club)-MIN(ROW(club))+1, \"\"), ROW()-51))), \"\")","v":0},{"$nulls":3},{"$f":"IFERROR(IF(COUNTIF(AV$52, 0), \"\", INDEX(gymnasts, SMALL(IF(AV$52=club, ROW(club)-MIN(ROW(club))+1, \"\"), ROW()-51))), \"\")","v":0},{"$nulls":3},{"$f":"IFERROR(IF(COUNTIF(AZ$52, 0), \"\", INDEX(gymnasts, SMALL(IF(AZ$52=club, ROW(club)-MIN(ROW(club))+1, \"\"), ROW()-51))), \"\")","v":0}]
[{"$nulls":3},{"v":0,"d":"0.0"},{"v":0,"d":"0.00"},{"v":0,"d":"0.0"},{"v":0,"d":"0.00"},{"v":0,"d":"0.00"},13,52,0,13,{"v":0,"d":"0.0"},{"v":0,"d":"0.00"},20,52,0,20,{"v":0,"d":"0.0"},{"v":0,"d":"0.00"},22,52,0,22,{"v":0,"d":"0.0"},{"v":0,"d":"0.00"},17,52,0,17,{"v":0,"d":"0.0"},{"v":0,"d":"0.00"},20,52,0,20,{"v":0,"d":"0.00"},23,52,0,23,{"$nulls":3},{"$f":"IFERROR(IF(COUNTIF(AR$52, 0), \"\", INDEX(gymnasts, SMALL(IF(AR$52=club, ROW(club)-MIN(ROW(club))+1, \"\"), ROW()-51))), \"\")","v":0},{"$nulls":3},{"$f":"IFERROR(IF(COUNTIF(AV$52, 0), \"\", INDEX(gymnasts, SMALL(IF(AV$52=club, ROW(club)-MIN(ROW(club))+1, \"\"), ROW()-51))), \"\")","v":0},{"$nulls":3},{"$f":"IFERROR(IF(COUNTIF(AZ$52, 0), \"\", INDEX(gymnasts, SMALL(IF(AZ$52=club, ROW(club)-MIN(ROW(club))+1, \"\"), ROW()-51))), \"\")","v":0}]
[{"$nulls":3},{"v":0,"d":"0.0"},{"v":0,"d":"0.00"},{"v":0,"d":"0.0"},{"v":0,"d":"0.00"},{"v":0,"d":"0.00"},13,53,0,13,{"v":0,"d":"0.0"},{"v":0,"d":"0.00"},20,53,0,20,{"v":0,"d":"0.0"},{"v":0,"d":"0.00"},22,53,0,22,{"v":0,"d":"0.0"},{"v":0,"d":"0.00"},17,53,0,17,{"v":0,"d":"0.0"},{"v":0,"d":"0.00"},20,53,0,20,{"v":0,"d":"0.00"},23,53,0,23,{"$nulls":3},{"$f":"IFERROR(IF(ISTEXT(AR$52), INDEX(gymnasts, SMALL(IF(AR$52=club, ROW(club)-MIN(ROW(club))+1, \"\"), ROW()-51)), \"\"), \"\")","v":0},{"$nulls":3},{"$f":"IFERROR(IF(ISTEXT(AV$52), INDEX(gymnasts, SMALL(IF(AV$52=club, ROW(club)-MIN(ROW(club))+1, \"\"), ROW()-51)), \"\"), \"\")","v":0},{"$nulls":3},{"$f":"IFERROR(IF(ISTEXT(AZ$52), INDEX(gymnasts, SMALL(IF(AZ$52=club, ROW(club)-MIN(ROW(club))+1, \"\"), ROW()-51)), \"\"), \"\")","v":0}]
[{"$nulls":3},{"v":0,"d":"0.0"},{"v":0,"d":"0.00"},{"v":0,"d":"0.0"},{"v":0,"d":"0.00"},{"v":0,"d":"0.00"},13,54,0,13,{"v":0,"d":"0.0"},{"v":0,"d":"0.00"},20,54,0,20,{"v":0,"d":"0.0"},{"v":0,"d":"0.00"},22,54,0,22,{"v":0,"d":"0.0"},{"v":0,"d":"0.00"},17,54,0,17,{"v":0,"d":"0.0"},{"v":0,"d":"0.00"},20,54,0,20,{"v":0,"d":"0.00"},23,54,0,23]
[{"$nulls":3},{"v":0,"d":"0.0"},{"v":0,"d":"0.00"},{"v":0,"d":"0.0"},{"v":0,"d":"0.00"},{"v":0,"d":"0.00"},13,55,0,13,{"v":0,"d":"0.0"},{"v":0,"d":"0.00"},20,55,0,20,{"v":0,"d":"0.0"},{"v":0,"d":"0.00"},22,55,0,22,{"v":0,"d":"0.0"},{"v":0,"d":"0.00"},17,55,0,17,{"v":0,"d":"0.0"},{"v":0,"d":"0.00"},20,55,0,20,{"v":0,"d":"0.00"},23,55,0,23]
[{"$nulls":3},{"v":0,"d":"0.0"},{"v":0,"d":"0.00"},{"v":0,"d":"0.0"},{"v":0,"d":"0.00"},{"v":0,"d":"0.00"},13,56,0,13,{"v":0,"d":"0.0"},{"v":0,"d":"0.00"},20,56,0,20,{"v":0,"d":"0.0"},{"v":0,"d":"0.00"},22,56,0,22,{"v":0,"d":"0.0"},{"v":0,"d":"0.00"},17,56,0,17,{"v":0,"d":"0.0"},{"v":0,"d":"0.00"},20,56,0,20,{"v":0,"d":"0.00"},23,56,0,23]
[{"$nulls":3},{"v":0,"d":"0.0"},{"v":0,"d":"0.00"},{"v":0,"d":"0.0"},{"v":0,"d":"0.00"},{"v":0,"d":"0.00"},13,57,0,13,{"v":0,"d":"0.0"},{"v":0,"d":"0.00"},20,57,0,20,{"v":0,"d":"0.0"},{"v":0,"d":"0.00"},22,57,0,22,{"v":0,"d":"0.0"},{"v":0,"d":"0.00"},17,57,0,17,{"v":0,"d":"0.0"},{"v":0,"d":"0.00"},20,57,0,20,{"v":0,"d":"0.00"},23,57,0,23]
[{"$nulls":3},{"v":0,"d":"0.0"},{"v":0,"d":"0.00"},{"v":0,"d":"0.0"},{"v":0,"d":"0.00"},{"v":0,"d":"0.00"},13,58,0,13,{"v":0,"d":"0.0"},{"v":0,"d":"0.00"},20,58,0,20,{"v":0,"d":"0.0"},{"v":0,"d":"0.00"},22,58,0,22,{"v":0,"d":"0.0"},{"v":0,"d":"0.00"},17,58,0,17,{"v":0,"d":"0.0"},{"v":0,"d":"0.00"},20,58,0,20,{"v":0,"d":"0.00"},23,58,0,23]
[{"$nulls":3},{"v":0,"d":"0.0"},{"v":0,"d":"0.00"},{"v":0,"d":"0.0"},{"v":0,"d":"0.00"},{"v":0,"d":"0.00"},13,59,0,13,{"v":0,"d":"0.0"},{"v":0,"d":"0.00"},20,59,0,20,{"v":0,"d":"0.0"},{"v":0,"d":"0.00"},22,59,0,22,{"v":0,"d":"0.0"},{"v":0,"d":"0.00"},17,59,0,17,{"v":0,"d":"0.0"},{"v":0,"d":"0.00"},20,59,0,20,{"v":0,"d":"0.00"},23,59,0,23]
[{"$nulls":3},{"v":0,"d":"0.0"},{"v":0,"d":"0.00"},{"v":0,"d":"0.0"},{"v":0,"d":"0.00"},{"v":0,"d":"0.00"},13,60,0,13,{"v":0,"d":"0.0"},{"v":0,"d":"0.00"},20,60,0,20,{"v":0,"d":"0.0"},{"v":0,"d":"0.00"},22,60,0,22,{"v":0,"d":"0.0"},{"v":0,"d":"0.00"},17,60,0,17,{"v":0,"d":"0.0"},{"v":0,"d":"0.00"},20,60,0,20,{"v":0,"d":"0.00"},23,60,0,23]
[{"$nulls":3},{"v":0,"d":"0.0"},{"v":0,"d":"0.00"},{"v":0,"d":"0.0"},{"v":0,"d":"0.00"},{"v":0,"d":"0.00"},13,61,0,13,{"v":0,"d":"0.0"},{"v":0,"d":"0.00"},20,61,0,20,{"v":0,"d":"0.0"},{"v":0,"d":"0.00"},22,61,0,22,{"v":0,"d":"0.0"},{"v":0,"d":"0.00"},17,61,0,17,{"v":0,"d":"0.0"},{"v":0,"d":"0.00"},20,61,0,20,{"v":0,"d":"0.00"},23,61,0,23]
[{"$nulls":3},{"v":0,"d":"0.0"},{"v":0,"d":"0.00"},{"v":0,"d":"0.0"},{"v":0,"d":"0.00"},{"v":0,"d":"0.00"},13,62,0,13,{"v":0,"d":"0.0"},{"v":0,"d":"0.00"},20,62,0,20,{"v":0,"d":"0.0"},{"v":0,"d":"0.00"},22,62,0,22,{"v":0,"d":"0.0"},{"v":0,"d":"0.00"},17,62,0,17,{"v":0,"d":"0.0"},{"v":0,"d":"0.00"},20,62,0,20,{"v":0,"d":"0.00"},23,62,0,23]
[null,"Teams"]
[null,{"$f":"IF(AND(COUNTIF(club,C67)>=3,COUNTIF(club,C67)<=5),\"TEAM\",IF(COUNTIF(club,C67)>5,\"Too Many!!!!!\",\"NO TEAM\"))","v":"TEAM"},"SD",{"$nulls":4},{"$f":"IF($B67=\"NO TEAM\", 0, SUM(LARGE(IF(club=$C67, vault), ROW($1:$3))))","v":{"v":37.2,"d":"37.20"}},{"$nulls":5},{"$f":"IF($B67=\"NO TEAM\", 0, SUM(LARGE(IF(club=$C67, bars), ROW($1:$3))))","v":38.15},{"$nulls":5},{"$f":"IF($B67=\"NO TEAM\", 0, SUM(LARGE(IF(club=$C67, beam), ROW($1:$3))))","v":{"v":31.2,"d":"31.20"}},{"$nulls":5},{"$f":"IF($B67=\"NO TEAM\", 0, SUM(LARGE(IF(club=$C67, floor), ROW($1:$3))))","v":{"v":34.199999999999996,"d":"34.20"}},{"$nulls":5},{"$f":"IF($B67=\"NO TEAM\", 0, SUM(LARGE(IF(club=$C67, range), ROW($1:$3))))","v":{"v":36.4,"d":"36.40"}},{"$nulls":4},{"$f":"IF(B67=\"TEAM\", SUMIF(D$2:AJ$2, \"SCORE\", D67:AJ67), 0)","v":177.15},{"$f":"VLOOKUP(AK67,AN$67:AO$81, 2,FALSE)","v":2},{"$f":"IF(ISNUMBER(AM66), AM66+1, 1)","v":1},{"$f":"LARGE((AK$67:AK$81), $AM67)","v":180.60000000000002},{"$f":"IF(AN67=AN66, AO66, AO66+1)","v":1}]
[null,{"$f":"IF(AND(COUNTIF(club,C68)>=3,COUNTIF(club,C68)<=5),\"TEAM\",IF(COUNTIF(club,C68)>5,\"Too Many!!!!!\",\"NO TEAM\"))","v":"TEAM"},"Redcar",{"$nulls":4},{"$f":"IF($B68=\"NO TEAM\", 0, SUM(LARGE(IF(club=$C68, vault), ROW($1:$3))))","v":{"v":36.3,"d":"36.30"}},{"$nulls":5},{"$f":"IF($B68=\"NO TEAM\", 0, SUM(LARGE(IF(club=$C68, bars), ROW($1:$3))))","v":{"v":38.2,"d":"38.20"}},{"$nulls":5},{"$f":"IF($B68=\"NO TEAM\", 0, SUM(LARGE(IF(club=$C68, beam), ROW($1:$3))))","v":27.75},{"$nulls":5},{"$f":"IF($B68=\"NO TEAM\", 0, SUM(LARGE(IF(club=$C68, floor), ROW($1:$3))))","v":{"v":35.6,"d":"35.60"}},{"$nulls":5},{"$f":"IF($B68=\"NO TEAM\", 0, SUM(LARGE(IF(club=$C68, range), ROW($1:$3))))","v":{"v":34,"d":"34.00"}},{"$nulls":4},171.85,{"$f":"VLOOKUP(AK68,AN$67:AO$81, 2,FALSE)","v":4},{"$f":"IF(ISNUMBER(AM67), AM67+1, 1)","v":2},{"$f":"LARGE((AK$67:AK$81), $AM68)","v":177.15},{"$f":"IF(AN68=AN67, AO67, AO67+1)","v":2}]
[null,{"$f":"IF(AND(COUNTIF(club,C69)>=3,COUNTIF(club,C69)<=5),\"TEAM\",IF(COUNTIF(club,C69)>5,\"Too Many!!!!!\",\"NO TEAM\"))","v":"TEAM"},"CNGA",{"$nulls":4},{"$f":"IF($B69=\"NO TEAM\", 0, SUM(LARGE(IF(club=$C69, vault), ROW($1:$3))))","v":36.55},{"$nulls":5},{"$f":"IF($B69=\"NO TEAM\", 0, SUM(LARGE(IF(club=$C69, bars), ROW($1:$3))))","v":{"v":38.4,"d":"38.40"}},{"$nulls":5},{"$f":"IF($B69=\"NO TEAM\", 0, SUM(LARGE(IF(club=$C69, beam), ROW($1:$3))))","v":{"v":29,"d":"29.00"}},{"$nulls":5},{"$f":"IF($B69=\"NO TEAM\", 0, SUM(LARGE(IF(club=$C69, floor), ROW($1:$3))))","v":{"v":35.8,"d":"35.80"}},{"$nulls":5},{"$f":"IF($B69=\"NO TEAM\", 0, SUM(LARGE(IF(club=$C69, range), ROW($1:$3))))","v":{"v":34.349999999999994,"d":"34.35"}},{"$nulls":4},{"v":174.1,"d":"174.10"},3,3,174.1,3]
[null,{"$f":"IF(AND(COUNTIF(club,C70)>=3,COUNTIF(club,C70)<=5),\"TEAM\",IF(COUNTIF(club,C70)>5,\"Too Many!!!!!\",\"NO TEAM\"))","v":"TEAM"},"Hartlepool",{"$nulls":4},{"$f":"IF($B70=\"NO TEAM\", 0, SUM(LARGE(IF(club=$C70, vault), ROW($1:$3))))","v":{"v":36.9,"d":"36.90"}},{"$nulls":5},{"$f":"IF($B70=\"NO TEAM\", 0, SUM(LARGE(IF(club=$C70, bars), ROW($1:$3))))","v":{"v":38.5,"d":"38.50"}},{"$nulls":5},{"$f":"IF($B70=\"NO TEAM\", 0, SUM(LARGE(IF(club=$C70, beam), ROW($1:$3))))","v":{"v":35.4,"d":"35.40"}},{"$nulls":5},{"$f":"IF($B70=\"NO TEAM\", 0, SUM(LARGE(IF(club=$C70, floor), ROW($1:$3))))","v":35.25},{"$nulls":5},{"$f":"IF($B70=\"NO TEAM\", 0, SUM(LARGE(IF(club=$C70, range), ROW($1:$3))))","v":34.55},{"$nulls":4},{"v":180.60000000000002,"d":"180.60"},1,4,171.85,4]
[null,{"$f":"IF(AND(COUNTIF(club,C71)>=3,COUNTIF(club,C71)<=5),\"TEAM\",IF(COUNTIF(club,C71)>5,\"Too Many!!!!!\",\"NO TEAM\"))","v":"NO TEAM"},{"$nulls":5},{"$f":"IF($B71=\"NO TEAM\", 0, SUM(LARGE(IF(club=$C71, vault), ROW($1:$3))))","v":{"v":0,"d":"0.00"}},{"$nulls":5},{"$f":"IF($B71=\"NO TEAM\", 0, SUM(LARGE(IF(club=$C71, bars), ROW($1:$3))))","v":{"v":0,"d":"0.00"}},{"$nulls":5},{"$f":"IF($B71=\"NO TEAM\", 0, SUM(LARGE(IF(club=$C71, beam), ROW($1:$3))))","v":{"v":0,"d":"0.00"}},{"$nulls":5},{"$f":"IF($B71=\"NO TEAM\", 0, SUM(LARGE(IF(club=$C71, floor), ROW($1:$3))))","v":{"v":0,"d":"0.00"}},{"$nulls":5},{"$f":"IF($B71=\"NO TEAM\", 0, SUM(LARGE(IF(club=$C71, range), ROW($1:$3))))","v":{"v":0,"d":"0.00"}},{"$nulls":4},{"v":0,"d":"0.00"},5,5,0,5]
[null,{"$f":"IF(AND(COUNTIF(club,C72)>=3,COUNTIF(club,C72)<=5),\"TEAM\",IF(COUNTIF(club,C72)>5,\"Too Many!!!!!\",\"NO TEAM\"))","v":"NO TEAM"},{"$nulls":5},{"$f":"IF($B72=\"NO TEAM\", 0, SUM(LARGE(IF(club=$C72, vault), ROW($1:$3))))","v":{"v":0,"d":"0.00"}},{"$nulls":5},{"$f":"IF($B72=\"NO TEAM\", 0, SUM(LARGE(IF(club=$C72, bars), ROW($1:$3))))","v":{"v":0,"d":"0.00"}},{"$nulls":5},{"$f":"IF($B72=\"NO TEAM\", 0, SUM(LARGE(IF(club=$C72, beam), ROW($1:$3))))","v":{"v":0,"d":"0.00"}},{"$nulls":5},{"$f":"IF($B72=\"NO TEAM\", 0, SUM(LARGE(IF(club=$C72, floor), ROW($1:$3))))","v":{"v":0,"d":"0.00"}},{"$nulls":5},{"$f":"IF($B72=\"NO TEAM\", 0, SUM(LARGE(IF(club=$C72, range), ROW($1:$3))))","v":{"v":0,"d":"0.00"}},{"$nulls":4},{"v":0,"d":"0.00"},5,6,0,5]
[null,{"$f":"IF(AND(COUNTIF(club,C73)>=3,COUNTIF(club,C73)<=5),\"TEAM\",IF(COUNTIF(club,C73)>5,\"Too Many!!!!!\",\"NO TEAM\"))","v":"NO TEAM"},{"$nulls":5},{"$f":"IF($B73=\"NO TEAM\", 0, SUM(LARGE(IF(club=$C73, vault), ROW($1:$3))))","v":{"v":0,"d":"0.00"}},{"$nulls":5},{"$f":"IF($B73=\"NO TEAM\", 0, SUM(LARGE(IF(club=$C73, bars), ROW($1:$3))))","v":{"v":0,"d":"0.00"}},{"$nulls":5},{"$f":"IF($B73=\"NO TEAM\", 0, SUM(LARGE(IF(club=$C73, beam), ROW($1:$3))))","v":{"v":0,"d":"0.00"}},{"$nulls":5},{"$f":"IF($B73=\"NO TEAM\", 0, SUM(LARGE(IF(club=$C73, floor), ROW($1:$3))))","v":{"v":0,"d":"0.00"}},{"$nulls":5},{"$f":"IF($B73=\"NO TEAM\", 0, SUM(LARGE(IF(club=$C73, range), ROW($1:$3))))","v":{"v":0,"d":"0.00"}},{"$nulls":4},{"v":0,"d":"0.00"},5,7,0,5]
[null,{"$f":"IF(AND(COUNTIF(club,C74)>=3,COUNTIF(club,C74)<=5),\"TEAM\",IF(COUNTIF(club,C74)>5,\"Too Many!!!!!\",\"NO TEAM\"))","v":"NO TEAM"},{"$nulls":5},{"$f":"IF($B74=\"NO TEAM\", 0, SUM(LARGE(IF(club=$C74, vault), ROW($1:$3))))","v":{"v":0,"d":"0.00"}},{"$nulls":5},{"$f":"IF($B74=\"NO TEAM\", 0, SUM(LARGE(IF(club=$C74, bars), ROW($1:$3))))","v":{"v":0,"d":"0.00"}},{"$nulls":5},{"$f":"IF($B74=\"NO TEAM\", 0, SUM(LARGE(IF(club=$C74, beam), ROW($1:$3))))","v":{"v":0,"d":"0.00"}},{"$nulls":5},{"$f":"IF($B74=\"NO TEAM\", 0, SUM(LARGE(IF(club=$C74, floor), ROW($1:$3))))","v":{"v":0,"d":"0.00"}},{"$nulls":5},{"$f":"IF($B74=\"NO TEAM\", 0, SUM(LARGE(IF(club=$C74, range), ROW($1:$3))))","v":{"v":0,"d":"0.00"}},{"$nulls":4},{"v":0,"d":"0.00"},5,8,0,5]
[null,{"$f":"IF(AND(COUNTIF(club,C75)>=3,COUNTIF(club,C75)<=5),\"TEAM\",IF(COUNTIF(club,C75)>5,\"Too Many!!!!!\",\"NO TEAM\"))","v":"NO TEAM"},{"$nulls":5},{"$f":"IF($B75=\"NO TEAM\", 0, SUM(LARGE(IF(club=$C75, vault), ROW($1:$3))))","v":{"v":0,"d":"0.00"}},{"$nulls":5},{"$f":"IF($B75=\"NO TEAM\", 0, SUM(LARGE(IF(club=$C75, bars), ROW($1:$3))))","v":{"v":0,"d":"0.00"}},{"$nulls":5},{"$f":"IF($B75=\"NO TEAM\", 0, SUM(LARGE(IF(club=$C75, beam), ROW($1:$3))))","v":{"v":0,"d":"0.00"}},{"$nulls":5},{"$f":"IF($B75=\"NO TEAM\", 0, SUM(LARGE(IF(club=$C75, floor), ROW($1:$3))))","v":{"v":0,"d":"0.00"}},{"$nulls":5},{"$f":"IF($B75=\"NO TEAM\", 0, SUM(LARGE(IF(club=$C75, range), ROW($1:$3))))","v":{"v":0,"d":"0.00"}},{"$nulls":4},{"v":0,"d":"0.00"},5,9,0,5]
[null,{"$f":"IF(AND(COUNTIF(club,C76)>=3,COUNTIF(club,C76)<=5),\"TEAM\",IF(COUNTIF(club,C76)>5,\"Too Many!!!!!\",\"NO TEAM\"))","v":"NO TEAM"},{"$nulls":5},{"$f":"IF($B76=\"NO TEAM\", 0, SUM(LARGE(IF(club=$C76, vault), ROW($1:$3))))","v":{"v":0,"d":"0.00"}},{"$nulls":5},{"$f":"IF($B76=\"NO TEAM\", 0, SUM(LARGE(IF(club=$C76, bars), ROW($1:$3))))","v":{"v":0,"d":"0.00"}},{"$nulls":5},{"$f":"IF($B76=\"NO TEAM\", 0, SUM(LARGE(IF(club=$C76, beam), ROW($1:$3))))","v":{"v":0,"d":"0.00"}},{"$nulls":5},{"$f":"IF($B76=\"NO TEAM\", 0, SUM(LARGE(IF(club=$C76, floor), ROW($1:$3))))","v":{"v":0,"d":"0.00"}},{"$nulls":5},{"$f":"IF($B76=\"NO TEAM\", 0, SUM(LARGE(IF(club=$C76, range), ROW($1:$3))))","v":{"v":0,"d":"0.00"}},{"$nulls":4},{"v":0,"d":"0.00"},5,10,0,5]
[null,{"$f":"IF(AND(COUNTIF(club,C77)>=3,COUNTIF(club,C77)<=5),\"TEAM\",IF(COUNTIF(club,C77)>5,\"Too Many!!!!!\",\"NO TEAM\"))","v":"NO TEAM"},{"$nulls":5},{"$f":"IF($B77=\"NO TEAM\", 0, SUM(LARGE(IF(club=$C77, vault), ROW($1:$3))))","v":{"v":0,"d":"0.00"}},{"$nulls":5},{"$f":"IF($B77=\"NO TEAM\", 0, SUM(LARGE(IF(club=$C77, bars), ROW($1:$3))))","v":{"v":0,"d":"0.00"}},{"$nulls":5},{"$f":"IF($B77=\"NO TEAM\", 0, SUM(LARGE(IF(club=$C77, beam), ROW($1:$3))))","v":{"v":0,"d":"0.00"}},{"$nulls":5},{"$f":"IF($B77=\"NO TEAM\", 0, SUM(LARGE(IF(club=$C77, floor), ROW($1:$3))))","v":{"v":0,"d":"0.00"}},{"$nulls":5},{"$f":"IF($B77=\"NO TEAM\", 0, SUM(LARGE(IF(club=$C77, range), ROW($1:$3))))","v":{"v":0,"d":"0.00"}},{"$nulls":4},{"v":0,"d":"0.00"},5,11,0,5]
[null,{"$f":"IF(AND(COUNTIF(club,C78)>=3,COUNTIF(club,C78)<=5),\"TEAM\",IF(COUNTIF(club,C78)>5,\"Too Many!!!!!\",\"NO TEAM\"))","v":"NO TEAM"},{"$nulls":5},{"$f":"IF($B78=\"NO TEAM\", 0, SUM(LARGE(IF(club=$C78, vault), ROW($1:$3))))","v":{"v":0,"d":"0.00"}},{"$nulls":5},{"$f":"IF($B78=\"NO TEAM\", 0, SUM(LARGE(IF(club=$C78, bars), ROW($1:$3))))","v":{"v":0,"d":"0.00"}},{"$nulls":5},{"$f":"IF($B78=\"NO TEAM\", 0, SUM(LARGE(IF(club=$C78, beam), ROW($1:$3))))","v":{"v":0,"d":"0.00"}},{"$nulls":5},{"$f":"IF($B78=\"NO TEAM\", 0, SUM(LARGE(IF(club=$C78, floor), ROW($1:$3))))","v":{"v":0,"d":"0.00"}},{"$nulls":5},{"$f":"IF($B78=\"NO TEAM\", 0, SUM(LARGE(IF(club=$C78, range), ROW($1:$3))))","v":{"v":0,"d":"0.00"}},{"$nulls":4},{"v":0,"d":"0.00"},5,12,0,5]
[null,{"$f":"IF(AND(COUNTIF(club,C79)>=3,COUNTIF(club,C79)<=5),\"TEAM\",IF(COUNTIF(club,C79)>5,\"Too Many!!!!!\",\"NO TEAM\"))","v":"NO TEAM"},{"$nulls":5},{"$f":"IF($B79=\"NO TEAM\", 0, SUM(LARGE(IF(club=$C79, vault), ROW($1:$3))))","v":{"v":0,"d":"0.00"}},{"$nulls":5},{"$f":"SUM(LARGE(IF(club=$C79, bars), ROW($1:$3)))","v":{"v":0,"d":"0.00"}},{"$nulls":5},{"$f":"SUM(LARGE(IF(club=$C79, beam), ROW($1:$3)))","v":{"v":0,"d":"0.00"}},{"$nulls":5},{"$f":"SUM(LARGE(IF(club=$C79, floor), ROW($1:$3)))","v":{"v":0,"d":"0.00"}},{"$nulls":5},{"$f":"SUM(LARGE(IF(club=$C79, range), ROW($1:$3)))","v":{"v":0,"d":"0.00"}},{"$nulls":4},{"v":0,"d":"0.00"},5,13,0,5]
[null,{"$f":"IF(AND(COUNTIF(club,C80)>=3,COUNTIF(club,C80)<=5),\"TEAM\",IF(COUNTIF(club,C80)>5,\"Too Many!!!!!\",\"NO TEAM\"))","v":"NO TEAM"},{"$nulls":5},{"$f":"IF($B80=\"NO TEAM\", 0, SUM(LARGE(IF(club=$C80, vault), ROW($1:$3))))","v":{"v":0,"d":"0.00"}},{"$nulls":5},{"$f":"SUM(LARGE(IF(club=$C80, bars), ROW($1:$3)))","v":{"v":0,"d":"0.00"}},{"$nulls":5},{"$f":"SUM(LARGE(IF(club=$C80, beam), ROW($1:$3)))","v":{"v":0,"d":"0.00"}},{"$nulls":5},{"$f":"SUM(LARGE(IF(club=$C80, floor), ROW($1:$3)))","v":{"v":0,"d":"0.00"}},{"$nulls":5},{"$f":"SUM(LARGE(IF(club=$C80, range), ROW($1:$3)))","v":{"v":0,"d":"0.00"}},{"$nulls":4},{"v":0,"d":"0.00"},5,14,0,5]
[null,{"$f":"IF(AND(COUNTIF(club,C81)>=3,COUNTIF(club,C81)<=5),\"TEAM\",IF(COUNTIF(club,C81)>5,\"Too Many!!!!!\",\"NO TEAM\"))","v":"NO TEAM"},{"$nulls":5},{"$f":"IF($B81=\"NO TEAM\", 0, SUM(LARGE(IF(club=$C81, vault), ROW($1:$3))))","v":{"v":0,"d":"0.00"}},{"$nulls":5},{"$f":"SUM(LARGE(IF(club=$C81, bars), ROW($1:$3)))","v":{"v":0,"d":"0.00"}},{"$nulls":5},{"$f":"SUM(LARGE(IF(club=$C81, beam), ROW($1:$3)))","v":{"v":0,"d":"0.00"}},{"$nulls":5},{"$f":"SUM(LARGE(IF(club=$C81, floor), ROW($1:$3)))","v":{"v":0,"d":"0.00"}},{"$nulls":5},{"$f":"SUM(LARGE(IF(club=$C81, range), ROW($1:$3)))","v":{"v":0,"d":"0.00"}},{"$nulls":4},{"v":0,"d":"0.00"},5,15,0,5]

{"sheet":"NGr 4 >12","index":7,"n_rows":81,"n_cols":55,"rows_kept":81,"merged":[[0,3,0,8],[0,12,0,14],[0,18,0,20],[0,24,0,26],[0,30,0,32],[0,36,0,37],[2,45,2,54],[45,44,45,45],[45,48,45,49],[45,52,45,53],[56,44,56,45]]}
[{"$nulls":3},"VAULT",{"$nulls":8},"BARS",{"$nulls":5},"BEAM",{"$nulls":5},"FLOOR",{"$nulls":5},"RANGE",{"$nulls":5},"AA"]
["No","GYMNAST","CLUB","V1 SV","V1","V2 SV","V2","SCORE","POS","idx","sort","ties","SV","SCORE","POS","idx","sort","ties","SV","SCORE","POS","idx","sort","ties","SV","SCORE","POS","idx","sort","ties","SV","SCORE","POS","idx","sort","ties","TOTAL","POS","idx","sort","ties"]
[null,"North Grade 4 - 12 & Over",{"$nulls":41},{"$f":"B3","v":"North Grade 4 - 12 & Over"},null,"summary results for presentation"]
[114,"Ava Hunter","SD",{"v":4,"d":"4.0"},{"v":12.3,"d":"12.30"},{"v":0,"d":"0.0"},{"v":0,"d":"0.00"},{"$f":"MAX(E4, G4)","v":{"v":12.3,"d":"12.30"}},{"$f":"VLOOKUP(H4, K$4:L$65, 2,FALSE)","v":5},{"$f":"IF(ISNUMBER(J3), J3+1, 1)","v":1},{"$f":"LARGE(H$4:H$65,J4)","v":13},{"$f":"IF(K4=K3, L3, L3+1)","v":1},{"v":4,"d":"4.0"},{"v":13.1,"d":"13.10"},{"$f":"VLOOKUP(N4, Q$4:R$65, 2,FALSE)","v":2},{"$f":"IF(ISNUMBER(P3), P3+1, 1)","v":1},{"$f":"LARGE(N$4:N$65,P4)","v":13.2},{"$f":"IF(Q4=Q3, R3, R3+1)","v":1},{"v":4,"d":"4.0"},{"v":10.3,"d":"10.30"},{"$f":"VLOOKUP(T4, W$4:X$65, 2,FALSE)","v":6},{"$f":"IF(ISNUMBER(V3), V3+1, 1)","v":1},{"$f":"LARGE(T$4:T$65,V4)","v":11.75},{"$f":"IF(W4=W3, X3, X3+1)","v":1},{"v":4,"d":"4.0"},{"v":11.8,"d":"11.80"},{"$f":"VLOOKUP(Z4, AC$4:AD$65, 2,FALSE)","v":4},{"$f":"IF(ISNUMBER(AB3), AB3+1, 1)","v":1},{"$f":"LARGE(Z$4:Z$65,AB4)","v":12.75},{"$f":"IF(AC4=AC3, AD3, AD3+1)","v":1},3.5,11.15,{"$f":"VLOOKUP(AF4, AI$4:AJ$65, 2,FALSE)","v":6},{"$f":"IF(ISNUMBER(AH3), AH3+1, 1)","v":1},{"$f":"LARGE(AF$4:AF$65,AH4)","v":13.15},{"$f":"IF(AI4=AI3, AJ3, AJ3+1)","v":1},{"$f":"SUMIF(D$2:AJ$2, \"SCORE\", D4:AJ4)","v":58.65},{"$f":"VLOOKUP(AK4, AN$4:AO$65, 2,FALSE)","v":6},{"$f":"IF(ISNUMBER(AM3), AM3+1, 1)","v":1},{"$f":"LARGE($AK$4:$AK$65,$AM4)","v":62.6},{"$f":"IF(AN4=AN3, AO3, AO3+1)","v":1},null,null,"6th Place",{"$f":"IFERROR(INDEX(vault,MATCH(AR5,gymnasts,0)), \"\")","v":{"v":12,"d":"12.00"}},"5th Place",{"$f":"IFERROR(INDEX(vault,MATCH(AT5,gymnasts,0)), \"\")","v":{"v":12.3,"d":"12.30"}},"4th Place",{"$f":"IFERROR(INDEX(vault,MATCH(AV5,gymnasts,0)), \"\")","v":12.35},"3rd Place",{"$f":"IFERROR(INDEX(vault,MATCH(AX5,gymnasts,0)), \"\")","v":{"v":12.6,"d":"12.60"}},"2nd Place",{"$f":"IFERROR(INDEX(vault,MATCH(AZ5,gymnasts,0)), \"\")","v":12.65},"1st Place",{"$f":"IFERROR(INDEX(vault,MATCH(BB5,gymnasts,0)), \"\")","v":{"v":13,"d":"13.00"}}]
[115,"Mia Dowson","SD",{"v":4,"d":"4.0"},{"v":13,"d":"13.00"},{"v":0,"d":"0.0"},{"v":0,"d":"0.00"},{"$f":"MAX(E5, G5)","v":{"v":13,"d":"13.00"}},{"$f":"VLOOKUP(H5, K$4:L$65, 2,FALSE)","v":1},2,{"$f":"LARGE(H$4:H$65,J5)","v":12.65},{"$f":"IF(K5=K4, L4, L4+1)","v":2},{"v":4,"d":"4.0"},{"v":13.2,"d":"13.20"},{"$f":"VLOOKUP(N5, Q$4:R$65, 2,FALSE)","v":1},2,{"$f":"LARGE(N$4:N$65,P5)","v":13.1},{"$f":"IF(Q5=Q4, R4, R4+1)","v":2},{"v":4,"d":"4.0"},11.75,{"$f":"VLOOKUP(T5, W$4:X$65, 2,FALSE)","v":1},2,{"$f":"LARGE(T$4:T$65,V5)","v":10.9},{"$f":"IF(W5=W4, X4, X4+1)","v":2},{"v":4,"d":"4.0"},12.15,{"$f":"VLOOKUP(Z5, AC$4:AD$65, 2,FALSE)","v":3},2,{"$f":"LARGE(Z$4:Z$65,AB5)","v":12.35},{"$f":"IF(AC5=AC4, AD4, AD4+1)","v":2},{"v":4,"d":"4.0"},{"v":12.5,"d":"12.50"},{"$f":"VLOOKUP(AF5, AI$4:AJ$65, 2,FALSE)","v":3},2,{"$f":"LARGE(AF$4:AF$65,AH5)","v":12.95},{"$f":"IF(AI5=AI4, AJ4, AJ4+1)","v":2},{"v":62.6,"d":"62.60"},{"$f":"VLOOKUP(AK5, AN$4:AO$65, 2,FALSE)","v":1},2,{"$f":"LARGE($AK$4:$AK$65,$AM5)","v":61.449999999999996},{"$f":"IF(AN5=AN4, AO4, AO4+1)","v":2},null,"Vault",{"$f":"IFERROR(INDEX(gymnasts, SMALL(IF(VALUE(LEFT(AR$32, 1))=vaultPos, ROW(vaultPos)-MIN(ROW(vaultPos))+1, \"\"), ROW()-4)), \"\")","v":"Ava Smith"},{"$f":"IFERROR( INDEX(entries, MATCH(AR5, gymnasts, 0), 2), \"\")","v":"Hartlepool"},{"$f":"IFERROR(INDEX(gymnasts, SMALL(IF(VALUE(LEFT(AT$32, 1))=vaultPos, ROW(vaultPos)-MIN(ROW(vaultPos))+1, \"\"), ROW()-4)), \"\")","v":"Ava Hunter"},{"$f":"IFERROR( INDEX(entries, MATCH(AT5, gymnasts, 0), 2), \"\")","v":"SD"},{"$f":"IFERROR(INDEX(gymnasts, SMALL(IF(VALUE(LEFT(AV$32, 1))=vaultPos, ROW(vaultPos)-MIN(ROW(vaultPos))+1, \"\"), ROW()-4)), \"\")","v":"Lottie Kenyon"},{"$f":"IFERROR( INDEX(entries, MATCH(AV5, gymnasts, 0), 2), \"\")","v":"Kendal"},{"$f":"IFERROR(INDEX(gymnasts, SMALL(IF(VALUE(LEFT(AX$32, 1))=vaultPos, ROW(vaultPos)-MIN(ROW(vaultPos))+1, \"\"), ROW()-4)), \"\")","v":"Harriet Appleby"},{"$f":"IFERROR( INDEX(entries, MATCH(AX5, gymnasts, 0), 2), \"\")","v":"Hartlepool"},{"$f":"IFERROR(INDEX(gymnasts, SMALL(IF(VALUE(LEFT(AZ$32, 1))=vaultPos, ROW(vaultPos)-MIN(ROW(vaultPos))+1, \"\"), ROW()-4)), \"\")","v":"Tiani-Mai Graham"},{"$f":"IFERROR( INDEX(entries, MATCH(AZ5, gymnasts, 0), 2), \"\")","v":"SD"},{"$f":"IFERROR(INDEX(gymnasts, SMALL(IF(VALUE(LEFT(BB$32, 1))=vaultPos, ROW(vaultPos)-MIN(ROW(vaultPos))+1, \"\"), ROW()-4)), \"\")","v":"Mia Dowson"},{"$f":"IFERROR( INDEX(entries, MATCH(BB5, gymnasts, 0), 2), \"\")","v":"SD"}]
[116,"Scarlett Thompson","SD",{"v":4,"d":"4.0"},11.85,{"v":0,"d":"0.0"},{"v":0,"d":"0.00"},11.85,8,3,12.6,3,{"v":4,"d":"4.0"},{"v":12.8,"d":"12.80"},3,3,12.8,3,{"v":4,"d":"4.0"},{"v":10.9,"d":"10.90"},2,3,10.7,3,{"v":4,"d":"4.0"},12.75,1,3,12.15,3,{"v":4,"d":"4.0"},13.15,1,3,12.5,3,{"v":61.449999999999996,"d":"61.45"},2,3,60.900000000000006,3,null,null,"",{"$f":"IFERROR( INDEX(entries, MATCH(AR6, gymnasts, 0), 2), \"\")","v":""},"",{"$f":"IFERROR( INDEX(entries, MATCH(AT6, gymnasts, 0), 2), \"\")","v":""},"",{"$f":"IFERROR( INDEX(entries, MATCH(AV6, gymnasts, 0), 2), \"\")","v":""},"",{"$f":"IFERROR( INDEX(entries, MATCH(AX6, gymnasts, 0), 2), \"\")","v":""},"",{"$f":"IFERROR( INDEX(entries, MATCH(AZ6, gymnasts, 0), 2), \"\")","v":""},"",""]
[117,"Tiani-Mai Graham","SD",{"v":4,"d":"4.0"},12.65,{"v":0,"d":"0.0"},{"v":0,"d":"0.00"},12.65,2,4,12.35,4,{"v":4,"d":"4.0"},{"v":12.7,"d":"12.70"},4,4,12.7,4,{"v":4,"d":"4.0"},10.25,7,4,10.55,4,{"v":4,"d":"4.0"},12.35,2,4,11.8,4,{"v":4,"d":"4.0"},12.95,2,4,12.15,4,{"v":60.900000000000006,"d":"60.90"},3,4,58.9,4,null,null,"","","","","","","","","","","",""]
[118,"Lottie Kenyon","Kendal",{"v":4,"d":"4.0"},12.35,{"v":0,"d":"0.0"},{"v":0,"d":"0.00"},12.35,4,5,12.3,5,{"v":4,"d":"4.0"},{"v":12.5,"d":"12.50"},5,5,12.7,4,{"v":4,"d":"4.0"},{"v":10.7,"d":"10.70"},3,5,10.35,5,{"v":4,"d":"4.0"},{"v":11.2,"d":"11.20"},7,5,11.7,5,{"v":4,"d":"4.0"},12.15,4,5,12.15,4,{"v":58.9,"d":"58.90"},4,5,58.849999999999994,5,null,null,"","","","","","","","","","","",""]
[119,"Abi Marshall","Darlington",{"v":4,"d":"4.0"},{"v":11.9,"d":"11.90"},{"v":0,"d":"0.0"},{"v":0,"d":"0.00"},{"v":11.9,"d":"11.90"},7,6,12,6,{"v":4,"d":"4.0"},{"v":12.1,"d":"12.10"},6,6,12.5,5,{"v":4,"d":"4.0"},9.15,8,6,10.3,6,{"v":4,"d":"4.0"},11.05,8,6,11.35,6,{"v":4,"d":"4.0"},12.15,4,6,11.5,5,56.35,8,6,58.65,6,null,null,"","","","","","","","","","","",""]
[120,"Harriet Appleby","Hartlepool",{"v":4,"d":"4.0"},{"v":12.6,"d":"12.60"},{"v":0,"d":"0.0"},{"v":0,"d":"0.00"},{"v":12.6,"d":"12.60"},3,7,11.9,7,{"v":4,"d":"4.0"},{"v":12.7,"d":"12.70"},4,7,12.1,6,{"v":4,"d":"4.0"},10.35,5,7,10.25,7,{"v":4,"d":"4.0"},{"v":11.7,"d":"11.70"},5,7,11.2,7,3.5,{"v":11.5,"d":"11.50"},5,7,11.15,6,{"v":58.849999999999994,"d":"58.85"},5,7,56.9,7,null,null,"","","","","","","","","","","",""]
[121,"Ava Smith","Hartlepool",{"v":4,"d":"4.0"},{"v":12,"d":"12.00"},{"v":0,"d":"0.0"},{"v":0,"d":"0.00"},{"v":12,"d":"12.00"},6,8,11.85,8,{"v":4,"d":"4.0"},{"v":12,"d":"12.00"},7,8,12,7,{"v":4,"d":"4.0"},10.55,4,8,9.15,8,{"v":4,"d":"4.0"},11.35,6,8,11.05,8,{"v":4,"d":"4.0"},{"v":11,"d":"11.00"},7,8,11,7,{"v":56.9,"d":"56.90"},7,8,56.35,8,null,null,"6th Place",{"$f":"IFERROR(INDEX(bars,MATCH(AR12,gymnasts,0)), \"\")","v":{"v":12.1,"d":"12.10"}},"5th Place",{"$f":"IFERROR(INDEX(bars,MATCH(AT12,gymnasts,0)), \"\")","v":{"v":12.5,"d":"12.50"}},"4th Place",{"$f":"IFERROR(INDEX(bars,MATCH(AV12,gymnasts,0)), \"\")","v":{"v":12.7,"d":"12.70"}},"3rd Place",{"$f":"IFERROR(INDEX(bars,MATCH(AX12,gymnasts,0)), \"\")","v":{"v":12.8,"d":"12.80"}},"2nd Place",{"$f":"IFERROR(INDEX(bars,MATCH(AZ12,gymnasts,0)), \"\")","v":{"v":13.1,"d":"13.10"}},"1st Place",{"$f":"IFERROR(INDEX(bars,MATCH(BB12,gymnasts,0)), \"\")","v":{"v":13.2,"d":"13.20"}}]
[{"$nulls":3},{"v":0,"d":"0.0"},{"v":0,"d":"0.00"},{"v":0,"d":"0.0"},{"v":0,"d":"0.00"},{"v":0,"d":"0.00"},9,9,0,9,{"v":0,"d":"0.0"},{"v":0,"d":"0.00"},8,9,0,8,{"v":0,"d":"0.0"},{"v":0,"d":"0.00"},9,9,0,9,{"v":0,"d":"0.0"},{"v":0,"d":"0.00"},9,9,0,9,{"v":0,"d":"0.0"},{"v":0,"d":"0.00"},8,9,0,8,{"v":0,"d":"0.00"},9,9,0,9,null,"Bars",{"$f":"IFERROR(INDEX(gymnasts, SMALL(IF(VALUE(LEFT(AR$32, 1))=BarPos, ROW(BarPos)-MIN(ROW(BarPos))+1, \"\"), ROW()-11)), \"\")","v":"Abi Marshall"},{"$f":"IFERROR( INDEX(entries, MATCH(AR12, gymnasts, 0), 2), \"\")","v":"Darlington"},{"$f":"IFERROR(INDEX(gymnasts, SMALL(IF(VALUE(LEFT(AT$32, 1))=BarPos, ROW(BarPos)-MIN(ROW(BarPos))+1, \"\"), ROW()-11)), \"\")","v":"Lottie Kenyon"},{"$f":"IFERROR( INDEX(entries, MATCH(AT12, gymnasts, 0), 2), \"\")","v":"Kendal"},{"$f":"IFERROR(INDEX(gymnasts, SMALL(IF(VALUE(LEFT(AV$32, 1))=BarPos, ROW(BarPos)-MIN(ROW(BarPos))+1, \"\"), ROW()-11)), \"\")","v":"Tiani-Mai Graham"},{"$f":"IFERROR( INDEX(entries, MATCH(AV12, gymnasts, 0), 2), \"\")","v":"SD"},{"$f":"IFERROR(INDEX(gymnasts, SMALL(IF(VALUE(LEFT(AX$32, 1))=BarPos, ROW(BarPos)-MIN(ROW(BarPos))+1, \"\"), ROW()-11)), \"\")","v":"Scarlett Thompson"},{"$f":"IFERROR( INDEX(entries, MATCH(AX12, gymnasts, 0), 2), \"\")","v":"SD"},{"$f":"IFERROR(INDEX(gymnasts, SMALL(IF(VALUE(LEFT(AZ$32, 1))=BarPos, ROW(BarPos)-MIN(ROW(BarPos))+1, \"\"), ROW()-11)), \"\")","v":"Ava Hunter"},{"$f":"IFERROR( INDEX(entries, MATCH(AZ12, gymnasts, 0), 2), \"\")","v":"SD"},{"$f":"IFERROR(INDEX(gymnasts, SMALL(IF(VALUE(LEFT(BB$32, 1))=BarPos, ROW(BarPos)-MIN(ROW(BarPos))+1, \"\"), ROW()-11)), \"\")","v":"Mia Dowson"},{"$f":"IFERROR( INDEX(entries, MATCH(BB12, gymnasts, 0), 2), \"\")","v":"SD"}]
[{"$nulls":3},{"v":0,"d":"0.0"},{"v":0,"d":"0.00"},{"v":0,"d":"0.0"},{"v":0,"d":"0.00"},{"v":0,"d":"0.00"},9,10,0,9,{"v":0,"d":"0.0"},{"v":0,"d":"0.00"},8,10,0,8,{"v":0,"d":"0.0"},{"v":0,"d":"0.00"},9,10,0,9,{"v":0,"d":"0.0"},{"v":0,"d":"0.00"},9,10,0,9,{"v":0,"d":"0.0"},{"v":0,"d":"0.00"},8,10,0,8,{"v":0,"d":"0.00"},9,10,0,9,null,null,"",{"$f":"IFERROR( INDEX(entries, MATCH(AR13, gymnasts, 0), 2), \"\")","v":""},"",{"$f":"IFERROR( INDEX(entries, MATCH(AT13, gymnasts, 0), 2), \"\")","v":""},"Harriet Appleby",{"$f":"IFERROR( INDEX(entries, MATCH(AV13, gymnasts, 0), 2), \"\")","v":"Hartlepool"},"",{"$f":"IFERROR( INDEX(entries, MATCH(AX13, gymnasts, 0), 2), \"\")","v":""},"",{"$f":"IFERROR( INDEX(entries, MATCH(AZ13, gymnasts, 0), 2), \"\")","v":""},"",""]
[{"$nulls":3},{"v":0,"d":"0.0"},{"v":0,"d":"0.00"},{"v":0,"d":"0.0"},{"v":0,"d":"0.00"},{"v":0,"d":"0.00"},9,11,0,9,{"v":0,"d":"0.0"},{"v":0,"d":"0.00"},8,11,0,8,{"v":0,"d":"0.0"},{"v":0,"d":"0.00"},9,11,0,9,{"v":0,"d":"0.0"},{"v":0,"d":"0.00"},9,11,0,9,{"v":0,"d":"0.0"},{"v":0,"d":"0.00"},8,11,0,8,{"v":0,"d":"0.00"},9,11,0,9,null,null,"","","","","","","","","","","",""]
[{"$nulls":3},{"v":0,"d":"0.0"},{"v":0,"d":"0.00"},{"v":0,"d":"0.0"},{"v":0,"d":"0.00"},{"v":0,"d":"0.00"},9,12,0,9,{"v":0,"d":"0.0"},{"v":0,"d":"0.00"},8,12,0,8,{"v":0,"d":"0.0"},{"v":0,"d":"0.00"},9,12,0,9,{"v":0,"d":"0.0"},{"v":0,"d":"0.00"},9,12,0,9,{"v":0,"d":"0.0"},{"v":0,"d":"0.00"},8,12,0,8,{"v":0,"d":"0.00"},9,12,0,9,null,null,"","","","","","","","","","","",""]
[{"$nulls":3},{"v":0,"d":"0.0"},{"v":0,"d":"0.00"},{"v":0,"d":"0.0"},{"v":0,"d":"0.00"},{"v":0,"d":"0.00"},9,13,0,9,{"v":0,"d":"0.0"},{"v":0,"d":"0.00"},8,13,0,8,{"v":0,"d":"0.0"},{"v":0,"d":"0.00"},9,13,0,9,{"v":0,"d":"0.0"},{"v":0,"d":"0.00"},9,13,0,9,{"v":0,"d":"0.0"},{"v":0,"d":"0.00"},8,13,0,8,{"v":0,"d":"0.00"},9,13,0,9,null,null,"","","","","","","","","","","",""]
[{"$nulls":3},{"v":0,"d":"0.0"},{"v":0,"d":"0.00"},{"v":0,"d":"0.0"},{"v":0,"d":"0.00"},{"v":0,"d":"0.00"},9,14,0,9,{"v":0,"d":"0.0"},{"v":0,"d":"0.00"},8,14,0,8,{"v":0,"d":"0.0"},{"v":0,"d":"0.00"},9,14,0,9,{"v":0,"d":"0.0"},{"v":0,"d":"0.00"},9,14,0,9,{"v":0,"d":"0.0"},{"v":0,"d":"0.00"},8,14,0,8,{"v":0,"d":"0.00"},9,14,0,9,null,null,"","","","","","","","","","","",""]
[{"$nulls":3},{"v":0,"d":"0.0"},{"v":0,"d":"0.00"},{"v":0,"d":"0.0"},{"v":0,"d":"0.00"},{"v":0,"d":"0.00"},9,15,0,9,{"v":0,"d":"0.0"},{"v":0,"d":"0.00"},8,15,0,8,{"v":0,"d":"0.0"},{"v":0,"d":"0.00"},9,15,0,9,{"v":0,"d":"0.0"},{"v":0,"d":"0.00"},9,15,0,9,{"v":0,"d":"0.0"},{"v":0,"d":"0.00"},8,15,0,8,{"v":0,"d":"0.00"},9,15,0,9,null,null,"6th Place",{"$f":"IFERROR(INDEX(beam,MATCH(AR19,gymnasts,0)), \"\")","v":{"v":10.3,"d":"10.30"}},"5th Place",{"$f":"IFERROR(INDEX(beam,MATCH(AT19,gymnasts,0)), \"\")","v":10.35},"4th Place",{"$f":"IFERROR(INDEX(beam,MATCH(AV19,gymnasts,0)), \"\")","v":10.55},"3rd Place",{"$f":"IFERROR(INDEX(beam,MATCH(AX19,gymnasts,0)), \"\")","v":{"v":10.7,"d":"10.70"}},"2nd Place",{"$f":"IFERROR(INDEX(beam,MATCH(AZ19,gymnasts,0)), \"\")","v":{"v":10.9,"d":"10.90"}},"1st Place",{"$f":"IFERROR(INDEX(beam,MATCH(BB19,gymnasts,0)), \"\")","v":11.75}]
[{"$nulls":3},{"v":0,"d":"0.0"},{"v":0,"d":"0.00"},{"v":0,"d":"0.0"},{"v":0,"d":"0.00"},{"v":0,"d":"0.00"},9,16,0,9,{"v":0,"d":"0.0"},{"v":0,"d":"0.00"},8,16,0,8,{"v":0,"d":"0.0"},{"v":0,"d":"0.00"},9,16,0,9,{"v":0,"d":"0.0"},{"v":0,"d":"0.00"},9,16,0,9,{"v":0,"d":"0.0"},{"v":0,"d":"0.00"},8,16,0,8,{"v":0,"d":"0.00"},9,16,0,9,null,"Beam",{"$f":"IFERROR(INDEX(gymnasts, SMALL(IF(VALUE(LEFT(AR$32, 1))=BeamPos, ROW(BeamPos)-MIN(ROW(BeamPos))+1, \"\"), ROW()-18)), \"\")","v":"Ava Hunter"},{"$f":"IFERROR( INDEX(entries, MATCH(AR19, gymnasts, 0), 2), \"\")","v":"SD"},{"$f":"IFERROR(INDEX(gymnasts, SMALL(IF(VALUE(LEFT(AT$32, 1))=BeamPos, ROW(BeamPos)-MIN(ROW(BeamPos))+1, \"\"), ROW()-18)), \"\")","v":"Harriet Appleby"},{"$f":"IFERROR( INDEX(entries, MATCH(AT19, gymnasts, 0), 2), \"\")","v":"Hartlepool"},{"$f":"IFERROR(INDEX(gymnasts, SMALL(IF(VALUE(LEFT(AV$32, 1))=BeamPos, ROW(BeamPos)-MIN(ROW(BeamPos))+1, \"\"), ROW()-18)), \"\")","v":"Ava Smith"},{"$f":"IFERROR( INDEX(entries, MATCH(AV19, gymnasts, 0), 2), \"\")","v":"Hartlepool"},{"$f":"IFERROR(INDEX(gymnasts, SMALL(IF(VALUE(LEFT(AX$32, 1))=BeamPos, ROW(BeamPos)-MIN(ROW(BeamPos))+1, \"\"), ROW()-18)), \"\")","v":"Lottie Kenyon"},{"$f":"IFERROR( INDEX(entries, MATCH(AX19, gymnasts, 0), 2), \"\")","v":"Kendal"},{"$f":"IFERROR(INDEX(gymnasts, SMALL(IF(VALUE(LEFT(AZ$32, 1))=BeamPos, ROW(BeamPos)-MIN(ROW(BeamPos))+1, \"\"), ROW()-18)), \"\")","v":"Scarlett Thompson"},{"$f":"IFERROR( INDEX(entries, MATCH(AZ19, gymnasts, 0), 2), \"\")","v":"SD"},{"$f":"IFERROR(INDEX(gymnasts, SMALL(IF(VALUE(LEFT(BB$32, 1))=BeamPos, ROW(BeamPos)-MIN(ROW(BeamPos))+1, \"\"), ROW()-18)), \"\")","v":"Mia Dowson"},{"$f":"IFERROR( INDEX(entries, MATCH(BB19, gymnasts, 0), 2), \"\")","v":"SD"}]
[{"$nulls":3},{"v":0,"d":"0.0"},{"v":0,"d":"0.00"},{"v":0,"d":"0.0"},{"v":0,"d":"0.00"},{"v":0,"d":"0.00"},9,17,0,9,{"v":0,"d":"0.0"},{"v":0,"d":"0.00"},8,17,0,8,{"v":0,"d":"0.0"},{"v":0,"d":"0.00"},9,17,0,9,{"v":0,"d":"0.0"},{"v":0,"d":"0.00"},9,17,0,9,{"v":0,"d":"0.0"},{"v":0,"d":"0.00"},8,17,0,8,{"v":0,"d":"0.00"},9,17,0,9,null,null,"",{"$f":"IFERROR( INDEX(entries, MATCH(AR20, gymnasts, 0), 2), \"\")","v":""},"",{"$f":"IFERROR( INDEX(entries, MATCH(AT20, gymnasts, 0), 2), \"\")","v":""},"",{"$f":"IFERROR( INDEX(entries, MATCH(AV20, gymnasts, 0), 2), \"\")","v":""},"",{"$f":"IFERROR( INDEX(entries, MATCH(AX20, gymnasts, 0), 2), \"\")","v":""},"",{"$f":"IFERROR( INDEX(entries, MATCH(AZ20, gymnasts, 0), 2), \"\")","v":""},"",""]
[{"$nulls":3},{"v":0,"d":"0.0"},{"v":0,"d":"0.00"},{"v":0,"d":"0.0"},{"v":0,"d":"0.00"},{"v":0,"d":"0.00"},9,18,0,9,{"v":0,"d":"0.0"},{"v":0,"d":"0.00"},8,18,0,8,{"v":0,"d":"0.0"},{"v":0,"d":"0.00"},9,18,0,9,{"v":0,"d":"0.0"},{"v":0,"d":"0.00"},9,18,0,9,{"v":0,"d":"0.0"},{"v":0,"d":"0.00"},8,18,0,8,{"v":0,"d":"0.00"},9,18,0,9,null,null,"","","","","","","","","","","",""]
[{"$nulls":3},{"v":0,"d":"0.0"},{"v":0,"d":"0.00"},{"v":0,"d":"0.0"},{"v":0,"d":"0.00"},{"v":0,"d":"0.00"},9,19,0,9,{"v":0,"d":"0.0"},{"v":0,"d":"0.00"},8,19,0,8,{"v":0,"d":"0.0"},{"v":0,"d":"0.00"},9,19,0,9,{"v":0,"d":"0.0"},{"v":0,"d":"0.00"},9,19,0,9,{"v":0,"d":"0.0"},{"v":0,"d":"0.00"},8,19,0,8,{"v":0,"d":"0.00"},9,19,0,9,null,null,"","","","","","","","","","","",""]
[{"$nulls":3},{"v":0,"d":"0.0"},{"v":0,"d":"0.00"},{"v":0,"d":"0.0"},{"v":0,"d":"0.00"},{"v":0,"d":"0.00"},9,20,0,9,{"v":0,"d":"0.0"},{"v":0,"d":"0.00"},8,20,0,8,{"v":0,"d":"0.0"},{"v":0,"d":"0.00"},9,20,0,9,{"v":0,"d":"0.0"},{"v":0,"d":"0.00"},9,20,0,9,{"v":0,"d":"0.0"},{"v":0,"d":"0.00"},8,20,0,8,{"v":0,"d":"0.00"},9,20,0,9,null,null,"","","","","","","","","","","",""]
[{"$nulls":3},{"v":0,"d":"0.0"},{"v":0,"d":"0.00"},{"v":0,"d":"0.0"},{"v":0,"d":"0.00"},{"v":0,"d":"0.00"},9,21,0,9,{"v":0,"d":"0.0"},{"v":0,"d":"0.00"},8,21,0,8,{"v":0,"d":"0.0"},{"v":0,"d":"0.00"},9,21,0,9,{"v":0,"d":"0.0"},{"v":0,"d":"0.00"},9,21,0,9,{"v":0,"d":"0.0"},{"v":0,"d":"0.00"},8,21,0,8,{"v":0,"d":"0.00"},9,21,0,9,null,null,"","","","","","","","","","","",""]
[{"$nulls":3},{"v":0,"d":"0.0"},{"v":0,"d":"0.00"},{"v":0,"d":"0.0"},{"v":0,"d":"0.00"},{"v":0,"d":"0.00"},9,22,0,9,{"v":0,"d":"0.0"},{"v":0,"d":"0.00"},8,22,0,8,{"v":0,"d":"0.0"},{"v":0,"d":"0.00"},9,22,0,9,{"v":0,"d":"0.0"},{"v":0,"d":"0.00"},9,22,0,9,{"v":0,"d":"0.0"},{"v":0,"d":"0.00"},8,22,0,8,{"v":0,"d":"0.00"},9,22,0,9,null,null,"6th Place",{"$f":"IFERROR(INDEX(floor,MATCH(AR26,gymnasts,0)), \"\")","v":11.35},"5th Place",{"$f":"IFERROR(INDEX(floor,MATCH(AT26,gymnasts,0)), \"\")","v":{"v":11.7,"d":"11.70"}},"4th Place",{"$f":"IFERROR(INDEX(floor,MATCH(AV26,gymnasts,0)), \"\")","v":{"v":11.8,"d":"11.80"}},"3rd Place",{"$f":"IFERROR(INDEX(floor,MATCH(AX26,gymnasts,0)), \"\")","v":12.15},"2nd Place",{"$f":"IFERROR(INDEX(floor,MATCH(AZ26,gymnasts,0)), \"\")","v":12.35},"1st Place",{"$f":"IFERROR(INDEX(floor,MATCH(BB26,gymnasts,0)), \"\")","v":12.75}]
[{"$nulls":3},{"v":0,"d":"0.0"},{"v":0,"d":"0.00"},{"v":0,"d":"0.0"},{"v":0,"d":"0.00"},{"v":0,"d":"0.00"},9,23,0,9,{"v":0,"d":"0.0"},{"v":0,"d":"0.00"},8,23,0,8,{"v":0,"d":"0.0"},{"v":0,"d":"0.00"},9,23,0,9,{"v":0,"d":"0.0"},{"v":0,"d":"0.00"},9,23,0,9,{"v":0,"d":"0.0"},{"v":0,"d":"0.00"},8,23,0,8,{"v":0,"d":"0.00"},9,23,0,9,null,"Floor",{"$f":"IFERROR(INDEX(gymnasts, SMALL(IF(VALUE(LEFT(AR$32, 1))=FloorPos, ROW(FloorPos)-MIN(ROW(FloorPos))+1, \"\"), ROW()-25)), \"\")","v":"Ava Smith"},{"$f":"IFERROR( INDEX(entries, MATCH(AR26, gymnasts, 0), 2), \"\")","v":"Hartlepool"},{"$f":"IFERROR(INDEX(gymnasts, SMALL(IF(VALUE(LEFT(AT$32, 1))=FloorPos, ROW(FloorPos)-MIN(ROW(FloorPos))+1, \"\"), ROW()-25)), \"\")","v":"Harriet Appleby"},{"$f":"IFERROR( INDEX(entries, MATCH(AT26, gymnasts, 0), 2), \"\")","v":"Hartlepool"},{"$f":"IFERROR(INDEX(gymnasts, SMALL(IF(VALUE(LEFT(AV$32, 1))=FloorPos, ROW(FloorPos)-MIN(ROW(FloorPos))+1, \"\"), ROW()-25)), \"\")","v":"Ava Hunter"},{"$f":"IFERROR( INDEX(entries, MATCH(AV26, gymnasts, 0), 2), \"\")","v":"SD"},{"$f":"IFERROR(INDEX(gymnasts, SMALL(IF(VALUE(LEFT(AX$32, 1))=FloorPos, ROW(FloorPos)-MIN(ROW(FloorPos))+1, \"\"), ROW()-25)), \"\")","v":"Mia Dowson"},{"$f":"IFERROR( INDEX(entries, MATCH(AX26, gymnasts, 0), 2), \"\")","v":"SD"},{"$f":"IFERROR(INDEX(gymnasts, SMALL(IF(VALUE(LEFT(AZ$32, 1))=FloorPos, ROW(FloorPos)-MIN(ROW(FloorPos))+1, \"\"), ROW()-25)), \"\")","v":"Tiani-Mai Graham"},{"$f":"IFERROR( INDEX(entries, MATCH(AZ26, gymnasts, 0), 2), \"\")","v":"SD"},{"$f":"IFERROR(INDEX(gymnasts, SMALL(IF(VALUE(LEFT(BB$32, 1))=FloorPos, ROW(FloorPos)-MIN(ROW(FloorPos))+1, \"\"), ROW()-25)), \"\")","v":"Scarlett Thompson"},{"$f":"IFERROR( INDEX(entries, MATCH(BB26, gymnasts, 0), 2), \"\")","v":"SD"}]
[{"$nulls":3},{"v":0,"d":"0.0"},{"v":0,"d":"0.00"},{"v":0,"d":"0.0"},{"v":0,"d":"0.00"},{"v":0,"d":"0.00"},9,24,0,9,{"v":0,"d":"0.0"},{"v":0,"d":"0.00"},8,24,0,8,{"v":0,"d":"0.0"},{"v":0,"d":"0.00"},9,24,0,9,{"v":0,"d":"0.0"},{"v":0,"d":"0.00"},9,24,0,9,{"v":0,"d":"0.0"},{"v":0,"d":"0.00"},8,24,0,8,{"v":0,"d":"0.00"},9,24,0,9,null,null,"",{"$f":"IFERROR( INDEX(entries, MATCH(AR27, gymnasts, 0), 2), \"\")","v":""},"",{"$f":"IFERROR( INDEX(entries, MATCH(AT27, gymnasts, 0), 2), \"\")","v":""},"",{"$f":"IFERROR( INDEX(entries, MATCH(AV27, gymnasts, 0), 2), \"\")","v":""},"",{"$f":"IFERROR( INDEX(entries, MATCH(AX27, gymnasts, 0), 2), \"\")","v":""},"",{"$f":"IFERROR( INDEX(entries, MATCH(AZ27, gymnasts, 0), 2), \"\")","v":""},"",""]
[{"$nulls":3},{"v":0,"d":"0.0"},{"v":0,"d":"0.00"},{"v":0,"d":"0.0"},{"v":0,"d":"0.00"},{"v":0,"d":"0.00"},9,25,0,9,{"v":0,"d":"0.0"},{"v":0,"d":"0.00"},8,25,0,8,{"v":0,"d":"0.0"},{"v":0,"d":"0.00"},9,25,0,9,{"v":0,"d":"0.0"},{"v":0,"d":"0.00"},9,25,0,9,{"v":0,"d":"0.0"},{"v":0,"d":"0.00"},8,25,0,8,{"v":0,"d":"0.00"},9,25,0,9,null,null,"","","","","","","","","","","",""]
[{"$nulls":3},{"v":0,"d":"0.0"},{"v":0,"d":"0.00"},{"v":0,"d":"0.0"},{"v":0,"d":"0.00"},{"v":0,"d":"0.00"},9,26,0,9,{"v":0,"d":"0.0"},{"v":0,"d":"0.00"},8,26,0,8,{"v":0,"d":"0.0"},{"v":0,"d":"0.00"},9,26,0,9,{"v":0,"d":"0.0"},{"v":0,"d":"0.00"},9,26,0,9,{"v":0,"d":"0.0"},{"v":0,"d":"0.00"},8,26,0,8,{"v":0,"d":"0.00"},9,26,0,9,null,null,"","","","","","","","","","","",""]
[{"$nulls":3},{"v":0,"d":"0.0"},{"v":0,"d":"0.00"},{"v":0,"d":"0.0"},{"v":0,"d":"0.00"},{"v":0,"d":"0.00"},9,27,0,9,{"v":0,"d":"0.0"},{"v":0,"d":"0.00"},8,27,0,8,{"v":0,"d":"0.0"},{"v":0,"d":"0.00"},9,27,0,9,{"v":0,"d":"0.0"},{"v":0,"d":"0.00"},9,27,0,9,{"v":0,"d":"0.0"},{"v":0,"d":"0.00"},8,27,0,8,{"v":0,"d":"0.00"},9,27,0,9,null,null,"","","","","","","","","","","",""]
[{"$nulls":3},{"v":0,"d":"0.0"},{"v":0,"d":"0.00"},{"v":0,"d":"0.0"},{"v":0,"d":"0.00"},{"v":0,"d":"0.00"},9,28,0,9,{"v":0,"d":"0.0"},{"v":0,"d":"0.00"},8,28,0,8,{"v":0,"d":"0.0"},{"v":0,"d":"0.00"},9,28,0,9,{"v":0,"d":"0.0"},{"v":0,"d":"0.00"},9,28,0,9,{"v":0,"d":"0.0"},{"v":0,"d":"0.00"},8,28,0,8,{"v":0,"d":"0.00"},9,28,0,9,null,null,"","","","","","","","","","","",""]
[{"$nulls":3},{"v":0,"d":"0.0"},{"v":0,"d":"0.00"},{"v":0,"d":"0.0"},{"v":0,"d":"0.00"},{"v":0,"d":"0.00"},9,29,0,9,{"v":0,"d":"0.0"},{"v":0,"d":"0.00"},8,29,0,8,{"v":0,"d":"0.0"},{"v":0,"d":"0.00"},9,29,0,9,{"v":0,"d":"0.0"},{"v":0,"d":"0.00"},9,29,0,9,{"v":0,"d":"0.0"},{"v":0,"d":"0.00"},8,29,0,8,{"v":0,"d":"0.00"},9,29,0,9,null,null,"6th Place",{"$f":"IFERROR(INDEX(range,MATCH(AR33,gymnasts,0)), \"\")","v":11.15},"5th Place",{"$f":"IFERROR(INDEX(range,MATCH(AT33,gymnasts,0)), \"\")","v":{"v":11.5,"d":"11.50"}},"4th Place",{"$f":"IFERROR(INDEX(range,MATCH(AV33,gymnasts,0)), \"\")","v":12.15},"3rd Place",{"$f":"IFERROR(INDEX(range,MATCH(AX33,gymnasts,0)), \"\")","v":{"v":12.5,"d":"12.50"}},"2nd Place",{"$f":"IFERROR(INDEX(range,MATCH(AZ33,gymnasts,0)), \"\")","v":12.95},"1st Place",{"$f":"IFERROR(INDEX(range,MATCH(BB33,gymnasts,0)), \"\")","v":13.15}]
[{"$nulls":3},{"v":0,"d":"0.0"},{"v":0,"d":"0.00"},{"v":0,"d":"0.0"},{"v":0,"d":"0.00"},{"v":0,"d":"0.00"},9,30,0,9,{"v":0,"d":"0.0"},{"v":0,"d":"0.00"},8,30,0,8,{"v":0,"d":"0.0"},{"v":0,"d":"0.00"},9,30,0,9,{"v":0,"d":"0.0"},{"v":0,"d":"0.00"},9,30,0,9,{"v":0,"d":"0.0"},{"v":0,"d":"0.00"},8,30,0,8,{"v":0,"d":"0.00"},9,30,0,9,null,"Range",{"$f":"IFERROR(INDEX(gymnasts, SMALL(IF(VALUE(LEFT(AR$32, 1))=RangePos, ROW(RangePos)-MIN(ROW(RangePos))+1, \"\"), ROW()-32)), \"\")","v":"Ava Hunter"},{"$f":"IFERROR( INDEX(entries, MATCH(AR33, gymnasts, 0), 2), \"\")","v":"SD"},{"$f":"IFERROR(INDEX(gymnasts, SMALL(IF(VALUE(LEFT(AT$32, 1))=RangePos, ROW(RangePos)-MIN(ROW(RangePos))+1, \"\"), ROW()-32)), \"\")","v":"Harriet Appleby"},{"$f":"IFERROR( INDEX(entries, MATCH(AT33, gymnasts, 0), 2), \"\")","v":"Hartlepool"},{"$f":"IFERROR(INDEX(gymnasts, SMALL(IF(VALUE(LEFT(AV$32, 1))=RangePos, ROW(RangePos)-MIN(ROW(RangePos))+1, \"\"), ROW()-32)), \"\")","v":"Lottie Kenyon"},{"$f":"IFERROR( INDEX(entries, MATCH(AV33, gymnasts, 0), 2), \"\")","v":"Kendal"},{"$f":"IFERROR(INDEX(gymnasts, SMALL(IF(VALUE(LEFT(AX$32, 1))=RangePos, ROW(RangePos)-MIN(ROW(RangePos))+1, \"\"), ROW()-32)), \"\")","v":"Mia Dowson"},{"$f":"IFERROR( INDEX(entries, MATCH(AX33, gymnasts, 0), 2), \"\")","v":"SD"},{"$f":"IFERROR(INDEX(gymnasts, SMALL(IF(VALUE(LEFT(AZ$32, 1))=RangePos, ROW(RangePos)-MIN(ROW(RangePos))+1, \"\"), ROW()-32)), \"\")","v":"Tiani-Mai Graham"},{"$f":"IFERROR( INDEX(entries, MATCH(AZ33, gymnasts, 0), 2), \"\")","v":"SD"},{"$f":"IFERROR(INDEX(gymnasts, SMALL(IF(VALUE(LEFT(BB$32, 1))=RangePos, ROW(RangePos)-MIN(ROW(RangePos))+1, \"\"), ROW()-32)), \"\")","v":"Scarlett Thompson"},{"$f":"IFERROR( INDEX(entries, MATCH(BB33, gymnasts, 0), 2), \"\")","v":"SD"}]
[{"$nulls":3},{"v":0,"d":"0.0"},{"v":0,"d":"0.00"},{"v":0,"d":"0.0"},{"v":0,"d":"0.00"},{"v":0,"d":"0.00"},9,31,0,9,{"v":0,"d":"0.0"},{"v":0,"d":"0.00"},8,31,0,8,{"v":0,"d":"0.0"},{"v":0,"d":"0.00"},9,31,0,9,{"v":0,"d":"0.0"},{"v":0,"d":"0.00"},9,31,0,9,{"v":0,"d":"0.0"},{"v":0,"d":"0.00"},8,31,0,8,{"v":0,"d":"0.00"},9,31,0,9,null,null,"",{"$f":"IFERROR( INDEX(entries, MATCH(AR34, gymnasts, 0), 2), \"\")","v":""},"",{"$f":"IFERROR( INDEX(entries, MATCH(AT34, gymnasts, 0), 2), \"\")","v":""},"Abi Marshall",{"$f":"IFERROR( INDEX(entries, MATCH(AV34, gymnasts, 0), 2), \"\")","v":"Darlington"},"",{"$f":"IFERROR( INDEX(entries, MATCH(AX34, gymnasts, 0), 2), \"\")","v":""},"",{"$f":"IFERROR( INDEX(entries, MATCH(AZ34, gymnasts, 0), 2), \"\")","v":""},"",""]
[{"$nulls":3},{"v":0,"d":"0.0"},{"v":0,"d":"0.00"},{"v":0,"d":"0.0"},{"v":0,"d":"0.00"},{"v":0,"d":"0.00"},9,32,0,9,{"v":0,"d":"0.0"},{"v":0,"d":"0.00"},8,32,0,8,{"v":0,"d":"0.0"},{"v":0,"d":"0.00"},9,32,0,9,{"v":0,"d":"0.0"},{"v":0,"d":"0.00"},9,32,0,9,{"v":0,"d":"0.0"},{"v":0,"d":"0.00"},8,32,0,8,{"v":0,"d":"0.00"},9,32,0,9,null,null,"","","","","","","","","","","",""]
[{"$nulls":3},{"v":0,"d":"0.0"},{"v":0,"d":"0.00"},{"v":0,"d":"0.0"},{"v":0,"d":"0.00"},{"v":0,"d":"0.00"},9,33,0,9,{"v":0,"d":"0.0"},{"v":0,"d":"0.00"},8,33,0,8,{"v":0,"d":"0.0"},{"v":0,"d":"0.00"},9,33,0,9,{"v":0,"d":"0.0"},{"v":0,"d":"0.00"},9,33,0,9,{"v":0,"d":"0.0"},{"v":0,"d":"0.00"},8,33,0,8,{"$f":"SUMIF(D$2:AJ$2, \"SCORE\", D36:AJ36)","v":{"v":0,"d":"0.00"}},9,33,0,9,null,null,"","","","","","","","","","","",""]
[{"$nulls":3},{"v":0,"d":"0.0"},{"v":0,"d":"0.00"},{"v":0,"d":"0.0"},{"v":0,"d":"0.00"},{"v":0,"d":"0.00"},9,34,0,9,{"v":0,"d":"0.0"},{"v":0,"d":"0.00"},8,34,0,8,{"v":0,"d":"0.0"},{"v":0,"d":"0.00"},9,34,0,9,{"v":0,"d":"0.0"},{"v":0,"d":"0.00"},9,34,0,9,{"v":0,"d":"0.0"},{"v":0,"d":"0.00"},8,34,0,8,{"v":0,"d":"0.00"},9,34,0,9,null,null,"","","","","","","","","","","",""]
[{"$nulls":3},{"v":0,"d":"0.0"},{"v":0,"d":"0.00"},{"v":0,"d":"0.0"},{"v":0,"d":"0.00"},{"v":0,"d":"0.00"},9,35,0,9,{"v":0,"d":"0.0"},{"v":0,"d":"0.00"},8,35,0,8,{"v":0,"d":"0.0"},{"v":0,"d":"0.00"},9,35,0,9,{"v":0,"d":"0.0"},{"v":0,"d":"0.00"},9,35,0,9,{"v":0,"d":"0.0"},{"v":0,"d":"0.00"},8,35,0,8,{"v":0,"d":"0.00"},9,35,0,9,null,null,"","","","","","","","","","","",""]
[{"$nulls":3},{"v":0,"d":"0.0"},{"v":0,"d":"0.00"},{"v":0,"d":"0.0"},{"v":0,"d":"0.00"},{"v":0,"d":"0.00"},9,36,0,9,{"v":0,"d":"0.0"},{"v":0,"d":"0.00"},8,36,0,8,{"v":0,"d":"0.0"},{"v":0,"d":"0.00"},9,36,0,9,{"v":0,"d":"0.0"},{"v":0,"d":"0.00"},9,36,0,9,{"v":0,"d":"0.0"},{"v":0,"d":"0.00"},8,36,0,8,{"v":0,"d":"0.00"},9,36,0,9,null,null,"6th Place",{"$f":"IFERROR(INDEX(AAscores,MATCH(AR40,gymnasts,0)), \"\")","v":58.65},"5th Place",{"$f":"IFERROR(INDEX(AAscores,MATCH(AT40,gymnasts,0)), \"\")","v":{"v":58.849999999999994,"d":"58.85"}},"4th Place",{"$f":"IFERROR(INDEX(AAscores,MATCH(AV40,gymnasts,0)), \"\")","v":{"v":58.9,"d":"58.90"}},"3rd Place",{"$f":"IFERROR(INDEX(AAscores,MATCH(AX40,gymnasts,0)), \"\")","v":{"v":60.900000000000006,"d":"60.90"}},"2nd Place",{"$f":"IFERROR(INDEX(AAscores,MATCH(AZ40,gymnasts,0)), \"\")","v":{"v":61.449999999999996,"d":"61.45"}},"1st Place",{"$f":"IFERROR(INDEX(AAscores,MATCH(BB40,gymnasts,0)), \"\")","v":{"v":62.6,"d":"62.60"}}]
[{"$nulls":3},{"v":0,"d":"0.0"},{"v":0,"d":"0.00"},{"v":0,"d":"0.0"},{"v":0,"d":"0.00"},{"v":0,"d":"0.00"},9,37,0,9,{"v":0,"d":"0.0"},{"v":0,"d":"0.00"},8,37,0,8,{"v":0,"d":"0.0"},{"v":0,"d":"0.00"},9,37,0,9,{"v":0,"d":"0.0"},{"v":0,"d":"0.00"},9,37,0,9,{"v":0,"d":"0.0"},{"v":0,"d":"0.00"},8,37,0,8,{"v":0,"d":"0.00"},9,37,0,9,null,"AA",{"$f":"IFERROR(INDEX(gymnasts, SMALL(IF(VALUE(LEFT(AR$39, 1))=AApos, ROW(AApos)-MIN(ROW(AApos))+1, \"\"), ROW()-39)), \"\")","v":"Ava Hunter"},{"$f":"IFERROR( INDEX(entries, MATCH(AR40, gymnasts, 0), 2), \"\")","v":"SD"},{"$f":"IFERROR(INDEX(gymnasts, SMALL(IF(VALUE(LEFT(AT$39, 1))=AApos, ROW(AApos)-MIN(ROW(AApos))+1, \"\"), ROW()-39)), \"\")","v":"Harriet Appleby"},{"$f":"IFERROR( INDEX(entries, MATCH(AT40, gymnasts, 0), 2), \"\")","v":"Hartlepool"},{"$f":"IFERROR(INDEX(gymnasts, SMALL(IF(VALUE(LEFT(AV$39, 1))=AApos, ROW(AApos)-MIN(ROW(AApos))+1, \"\"), ROW()-39)), \"\")","v":"Lottie Kenyon"},{"$f":"IFERROR( INDEX(entries, MATCH(AV40, gymnasts, 0), 2), \"\")","v":"Kendal"},{"$f":"IFERROR(INDEX(gymnasts, SMALL(IF(VALUE(LEFT(AX$39, 1))=AApos, ROW(AApos)-MIN(ROW(AApos))+1, \"\"), ROW()-39)), \"\")","v":"Tiani-Mai Graham"},{"$f":"IFERROR( INDEX(entries, MATCH(AX40, gymnasts, 0), 2), \"\")","v":"SD"},{"$f":"IFERROR(INDEX(gymnasts, SMALL(IF(VALUE(LEFT(AZ$39, 1))=AApos, ROW(AApos)-MIN(ROW(AApos))+1, \"\"), ROW()-39)), \"\")","v":"Scarlett Thompson"},{"$f":"IFERROR( INDEX(entries, MATCH(AZ40, gymnasts, 0), 2), \"\")","v":"SD"},{"$f":"IFERROR(INDEX(gymnasts, SMALL(IF(VALUE(LEFT(BB$39, 1))=AApos, ROW(AApos)-MIN(ROW(AApos))+1, \"\"), ROW()-39)), \"\")","v":"Mia Dowson"},{"$f":"IFERROR( INDEX(entries, MATCH(BB40, gymnasts, 0), 2), \"\")","v":"SD"}]
[{"$nulls":3},{"v":0,"d":"0.0"},{"v":0,"d":"0.00"},{"v":0,"d":"0.0"},{"v":0,"d":"0.00"},{"v":0,"d":"0.00"},9,38,0,9,{"v":0,"d":"0.0"},{"v":0,"d":"0.00"},8,38,0,8,{"v":0,"d":"0.0"},{"v":0,"d":"0.00"},9,38,0,9,{"v":0,"d":"0.0"},{"v":0,"d":"0.00"},9,38,0,9,{"v":0,"d":"0.0"},{"v":0,"d":"0.00"},8,38,0,8,{"v":0,"d":"0.00"},9,38,0,9,null,null,"",{"$f":"IFERROR( INDEX(entries, MATCH(AR41, gymnasts, 0), 2), \"\")","v":""},"",{"$f":"IFERROR( INDEX(entries, MATCH(AT41, gymnasts, 0), 2), \"\")","v":""},"",{"$f":"IFERROR( INDEX(entries, MATCH(AV41, gymnasts, 0), 2), \"\")","v":""},"",{"$f":"IFERROR( INDEX(entries, MATCH(AX41, gymnasts, 0), 2), \"\")","v":""},"",{"$f":"IFERROR( INDEX(entries, MATCH(AZ41, gymnasts, 0), 2), \"\")","v":""},"",""]
[{"$nulls":3},{"v":0,"d":"0.0"},{"v":0,"d":"0.00"},{"v":0,"d":"0.0"},{"v":0,"d":"0.00"},{"v":0,"d":"0.00"},9,39,0,9,{"v":0,"d":"0.0"},{"v":0,"d":"0.00"},8,39,0,8,{"v":0,"d":"0.0"},{"v":0,"d":"0.00"},9,39,0,9,{"v":0,"d":"0.0"},{"v":0,"d":"0.00"},9,39,0,9,{"v":0,"d":"0.0"},{"v":0,"d":"0.00"},8,39,0,8,{"v":0,"d":"0.00"},9,39,0,9,null,null,"","","","","","","","","","","",""]
[{"$nulls":3},{"v":0,"d":"0.0"},{"v":0,"d":"0.00"},{"v":0,"d":"0.0"},{"v":0,"d":"0.00"},{"v":0,"d":"0.00"},9,40,0,9,{"v":0,"d":"0.0"},{"v":0,"d":"0.00"},8,40,0,8,{"v":0,"d":"0.0"},{"v":0,"d":"0.00"},9,40,0,9,{"v":0,"d":"0.0"},{"v":0,"d":"0.00"},9,40,0,9,{"v":0,"d":"0.0"},{"v":0,"d":"0.00"},8,40,0,8,{"v":0,"d":"0.00"},9,40,0,9,null,null,"","","","","","","","","","","",""]
[{"$nulls":3},{"v":0,"d":"0.0"},{"v":0,"d":"0.00"},{"v":0,"d":"0.0"},{"v":0,"d":"0.00"},{"v":0,"d":"0.00"},9,41,0,9,{"v":0,"d":"0.0"},{"v":0,"d":"0.00"},8,41,0,8,{"v":0,"d":"0.0"},{"v":0,"d":"0.00"},9,41,0,9,{"v":0,"d":"0.0"},{"v":0,"d":"0.00"},9,41,0,9,{"v":0,"d":"0.0"},{"v":0,"d":"0.00"},8,41,0,8,{"v":0,"d":"0.00"},9,41,0,9,null,null,"","","","","","","","","","","",""]
[{"$nulls":3},{"v":0,"d":"0.0"},{"v":0,"d":"0.00"},{"v":0,"d":"0.0"},{"v":0,"d":"0.00"},{"v":0,"d":"0.00"},9,42,0,9,{"v":0,"d":"0.0"},{"v":0,"d":"0.00"},8,42,0,8,{"v":0,"d":"0.0"},{"v":0,"d":"0.00"},9,42,0,9,{"v":0,"d":"0.0"},{"v":0,"d":"0.00"},9,42,0,9,{"v":0,"d":"0.0"},{"v":0,"d":"0.00"},8,42,0,8,{"v":0,"d":"0.00"},9,42,0,9,null,null,"","","","","","","","","","","",""]
[{"$nulls":3},{"v":0,"d":"0.0"},{"v":0,"d":"0.00"},{"v":0,"d":"0.0"},{"v":0,"d":"0.00"},{"v":0,"d":"0.00"},9,43,0,9,{"v":0,"d":"0.0"},{"v":0,"d":"0.00"},8,43,0,8,{"v":0,"d":"0.0"},{"v":0,"d":"0.00"},9,43,0,9,{"v":0,"d":"0.0"},{"v":0,"d":"0.00"},9,43,0,9,{"v":0,"d":"0.0"},{"v":0,"d":"0.00"},8,43,0,8,{"v":0,"d":"0.00"},9,43,0,9,null,"Team","3rd place Team",{"$f":"IF(COUNTIF(AR47, 0), \"\", INDEX(teamTotals, MATCH(AR47, teams, 0)))","v":{"$error":"#N/A"}},null,null,"2nd Place Team",{"$f":"IF(COUNTIF(AV47, 0), \"\", INDEX(teamTotals, MATCH(AV47, teams, 0)))","v":""},null,null,"1st Place Team",{"$f":"IF(COUNTIF(AZ47, 0), \"\", INDEX(teamTotals, MATCH(AZ47, teams, 0)))","v":185.85}]
[{"$nulls":3},{"v":0,"d":"0.0"},{"v":0,"d":"0.00"},{"v":0,"d":"0.0"},{"v":0,"d":"0.00"},{"v":0,"d":"0.00"},9,44,0,9,{"v":0,"d":"0.0"},{"v":0,"d":"0.00"},8,44,0,8,{"v":0,"d":"0.0"},{"v":0,"d":"0.00"},9,44,0,9,{"v":0,"d":"0.0"},{"v":0,"d":"0.00"},9,44,0,9,{"v":0,"d":"0.0"},{"v":0,"d":"0.00"},8,44,0,8,{"v":0,"d":"0.00"},9,44,0,9,null,null,{"$f":"IFERROR(INDEX(teams, SMALL(IF(VALUE(LEFT(AR$46, 1))=teamPos, ROW(teamPos)-MIN(ROW(teamPos))+1, \"\"), ROW()-46)), \"\")","v":""},{"$f":"IFERROR(IF(COUNTIF(AR47, 0), \"\", INDEX(gymnasts, SMALL(IF(AR$47=club, ROW(club)-MIN(ROW(club))+1, \"\"), ROW()-46))), \"\")","v":0},null,null,{"$f":"IFERROR(INDEX(teams, SMALL(IF(VALUE(LEFT(AV$46, 1))=teamPos, ROW(teamPos)-MIN(ROW(teamPos))+1, \"\"), ROW()-46)), \"\")","v":0},{"$f":"IFERROR(IF(COUNTIF(AV47, 0), \"\", INDEX(gymnasts, SMALL(IF(AV$47=club, ROW(club)-MIN(ROW(club))+1, \"\"), ROW()-46))), \"\")","v":""},null,null,{"$f":"IFERROR(INDEX(teams, SMALL(IF(VALUE(LEFT(AZ$46, 1))=teamPos, ROW(teamPos)-MIN(ROW(teamPos))+1, \"\"), ROW()-46)), \"\")","v":"SD"},{"$f":"IFERROR(IF(COUNTIF(AZ47, 0), \"\", INDEX(gymnasts, SMALL(IF(AZ$47=club, ROW(club)-MIN(ROW(club))+1, \"\"), ROW()-46))), \"\")","v":"Ava Hunter"}]
[{"$nulls":3},{"v":0,"d":"0.0"},{"v":0,"d":"0.00"},{"v":0,"d":"0.0"},{"v":0,"d":"0.00"},{"v":0,"d":"0.00"},9,45,0,9,{"v":0,"d":"0.0"},{"v":0,"d":"0.00"},8,45,0,8,{"v":0,"d":"0.0"},{"v":0,"d":"0.00"},9,45,0,9,{"v":0,"d":"0.0"},{"v":0,"d":"0.00"},9,45,0,9,{"v":0,"d":"0.0"},{"v":0,"d":"0.00"},8,45,0,8,{"v":0,"d":"0.00"},9,45,0,9,{"$nulls":3},{"$f":"IFERROR(IF(COUNTIF(AR48, 0), \"\", INDEX(gymnasts, SMALL(IF(AR$47=club, ROW(club)-MIN(ROW(club))+1, \"\"), ROW()-46))), \"\")","v":0},{"$nulls":3},{"$f":"IFERROR(IF(COUNTIF(AV48, 0), \"\", INDEX(gymnasts, SMALL(IF(AV$47=club, ROW(club)-MIN(ROW(club))+1, \"\"), ROW()-46))), \"\")","v":0},{"$nulls":3},{"$f":"IFERROR(IF(COUNTIF(AZ48, 0), \"\", INDEX(gymnasts, SMALL(IF(AZ$47=club, ROW(club)-MIN(ROW(club))+1, \"\"), ROW()-46))), \"\")","v":"Mia Dowson"}]
[{"$nulls":3},{"v":0,"d":"0.0"},{"v":0,"d":"0.00"},{"v":0,"d":"0.0"},{"v":0,"d":"0.00"},{"v":0,"d":"0.00"},9,46,0,9,{"v":0,"d":"0.0"},{"v":0,"d":"0.00"},8,46,0,8,{"v":0,"d":"0.0"},{"v":0,"d":"0.00"},9,46,0,9,{"v":0,"d":"0.0"},{"v":0,"d":"0.00"},9,46,0,9,{"v":0,"d":"0.0"},{"v":0,"d":"0.00"},8,46,0,8,{"v":0,"d":"0.00"},9,46,0,9,{"$nulls":3},{"$f":"IFERROR(IF(COUNTIF(AR49, 0), \"\", INDEX(gymnasts, SMALL(IF(AR$47=club, ROW(club)-MIN(ROW(club))+1, \"\"), ROW()-46))), \"\")","v":0},{"$nulls":3},{"$f":"IFERROR(IF(COUNTIF(AV49, 0), \"\", INDEX(gymnasts, SMALL(IF(AV$47=club, ROW(club)-MIN(ROW(club))+1, \"\"), ROW()-46))), \"\")","v":0},{"$nulls":3},{"$f":"IFERROR(IF(COUNTIF(AZ49, 0), \"\", INDEX(gymnasts, SMALL(IF(AZ$47=club, ROW(club)-MIN(ROW(club))+1, \"\"), ROW()-46))), \"\")","v":"Scarlett Thompson"}]
[{"$nulls":3},{"v":0,"d":"0.0"},{"v":0,"d":"0.00"},{"v":0,"d":"0.0"},{"v":0,"d":"0.00"},{"v":0,"d":"0.00"},9,47,0,9,{"v":0,"d":"0.0"},{"v":0,"d":"0.00"},8,47,0,8,{"v":0,"d":"0.0"},{"v":0,"d":"0.00"},9,47,0,9,{"v":0,"d":"0.0"},{"v":0,"d":"0.00"},9,47,0,9,{"v":0,"d":"0.0"},{"v":0,"d":"0.00"},8,47,0,8,{"v":0,"d":"0.00"},9,47,0,9,{"$nulls":3},{"$f":"IFERROR(IF(COUNTIF(AR50, 0), \"\", INDEX(gymnasts, SMALL(IF(AR$47=club, ROW(club)-MIN(ROW(club))+1, \"\"), ROW()-46))), \"\")","v":0},{"$nulls":3},{"$f":"IFERROR(IF(COUNTIF(AV50, 0), \"\", INDEX(gymnasts, SMALL(IF(AV$47=club, ROW(club)-MIN(ROW(club))+1, \"\"), ROW()-46))), \"\")","v":0},{"$nulls":3},{"$f":"IFERROR(IF(COUNTIF(AZ50, 0), \"\", INDEX(gymnasts, SMALL(IF(AZ$47=club, ROW(club)-MIN(ROW(club))+1, \"\"), ROW()-46))), \"\")","v":"Tiani-Mai Graham"}]
[{"$nulls":3},{"v":0,"d":"0.0"},{"v":0,"d":"0.00"},{"v":0,"d":"0.0"},{"v":0,"d":"0.00"},{"v":0,"d":"0.00"},9,48,0,9,{"v":0,"d":"0.0"},{"v":0,"d":"0.00"},8,48,0,8,{"v":0,"d":"0.0"},{"v":0,"d":"0.00"},9,48,0,9,{"v":0,"d":"0.0"},{"v":0,"d":"0.00"},9,48,0,9,{"v":0,"d":"0.0"},{"v":0,"d":"0.00"},8,48,0,8,{"v":0,"d":"0.00"},9,48,0,9,{"$nulls":3},{"$f":"IFERROR(IF(COUNTIF(AR51, 0), \"\", INDEX(gymnasts, SMALL(IF(AR$47=club, ROW(club)-MIN(ROW(club))+1, \"\"), ROW()-46))), \"\")","v":0},{"$nulls":3},{"$f":"IFERROR(IF(COUNTIF(AV51, 0), \"\", INDEX(gymnasts, SMALL(IF(AV$47=club, ROW(club)-MIN(ROW(club))+1, \"\"), ROW()-46))), \"\")","v":0},{"$nulls":3},{"$f":"IFERROR(IF(COUNTIF(AZ51, 0), \"\", INDEX(gymnasts, SMALL(IF(AZ$47=club, ROW(club)-MIN(ROW(club))+1, \"\"), ROW()-46))), \"\")","v":""}]
[{"$nulls":3},{"v":0,"d":"0.0"},{"v":0,"d":"0.00"},{"v":0,"d":"0.0"},{"v":0,"d":"0.00"},{"v":0,"d":"0.00"},9,49,0,9,{"v":0,"d":"0.0"},{"v":0,"d":"0.00"},8,49,0,8,{"v":0,"d":"0.0"},{"v":0,"d":"0.00"},9,49,0,9,{"v":0,"d":"0.0"},{"v":0,"d":"0.00"},9,49,0,9,{"v":0,"d":"0.0"},{"v":0,"d":"0.00"},8,49,0,8,{"v":0,"d":"0.00"},9,49,0,9,null,null,{"$f":"IFERROR(INDEX(teams, SMALL(IF(VALUE(LEFT(AR$46, 1))=teamPos, ROW(teamPos)-MIN(ROW(teamPos))+1, \"\"), ROW()-50)), \"\")","v":""},{"$f":"IFERROR(IF(COUNTIF(AR$52, 0), \"\", INDEX(gymnasts, SMALL(IF(AR$52=club, ROW(club)-MIN(ROW(club))+1, \"\"), ROW()-51))), \"\")","v":0},null,null,{"$f":"IFERROR(INDEX(teams, SMALL(IF(VALUE(LEFT(AV$46, 1))=teamPos, ROW(teamPos)-MIN(ROW(teamPos))+1, \"\"), ROW()-50)), \"\")","v":0},{"$f":"IFERROR(IF(COUNTIF(AV$52, 0), \"\", INDEX(gymnasts, SMALL(IF(AV$52=club, ROW(club)-MIN(ROW(club))+1, \"\"), ROW()-51))), \"\")","v":""},null,null,{"$f":"IFERROR(INDEX(teams, SMALL(IF(VALUE(LEFT(AZ$46, 1))=teamPos, ROW(teamPos)-MIN(ROW(teamPos))+1, \"\"), ROW()-50)), \"\")","v":""},{"$f":"IFERROR(IF(COUNTIF(AZ$52, 0), \"\", INDEX(gymnasts, SMALL(IF(AZ$52=club, ROW(club)-MIN(ROW(club))+1, \"\"), ROW()-51))), \"\")","v":0}]
[{"$nulls":3},{"v":0,"d":"0.0"},{"v":0,"d":"0.00"},{"v":0,"d":"0.0"},{"v":0,"d":"0.00"},{"v":0,"d":"0.00"},9,50,0,9,{"v":0,"d":"0.0"},{"v":0,"d":"0.00"},8,50,0,8,{"v":0,"d":"0.0"},{"v":0,"d":"0.00"},9,50,0,9,{"v":0,"d":"0.0"},{"v":0,"d":"0.00"},9,50,0,9,{"v":0,"d":"0.0"},{"v":0,"d":"0.00"},8,50,0,8,{"v":0,"d":"0.00"},9,50,0,9,{"$nulls":3},{"$f":"IFERROR(IF(COUNTIF(AR$52, 0), \"\", INDEX(gymnasts, SMALL(IF(AR$52=club, ROW(club)-MIN(ROW(club))+1, \"\"), ROW()-51))), \"\")","v":0},{"$nulls":3},{"$f":"IFERROR(IF(COUNTIF(AV$52, 0), \"\", INDEX(gymnasts, SMALL(IF(AV$52=club, ROW(club)-MIN(ROW(club))+1, \"\"), ROW()-51))), \"\")","v":""},{"$nulls":3},{"$f":"IFERROR(IF(COUNTIF(AZ$52, 0), \"\", INDEX(gymnasts, SMALL(IF(AZ$52=club, ROW(club)-MIN(ROW(club))+1, \"\"), ROW()-51))), \"\")","v":0}]
[{"$nulls":3},{"v":0,"d":"0.0"},{"v":0,"d":"0.00"},{"v":0,"d":"0.0"},{"v":0,"d":"0.00"},{"v":0,"d":"0.00"},9,51,0,9,{"v":0,"d":"0.0"},{"v":0,"d":"0.00"},8,51,0,8,{"v":0,"d":"0.0"},{"v":0,"d":"0.00"},9,51,0,9,{"v":0,"d":"0.0"},{"v":0,"d":"0.00"},9,51,0,9,{"v":0,"d":"0.0"},{"v":0,"d":"0.00"},8,51,0,8,{"v":0,"d":"0.00"},9,51,0,9,{"$nulls":3},{"$f":"IFERROR(IF(COUNTIF(AR$52, 0), \"\", INDEX(gymnasts, SMALL(IF(AR$52=club, ROW(club)-MIN(ROW(club))+1, \"\"), ROW()-51))), \"\")","v":0},{"$nulls":3},{"$f":"IFERROR(IF(COUNTIF(AV$52, 0), \"\", INDEX(gymnasts, SMALL(IF(AV$52=club, ROW(club)-MIN(ROW(club))+1, \"\"), ROW()-51))), \"\")","v":""},{"$nulls":3},{"$f":"IFERROR(IF(COUNTIF(AZ$52, 0), \"\", INDEX(gymnasts, SMALL(IF(AZ$52=club, ROW(club)-MIN(ROW(club))+1, \"\"), ROW()-51))), \"\")","v":0}]
[{"$nulls":3},{"v":0,"d":"0.0"},{"v":0,"d":"0.00"},{"v":0,"d":"0.0"},{"v":0,"d":"0.00"},{"v":0,"d":"0.00"},9,52,0,9,{"v":0,"d":"0.0"},{"v":0,"d":"0.00"},8,52,0,8,{"v":0,"d":"0.0"},{"v":0,"d":"0.00"},9,52,0,9,{"v":0,"d":"0.0"},{"v":0,"d":"0.00"},9,52,0,9,{"v":0,"d":"0.0"},{"v":0,"d":"0.00"},8,52,0,8,{"v":0,"d":"0.00"},9,52,0,9,{"$nulls":3},{"$f":"IFERROR(IF(COUNTIF(AR$52, 0), \"\", INDEX(gymnasts, SMALL(IF(AR$52=club, ROW(club)-MIN(ROW(club))+1, \"\"), ROW()-51))), \"\")","v":0},{"$nulls":3},{"$f":"IFERROR(IF(COUNTIF(AV$52, 0), \"\", INDEX(gymnasts, SMALL(IF(AV$52=club, ROW(club)-MIN(ROW(club))+1, \"\"), ROW()-51))), \"\")","v":""},{"$nulls":3},{"$f":"IFERROR(IF(COUNTIF(AZ$52, 0), \"\", INDEX(gymnasts, SMALL(IF(AZ$52=club, ROW(club)-MIN(ROW(club))+1, \"\"), ROW()-51))), \"\")","v":0}]
[{"$nulls":3},{"v":0,"d":"0.0"},{"v":0,"d":"0.00"},{"v":0,"d":"0.0"},{"v":0,"d":"0.00"},{"v":0,"d":"0.00"},9,53,0,9,{"v":0,"d":"0.0"},{"v":0,"d":"0.00"},8,53,0,8,{"v":0,"d":"0.0"},{"v":0,"d":"0.00"},9,53,0,9,{"v":0,"d":"0.0"},{"v":0,"d":"0.00"},9,53,0,9,{"v":0,"d":"0.0"},{"v":0,"d":"0.00"},8,53,0,8,{"v":0,"d":"0.00"},9,53,0,9,{"$nulls":3},{"$f":"IFERROR(IF(ISTEXT(AR$52), INDEX(gymnasts, SMALL(IF(AR$52=club, ROW(club)-MIN(ROW(club))+1, \"\"), ROW()-51)), \"\"), \"\")","v":0},{"$nulls":3},{"$f":"IFERROR(IF(ISTEXT(AV$52), INDEX(gymnasts, SMALL(IF(AV$52=club, ROW(club)-MIN(ROW(club))+1, \"\"), ROW()-51)), \"\"), \"\")","v":""},{"$nulls":3},{"$f":"IFERROR(IF(ISTEXT(AZ$52), INDEX(gymnasts, SMALL(IF(AZ$52=club, ROW(club)-MIN(ROW(club))+1, \"\"), ROW()-51)), \"\"), \"\")","v":0}]
[{"$nulls":3},{"v":0,"d":"0.0"},{"v":0,"d":"0.00"},{"v":0,"d":"0.0"},{"v":0,"d":"0.00"},{"v":0,"d":"0.00"},9,54,0,9,{"v":0,"d":"0.0"},{"v":0,"d":"0.00"},8,54,0,8,{"v":0,"d":"0.0"},{"v":0,"d":"0.00"},9,54,0,9,{"v":0,"d":"0.0"},{"v":0,"d":"0.00"},9,54,0,9,{"v":0,"d":"0.0"},{"v":0,"d":"0.00"},8,54,0,8,{"v":0,"d":"0.00"},9,54,0,9]
[{"$nulls":3},{"v":0,"d":"0.0"},{"v":0,"d":"0.00"},{"v":0,"d":"0.0"},{"v":0,"d":"0.00"},{"v":0,"d":"0.00"},9,55,0,9,{"v":0,"d":"0.0"},{"v":0,"d":"0.00"},8,55,0,8,{"v":0,"d":"0.0"},{"v":0,"d":"0.00"},9,55,0,9,{"v":0,"d":"0.0"},{"v":0,"d":"0.00"},9,55,0,9,{"v":0,"d":"0.0"},{"v":0,"d":"0.00"},8,55,0,8,{"v":0,"d":"0.00"},9,55,0,9]
[{"$nulls":3},{"v":0,"d":"0.0"},{"v":0,"d":"0.00"},{"v":0,"d":"0.0"},{"v":0,"d":"0.00"},{"v":0,"d":"0.00"},9,56,0,9,{"v":0,"d":"0.0"},{"v":0,"d":"0.00"},8,56,0,8,{"v":0,"d":"0.0"},{"v":0,"d":"0.00"},9,56,0,9,{"v":0,"d":"0.0"},{"v":0,"d":"0.00"},9,56,0,9,{"v":0,"d":"0.0"},{"v":0,"d":"0.00"},8,56,0,8,{"v":0,"d":"0.00"},9,56,0,9]
[{"$nulls":3},{"v":0,"d":"0.0"},{"v":0,"d":"0.00"},{"v":0,"d":"0.0"},{"v":0,"d":"0.00"},{"v":0,"d":"0.00"},9,57,0,9,{"v":0,"d":"0.0"},{"v":0,"d":"0.00"},8,57,0,8,{"v":0,"d":"0.0"},{"v":0,"d":"0.00"},9,57,0,9,{"v":0,"d":"0.0"},{"v":0,"d":"0.00"},9,57,0,9,{"v":0,"d":"0.0"},{"v":0,"d":"0.00"},8,57,0,8,{"v":0,"d":"0.00"},9,57,0,9]
[{"$nulls":3},{"v":0,"d":"0.0"},{"v":0,"d":"0.00"},{"v":0,"d":"0.0"},{"v":0,"d":"0.00"},{"v":0,"d":"0.00"},9,58,0,9,{"v":0,"d":"0.0"},{"v":0,"d":"0.00"},8,58,0,8,{"v":0,"d":"0.0"},{"v":0,"d":"0.00"},9,58,0,9,{"v":0,"d":"0.0"},{"v":0,"d":"0.00"},9,58,0,9,{"v":0,"d":"0.0"},{"v":0,"d":"0.00"},8,58,0,8,{"v":0,"d":"0.00"},9,58,0,9]
[{"$nulls":3},{"v":0,"d":"0.0"},{"v":0,"d":"0.00"},{"v":0,"d":"0.0"},{"v":0,"d":"0.00"},{"v":0,"d":"0.00"},9,59,0,9,{"v":0,"d":"0.0"},{"v":0,"d":"0.00"},8,59,0,8,{"v":0,"d":"0.0"},{"v":0,"d":"0.00"},9,59,0,9,{"v":0,"d":"0.0"},{"v":0,"d":"0.00"},9,59,0,9,{"v":0,"d":"0.0"},{"v":0,"d":"0.00"},8,59,0,8,{"v":0,"d":"0.00"},9,59,0,9]
[{"$nulls":3},{"v":0,"d":"0.0"},{"v":0,"d":"0.00"},{"v":0,"d":"0.0"},{"v":0,"d":"0.00"},{"v":0,"d":"0.00"},9,60,0,9,{"v":0,"d":"0.0"},{"v":0,"d":"0.00"},8,60,0,8,{"v":0,"d":"0.0"},{"v":0,"d":"0.00"},9,60,0,9,{"v":0,"d":"0.0"},{"v":0,"d":"0.00"},9,60,0,9,{"v":0,"d":"0.0"},{"v":0,"d":"0.00"},8,60,0,8,{"v":0,"d":"0.00"},9,60,0,9]
[{"$nulls":3},{"v":0,"d":"0.0"},{"v":0,"d":"0.00"},{"v":0,"d":"0.0"},{"v":0,"d":"0.00"},{"v":0,"d":"0.00"},9,61,0,9,{"v":0,"d":"0.0"},{"v":0,"d":"0.00"},8,61,0,8,{"v":0,"d":"0.0"},{"v":0,"d":"0.00"},9,61,0,9,{"v":0,"d":"0.0"},{"v":0,"d":"0.00"},9,61,0,9,{"v":0,"d":"0.0"},{"v":0,"d":"0.00"},8,61,0,8,{"v":0,"d":"0.00"},9,61,0,9]
[{"$nulls":3},{"v":0,"d":"0.0"},{"v":0,"d":"0.00"},{"v":0,"d":"0.0"},{"v":0,"d":"0.00"},{"v":0,"d":"0.00"},9,62,0,9,{"v":0,"d":"0.0"},{"v":0,"d":"0.00"},8,62,0,8,{"v":0,"d":"0.0"},{"v":0,"d":"0.00"},9,62,0,9,{"v":0,"d":"0.0"},{"v":0,"d":"0.00"},9,62,0,9,{"v":0,"d":"0.0"},{"v":0,"d":"0.00"},8,62,0,8,{"v":0,"d":"0.00"},9,62,0,9]
[null,"Teams"]
[null,{"$f":"IF(AND(COUNTIF(club,C67)>=3,COUNTIF(club,C67)<=5),\"TEAM\",IF(COUNTIF(club,C67)>5,\"Too Many!!!!!\",\"NO TEAM\"))","v":"TEAM"},"SD",{"$nulls":4},{"$f":"IF($B67=\"NO TEAM\", 0, SUM(LARGE(IF(club=$C67, vault), ROW($1:$3))))","v":37.95},{"$nulls":5},{"$f":"IF($B67=\"NO TEAM\", 0, SUM(LARGE(IF(club=$C67, bars), ROW($1:$3))))","v":{"v":39.099999999999994,"d":"39.10"}},{"$nulls":5},{"$f":"IF($B67=\"NO TEAM\", 0, SUM(LARGE(IF(club=$C67, beam), ROW($1:$3))))","v":32.95},{"$nulls":5},{"$f":"IF($B67=\"NO TEAM\", 0, SUM(LARGE(IF(club=$C67, floor), ROW($1:$3))))","v":37.25},{"$nulls":5},{"$f":"IF($B67=\"NO TEAM\", 0, SUM(LARGE(IF(club=$C67, range), ROW($1:$3))))","v":{"v":38.6,"d":"38.60"}},{"$nulls":4},{"$f":"IF(B67=\"TEAM\", SUMIF(D$2:AJ$2, \"SCORE\", D67:AJ67), 0)","v":185.85},{"$f":"VLOOKUP(AK67,AN$67:AO$81, 2,FALSE)","v":1},{"$f":"IF(ISNUMBER(AM66), AM66+1, 1)","v":1},{"$f":"LARGE((AK$67:AK$81), $AM67)","v":185.85},{"$f":"IF(AN67=AN66, AO66, AO66+1)","v":1}]
[null,{"$f":"IF(AND(COUNTIF(club,C68)>=3,COUNTIF(club,C68)<=5),\"TEAM\",IF(COUNTIF(club,C68)>5,\"Too Many!!!!!\",\"NO TEAM\"))","v":"NO TEAM"},{"$nulls":5},{"$f":"IF($B68=\"NO TEAM\", 0, SUM(LARGE(IF(club=$C68, vault), ROW($1:$3))))","v":{"v":0,"d":"0.00"}},{"$nulls":5},{"$f":"IF($B68=\"NO TEAM\", 0, SUM(LARGE(IF(club=$C68, bars), ROW($1:$3))))","v":{"v":0,"d":"0.00"}},{"$nulls":5},{"$f":"IF($B68=\"NO TEAM\", 0, SUM(LARGE(IF(club=$C68, beam), ROW($1:$3))))","v":{"v":0,"d":"0.00"}},{"$nulls":5},{"$f":"IF($B68=\"NO TEAM\", 0, SUM(LARGE(IF(club=$C68, floor), ROW($1:$3))))","v":{"v":0,"d":"0.00"}},{"$nulls":5},{"$f":"IF($B68=\"NO TEAM\", 0, SUM(LARGE(IF(club=$C68, range), ROW($1:$3))))","v":{"v":0,"d":"0.00"}},{"$nulls":4},{"v":0,"d":"0.00"},{"$f":"VLOOKUP(AK68,AN$67:AO$81, 2,FALSE)","v":2},{"$f":"IF(ISNUMBER(AM67), AM67+1, 1)","v":2},{"$f":"LARGE((AK$67:AK$81), $AM68)","v":0},{"$f":"IF(AN68=AN67, AO67, AO67+1)","v":2}]
[null,{"$f":"IF(AND(COUNTIF(club,C69)>=3,COUNTIF(club,C69)<=5),\"TEAM\",IF(COUNTIF(club,C69)>5,\"Too Many!!!!!\",\"NO TEAM\"))","v":"NO TEAM"},{"$nulls":5},{"$f":"IF($B69=\"NO TEAM\", 0, SUM(LARGE(IF(club=$C69, vault), ROW($1:$3))))","v":{"v":0,"d":"0.00"}},{"$nulls":5},{"$f":"IF($B69=\"NO TEAM\", 0, SUM(LARGE(IF(club=$C69, bars), ROW($1:$3))))","v":{"v":0,"d":"0.00"}},{"$nulls":5},{"$f":"IF($B69=\"NO TEAM\", 0, SUM(LARGE(IF(club=$C69, beam), ROW($1:$3))))","v":{"v":0,"d":"0.00"}},{"$nulls":5},{"$f":"IF($B69=\"NO TEAM\", 0, SUM(LARGE(IF(club=$C69, floor), ROW($1:$3))))","v":{"v":0,"d":"0.00"}},{"$nulls":5},{"$f":"IF($B69=\"NO TEAM\", 0, SUM(LARGE(IF(club=$C69, range), ROW($1:$3))))","v":{"v":0,"d":"0.00"}},{"$nulls":4},{"v":0,"d":"0.00"},2,3,0,2]
[null,{"$f":"IF(AND(COUNTIF(club,C70)>=3,COUNTIF(club,C70)<=5),\"TEAM\",IF(COUNTIF(club,C70)>5,\"Too Many!!!!!\",\"NO TEAM\"))","v":"NO TEAM"},{"$nulls":5},{"$f":"IF($B70=\"NO TEAM\", 0, SUM(LARGE(IF(club=$C70, vault), ROW($1:$3))))","v":{"v":0,"d":"0.00"}},{"$nulls":5},{"$f":"IF($B70=\"NO TEAM\", 0, SUM(LARGE(IF(club=$C70, bars), ROW($1:$3))))","v":{"v":0,"d":"0.00"}},{"$nulls":5},{"$f":"IF($B70=\"NO TEAM\", 0, SUM(LARGE(IF(club=$C70, beam), ROW($1:$3))))","v":{"v":0,"d":"0.00"}},{"$nulls":5},{"$f":"IF($B70=\"NO TEAM\", 0, SUM(LARGE(IF(club=$C70, floor), ROW($1:$3))))","v":{"v":0,"d":"0.00"}},{"$nulls":5},{"$f":"IF($B70=\"NO TEAM\", 0, SUM(LARGE(IF(club=$C70, range), ROW($1:$3))))","v":{"v":0,"d":"0.00"}},{"$nulls":4},{"v":0,"d":"0.00"},2,4,0,2]
[null,{"$f":"IF(AND(COUNTIF(club,C71)>=3,COUNTIF(club,C71)<=5),\"TEAM\",IF(COUNTIF(club,C71)>5,\"Too Many!!!!!\",\"NO TEAM\"))","v":"NO TEAM"},{"$nulls":5},{"$f":"IF($B71=\"NO TEAM\", 0, SUM(LARGE(IF(club=$C71, vault), ROW($1:$3))))","v":{"v":0,"d":"0.00"}},{"$nulls":5},{"$f":"IF($B71=\"NO TEAM\", 0, SUM(LARGE(IF(club=$C71, bars), ROW($1:$3))))","v":{"v":0,"d":"0.00"}},{"$nulls":5},{"$f":"IF($B71=\"NO TEAM\", 0, SUM(LARGE(IF(club=$C71, beam), ROW($1:$3))))","v":{"v":0,"d":"0.00"}},{"$nulls":5},{"$f":"IF($B71=\"NO TEAM\", 0, SUM(LARGE(IF(club=$C71, floor), ROW($1:$3))))","v":{"v":0,"d":"0.00"}},{"$nulls":5},{"$f":"IF($B71=\"NO TEAM\", 0, SUM(LARGE(IF(club=$C71, range), ROW($1:$3))))","v":{"v":0,"d":"0.00"}},{"$nulls":4},{"v":0,"d":"0.00"},2,5,0,2]
[null,{"$f":"IF(AND(COUNTIF(club,C72)>=3,COUNTIF(club,C72)<=5),\"TEAM\",IF(COUNTIF(club,C72)>5,\"Too Many!!!!!\",\"NO TEAM\"))","v":"NO TEAM"},{"$nulls":5},{"$f":"IF($B72=\"NO TEAM\", 0, SUM(LARGE(IF(club=$C72, vault), ROW($1:$3))))","v":{"v":0,"d":"0.00"}},{"$nulls":5},{"$f":"IF($B72=\"NO TEAM\", 0, SUM(LARGE(IF(club=$C72, bars), ROW($1:$3))))","v":{"v":0,"d":"0.00"}},{"$nulls":5},{"$f":"IF($B72=\"NO TEAM\", 0, SUM(LARGE(IF(club=$C72, beam), ROW($1:$3))))","v":{"v":0,"d":"0.00"}},{"$nulls":5},{"$f":"IF($B72=\"NO TEAM\", 0, SUM(LARGE(IF(club=$C72, floor), ROW($1:$3))))","v":{"v":0,"d":"0.00"}},{"$nulls":5},{"$f":"IF($B72=\"NO TEAM\", 0, SUM(LARGE(IF(club=$C72, range), ROW($1:$3))))","v":{"v":0,"d":"0.00"}},{"$nulls":4},{"v":0,"d":"0.00"},2,6,0,2]
[null,{"$f":"IF(AND(COUNTIF(club,C73)>=3,COUNTIF(club,C73)<=5),\"TEAM\",IF(COUNTIF(club,C73)>5,\"Too Many!!!!!\",\"NO TEAM\"))","v":"NO TEAM"},{"$nulls":5},{"$f":"IF($B73=\"NO TEAM\", 0, SUM(LARGE(IF(club=$C73, vault), ROW($1:$3))))","v":{"v":0,"d":"0.00"}},{"$nulls":5},{"$f":"IF($B73=\"NO TEAM\", 0, SUM(LARGE(IF(club=$C73, bars), ROW($1:$3))))","v":{"v":0,"d":"0.00"}},{"$nulls":5},{"$f":"IF($B73=\"NO TEAM\", 0, SUM(LARGE(IF(club=$C73, beam), ROW($1:$3))))","v":{"v":0,"d":"0.00"}},{"$nulls":5},{"$f":"IF($B73=\"NO TEAM\", 0, SUM(LARGE(IF(club=$C73, floor), ROW($1:$3))))","v":{"v":0,"d":"0.00"}},{"$nulls":5},{"$f":"IF($B73=\"NO TEAM\", 0, SUM(LARGE(IF(club=$C73, range), ROW($1:$3))))","v":{"v":0,"d":"0.00"}},{"$nulls":4},{"v":0,"d":"0.00"},2,7,0,2]
[null,{"$f":"IF(AND(COUNTIF(club,C74)>=3,COUNTIF(club,C74)<=5),\"TEAM\",IF(COUNTIF(club,C74)>5,\"Too Many!!!!!\",\"NO TEAM\"))","v":"NO TEAM"},{"$nulls":5},{"$f":"IF($B74=\"NO TEAM\", 0, SUM(LARGE(IF(club=$C74, vault), ROW($1:$3))))","v":{"v":0,"d":"0.00"}},{"$nulls":5},{"$f":"IF($B74=\"NO TEAM\", 0, SUM(LARGE(IF(club=$C74, bars), ROW($1:$3))))","v":{"v":0,"d":"0.00"}},{"$nulls":5},{"$f":"IF($B74=\"NO TEAM\", 0, SUM(LARGE(IF(club=$C74, beam), ROW($1:$3))))","v":{"v":0,"d":"0.00"}},{"$nulls":5},{"$f":"IF($B74=\"NO TEAM\", 0, SUM(LARGE(IF(club=$C74, floor), ROW($1:$3))))","v":{"v":0,"d":"0.00"}},{"$nulls":5},{"$f":"IF($B74=\"NO TEAM\", 0, SUM(LARGE(IF(club=$C74, range), ROW($1:$3))))","v":{"v":0,"d":"0.00"}},{"$nulls":4},{"v":0,"d":"0.00"},2,8,0,2]
[null,{"$f":"IF(AND(COUNTIF(club,C75)>=3,COUNTIF(club,C75)<=5),\"TEAM\",IF(COUNTIF(club,C75)>5,\"Too Many!!!!!\",\"NO TEAM\"))","v":"NO TEAM"},{"$nulls":5},{"$f":"IF($B75=\"NO TEAM\", 0, SUM(LARGE(IF(club=$C75, vault), ROW($1:$3))))","v":{"v":0,"d":"0.00"}},{"$nulls":5},{"$f":"IF($B75=\"NO TEAM\", 0, SUM(LARGE(IF(club=$C75, bars), ROW($1:$3))))","v":{"v":0,"d":"0.00"}},{"$nulls":5},{"$f":"IF($B75=\"NO TEAM\", 0, SUM(LARGE(IF(club=$C75, beam), ROW($1:$3))))","v":{"v":0,"d":"0.00"}},{"$nulls":5},{"$f":"IF($B75=\"NO TEAM\", 0, SUM(LARGE(IF(club=$C75, floor), ROW($1:$3))))","v":{"v":0,"d":"0.00"}},{"$nulls":5},{"$f":"IF($B75=\"NO TEAM\", 0, SUM(LARGE(IF(club=$C75, range), ROW($1:$3))))","v":{"v":0,"d":"0.00"}},{"$nulls":4},{"v":0,"d":"0.00"},2,9,0,2]
[null,{"$f":"IF(AND(COUNTIF(club,C76)>=3,COUNTIF(club,C76)<=5),\"TEAM\",IF(COUNTIF(club,C76)>5,\"Too Many!!!!!\",\"NO TEAM\"))","v":"NO TEAM"},{"$nulls":5},{"$f":"IF($B76=\"NO TEAM\", 0, SUM(LARGE(IF(club=$C76, vault), ROW($1:$3))))","v":{"v":0,"d":"0.00"}},{"$nulls":5},{"$f":"IF($B76=\"NO TEAM\", 0, SUM(LARGE(IF(club=$C76, bars), ROW($1:$3))))","v":{"v":0,"d":"0.00"}},{"$nulls":5},{"$f":"IF($B76=\"NO TEAM\", 0, SUM(LARGE(IF(club=$C76, beam), ROW($1:$3))))","v":{"v":0,"d":"0.00"}},{"$nulls":5},{"$f":"IF($B76=\"NO TEAM\", 0, SUM(LARGE(IF(club=$C76, floor), ROW($1:$3))))","v":{"v":0,"d":"0.00"}},{"$nulls":5},{"$f":"IF($B76=\"NO TEAM\", 0, SUM(LARGE(IF(club=$C76, range), ROW($1:$3))))","v":{"v":0,"d":"0.00"}},{"$nulls":4},{"v":0,"d":"0.00"},2,10,0,2]
[null,{"$f":"IF(AND(COUNTIF(club,C77)>=3,COUNTIF(club,C77)<=5),\"TEAM\",IF(COUNTIF(club,C77)>5,\"Too Many!!!!!\",\"NO TEAM\"))","v":"NO TEAM"},{"$nulls":5},{"$f":"IF($B77=\"NO TEAM\", 0, SUM(LARGE(IF(club=$C77, vault), ROW($1:$3))))","v":{"v":0,"d":"0.00"}},{"$nulls":5},{"$f":"IF($B77=\"NO TEAM\", 0, SUM(LARGE(IF(club=$C77, bars), ROW($1:$3))))","v":{"v":0,"d":"0.00"}},{"$nulls":5},{"$f":"IF($B77=\"NO TEAM\", 0, SUM(LARGE(IF(club=$C77, beam), ROW($1:$3))))","v":{"v":0,"d":"0.00"}},{"$nulls":5},{"$f":"IF($B77=\"NO TEAM\", 0, SUM(LARGE(IF(club=$C77, floor), ROW($1:$3))))","v":{"v":0,"d":"0.00"}},{"$nulls":5},{"$f":"IF($B77=\"NO TEAM\", 0, SUM(LARGE(IF(club=$C77, range), ROW($1:$3))))","v":{"v":0,"d":"0.00"}},{"$nulls":4},{"v":0,"d":"0.00"},2,11,0,2]
[null,{"$f":"IF(AND(COUNTIF(club,C78)>=3,COUNTIF(club,C78)<=5),\"TEAM\",IF(COUNTIF(club,C78)>5,\"Too Many!!!!!\",\"NO TEAM\"))","v":"NO TEAM"},{"$nulls":5},{"$f":"IF($B78=\"NO TEAM\", 0, SUM(LARGE(IF(club=$C78, vault), ROW($1:$3))))","v":{"v":0,"d":"0.00"}},{"$nulls":5},{"$f":"IF($B78=\"NO TEAM\", 0, SUM(LARGE(IF(club=$C78, bars), ROW($1:$3))))","v":{"v":0,"d":"0.00"}},{"$nulls":5},{"$f":"IF($B78=\"NO TEAM\", 0, SUM(LARGE(IF(club=$C78, beam), ROW($1:$3))))","v":{"v":0,"d":"0.00"}},{"$nulls":5},{"$f":"IF($B78=\"NO TEAM\", 0, SUM(LARGE(IF(club=$C78, floor), ROW($1:$3))))","v":{"v":0,"d":"0.00"}},{"$nulls":5},{"$f":"IF($B78=\"NO TEAM\", 0, SUM(LARGE(IF(club=$C78, range), ROW($1:$3))))","v":{"v":0,"d":"0.00"}},{"$nulls":4},{"v":0,"d":"0.00"},2,12,0,2]
[null,{"$f":"IF(AND(COUNTIF(club,C79)>=3,COUNTIF(club,C79)<=5),\"TEAM\",IF(COUNTIF(club,C79)>5,\"Too Many!!!!!\",\"NO TEAM\"))","v":"NO TEAM"},{"$nulls":5},{"$f":"IF($B79=\"NO TEAM\", 0, SUM(LARGE(IF(club=$C79, vault), ROW($1:$3))))","v":{"v":0,"d":"0.00"}},{"$nulls":5},{"$f":"SUM(LARGE(IF(club=$C79, bars), ROW($1:$3)))","v":{"v":0,"d":"0.00"}},{"$nulls":5},{"$f":"SUM(LARGE(IF(club=$C79, beam), ROW($1:$3)))","v":{"v":0,"d":"0.00"}},{"$nulls":5},{"$f":"SUM(LARGE(IF(club=$C79, floor), ROW($1:$3)))","v":{"v":0,"d":"0.00"}},{"$nulls":5},{"$f":"SUM(LARGE(IF(club=$C79, range), ROW($1:$3)))","v":{"v":0,"d":"0.00"}},{"$nulls":4},{"v":0,"d":"0.00"},2,13,0,2]
[null,{"$f":"IF(AND(COUNTIF(club,C80)>=3,COUNTIF(club,C80)<=5),\"TEAM\",IF(COUNTIF(club,C80)>5,\"Too Many!!!!!\",\"NO TEAM\"))","v":"NO TEAM"},{"$nulls":5},{"$f":"IF($B80=\"NO TEAM\", 0, SUM(LARGE(IF(club=$C80, vault), ROW($1:$3))))","v":{"v":0,"d":"0.00"}},{"$nulls":5},{"$f":"SUM(LARGE(IF(club=$C80, bars), ROW($1:$3)))","v":{"v":0,"d":"0.00"}},{"$nulls":5},{"$f":"SUM(LARGE(IF(club=$C80, beam), ROW($1:$3)))","v":{"v":0,"d":"0.00"}},{"$nulls":5},{"$f":"SUM(LARGE(IF(club=$C80, floor), ROW($1:$3)))","v":{"v":0,"d":"0.00"}},{"$nulls":5},{"$f":"SUM(LARGE(IF(club=$C80, range), ROW($1:$3)))","v":{"v":0,"d":"0.00"}},{"$nulls":4},{"v":0,"d":"0.00"},2,14,0,2]
[null,{"$f":"IF(AND(COUNTIF(club,C81)>=3,COUNTIF(club,C81)<=5),\"TEAM\",IF(COUNTIF(club,C81)>5,\"Too Many!!!!!\",\"NO TEAM\"))","v":"NO TEAM"},{"$nulls":5},{"$f":"IF($B81=\"NO TEAM\", 0, SUM(LARGE(IF(club=$C81, vault), ROW($1:$3))))","v":{"v":0,"d":"0.00"}},{"$nulls":5},{"$f":"SUM(LARGE(IF(club=$C81, bars), ROW($1:$3)))","v":{"v":0,"d":"0.00"}},{"$nulls":5},{"$f":"SUM(LARGE(IF(club=$C81, beam), ROW($1:$3)))","v":{"v":0,"d":"0.00"}},{"$nulls":5},{"$f":"SUM(LARGE(IF(club=$C81, floor), ROW($1:$3)))","v":{"v":0,"d":"0.00"}},{"$nulls":5},{"$f":"SUM(LARGE(IF(club=$C81, range), ROW($1:$3)))","v":{"v":0,"d":"0.00"}},{"$nulls":4},{"v":0,"d":"0.00"},2,15,0,2]

{"sheet":"RegGr 3 <11","index":8,"n_rows":82,"n_cols":55,"rows_kept":82,"merged":[[0,3,0,8],[0,12,0,14],[0,18,0,20],[0,24,0,26],[0,30,0,32],[0,36,0,37],[2,45,2,54],[45,44,45,45],[45,48,45,49],[45,52,45,53],[56,44,56,45]]}
[{"$nulls":3},"VAULT",{"$nulls":8},"BARS",{"$nulls":5},"BEAM",{"$nulls":5},"FLOOR",{"$nulls":5},"RANGE",{"$nulls":5},"AA"]
["No","GYMNAST","CLUB","V1 SV","V1","V2 SV","V2","SCORE","POS","idx","sort","ties","SV","SCORE","POS","idx","sort","ties","SV","SCORE","POS","idx","sort","ties","SV","SCORE","POS","idx","sort","ties","SV","SCORE","POS","idx","sort","ties","TOTAL","POS","idx","sort","ties"]
[null,"Regional Grade 3 - 11 & Under",{"$nulls":41},{"$f":"B3","v":"Regional Grade 3 - 11 & Under"},null,"summary results for presentation"]
[122,"Layla Smith","Carlisle",{"v":4,"d":"4.0"},11.85,{"v":0,"d":"0.0"},{"v":0,"d":"0.00"},{"$f":"MAX(E4, G4)","v":11.85},{"$f":"VLOOKUP(H4, K$4:L$65, 2,FALSE)","v":10},{"$f":"IF(ISNUMBER(J3), J3+1, 1)","v":1},{"$f":"LARGE(H$4:H$65,J4)","v":12.7},{"$f":"IF(K4=K3, L3, L3+1)","v":1},{"v":4,"d":"4.0"},11.35,{"$f":"VLOOKUP(N4, Q$4:R$65, 2,FALSE)","v":11},{"$f":"IF(ISNUMBER(P3), P3+1, 1)","v":1},{"$f":"LARGE(N$4:N$65,P4)","v":13.15},{"$f":"IF(Q4=Q3, R3, R3+1)","v":1},{"v":4,"d":"4.0"},{"v":11.3,"d":"11.30"},{"$f":"VLOOKUP(T4, W$4:X$65, 2,FALSE)","v":6},{"$f":"IF(ISNUMBER(V3), V3+1, 1)","v":1},{"$f":"LARGE(T$4:T$65,V4)","v":11.75},{"$f":"IF(W4=W3, X3, X3+1)","v":1},{"v":4,"d":"4.0"},{"v":11.2,"d":"11.20"},{"$f":"VLOOKUP(Z4, AC$4:AD$65, 2,FALSE)","v":8},{"$f":"IF(ISNUMBER(AB3), AB3+1, 1)","v":1},{"$f":"LARGE(Z$4:Z$65,AB4)","v":12.2},{"$f":"IF(AC4=AC3, AD3, AD3+1)","v":1},{"v":4,"d":"4.0"},12.55,{"$f":"VLOOKUP(AF4, AI$4:AJ$65, 2,FALSE)","v":7},{"$f":"IF(ISNUMBER(AH3), AH3+1, 1)","v":1},{"$f":"LARGE(AF$4:AF$65,AH4)","v":13.4},{"$f":"IF(AI4=AI3, AJ3, AJ3+1)","v":1},{"$f":"SUMIF(D$2:AJ$2, \"SCORE\", D4:AJ4)","v":58.25},{"$f":"VLOOKUP(AK4, AN$4:AO$65, 2,FALSE)","v":10},{"$f":"IF(ISNUMBER(AM3), AM3+1, 1)","v":1},{"$f":"LARGE($AK$4:$AK$65,$AM4)","v":62},{"$f":"IF(AN4=AN3, AO3, AO3+1)","v":1},null,null,"6th Place",{"$f":"IFERROR(INDEX(vault,MATCH(AR5,gymnasts,0)), \"\")","v":12.15},"5th Place",{"$f":"IFERROR(INDEX(vault,MATCH(AT5,gymnasts,0)), \"\")","v":{"v":12.2,"d":"12.20"}},"4th Place",{"$f":"IFERROR(INDEX(vault,MATCH(AV5,gymnasts,0)), \"\")","v":12.25},"3rd Place",{"$f":"IFERROR(INDEX(vault,MATCH(AX5,gymnasts,0)), \"\")","v":{"v":12.3,"d":"12.30"}},"2nd Place",{"$f":"IFERROR(INDEX(vault,MATCH(AZ5,gymnasts,0)), \"\")","v":12.35},"1st Place",{"$f":"IFERROR(INDEX(vault,MATCH(BB5,gymnasts,0)), \"\")","v":{"v":12.7,"d":"12.70"}}]
[123,"Kira Holiday","Carlisle",{"v":4,"d":"4.0"},{"v":12.3,"d":"12.30"},{"v":0,"d":"0.0"},{"v":0,"d":"0.00"},{"$f":"MAX(E5, G5)","v":{"v":12.3,"d":"12.30"}},{"$f":"VLOOKUP(H5, K$4:L$65, 2,FALSE)","v":3},2,{"$f":"LARGE(H$4:H$65,J5)","v":12.35},{"$f":"IF(K5=K4, L4, L4+1)","v":2},{"v":4,"d":"4.0"},12.35,{"$f":"VLOOKUP(N5, Q$4:R$65, 2,FALSE)","v":6},2,{"$f":"LARGE(N$4:N$65,P5)","v":13.15},{"$f":"IF(Q5=Q4, R4, R4+1)","v":1},3.5,{"v":9.3,"d":"9.30"},{"$f":"VLOOKUP(T5, W$4:X$65, 2,FALSE)","v":11},2,{"$f":"LARGE(T$4:T$65,V5)","v":11.75},{"$f":"IF(W5=W4, X4, X4+1)","v":1},{"v":4,"d":"4.0"},{"v":11,"d":"11.00"},{"$f":"VLOOKUP(Z5, AC$4:AD$65, 2,FALSE)","v":9},2,{"$f":"LARGE(Z$4:Z$65,AB5)","v":11.75},{"$f":"IF(AC5=AC4, AD4, AD4+1)","v":2},{"v":4,"d":"4.0"},{"v":11.6,"d":"11.60"},{"$f":"VLOOKUP(AF5, AI$4:AJ$65, 2,FALSE)","v":11},2,{"$f":"LARGE(AF$4:AF$65,AH5)","v":13.1},{"$f":"IF(AI5=AI4, AJ4, AJ4+1)","v":2},{"v":56.550000000000004,"d":"56.55"},{"$f":"VLOOKUP(AK5, AN$4:AO$65, 2,FALSE)","v":13},2,{"$f":"LARGE($AK$4:$AK$65,$AM5)","v":60.9},{"$f":"IF(AN5=AN4, AO4, AO4+1)","v":2},null,"Vault",{"$f":"IFERROR(INDEX(gymnasts, SMALL(IF(VALUE(LEFT(AR$32, 1))=vaultPos, ROW(vaultPos)-MIN(ROW(vaultPos))+1, \"\"), ROW()-4)), \"\")","v":"Lily Todhunter"},{"$f":"IFERROR( INDEX(entries, MATCH(AR5, gymnasts, 0), 2), \"\")","v":"Carlisle"},{"$f":"IFERROR(INDEX(gymnasts, SMALL(IF(VALUE(LEFT(AT$32, 1))=vaultPos, ROW(vaultPos)-MIN(ROW(vaultPos))+1, \"\"), ROW()-4)), \"\")","v":"Isla Chapman"},{"$f":"IFERROR( INDEX(entries, MATCH(AT5, gymnasts, 0), 2), \"\")","v":"Redcar"},{"$f":"IFERROR(INDEX(gymnasts, SMALL(IF(VALUE(LEFT(AV$32, 1))=vaultPos, ROW(vaultPos)-MIN(ROW(vaultPos))+1, \"\"), ROW()-4)), \"\")","v":"Grace Bruce"},{"$f":"IFERROR( INDEX(entries, MATCH(AV5, gymnasts, 0), 2), \"\")","v":"Darlington"},{"$f":"IFERROR(INDEX(gymnasts, SMALL(IF(VALUE(LEFT(AX$32, 1))=vaultPos, ROW(vaultPos)-MIN(ROW(vaultPos))+1, \"\"), ROW()-4)), \"\")","v":"Kira Holiday"},{"$f":"IFERROR( INDEX(entries, MATCH(AX5, gymnasts, 0), 2), \"\")","v":"Carlisle"},{"$f":"IFERROR(INDEX(gymnasts, SMALL(IF(VALUE(LEFT(AZ$32, 1))=vaultPos, ROW(vaultPos)-MIN(ROW(vaultPos))+1, \"\"), ROW()-4)), \"\")","v":"Phoebe Collins"},{"$f":"IFERROR( INDEX(entries, MATCH(AZ5, gymnasts, 0), 2), \"\")","v":"SD"},{"$f":"IFERROR(INDEX(gymnasts, SMALL(IF(VALUE(LEFT(BB$32, 1))=vaultPos, ROW(vaultPos)-MIN(ROW(vaultPos))+1, \"\"), ROW()-4)), \"\")","v":"Olivia Dennis"},{"$f":"IFERROR( INDEX(entries, MATCH(BB5, gymnasts, 0), 2), \"\")","v":"Carlisle"}]
[124,"Olivia Dennis","Carlisle",{"v":4,"d":"4.0"},{"v":12.7,"d":"12.70"},{"v":0,"d":"0.0"},{"v":0,"d":"0.00"},{"v":12.7,"d":"12.70"},1,3,12.3,3,{"v":4,"d":"4.0"},13.15,1,3,12.95,2,{"v":4,"d":"4.0"},{"v":11.7,"d":"11.70"},2,3,11.7,2,{"v":4,"d":"4.0"},{"v":12.2,"d":"12.20"},1,3,11.55,3,{"v":4,"d":"4.0"},12.25,9,3,13.05,3,{"v":62,"d":"62.00"},1,3,60.65,3,null,null,"Tayla Carr",{"$f":"IFERROR( INDEX(entries, MATCH(AR6, gymnasts, 0), 2), \"\")","v":"North Lakes"},"",{"$f":"IFERROR( INDEX(entries, MATCH(AT6, gymnasts, 0), 2), \"\")","v":""},"",{"$f":"IFERROR( INDEX(entries, MATCH(AV6, gymnasts, 0), 2), \"\")","v":""},"",{"$f":"IFERROR( INDEX(entries, MATCH(AX6, gymnasts, 0), 2), \"\")","v":""},"",{"$f":"IFERROR( INDEX(entries, MATCH(AZ6, gymnasts, 0), 2), \"\")","v":""},"",""]
[125,"Lily Todhunter","Carlisle",{"v":4,"d":"4.0"},12.15,{"v":0,"d":"0.0"},{"v":0,"d":"0.00"},12.15,6,4,12.25,4,{"v":4,"d":"4.0"},12.75,4,4,12.9,3,{"v":4,"d":"4.0"},{"v":11.3,"d":"11.30"},6,4,11.65,3,{"v":4,"d":"4.0"},{"v":11.4,"d":"11.40"},5,4,11.45,4,{"v":4,"d":"4.0"},{"v":12.7,"d":"12.70"},6,4,12.9,4,{"v":60.3,"d":"60.30"},4,4,60.3,4,null,null,"Anna Metcalf","Darlington","","","","","","","","","",""]
[126,"Anya Curran","Carlisle",{"v":4,"d":"4.0"},12.05,{"v":0,"d":"0.0"},{"v":0,"d":"0.00"},12.05,7,5,12.2,5,{"v":4,"d":"4.0"},12.75,4,5,12.75,4,{"v":4,"d":"4.0"},11.75,1,5,11.5,4,{"v":4,"d":"4.0"},11.45,4,5,11.4,5,{"v":4,"d":"4.0"},{"v":12.9,"d":"12.90"},4,5,12.75,5,{"v":60.9,"d":"60.90"},2,5,60.050000000000004,5,null,null,"","","","","","","","","","","",""]
[127,"Tayla Carr","North Lakes",{"v":4,"d":"4.0"},12.15,{"v":0,"d":"0.0"},{"v":0,"d":"0.00"},12.15,6,6,12.15,6,{"v":4,"d":"4.0"},{"v":12.9,"d":"12.90"},3,6,12.75,4,{"v":4,"d":"4.0"},10.85,8,6,11.4,5,{"v":4,"d":"4.0"},11.25,7,6,11.4,5,{"v":4,"d":"4.0"},10.95,12,6,12.7,6,{"v":58.099999999999994,"d":"58.10"},11,6,59.949999999999996,6,null,null,"","","","","","","","","","","",""]
[128,"Hannah Shepherd","North Lakes",{"v":4,"d":"4.0"},11.75,{"v":0,"d":"0.0"},{"v":0,"d":"0.00"},{"v":4,"d":"4.00"},12,7,12.15,6,{"v":4,"d":"4.0"},11.85,10,7,12.65,5,3.5,{"v":10.2,"d":"10.20"},10,7,11.3,6,{"v":4,"d":"4.0"},10.55,11,7,11.35,6,{"v":3,"d":"3.0"},{"v":10.8,"d":"10.80"},13,7,12.55,7,{"v":47.39999999999999,"d":"47.40"},14,7,59.85000000000001,7,null,null,"","","","","","","","","","","",""]
[129,"Sadie Proctor","North Lakes",{"v":4,"d":"4.0"},{"v":12,"d":"12.00"},{"v":0,"d":"0.0"},{"v":0,"d":"0.00"},{"v":12,"d":"12.00"},8,8,12.15,6,{"v":4,"d":"4.0"},{"v":12.3,"d":"12.30"},7,8,12.35,6,{"v":4,"d":"4.0"},11.65,3,8,11.3,6,{"v":4,"d":"4.0"},11.75,2,8,11.25,7,{"v":4,"d":"4.0"},{"v":11.9,"d":"11.90"},10,8,12.35,8,{"v":59.6,"d":"59.60"},8,8,59.6,8,null,null,"6th Place",{"$f":"IFERROR(INDEX(bars,MATCH(AR12,gymnasts,0)), \"\")","v":12.35},"5th Place",{"$f":"IFERROR(INDEX(bars,MATCH(AT12,gymnasts,0)), \"\")","v":12.65},"4th Place",{"$f":"IFERROR(INDEX(bars,MATCH(AV12,gymnasts,0)), \"\")","v":12.75},"3rd Place",{"$f":"IFERROR(INDEX(bars,MATCH(AX12,gymnasts,0)), \"\")","v":{"v":12.9,"d":"12.90"}},"2nd Place",{"$f":"IFERROR(INDEX(bars,MATCH(AZ12,gymnasts,0)), \"\")","v":12.95},"1st Place",{"$f":"IFERROR(INDEX(bars,MATCH(BB12,gymnasts,0)), \"\")","v":13.15}]
[130,"Phoebe Collins","SD",{"v":4,"d":"4.0"},12.35,{"v":0,"d":"0.0"},{"v":0,"d":"0.00"},12.35,2,9,12.05,7,{"v":4,"d":"4.0"},11.85,10,9,12.3,7,3.5,{"v":11.5,"d":"11.50"},4,9,11.1,7,{"v":4,"d":"4.0"},11.25,7,9,11.25,7,{"v":4,"d":"4.0"},{"v":13.1,"d":"13.10"},2,9,12.25,9,{"v":60.050000000000004,"d":"60.05"},5,9,58.949999999999996,9,null,"Bars",{"$f":"IFERROR(INDEX(gymnasts, SMALL(IF(VALUE(LEFT(AR$32, 1))=BarPos, ROW(BarPos)-MIN(ROW(BarPos))+1, \"\"), ROW()-11)), \"\")","v":"Kira Holiday"},{"$f":"IFERROR( INDEX(entries, MATCH(AR12, gymnasts, 0), 2), \"\")","v":"Carlisle"},{"$f":"IFERROR(INDEX(gymnasts, SMALL(IF(VALUE(LEFT(AT$32, 1))=BarPos, ROW(BarPos)-MIN(ROW(BarPos))+1, \"\"), ROW()-11)), \"\")","v":"Abbie Patterson"},{"$f":"IFERROR( INDEX(entries, MATCH(AT12, gymnasts, 0), 2), \"\")","v":"Gymtopia"},{"$f":"IFERROR(INDEX(gymnasts, SMALL(IF(VALUE(LEFT(AV$32, 1))=BarPos, ROW(BarPos)-MIN(ROW(BarPos))+1, \"\"), ROW()-11)), \"\")","v":"Lily Todhunter"},{"$f":"IFERROR( INDEX(entries, MATCH(AV12, gymnasts, 0), 2), \"\")","v":"Carlisle"},{"$f":"IFERROR(INDEX(gymnasts, SMALL(IF(VALUE(LEFT(AX$32, 1))=BarPos, ROW(BarPos)-MIN(ROW(BarPos))+1, \"\"), ROW()-11)), \"\")","v":"Tayla Carr"},{"$f":"IFERROR( INDEX(entries, MATCH(AX12, gymnasts, 0), 2), \"\")","v":"North Lakes"},{"$f":"IFERROR(INDEX(gymnasts, SMALL(IF(VALUE(LEFT(AZ$32, 1))=BarPos, ROW(BarPos)-MIN(ROW(BarPos))+1, \"\"), ROW()-11)), \"\")","v":"Anna Metcalf"},{"$f":"IFERROR( INDEX(entries, MATCH(AZ12, gymnasts, 0), 2), \"\")","v":"Darlington"},{"$f":"IFERROR(INDEX(gymnasts, SMALL(IF(VALUE(LEFT(BB$32, 1))=BarPos, ROW(BarPos)-MIN(ROW(BarPos))+1, \"\"), ROW()-11)), \"\")","v":"Olivia Dennis"},{"$f":"IFERROR( INDEX(entries, MATCH(BB12, gymnasts, 0), 2), \"\")","v":"Carlisle"}]
[177,"Isla Chapman","Redcar",{"v":4,"d":"4.0"},{"v":12.2,"d":"12.20"},{"v":0,"d":"0.0"},{"v":0,"d":"0.00"},{"v":12.2,"d":"12.20"},5,10,12,8,{"v":4,"d":"4.0"},{"v":12.1,"d":"12.10"},9,10,12.25,8,{"v":4,"d":"4.0"},11.75,1,10,10.85,8,{"v":4,"d":"4.0"},11.55,3,10,11.2,8,{"v":4,"d":"4.0"},12.35,8,10,11.9,10,{"v":59.949999999999996,"d":"59.95"},6,10,58.25,10,null,null,"",{"$f":"IFERROR( INDEX(entries, MATCH(AR13, gymnasts, 0), 2), \"\")","v":""},"",{"$f":"IFERROR( INDEX(entries, MATCH(AT13, gymnasts, 0), 2), \"\")","v":""},"Anya Curran",{"$f":"IFERROR( INDEX(entries, MATCH(AV13, gymnasts, 0), 2), \"\")","v":"Carlisle"},"",{"$f":"IFERROR( INDEX(entries, MATCH(AX13, gymnasts, 0), 2), \"\")","v":""},"",{"$f":"IFERROR( INDEX(entries, MATCH(AZ13, gymnasts, 0), 2), \"\")","v":""},"Hollie Potts","Gymtopia"]
[131,"Anna Metcalf","Darlington",{"v":4,"d":"4.0"},12.15,{"v":0,"d":"0.0"},{"v":0,"d":"0.00"},12.15,6,11,11.95,9,{"v":4,"d":"4.0"},12.95,2,11,12.1,9,3.5,{"v":11.1,"d":"11.10"},7,11,10.65,9,{"v":4,"d":"4.0"},{"v":10.6,"d":"10.60"},10,11,11,9,{"v":4,"d":"4.0"},13.05,3,11,11.6,11,{"v":59.85000000000001,"d":"59.85"},7,11,58.099999999999994,11,null,null,"","","","","","","","","","","",""]
[132,"Grace Bruce","Darlington",{"v":4,"d":"4.0"},12.25,{"v":0,"d":"0.0"},{"v":0,"d":"0.00"},12.25,4,12,11.85,10,{"v":4,"d":"4.0"},12.25,8,12,11.85,10,3.5,{"v":11.4,"d":"11.40"},5,12,10.2,10,{"v":4,"d":"4.0"},11.35,6,12,10.6,10,{"v":4,"d":"4.0"},{"v":13.4,"d":"13.40"},1,12,11.6,11,60.65,3,12,57.6,12,null,null,"","","","","","","","","","","",""]
[133,"Hollie Potts","Gymtopia",{"v":4,"d":"4.0"},{"v":11.7,"d":"11.70"},{"v":0,"d":"0.0"},{"v":0,"d":"0.00"},{"v":11.7,"d":"11.70"},11,13,11.7,11,{"v":4,"d":"4.0"},13.15,1,13,11.85,10,3.5,10.65,9,13,10.2,10,{"v":4,"d":"4.0"},{"v":10.5,"d":"10.50"},12,13,10.55,11,3.5,{"v":11.6,"d":"11.60"},11,13,10.95,12,{"v":57.6,"d":"57.60"},12,13,56.550000000000004,13,null,null,"","","","","","","","","","","",""]
[134,"Abbie Patterson","Gymtopia",{"v":4,"d":"4.0"},11.95,{"v":0,"d":"0.0"},{"v":0,"d":"0.00"},11.95,9,14,4,12,{"v":4,"d":"4.0"},12.65,5,14,11.35,11,3.5,{"v":10.2,"d":"10.20"},10,14,9.3,11,{"v":4,"d":"4.0"},{"v":11.4,"d":"11.40"},5,14,10.5,12,{"v":4,"d":"4.0"},12.75,5,14,10.8,13,{"v":58.949999999999996,"d":"58.95"},9,14,47.39999999999999,14,null,null,"","","","","","","","","","","",""]
[{"$nulls":3},{"v":0,"d":"0.0"},{"v":0,"d":"0.00"},{"v":0,"d":"0.0"},{"v":0,"d":"0.00"},{"v":0,"d":"0.00"},13,15,0,13,{"v":0,"d":"0.0"},{"v":0,"d":"0.00"},12,15,0,12,{"v":0,"d":"0.0"},{"v":0,"d":"0.00"},12,15,0,12,{"v":0,"d":"0.0"},{"v":0,"d":"0.00"},13,15,0,13,{"v":0,"d":"0.0"},{"v":0,"d":"0.00"},14,15,0,14,{"v":0,"d":"0.00"},15,15,0,15,null,null,"6th Place",{"$f":"IFERROR(INDEX(beam,MATCH(AR19,gymnasts,0)), \"\")","v":{"v":11.3,"d":"11.30"}},"5th Place",{"$f":"IFERROR(INDEX(beam,MATCH(AT19,gymnasts,0)), \"\")","v":{"v":11.4,"d":"11.40"}},"4th Place",{"$f":"IFERROR(INDEX(beam,MATCH(AV19,gymnasts,0)), \"\")","v":{"v":11.5,"d":"11.50"}},"3rd Place",{"$f":"IFERROR(INDEX(beam,MATCH(AX19,gymnasts,0)), \"\")","v":11.65},"2nd Place",{"$f":"IFERROR(INDEX(beam,MATCH(AZ19,gymnasts,0)), \"\")","v":{"v":11.7,"d":"11.70"}},"1st Place",{"$f":"IFERROR(INDEX(beam,MATCH(BB19,gymnasts,0)), \"\")","v":11.75}]
[{"$nulls":3},{"v":0,"d":"0.0"},{"v":0,"d":"0.00"},{"v":0,"d":"0.0"},{"v":0,"d":"0.00"},{"v":0,"d":"0.00"},13,16,0,13,{"v":0,"d":"0.0"},{"v":0,"d":"0.00"},12,16,0,12,{"v":0,"d":"0.0"},{"v":0,"d":"0.00"},12,16,0,12,{"v":0,"d":"0.0"},{"v":0,"d":"0.00"},13,16,0,13,{"v":0,"d":"0.0"},{"v":0,"d":"0.00"},14,16,0,14,{"v":0,"d":"0.00"},15,16,0,15,null,"Beam",{"$f":"IFERROR(INDEX(gymnasts, SMALL(IF(VALUE(LEFT(AR$32, 1))=BeamPos, ROW(BeamPos)-MIN(ROW(BeamPos))+1, \"\"), ROW()-18)), \"\")","v":"Layla Smith"},{"$f":"IFERROR( INDEX(entries, MATCH(AR19, gymnasts, 0), 2), \"\")","v":"Carlisle"},{"$f":"IFERROR(INDEX(gymnasts, SMALL(IF(VALUE(LEFT(AT$32, 1))=BeamPos, ROW(BeamPos)-MIN(ROW(BeamPos))+1, \"\"), ROW()-18)), \"\")","v":"Grace Bruce"},{"$f":"IFERROR( INDEX(entries, MATCH(AT19, gymnasts, 0), 2), \"\")","v":"Darlington"},{"$f":"IFERROR(INDEX(gymnasts, SMALL(IF(VALUE(LEFT(AV$32, 1))=BeamPos, ROW(BeamPos)-MIN(ROW(BeamPos))+1, \"\"), ROW()-18)), \"\")","v":"Phoebe Collins"},{"$f":"IFERROR( INDEX(entries, MATCH(AV19, gymnasts, 0), 2), \"\")","v":"SD"},{"$f":"IFERROR(INDEX(gymnasts, SMALL(IF(VALUE(LEFT(AX$32, 1))=BeamPos, ROW(BeamPos)-MIN(ROW(BeamPos))+1, \"\"), ROW()-18)), \"\")","v":"Sadie Proctor"},{"$f":"IFERROR( INDEX(entries, MATCH(AX19, gymnasts, 0), 2), \"\")","v":"North Lakes"},{"$f":"IFERROR(INDEX(gymnasts, SMALL(IF(VALUE(LEFT(AZ$32, 1))=BeamPos, ROW(BeamPos)-MIN(ROW(BeamPos))+1, \"\"), ROW()-18)), \"\")","v":"Olivia Dennis"},{"$f":"IFERROR( INDEX(entries, MATCH(AZ19, gymnasts, 0), 2), \"\")","v":"Carlisle"},{"$f":"IFERROR(INDEX(gymnasts, SMALL(IF(VALUE(LEFT(BB$32, 1))=BeamPos, ROW(BeamPos)-MIN(ROW(BeamPos))+1, \"\"), ROW()-18)), \"\")","v":"Anya Curran"},{"$f":"IFERROR( INDEX(entries, MATCH(BB19, gymnasts, 0), 2), \"\")","v":"Carlisle"}]
[{"$nulls":3},{"v":0,"d":"0.0"},{"v":0,"d":"0.00"},{"v":0,"d":"0.0"},{"v":0,"d":"0.00"},{"v":0,"d":"0.00"},13,17,0,13,{"v":0,"d":"0.0"},{"v":0,"d":"0.00"},12,17,0,12,{"v":0,"d":"0.0"},{"v":0,"d":"0.00"},12,17,0,12,{"v":0,"d":"0.0"},{"v":0,"d":"0.00"},13,17,0,13,{"v":0,"d":"0.0"},{"v":0,"d":"0.00"},14,17,0,14,{"v":0,"d":"0.00"},15,17,0,15,null,null,"Lily Todhunter",{"$f":"IFERROR( INDEX(entries, MATCH(AR20, gymnasts, 0), 2), \"\")","v":"Carlisle"},"",{"$f":"IFERROR( INDEX(entries, MATCH(AT20, gymnasts, 0), 2), \"\")","v":""},"",{"$f":"IFERROR( INDEX(entries, MATCH(AV20, gymnasts, 0), 2), \"\")","v":""},"",{"$f":"IFERROR( INDEX(entries, MATCH(AX20, gymnasts, 0), 2), \"\")","v":""},"",{"$f":"IFERROR( INDEX(entries, MATCH(AZ20, gymnasts, 0), 2), \"\")","v":""},"Isla Chapman","Redcar"]
[{"$nulls":3},{"v":0,"d":"0.0"},{"v":0,"d":"0.00"},{"v":0,"d":"0.0"},{"v":0,"d":"0.00"},{"v":0,"d":"0.00"},13,18,0,13,{"v":0,"d":"0.0"},{"v":0,"d":"0.00"},12,18,0,12,{"v":0,"d":"0.0"},{"v":0,"d":"0.00"},12,18,0,12,{"v":0,"d":"0.0"},{"v":0,"d":"0.00"},13,18,0,13,{"v":0,"d":"0.0"},{"v":0,"d":"0.00"},14,18,0,14,{"v":0,"d":"0.00"},15,18,0,15,null,null,"","","","","","","","","","","",""]
[{"$nulls":3},{"v":0,"d":"0.0"},{"v":0,"d":"0.00"},{"v":0,"d":"0.0"},{"v":0,"d":"0.00"},{"v":0,"d":"0.00"},13,19,0,13,{"v":0,"d":"0.0"},{"v":0,"d":"0.00"},12,19,0,12,{"v":0,"d":"0.0"},{"v":0,"d":"0.00"},12,19,0,12,{"v":0,"d":"0.0"},{"v":0,"d":"0.00"},13,19,0,13,{"v":0,"d":"0.0"},{"v":0,"d":"0.00"},14,19,0,14,{"v":0,"d":"0.00"},15,19,0,15,null,null,"","","","","","","","","","","",""]
[{"$nulls":3},{"v":0,"d":"0.0"},{"v":0,"d":"0.00"},{"v":0,"d":"0.0"},{"v":0,"d":"0.00"},{"v":0,"d":"0.00"},13,20,0,13,{"v":0,"d":"0.0"},{"v":0,"d":"0.00"},12,20,0,12,{"v":0,"d":"0.0"},{"v":0,"d":"0.00"},12,20,0,12,{"v":0,"d":"0.0"},{"v":0,"d":"0.00"},13,20,0,13,{"v":0,"d":"0.0"},{"v":0,"d":"0.00"},14,20,0,14,{"v":0,"d":"0.00"},15,20,0,15,null,null,"","","","","","","","","","","",""]
[{"$nulls":3},{"v":0,"d":"0.0"},{"v":0,"d":"0.00"},{"v":0,"d":"0.0"},{"v":0,"d":"0.00"},{"v":0,"d":"0.00"},13,21,0,13,{"v":0,"d":"0.0"},{"v":0,"d":"0.00"},12,21,0,12,{"v":0,"d":"0.0"},{"v":0,"d":"0.00"},12,21,0,12,{"v":0,"d":"0.0"},{"v":0,"d":"0.00"},13,21,0,13,{"v":0,"d":"0.0"},{"v":0,"d":"0.00"},14,21,0,14,{"v":0,"d":"0.00"},15,21,0,15,null,null,"","","","","","","","","","","",""]
[{"$nulls":3},{"v":0,"d":"0.0"},{"v":0,"d":"0.00"},{"v":0,"d":"0.0"},{"v":0,"d":"0.00"},{"v":0,"d":"0.00"},13,22,0,13,{"v":0,"d":"0.0"},{"v":0,"d":"0.00"},12,22,0,12,{"v":0,"d":"0.0"},{"v":0,"d":"0.00"},12,22,0,12,{"v":0,"d":"0.0"},{"v":0,"d":"0.00"},13,22,0,13,{"v":0,"d":"0.0"},{"v":0,"d":"0.00"},14,22,0,14,{"v":0,"d":"0.00"},15,22,0,15,null,null,"6th Place",{"$f":"IFERROR(INDEX(floor,MATCH(AR26,gymnasts,0)), \"\")","v":11.35},"5th Place",{"$f":"IFERROR(INDEX(floor,MATCH(AT26,gymnasts,0)), \"\")","v":{"v":11.4,"d":"11.40"}},"4th Place",{"$f":"IFERROR(INDEX(floor,MATCH(AV26,gymnasts,0)), \"\")","v":11.45},"3rd Place",{"$f":"IFERROR(INDEX(floor,MATCH(AX26,gymnasts,0)), \"\")","v":11.55},"2nd Place",{"$f":"IFERROR(INDEX(floor,MATCH(AZ26,gymnasts,0)), \"\")","v":11.75},"1st Place",{"$f":"IFERROR(INDEX(floor,MATCH(BB26,gymnasts,0)), \"\")","v":{"v":12.2,"d":"12.20"}}]
[{"$nulls":3},{"v":0,"d":"0.0"},{"v":0,"d":"0.00"},{"v":0,"d":"0.0"},{"v":0,"d":"0.00"},{"v":0,"d":"0.00"},13,23,0,13,{"v":0,"d":"0.0"},{"v":0,"d":"0.00"},12,23,0,12,{"v":0,"d":"0.0"},{"v":0,"d":"0.00"},12,23,0,12,{"v":0,"d":"0.0"},{"v":0,"d":"0.00"},13,23,0,13,{"v":0,"d":"0.0"},{"v":0,"d":"0.00"},14,23,0,14,{"v":0,"d":"0.00"},15,23,0,15,null,"Floor",{"$f":"IFERROR(INDEX(gymnasts, SMALL(IF(VALUE(LEFT(AR$32, 1))=FloorPos, ROW(FloorPos)-MIN(ROW(FloorPos))+1, \"\"), ROW()-25)), \"\")","v":"Grace Bruce"},{"$f":"IFERROR( INDEX(entries, MATCH(AR26, gymnasts, 0), 2), \"\")","v":"Darlington"},{"$f":"IFERROR(INDEX(gymnasts, SMALL(IF(VALUE(LEFT(AT$32, 1))=FloorPos, ROW(FloorPos)-MIN(ROW(FloorPos))+1, \"\"), ROW()-25)), \"\")","v":"Lily Todhunter"},{"$f":"IFERROR( INDEX(entries, MATCH(AT26, gymnasts, 0), 2), \"\")","v":"Carlisle"},{"$f":"IFERROR(INDEX(gymnasts, SMALL(IF(VALUE(LEFT(AV$32, 1))=FloorPos, ROW(FloorPos)-MIN(ROW(FloorPos))+1, \"\"), ROW()-25)), \"\")","v":"Anya Curran"},{"$f":"IFERROR( INDEX(entries, MATCH(AV26, gymnasts, 0), 2), \"\")","v":"Carlisle"},{"$f":"IFERROR(INDEX(gymnasts, SMALL(IF(VALUE(LEFT(AX$32, 1))=FloorPos, ROW(FloorPos)-MIN(ROW(FloorPos))+1, \"\"), ROW()-25)), \"\")","v":"Isla Chapman"},{"$f":"IFERROR( INDEX(entries, MATCH(AX26, gymnasts, 0), 2), \"\")","v":"Redcar"},{"$f":"IFERROR(INDEX(gymnasts, SMALL(IF(VALUE(LEFT(AZ$32, 1))=FloorPos, ROW(FloorPos)-MIN(ROW(FloorPos))+1, \"\"), ROW()-25)), \"\")","v":"Sadie Proctor"},{"$f":"IFERROR( INDEX(entries, MATCH(AZ26, gymnasts, 0), 2), \"\")","v":"North Lakes"},{"$f":"IFERROR(INDEX(gymnasts, SMALL(IF(VALUE(LEFT(BB$32, 1))=FloorPos, ROW(FloorPos)-MIN(ROW(FloorPos))+1, \"\"), ROW()-25)), \"\")","v":"Olivia Dennis"},{"$f":"IFERROR( INDEX(entries, MATCH(BB26, gymnasts, 0), 2), \"\")","v":"Carlisle"}]
[{"$nulls":3},{"v":0,"d":"0.0"},{"v":0,"d":"0.00"},{"v":0,"d":"0.0"},{"v":0,"d":"0.00"},{"v":0,"d":"0.00"},13,24,0,13,{"v":0,"d":"0.0"},{"v":0,"d":"0.00"},12,24,0,12,{"v":0,"d":"0.0"},{"v":0,"d":"0.00"},12,24,0,12,{"v":0,"d":"0.0"},{"v":0,"d":"0.00"},13,24,0,13,{"v":0,"d":"0.0"},{"v":0,"d":"0.00"},14,24,0,14,{"v":0,"d":"0.00"},15,24,0,15,null,null,"",{"$f":"IFERROR( INDEX(entries, MATCH(AR27, gymnasts, 0), 2), \"\")","v":""},"Abbie Patterson",{"$f":"IFERROR( INDEX(entries, MATCH(AT27, gymnasts, 0), 2), \"\")","v":"Gymtopia"},"",{"$f":"IFERROR( INDEX(entries, MATCH(AV27, gymnasts, 0), 2), \"\")","v":""},"",{"$f":"IFERROR( INDEX(entries, MATCH(AX27, gymnasts, 0), 2), \"\")","v":""},"",{"$f":"IFERROR( INDEX(entries, MATCH(AZ27, gymnasts, 0), 2), \"\")","v":""},"",""]
[{"$nulls":3},{"v":0,"d":"0.0"},{"v":0,"d":"0.00"},{"v":0,"d":"0.0"},{"v":0,"d":"0.00"},{"v":0,"d":"0.00"},13,25,0,13,{"v":0,"d":"0.0"},{"v":0,"d":"0.00"},12,25,0,12,{"v":0,"d":"0.0"},{"v":0,"d":"0.00"},12,25,0,12,{"v":0,"d":"0.0"},{"v":0,"d":"0.00"},13,25,0,13,{"v":0,"d":"0.0"},{"v":0,"d":"0.00"},14,25,0,14,{"v":0,"d":"0.00"},15,25,0,15,null,null,"","","","","","","","","","","",""]
[{"$nulls":3},{"v":0,"d":"0.0"},{"v":0,"d":"0.00"},{"v":0,"d":"0.0"},{"v":0,"d":"0.00"},{"v":0,"d":"0.00"},13,26,0,13,{"v":0,"d":"0.0"},{"v":0,"d":"0.00"},12,26,0,12,{"v":0,"d":"0.0"},{"v":0,"d":"0.00"},12,26,0,12,{"v":0,"d":"0.0"},{"v":0,"d":"0.00"},13,26,0,13,{"v":0,"d":"0.0"},{"v":0,"d":"0.00"},14,26,0,14,{"v":0,"d":"0.00"},15,26,0,15,null,null,"","","","","","","","","","","",""]
[{"$nulls":3},{"v":0,"d":"0.0"},{"v":0,"d":"0.00"},{"v":0,"d":"0.0"},{"v":0,"d":"0.00"},{"v":0,"d":"0.00"},13,27,0,13,{"v":0,"d":"0.0"},{"v":0,"d":"0.00"},12,27,0,12,{"v":0,"d":"0.0"},{"v":0,"d":"0.00"},12,27,0,12,{"v":0,"d":"0.0"},{"v":0,"d":"0.00"},13,27,0,13,{"v":0,"d":"0.0"},{"v":0,"d":"0.00"},14,27,0,14,{"v":0,"d":"0.00"},15,27,0,15,null,null,"","","","","","","","","","","",""]
[{"$nulls":3},{"v":0,"d":"0.0"},{"v":0,"d":"0.00"},{"v":0,"d":"0.0"},{"v":0,"d":"0.00"},{"v":0,"d":"0.00"},13,28,0,13,{"v":0,"d":"0.0"},{"v":0,"d":"0.00"},12,28,0,12,{"v":0,"d":"0.0"},{"v":0,"d":"0.00"},12,28,0,12,{"v":0,"d":"0.0"},{"v":0,"d":"0.00"},13,28,0,13,{"v":0,"d":"0.0"},{"v":0,"d":"0.00"},14,28,0,14,{"v":0,"d":"0.00"},15,28,0,15,null,null,"","","","","","","","","","","",""]
[{"$nulls":3},{"v":0,"d":"0.0"},{"v":0,"d":"0.00"},{"v":0,"d":"0.0"},{"v":0,"d":"0.00"},{"v":0,"d":"0.00"},13,29,0,13,{"v":0,"d":"0.0"},{"v":0,"d":"0.00"},12,29,0,12,{"v":0,"d":"0.0"},{"v":0,"d":"0.00"},12,29,0,12,{"v":0,"d":"0.0"},{"v":0,"d":"0.00"},13,29,0,13,{"v":0,"d":"0.0"},{"v":0,"d":"0.00"},14,29,0,14,{"v":0,"d":"0.00"},15,29,0,15,null,null,"6th Place",{"$f":"IFERROR(INDEX(range,MATCH(AR33,gymnasts,0)), \"\")","v":{"v":12.7,"d":"12.70"}},"5th Place",{"$f":"IFERROR(INDEX(range,MATCH(AT33,gymnasts,0)), \"\")","v":12.75},"4th Place",{"$f":"IFERROR(INDEX(range,MATCH(AV33,gymnasts,0)), \"\")","v":{"v":12.9,"d":"12.90"}},"3rd Place",{"$f":"IFERROR(INDEX(range,MATCH(AX33,gymnasts,0)), \"\")","v":13.05},"2nd Place",{"$f":"IFERROR(INDEX(range,MATCH(AZ33,gymnasts,0)), \"\")","v":{"v":13.1,"d":"13.10"}},"1st Place",{"$f":"IFERROR(INDEX(range,MATCH(BB33,gymnasts,0)), \"\")","v":{"v":13.4,"d":"13.40"}}]
[{"$nulls":3},{"v":0,"d":"0.0"},{"v":0,"d":"0.00"},{"v":0,"d":"0.0"},{"v":0,"d":"0.00"},{"v":0,"d":"0.00"},13,30,0,13,{"v":0,"d":"0.0"},{"v":0,"d":"0.00"},12,30,0,12,{"v":0,"d":"0.0"},{"v":0,"d":"0.00"},12,30,0,12,{"v":0,"d":"0.0"},{"v":0,"d":"0.00"},13,30,0,13,{"v":0,"d":"0.0"},{"v":0,"d":"0.00"},14,30,0,14,{"v":0,"d":"0.00"},15,30,0,15,null,"Range",{"$f":"IFERROR(INDEX(gymnasts, SMALL(IF(VALUE(LEFT(AR$32, 1))=RangePos, ROW(RangePos)-MIN(ROW(RangePos))+1, \"\"), ROW()-32)), \"\")","v":"Lily Todhunter"},{"$f":"IFERROR( INDEX(entries, MATCH(AR33, gymnasts, 0), 2), \"\")","v":"Carlisle"},{"$f":"IFERROR(INDEX(gymnasts, SMALL(IF(VALUE(LEFT(AT$32, 1))=RangePos, ROW(RangePos)-MIN(ROW(RangePos))+1, \"\"), ROW()-32)), \"\")","v":"Abbie Patterson"},{"$f":"IFERROR( INDEX(entries, MATCH(AT33, gymnasts, 0), 2), \"\")","v":"Gymtopia"},{"$f":"IFERROR(INDEX(gymnasts, SMALL(IF(VALUE(LEFT(AV$32, 1))=RangePos, ROW(RangePos)-MIN(ROW(RangePos))+1, \"\"), ROW()-32)), \"\")","v":"Anya Curran"},{"$f":"IFERROR( INDEX(entries, MATCH(AV33, gymnasts, 0), 2), \"\")","v":"Carlisle"},{"$f":"IFERROR(INDEX(gymnasts, SMALL(IF(VALUE(LEFT(AX$32, 1))=RangePos, ROW(RangePos)-MIN(ROW(RangePos))+1, \"\"), ROW()-32)), \"\")","v":"Anna Metcalf"},{"$f":"IFERROR( INDEX(entries, MATCH(AX33, gymnasts, 0), 2), \"\")","v":"Darlington"},{"$f":"IFERROR(INDEX(gymnasts, SMALL(IF(VALUE(LEFT(AZ$32, 1))=RangePos, ROW(RangePos)-MIN(ROW(RangePos))+1, \"\"), ROW()-32)), \"\")","v":"Phoebe Collins"},{"$f":"IFERROR( INDEX(entries, MATCH(AZ33, gymnasts, 0), 2), \"\")","v":"SD"},{"$f":"IFERROR(INDEX(gymnasts, SMALL(IF(VALUE(LEFT(BB$32, 1))=RangePos, ROW(RangePos)-MIN(ROW(RangePos))+1, \"\"), ROW()-32)), \"\")","v":"Grace Bruce"},{"$f":"IFERROR( INDEX(entries, MATCH(BB33, gymnasts, 0), 2), \"\")","v":"Darlington"}]
[{"$nulls":3},{"v":0,"d":"0.0"},{"v":0,"d":"0.00"},{"v":0,"d":"0.0"},{"v":0,"d":"0.00"},{"v":0,"d":"0.00"},13,31,0,13,{"v":0,"d":"0.0"},{"v":0,"d":"0.00"},12,31,0,12,{"v":0,"d":"0.0"},{"v":0,"d":"0.00"},12,31,0,12,{"v":0,"d":"0.0"},{"v":0,"d":"0.00"},13,31,0,13,{"v":0,"d":"0.0"},{"v":0,"d":"0.00"},14,31,0,14,{"v":0,"d":"0.00"},15,31,0,15,null,null,"",{"$f":"IFERROR( INDEX(entries, MATCH(AR34, gymnasts, 0), 2), \"\")","v":""},"",{"$f":"IFERROR( INDEX(entries, MATCH(AT34, gymnasts, 0), 2), \"\")","v":""},"",{"$f":"IFERROR( INDEX(entries, MATCH(AV34, gymnasts, 0), 2), \"\")","v":""},"",{"$f":"IFERROR( INDEX(entries, MATCH(AX34, gymnasts, 0), 2), \"\")","v":""},"",{"$f":"IFERROR( INDEX(entries, MATCH(AZ34, gymnasts, 0), 2), \"\")","v":""},"",""]
[{"$nulls":3},{"v":0,"d":"0.0"},{"v":0,"d":"0.00"},{"v":0,"d":"0.0"},{"v":0,"d":"0.00"},{"v":0,"d":"0.00"},13,32,0,13,{"v":0,"d":"0.0"},{"v":0,"d":"0.00"},12,32,0,12,{"v":0,"d":"0.0"},{"v":0,"d":"0.00"},12,32,0,12,{"v":0,"d":"0.0"},{"v":0,"d":"0.00"},13,32,0,13,{"v":0,"d":"0.0"},{"v":0,"d":"0.00"},14,32,0,14,{"v":0,"d":"0.00"},15,32,0,15,null,null,"","","","","","","","","","","",""]
[{"$nulls":3},{"v":0,"d":"0.0"},{"v":0,"d":"0.00"},{"v":0,"d":"0.0"},{"v":0,"d":"0.00"},{"v":0,"d":"0.00"},13,33,0,13,{"v":0,"d":"0.0"},{"v":0,"d":"0.00"},12,33,0,12,{"v":0,"d":"0.0"},{"v":0,"d":"0.00"},12,33,0,12,{"v":0,"d":"0.0"},{"v":0,"d":"0.00"},13,33,0,13,{"v":0,"d":"0.0"},{"v":0,"d":"0.00"},14,33,0,14,{"$f":"SUMIF(D$2:AJ$2, \"SCORE\", D36:AJ36)","v":{"v":0,"d":"0.00"}},15,33,0,15,null,null,"","","","","","","","","","","",""]
[{"$nulls":3},{"v":0,"d":"0.0"},{"v":0,"d":"0.00"},{"v":0,"d":"0.0"},{"v":0,"d":"0.00"},{"v":0,"d":"0.00"},13,34,0,13,{"v":0,"d":"0.0"},{"v":0,"d":"0.00"},12,34,0,12,{"v":0,"d":"0.0"},{"v":0,"d":"0.00"},12,34,0,12,{"v":0,"d":"0.0"},{"v":0,"d":"0.00"},13,34,0,13,{"v":0,"d":"0.0"},{"v":0,"d":"0.00"},14,34,0,14,{"v":0,"d":"0.00"},15,34,0,15,null,null,"","","","","","","","","","","",""]
[{"$nulls":3},{"v":0,"d":"0.0"},{"v":0,"d":"0.00"},{"v":0,"d":"0.0"},{"v":0,"d":"0.00"},{"v":0,"d":"0.00"},13,35,0,13,{"v":0,"d":"0.0"},{"v":0,"d":"0.00"},12,35,0,12,{"v":0,"d":"0.0"},{"v":0,"d":"0.00"},12,35,0,12,{"v":0,"d":"0.0"},{"v":0,"d":"0.00"},13,35,0,13,{"v":0,"d":"0.0"},{"v":0,"d":"0.00"},14,35,0,14,{"v":0,"d":"0.00"},15,35,0,15,null,null,"","","","","","","","","","","",""]
[{"$nulls":3},{"v":0,"d":"0.0"},{"v":0,"d":"0.00"},{"v":0,"d":"0.0"},{"v":0,"d":"0.00"},{"v":0,"d":"0.00"},13,36,0,13,{"v":0,"d":"0.0"},{"v":0,"d":"0.00"},12,36,0,12,{"v":0,"d":"0.0"},{"v":0,"d":"0.00"},12,36,0,12,{"v":0,"d":"0.0"},{"v":0,"d":"0.00"},13,36,0,13,{"v":0,"d":"0.0"},{"v":0,"d":"0.00"},14,36,0,14,{"v":0,"d":"0.00"},15,36,0,15,null,null,"6th Place",{"$f":"IFERROR(INDEX(AAscores,MATCH(AR40,gymnasts,0)), \"\")","v":{"v":59.949999999999996,"d":"59.95"}},"5th Place",{"$f":"IFERROR(INDEX(AAscores,MATCH(AT40,gymnasts,0)), \"\")","v":{"v":60.050000000000004,"d":"60.05"}},"4th Place",{"$f":"IFERROR(INDEX(AAscores,MATCH(AV40,gymnasts,0)), \"\")","v":{"v":60.3,"d":"60.30"}},"3rd Place",{"$f":"IFERROR(INDEX(AAscores,MATCH(AX40,gymnasts,0)), \"\")","v":60.65},"2nd Place",{"$f":"IFERROR(INDEX(AAscores,MATCH(AZ40,gymnasts,0)), \"\")","v":{"v":60.9,"d":"60.90"}},"1st Place",{"$f":"IFERROR(INDEX(AAscores,MATCH(BB40,gymnasts,0)), \"\")","v":{"v":62,"d":"62.00"}}]
[{"$nulls":3},{"v":0,"d":"0.0"},{"v":0,"d":"0.00"},{"v":0,"d":"0.0"},{"v":0,"d":"0.00"},{"v":0,"d":"0.00"},13,37,0,13,{"v":0,"d":"0.0"},{"v":0,"d":"0.00"},12,37,0,12,{"v":0,"d":"0.0"},{"v":0,"d":"0.00"},12,37,0,12,{"v":0,"d":"0.0"},{"v":0,"d":"0.00"},13,37,0,13,{"v":0,"d":"0.0"},{"v":0,"d":"0.00"},14,37,0,14,{"v":0,"d":"0.00"},15,37,0,15,null,"AA",{"$f":"IFERROR(INDEX(gymnasts, SMALL(IF(VALUE(LEFT(AR$39, 1))=AApos, ROW(AApos)-MIN(ROW(AApos))+1, \"\"), ROW()-39)), \"\")","v":"Isla Chapman"},{"$f":"IFERROR( INDEX(entries, MATCH(AR40, gymnasts, 0), 2), \"\")","v":"Redcar"},{"$f":"IFERROR(INDEX(gymnasts, SMALL(IF(VALUE(LEFT(AT$39, 1))=AApos, ROW(AApos)-MIN(ROW(AApos))+1, \"\"), ROW()-39)), \"\")","v":"Phoebe Collins"},{"$f":"IFERROR( INDEX(entries, MATCH(AT40, gymnasts, 0), 2), \"\")","v":"SD"},{"$f":"IFERROR(INDEX(gymnasts, SMALL(IF(VALUE(LEFT(AV$39, 1))=AApos, ROW(AApos)-MIN(ROW(AApos))+1, \"\"), ROW()-39)), \"\")","v":"Lily Todhunter"},{"$f":"IFERROR( INDEX(entries, MATCH(AV40, gymnasts, 0), 2), \"\")","v":"Carlisle"},{"$f":"IFERROR(INDEX(gymnasts, SMALL(IF(VALUE(LEFT(AX$39, 1))=AApos, ROW(AApos)-MIN(ROW(AApos))+1, \"\"), ROW()-39)), \"\")","v":"Grace Bruce"},{"$f":"IFERROR( INDEX(entries, MATCH(AX40, gymnasts, 0), 2), \"\")","v":"Darlington"},{"$f":"IFERROR(INDEX(gymnasts, SMALL(IF(VALUE(LEFT(AZ$39, 1))=AApos, ROW(AApos)-MIN(ROW(AApos))+1, \"\"), ROW()-39)), \"\")","v":"Anya Curran"},{"$f":"IFERROR( INDEX(entries, MATCH(AZ40, gymnasts, 0), 2), \"\")","v":"Carlisle"},{"$f":"IFERROR(INDEX(gymnasts, SMALL(IF(VALUE(LEFT(BB$39, 1))=AApos, ROW(AApos)-MIN(ROW(AApos))+1, \"\"), ROW()-39)), \"\")","v":"Olivia Dennis"},{"$f":"IFERROR( INDEX(entries, MATCH(BB40, gymnasts, 0), 2), \"\")","v":"Carlisle"}]
[{"$nulls":3},{"v":0,"d":"0.0"},{"v":0,"d":"0.00"},{"v":0,"d":"0.0"},{"v":0,"d":"0.00"},{"v":0,"d":"0.00"},13,38,0,13,{"v":0,"d":"0.0"},{"v":0,"d":"0.00"},12,38,0,12,{"v":0,"d":"0.0"},{"v":0,"d":"0.00"},12,38,0,12,{"v":0,"d":"0.0"},{"v":0,"d":"0.00"},13,38,0,13,{"v":0,"d":"0.0"},{"v":0,"d":"0.00"},14,38,0,14,{"v":0,"d":"0.00"},15,38,0,15,null,null,"",{"$f":"IFERROR( INDEX(entries, MATCH(AR41, gymnasts, 0), 2), \"\")","v":""},"",{"$f":"IFERROR( INDEX(entries, MATCH(AT41, gymnasts, 0), 2), \"\")","v":""},"",{"$f":"IFERROR( INDEX(entries, MATCH(AV41, gymnasts, 0), 2), \"\")","v":""},"",{"$f":"IFERROR( INDEX(entries, MATCH(AX41, gymnasts, 0), 2), \"\")","v":""},"",{"$f":"IFERROR( INDEX(entries, MATCH(AZ41, gymnasts, 0), 2), \"\")","v":""},"",""]
[{"$nulls":3},{"v":0,"d":"0.0"},{"v":0,"d":"0.00"},{"v":0,"d":"0.0"},{"v":0,"d":"0.00"},{"v":0,"d":"0.00"},13,39,0,13,{"v":0,"d":"0.0"},{"v":0,"d":"0.00"},12,39,0,12,{"v":0,"d":"0.0"},{"v":0,"d":"0.00"},12,39,0,12,{"v":0,"d":"0.0"},{"v":0,"d":"0.00"},13,39,0,13,{"v":0,"d":"0.0"},{"v":0,"d":"0.00"},14,39,0,14,{"v":0,"d":"0.00"},15,39,0,15,null,null,"","","","","","","","","","","",""]
[{"$nulls":3},{"v":0,"d":"0.0"},{"v":0,"d":"0.00"},{"v":0,"d":"0.0"},{"v":0,"d":"0.00"},{"v":0,"d":"0.00"},13,40,0,13,{"v":0,"d":"0.0"},{"v":0,"d":"0.00"},12,40,0,12,{"v":0,"d":"0.0"},{"v":0,"d":"0.00"},12,40,0,12,{"v":0,"d":"0.0"},{"v":0,"d":"0.00"},13,40,0,13,{"v":0,"d":"0.0"},{"v":0,"d":"0.00"},14,40,0,14,{"v":0,"d":"0.00"},15,40,0,15,null,null,"","","","","","","","","","","",""]
[{"$nulls":3},{"v":0,"d":"0.0"},{"v":0,"d":"0.00"},{"v":0,"d":"0.0"},{"v":0,"d":"0.00"},{"v":0,"d":"0.00"},13,41,0,13,{"v":0,"d":"0.0"},{"v":0,"d":"0.00"},12,41,0,12,{"v":0,"d":"0.0"},{"v":0,"d":"0.00"},12,41,0,12,{"v":0,"d":"0.0"},{"v":0,"d":"0.00"},13,41,0,13,{"v":0,"d":"0.0"},{"v":0,"d":"0.00"},14,41,0,14,{"v":0,"d":"0.00"},15,41,0,15,null,null,"","","","","","","","","","","",""]
[{"$nulls":3},{"v":0,"d":"0.0"},{"v":0,"d":"0.00"},{"v":0,"d":"0.0"},{"v":0,"d":"0.00"},{"v":0,"d":"0.00"},13,42,0,13,{"v":0,"d":"0.0"},{"v":0,"d":"0.00"},12,42,0,12,{"v":0,"d":"0.0"},{"v":0,"d":"0.00"},12,42,0,12,{"v":0,"d":"0.0"},{"v":0,"d":"0.00"},13,42,0,13,{"v":0,"d":"0.0"},{"v":0,"d":"0.00"},14,42,0,14,{"v":0,"d":"0.00"},15,42,0,15,null,null,"","","","","","","","","","","",""]
[{"$nulls":3},{"v":0,"d":"0.0"},{"v":0,"d":"0.00"},{"v":0,"d":"0.0"},{"v":0,"d":"0.00"},{"v":0,"d":"0.00"},13,43,0,13,{"v":0,"d":"0.0"},{"v":0,"d":"0.00"},12,43,0,12,{"v":0,"d":"0.0"},{"v":0,"d":"0.00"},12,43,0,12,{"v":0,"d":"0.0"},{"v":0,"d":"0.00"},13,43,0,13,{"v":0,"d":"0.0"},{"v":0,"d":"0.00"},14,43,0,14,{"v":0,"d":"0.00"},15,43,0,15,null,"Team","3rd place Team",{"$f":"IF(COUNTIF(AR47, 0), \"\", INDEX(teamTotals, MATCH(AR47, teams, 0)))","v":""},null,null,"2nd Place Team",{"$f":"IF(COUNTIF(AV47, 0), \"\", INDEX(teamTotals, MATCH(AV47, teams, 0)))","v":{"v":165.1,"d":"165.10"}},null,null,"1st Place Team",{"$f":"IF(COUNTIF(AZ47, 0), \"\", INDEX(teamTotals, MATCH(AZ47, teams, 0)))","v":183.75}]
[{"$nulls":3},{"v":0,"d":"0.0"},{"v":0,"d":"0.00"},{"v":0,"d":"0.0"},{"v":0,"d":"0.00"},{"v":0,"d":"0.00"},13,44,0,13,{"v":0,"d":"0.0"},{"v":0,"d":"0.00"},12,44,0,12,{"v":0,"d":"0.0"},{"v":0,"d":"0.00"},12,44,0,12,{"v":0,"d":"0.0"},{"v":0,"d":"0.00"},13,44,0,13,{"v":0,"d":"0.0"},{"v":0,"d":"0.00"},14,44,0,14,{"v":0,"d":"0.00"},15,44,0,15,null,null,{"$f":"IFERROR(INDEX(teams, SMALL(IF(VALUE(LEFT(AR$46, 1))=teamPos, ROW(teamPos)-MIN(ROW(teamPos))+1, \"\"), ROW()-46)), \"\")","v":0},{"$f":"IFERROR(IF(COUNTIF(AR47, 0), \"\", INDEX(gymnasts, SMALL(IF(AR$47=club, ROW(club)-MIN(ROW(club))+1, \"\"), ROW()-46))), \"\")","v":""},null,null,{"$f":"IFERROR(INDEX(teams, SMALL(IF(VALUE(LEFT(AV$46, 1))=teamPos, ROW(teamPos)-MIN(ROW(teamPos))+1, \"\"), ROW()-46)), \"\")","v":"North Lakes"},{"$f":"IFERROR(IF(COUNTIF(AV47, 0), \"\", INDEX(gymnasts, SMALL(IF(AV$47=club, ROW(club)-MIN(ROW(club))+1, \"\"), ROW()-46))), \"\")","v":"Tayla Carr"},null,null,{"$f":"IFERROR(INDEX(teams, SMALL(IF(VALUE(LEFT(AZ$46, 1))=teamPos, ROW(teamPos)-MIN(ROW(teamPos))+1, \"\"), ROW()-46)), \"\")","v":"Carlisle"},{"$f":"IFERROR(IF(COUNTIF(AZ47, 0), \"\", INDEX(gymnasts, SMALL(IF(AZ$47=club, ROW(club)-MIN(ROW(club))+1, \"\"), ROW()-46))), \"\")","v":"Layla Smith"}]
[{"$nulls":3},{"v":0,"d":"0.0"},{"v":0,"d":"0.00"},{"v":0,"d":"0.0"},{"v":0,"d":"0.00"},{"v":0,"d":"0.00"},13,45,0,13,{"v":0,"d":"0.0"},{"v":0,"d":"0.00"},12,45,0,12,{"v":0,"d":"0.0"},{"v":0,"d":"0.00"},12,45,0,12,{"v":0,"d":"0.0"},{"v":0,"d":"0.00"},13,45,0,13,{"v":0,"d":"0.0"},{"v":0,"d":"0.00"},14,45,0,14,{"v":0,"d":"0.00"},15,45,0,15,{"$nulls":3},{"$f":"IFERROR(IF(COUNTIF(AR48, 0), \"\", INDEX(gymnasts, SMALL(IF(AR$47=club, ROW(club)-MIN(ROW(club))+1, \"\"), ROW()-46))), \"\")","v":0},{"$nulls":3},{"$f":"IFERROR(IF(COUNTIF(AV48, 0), \"\", INDEX(gymnasts, SMALL(IF(AV$47=club, ROW(club)-MIN(ROW(club))+1, \"\"), ROW()-46))), \"\")","v":"Hannah Shepherd"},{"$nulls":3},{"$f":"IFERROR(IF(COUNTIF(AZ48, 0), \"\", INDEX(gymnasts, SMALL(IF(AZ$47=club, ROW(club)-MIN(ROW(club))+1, \"\"), ROW()-46))), \"\")","v":"Kira Holiday"}]
[{"$nulls":3},{"v":0,"d":"0.0"},{"v":0,"d":"0.00"},{"v":0,"d":"0.0"},{"v":0,"d":"0.00"},{"v":0,"d":"0.00"},13,46,0,13,{"v":0,"d":"0.0"},{"v":0,"d":"0.00"},12,46,0,12,{"v":0,"d":"0.0"},{"v":0,"d":"0.00"},12,46,0,12,{"v":0,"d":"0.0"},{"v":0,"d":"0.00"},13,46,0,13,{"v":0,"d":"0.0"},{"v":0,"d":"0.00"},14,46,0,14,{"v":0,"d":"0.00"},15,46,0,15,{"$nulls":3},{"$f":"IFERROR(IF(COUNTIF(AR49, 0), \"\", INDEX(gymnasts, SMALL(IF(AR$47=club, ROW(club)-MIN(ROW(club))+1, \"\"), ROW()-46))), \"\")","v":0},{"$nulls":3},{"$f":"IFERROR(IF(COUNTIF(AV49, 0), \"\", INDEX(gymnasts, SMALL(IF(AV$47=club, ROW(club)-MIN(ROW(club))+1, \"\"), ROW()-46))), \"\")","v":"Sadie Proctor"},{"$nulls":3},{"$f":"IFERROR(IF(COUNTIF(AZ49, 0), \"\", INDEX(gymnasts, SMALL(IF(AZ$47=club, ROW(club)-MIN(ROW(club))+1, \"\"), ROW()-46))), \"\")","v":"Olivia Dennis"}]
[{"$nulls":3},{"v":0,"d":"0.0"},{"v":0,"d":"0.00"},{"v":0,"d":"0.0"},{"v":0,"d":"0.00"},{"v":0,"d":"0.00"},13,47,0,13,{"v":0,"d":"0.0"},{"v":0,"d":"0.00"},12,47,0,12,{"v":0,"d":"0.0"},{"v":0,"d":"0.00"},12,47,0,12,{"v":0,"d":"0.0"},{"v":0,"d":"0.00"},13,47,0,13,{"v":0,"d":"0.0"},{"v":0,"d":"0.00"},14,47,0,14,{"v":0,"d":"0.00"},15,47,0,15,{"$nulls":3},{"$f":"IFERROR(IF(COUNTIF(AR50, 0), \"\", INDEX(gymnasts, SMALL(IF(AR$47=club, ROW(club)-MIN(ROW(club))+1, \"\"), ROW()-46))), \"\")","v":0},{"$nulls":3},{"$f":"IFERROR(IF(COUNTIF(AV50, 0), \"\", INDEX(gymnasts, SMALL(IF(AV$47=club, ROW(club)-MIN(ROW(club))+1, \"\"), ROW()-46))), \"\")","v":""},{"$nulls":3},{"$f":"IFERROR(IF(COUNTIF(AZ50, 0), \"\", INDEX(gymnasts, SMALL(IF(AZ$47=club, ROW(club)-MIN(ROW(club))+1, \"\"), ROW()-46))), \"\")","v":"Lily Todhunter"}]
[{"$nulls":3},{"v":0,"d":"0.0"},{"v":0,"d":"0.00"},{"v":0,"d":"0.0"},{"v":0,"d":"0.00"},{"v":0,"d":"0.00"},13,48,0,13,{"v":0,"d":"0.0"},{"v":0,"d":"0.00"},12,48,0,12,{"v":0,"d":"0.0"},{"v":0,"d":"0.00"},12,48,0,12,{"v":0,"d":"0.0"},{"v":0,"d":"0.00"},13,48,0,13,{"v":0,"d":"0.0"},{"v":0,"d":"0.00"},14,48,0,14,{"v":0,"d":"0.00"},15,48,0,15,{"$nulls":3},{"$f":"IFERROR(IF(COUNTIF(AR51, 0), \"\", INDEX(gymnasts, SMALL(IF(AR$47=club, ROW(club)-MIN(ROW(club))+1, \"\"), ROW()-46))), \"\")","v":0},{"$nulls":3},{"$f":"IFERROR(IF(COUNTIF(AV51, 0), \"\", INDEX(gymnasts, SMALL(IF(AV$47=club, ROW(club)-MIN(ROW(club))+1, \"\"), ROW()-46))), \"\")","v":""},{"$nulls":3},{"$f":"IFERROR(IF(COUNTIF(AZ51, 0), \"\", INDEX(gymnasts, SMALL(IF(AZ$47=club, ROW(club)-MIN(ROW(club))+1, \"\"), ROW()-46))), \"\")","v":"Anya Curran"}]
[{"$nulls":3},{"v":0,"d":"0.0"},{"v":0,"d":"0.00"},{"v":0,"d":"0.0"},{"v":0,"d":"0.00"},{"v":0,"d":"0.00"},13,49,0,13,{"v":0,"d":"0.0"},{"v":0,"d":"0.00"},12,49,0,12,{"v":0,"d":"0.0"},{"v":0,"d":"0.00"},12,49,0,12,{"v":0,"d":"0.0"},{"v":0,"d":"0.00"},13,49,0,13,{"v":0,"d":"0.0"},{"v":0,"d":"0.00"},14,49,0,14,{"v":0,"d":"0.00"},15,49,0,15,null,null,{"$f":"IFERROR(INDEX(teams, SMALL(IF(VALUE(LEFT(AR$46, 1))=teamPos, ROW(teamPos)-MIN(ROW(teamPos))+1, \"\"), ROW()-50)), \"\")","v":0},{"$f":"IFERROR(IF(COUNTIF(AR$52, 0), \"\", INDEX(gymnasts, SMALL(IF(AR$52=club, ROW(club)-MIN(ROW(club))+1, \"\"), ROW()-51))), \"\")","v":""},null,null,{"$f":"IFERROR(INDEX(teams, SMALL(IF(VALUE(LEFT(AV$46, 1))=teamPos, ROW(teamPos)-MIN(ROW(teamPos))+1, \"\"), ROW()-50)), \"\")","v":""},{"$f":"IFERROR(IF(COUNTIF(AV$52, 0), \"\", INDEX(gymnasts, SMALL(IF(AV$52=club, ROW(club)-MIN(ROW(club))+1, \"\"), ROW()-51))), \"\")","v":0},null,null,{"$f":"IFERROR(INDEX(teams, SMALL(IF(VALUE(LEFT(AZ$46, 1))=teamPos, ROW(teamPos)-MIN(ROW(teamPos))+1, \"\"), ROW()-50)), \"\")","v":""},{"$f":"IFERROR(IF(COUNTIF(AZ$52, 0), \"\", INDEX(gymnasts, SMALL(IF(AZ$52=club, ROW(club)-MIN(ROW(club))+1, \"\"), ROW()-51))), \"\")","v":0}]
[{"$nulls":3},{"v":0,"d":"0.0"},{"v":0,"d":"0.00"},{"v":0,"d":"0.0"},{"v":0,"d":"0.00"},{"v":0,"d":"0.00"},13,50,0,13,{"v":0,"d":"0.0"},{"v":0,"d":"0.00"},12,50,0,12,{"v":0,"d":"0.0"},{"v":0,"d":"0.00"},12,50,0,12,{"v":0,"d":"0.0"},{"v":0,"d":"0.00"},13,50,0,13,{"v":0,"d":"0.0"},{"v":0,"d":"0.00"},14,50,0,14,{"v":0,"d":"0.00"},15,50,0,15,{"$nulls":3},{"$f":"IFERROR(IF(COUNTIF(AR$52, 0), \"\", INDEX(gymnasts, SMALL(IF(AR$52=club, ROW(club)-MIN(ROW(club))+1, \"\"), ROW()-51))), \"\")","v":""},{"$nulls":3},{"$f":"IFERROR(IF(COUNTIF(AV$52, 0), \"\", INDEX(gymnasts, SMALL(IF(AV$52=club, ROW(club)-MIN(ROW(club))+1, \"\"), ROW()-51))), \"\")","v":0},{"$nulls":3},{"$f":"IFERROR(IF(COUNTIF(AZ$52, 0), \"\", INDEX(gymnasts, SMALL(IF(AZ$52=club, ROW(club)-MIN(ROW(club))+1, \"\"), ROW()-51))), \"\")","v":0}]
[{"$nulls":3},{"v":0,"d":"0.0"},{"v":0,"d":"0.00"},{"v":0,"d":"0.0"},{"v":0,"d":"0.00"},{"v":0,"d":"0.00"},13,51,0,13,{"v":0,"d":"0.0"},{"v":0,"d":"0.00"},12,51,0,12,{"v":0,"d":"0.0"},{"v":0,"d":"0.00"},12,51,0,12,{"v":0,"d":"0.0"},{"v":0,"d":"0.00"},13,51,0,13,{"v":0,"d":"0.0"},{"v":0,"d":"0.00"},14,51,0,14,{"v":0,"d":"0.00"},15,51,0,15,{"$nulls":3},{"$f":"IFERROR(IF(COUNTIF(AR$52, 0), \"\", INDEX(gymnasts, SMALL(IF(AR$52=club, ROW(club)-MIN(ROW(club))+1, \"\"), ROW()-51))), \"\")","v":""},{"$nulls":3},{"$f":"IFERROR(IF(COUNTIF(AV$52, 0), \"\", INDEX(gymnasts, SMALL(IF(AV$52=club, ROW(club)-MIN(ROW(club))+1, \"\"), ROW()-51))), \"\")","v":0},{"$nulls":3},{"$f":"IFERROR(IF(COUNTIF(AZ$52, 0), \"\", INDEX(gymnasts, SMALL(IF(AZ$52=club, ROW(club)-MIN(ROW(club))+1, \"\"), ROW()-51))), \"\")","v":0}]
[{"$nulls":3},{"v":0,"d":"0.0"},{"v":0,"d":"0.00"},{"v":0,"d":"0.0"},{"v":0,"d":"0.00"},{"v":0,"d":"0.00"},13,52,0,13,{"v":0,"d":"0.0"},{"v":0,"d":"0.00"},12,52,0,12,{"v":0,"d":"0.0"},{"v":0,"d":"0.00"},12,52,0,12,{"v":0,"d":"0.0"},{"v":0,"d":"0.00"},13,52,0,13,{"v":0,"d":"0.0"},{"v":0,"d":"0.00"},14,52,0,14,{"v":0,"d":"0.00"},15,52,0,15,{"$nulls":3},{"$f":"IFERROR(IF(COUNTIF(AR$52, 0), \"\", INDEX(gymnasts, SMALL(IF(AR$52=club, ROW(club)-MIN(ROW(club))+1, \"\"), ROW()-51))), \"\")","v":""},{"$nulls":3},{"$f":"IFERROR(IF(COUNTIF(AV$52, 0), \"\", INDEX(gymnasts, SMALL(IF(AV$52=club, ROW(club)-MIN(ROW(club))+1, \"\"), ROW()-51))), \"\")","v":0},{"$nulls":3},{"$f":"IFERROR(IF(COUNTIF(AZ$52, 0), \"\", INDEX(gymnasts, SMALL(IF(AZ$52=club, ROW(club)-MIN(ROW(club))+1, \"\"), ROW()-51))), \"\")","v":0}]
[{"$nulls":3},{"v":0,"d":"0.0"},{"v":0,"d":"0.00"},{"v":0,"d":"0.0"},{"v":0,"d":"0.00"},{"v":0,"d":"0.00"},13,53,0,13,{"v":0,"d":"0.0"},{"v":0,"d":"0.00"},12,53,0,12,{"v":0,"d":"0.0"},{"v":0,"d":"0.00"},12,53,0,12,{"v":0,"d":"0.0"},{"v":0,"d":"0.00"},13,53,0,13,{"v":0,"d":"0.0"},{"v":0,"d":"0.00"},14,53,0,14,{"v":0,"d":"0.00"},15,53,0,15,{"$nulls":3},{"$f":"IFERROR(IF(ISTEXT(AR$52), INDEX(gymnasts, SMALL(IF(AR$52=club, ROW(club)-MIN(ROW(club))+1, \"\"), ROW()-51)), \"\"), \"\")","v":""},{"$nulls":3},{"$f":"IFERROR(IF(ISTEXT(AV$52), INDEX(gymnasts, SMALL(IF(AV$52=club, ROW(club)-MIN(ROW(club))+1, \"\"), ROW()-51)), \"\"), \"\")","v":0},{"$nulls":3},{"$f":"IFERROR(IF(ISTEXT(AZ$52), INDEX(gymnasts, SMALL(IF(AZ$52=club, ROW(club)-MIN(ROW(club))+1, \"\"), ROW()-51)), \"\"), \"\")","v":0}]
[{"$nulls":3},{"v":0,"d":"0.0"},{"v":0,"d":"0.00"},{"v":0,"d":"0.0"},{"v":0,"d":"0.00"},{"v":0,"d":"0.00"},13,54,0,13,{"v":0,"d":"0.0"},{"v":0,"d":"0.00"},12,54,0,12,{"v":0,"d":"0.0"},{"v":0,"d":"0.00"},12,54,0,12,{"v":0,"d":"0.0"},{"v":0,"d":"0.00"},13,54,0,13,{"v":0,"d":"0.0"},{"v":0,"d":"0.00"},14,54,0,14,{"v":0,"d":"0.00"},15,54,0,15]
[{"$nulls":3},{"v":0,"d":"0.0"},{"v":0,"d":"0.00"},{"v":0,"d":"0.0"},{"v":0,"d":"0.00"},{"v":0,"d":"0.00"},13,55,0,13,{"v":0,"d":"0.0"},{"v":0,"d":"0.00"},12,55,0,12,{"v":0,"d":"0.0"},{"v":0,"d":"0.00"},12,55,0,12,{"v":0,"d":"0.0"},{"v":0,"d":"0.00"},13,55,0,13,{"v":0,"d":"0.0"},{"v":0,"d":"0.00"},14,55,0,14,{"v":0,"d":"0.00"},15,55,0,15]
[{"$nulls":3},{"v":0,"d":"0.0"},{"v":0,"d":"0.00"},{"v":0,"d":"0.0"},{"v":0,"d":"0.00"},{"v":0,"d":"0.00"},13,56,0,13,{"v":0,"d":"0.0"},{"v":0,"d":"0.00"},12,56,0,12,{"v":0,"d":"0.0"},{"v":0,"d":"0.00"},12,56,0,12,{"v":0,"d":"0.0"},{"v":0,"d":"0.00"},13,56,0,13,{"v":0,"d":"0.0"},{"v":0,"d":"0.00"},14,56,0,14,{"v":0,"d":"0.00"},15,56,0,15]
[{"$nulls":3},{"v":0,"d":"0.0"},{"v":0,"d":"0.00"},{"v":0,"d":"0.0"},{"v":0,"d":"0.00"},{"v":0,"d":"0.00"},13,57,0,13,{"v":0,"d":"0.0"},{"v":0,"d":"0.00"},12,57,0,12,{"v":0,"d":"0.0"},{"v":0,"d":"0.00"},12,57,0,12,{"v":0,"d":"0.0"},{"v":0,"d":"0.00"},13,57,0,13,{"v":0,"d":"0.0"},{"v":0,"d":"0.00"},14,57,0,14,{"v":0,"d":"0.00"},15,57,0,15]
[{"$nulls":3},{"v":0,"d":"0.0"},{"v":0,"d":"0.00"},{"v":0,"d":"0.0"},{"v":0,"d":"0.00"},{"v":0,"d":"0.00"},13,58,0,13,{"v":0,"d":"0.0"},{"v":0,"d":"0.00"},12,58,0,12,{"v":0,"d":"0.0"},{"v":0,"d":"0.00"},12,58,0,12,{"v":0,"d":"0.0"},{"v":0,"d":"0.00"},13,58,0,13,{"v":0,"d":"0.0"},{"v":0,"d":"0.00"},14,58,0,14,{"v":0,"d":"0.00"},15,58,0,15]
[{"$nulls":3},{"v":0,"d":"0.0"},{"v":0,"d":"0.00"},{"v":0,"d":"0.0"},{"v":0,"d":"0.00"},{"v":0,"d":"0.00"},13,59,0,13,{"v":0,"d":"0.0"},{"v":0,"d":"0.00"},12,59,0,12,{"v":0,"d":"0.0"},{"v":0,"d":"0.00"},12,59,0,12,{"v":0,"d":"0.0"},{"v":0,"d":"0.00"},13,59,0,13,{"v":0,"d":"0.0"},{"v":0,"d":"0.00"},14,59,0,14,{"v":0,"d":"0.00"},15,59,0,15]
[{"$nulls":3},{"v":0,"d":"0.0"},{"v":0,"d":"0.00"},{"v":0,"d":"0.0"},{"v":0,"d":"0.00"},{"v":0,"d":"0.00"},13,60,0,13,{"v":0,"d":"0.0"},{"v":0,"d":"0.00"},12,60,0,12,{"v":0,"d":"0.0"},{"v":0,"d":"0.00"},12,60,0,12,{"v":0,"d":"0.0"},{"v":0,"d":"0.00"},13,60,0,13,{"v":0,"d":"0.0"},{"v":0,"d":"0.00"},14,60,0,14,{"v":0,"d":"0.00"},15,60,0,15]
[{"$nulls":3},{"v":0,"d":"0.0"},{"v":0,"d":"0.00"},{"v":0,"d":"0.0"},{"v":0,"d":"0.00"},{"v":0,"d":"0.00"},13,61,0,13,{"v":0,"d":"0.0"},{"v":0,"d":"0.00"},12,61,0,12,{"v":0,"d":"0.0"},{"v":0,"d":"0.00"},12,61,0,12,{"v":0,"d":"0.0"},{"v":0,"d":"0.00"},13,61,0,13,{"v":0,"d":"0.0"},{"v":0,"d":"0.00"},14,61,0,14,{"v":0,"d":"0.00"},15,61,0,15]
[{"$nulls":3},{"v":0,"d":"0.0"},{"v":0,"d":"0.00"},{"v":0,"d":"0.0"},{"v":0,"d":"0.00"},{"v":0,"d":"0.00"},13,62,0,13,{"v":0,"d":"0.0"},{"v":0,"d":"0.00"},12,62,0,12,{"v":0,"d":"0.0"},{"v":0,"d":"0.00"},12,62,0,12,{"v":0,"d":"0.0"},{"v":0,"d":"0.00"},13,62,0,13,{"v":0,"d":"0.0"},{"v":0,"d":"0.00"},14,62,0,14,{"v":0,"d":"0.00"},15,62,0,15]
[null,"Teams"]
[null,{"$f":"IF(AND(COUNTIF(club,C67)>=3,COUNTIF(club,C67)<=5),\"TEAM\",IF(COUNTIF(club,C67)>5,\"Too Many!!!!!\",\"NO TEAM\"))","v":"TEAM"},"Carlisle",{"$nulls":4},{"$f":"IF($B67=\"NO TEAM\", 0, SUM(LARGE(IF(club=$C67, vault), ROW($1:$3))))","v":37.15},{"$nulls":5},{"$f":"IF($B67=\"NO TEAM\", 0, SUM(LARGE(IF(club=$C67, bars), ROW($1:$3))))","v":38.65},{"$nulls":5},{"$f":"IF($B67=\"NO TEAM\", 0, SUM(LARGE(IF(club=$C67, beam), ROW($1:$3))))","v":34.75},{"$nulls":5},{"$f":"IF($B67=\"NO TEAM\", 0, SUM(LARGE(IF(club=$C67, floor), ROW($1:$3))))","v":35.05},{"$nulls":5},{"$f":"IF($B67=\"NO TEAM\", 0, SUM(LARGE(IF(club=$C67, range), ROW($1:$3))))","v":{"v":38.150000000000006,"d":"38.15"}},{"$nulls":4},{"$f":"IF(B67=\"TEAM\", SUMIF(D$2:AJ$2, \"SCORE\", D67:AJ67), 0)","v":183.75},{"$f":"VLOOKUP(AK67,AN$67:AO$81, 2,FALSE)","v":1},{"$f":"IF(ISNUMBER(AM66), AM66+1, 1)","v":1},{"$f":"LARGE((AK$67:AK$81), $AM67)","v":183.75},{"$f":"IF(AN67=AN66, AO66, AO66+1)","v":1}]
[null,{"$f":"IF(AND(COUNTIF(club,C68)>=3,COUNTIF(club,C68)<=5),\"TEAM\",IF(COUNTIF(club,C68)>5,\"Too Many!!!!!\",\"NO TEAM\"))","v":"TEAM"},"North Lakes",{"$nulls":4},{"$f":"IF($B68=\"NO TEAM\", 0, SUM(LARGE(IF(club=$C68, vault), ROW($1:$3))))","v":28.15},{"$nulls":5},{"$f":"IF($B68=\"NO TEAM\", 0, SUM(LARGE(IF(club=$C68, bars), ROW($1:$3))))","v":{"v":37.050000000000004,"d":"37.05"}},{"$nulls":5},{"$f":"IF($B68=\"NO TEAM\", 0, SUM(LARGE(IF(club=$C68, beam), ROW($1:$3))))","v":{"v":32.7,"d":"32.70"}},{"$nulls":5},{"$f":"IF($B68=\"NO TEAM\", 0, SUM(LARGE(IF(club=$C68, floor), ROW($1:$3))))","v":33.55},{"$nulls":5},{"$f":"IF($B68=\"NO TEAM\", 0, SUM(LARGE(IF(club=$C68, range), ROW($1:$3))))","v":{"v":33.650000000000006,"d":"33.65"}},{"$nulls":4},{"v":165.1,"d":"165.10"},{"$f":"VLOOKUP(AK68,AN$67:AO$81, 2,FALSE)","v":2},{"$f":"IF(ISNUMBER(AM67), AM67+1, 1)","v":2},{"$f":"LARGE((AK$67:AK$81), $AM68)","v":165.1},{"$f":"IF(AN68=AN67, AO67, AO67+1)","v":2}]
[null,{"$f":"IF(AND(COUNTIF(club,C69)>=3,COUNTIF(club,C69)<=5),\"TEAM\",IF(COUNTIF(club,C69)>5,\"Too Many!!!!!\",\"NO TEAM\"))","v":"NO TEAM"},{"$nulls":5},{"$f":"IF($B69=\"NO TEAM\", 0, SUM(LARGE(IF(club=$C69, vault), ROW($1:$3))))","v":{"v":0,"d":"0.00"}},{"$nulls":5},{"$f":"IF($B69=\"NO TEAM\", 0, SUM(LARGE(IF(club=$C69, bars), ROW($1:$3))))","v":{"v":0,"d":"0.00"}},{"$nulls":5},{"$f":"IF($B69=\"NO TEAM\", 0, SUM(LARGE(IF(club=$C69, beam), ROW($1:$3))))","v":{"v":0,"d":"0.00"}},{"$nulls":5},{"$f":"IF($B69=\"NO TEAM\", 0, SUM(LARGE(IF(club=$C69, floor), ROW($1:$3))))","v":{"v":0,"d":"0.00"}},{"$nulls":5},{"$f":"IF($B69=\"NO TEAM\", 0, SUM(LARGE(IF(club=$C69, range), ROW($1:$3))))","v":{"v":0,"d":"0.00"}},{"$nulls":4},{"v":0,"d":"0.00"},3,3,0,3]
[null,{"$f":"IF(AND(COUNTIF(club,C70)>=3,COUNTIF(club,C70)<=5),\"TEAM\",IF(COUNTIF(club,C70)>5,\"Too Many!!!!!\",\"NO TEAM\"))","v":"NO TEAM"},{"$nulls":5},{"$f":"IF($B70=\"NO TEAM\", 0, SUM(LARGE(IF(club=$C70, vault), ROW($1:$3))))","v":{"v":0,"d":"0.00"}},{"$nulls":5},{"$f":"IF($B70=\"NO TEAM\", 0, SUM(LARGE(IF(club=$C70, bars), ROW($1:$3))))","v":{"v":0,"d":"0.00"}},{"$nulls":5},{"$f":"IF($B70=\"NO TEAM\", 0, SUM(LARGE(IF(club=$C70, beam), ROW($1:$3))))","v":{"v":0,"d":"0.00"}},{"$nulls":5},{"$f":"IF($B70=\"NO TEAM\", 0, SUM(LARGE(IF(club=$C70, floor), ROW($1:$3))))","v":{"v":0,"d":"0.00"}},{"$nulls":5},{"$f":"IF($B70=\"NO TEAM\", 0, SUM(LARGE(IF(club=$C70, range), ROW($1:$3))))","v":{"v":0,"d":"0.00"}},{"$nulls":4},{"v":0,"d":"0.00"},3,4,0,3]
[null,{"$f":"IF(AND(COUNTIF(club,C71)>=3,COUNTIF(club,C71)<=5),\"TEAM\",IF(COUNTIF(club,C71)>5,\"Too Many!!!!!\",\"NO TEAM\"))","v":"NO TEAM"},{"$nulls":5},{"$f":"IF($B71=\"NO TEAM\", 0, SUM(LARGE(IF(club=$C71, vault), ROW($1:$3))))","v":{"v":0,"d":"0.00"}},{"$nulls":5},{"$f":"IF($B71=\"NO TEAM\", 0, SUM(LARGE(IF(club=$C71, bars), ROW($1:$3))))","v":{"v":0,"d":"0.00"}},{"$nulls":5},{"$f":"IF($B71=\"NO TEAM\", 0, SUM(LARGE(IF(club=$C71, beam), ROW($1:$3))))","v":{"v":0,"d":"0.00"}},{"$nulls":5},{"$f":"IF($B71=\"NO TEAM\", 0, SUM(LARGE(IF(club=$C71, floor), ROW($1:$3))))","v":{"v":0,"d":"0.00"}},{"$nulls":5},{"$f":"IF($B71=\"NO TEAM\", 0, SUM(LARGE(IF(club=$C71, range), ROW($1:$3))))","v":{"v":0,"d":"0.00"}},{"$nulls":4},{"v":0,"d":"0.00"},3,5,0,3]
[null,{"$f":"IF(AND(COUNTIF(club,C72)>=3,COUNTIF(club,C72)<=5),\"TEAM\",IF(COUNTIF(club,C72)>5,\"Too Many!!!!!\",\"NO TEAM\"))","v":"NO TEAM"},{"$nulls":5},{"$f":"IF($B72=\"NO TEAM\", 0, SUM(LARGE(IF(club=$C72, vault), ROW($1:$3))))","v":{"v":0,"d":"0.00"}},{"$nulls":5},{"$f":"IF($B72=\"NO TEAM\", 0, SUM(LARGE(IF(club=$C72, bars), ROW($1:$3))))","v":{"v":0,"d":"0.00"}},{"$nulls":5},{"$f":"IF($B72=\"NO TEAM\", 0, SUM(LARGE(IF(club=$C72, beam), ROW($1:$3))))","v":{"v":0,"d":"0.00"}},{"$nulls":5},{"$f":"IF($B72=\"NO TEAM\", 0, SUM(LARGE(IF(club=$C72, floor), ROW($1:$3))))","v":{"v":0,"d":"0.00"}},{"$nulls":5},{"$f":"IF($B72=\"NO TEAM\", 0, SUM(LARGE(IF(club=$C72, range), ROW($1:$3))))","v":{"v":0,"d":"0.00"}},{"$nulls":4},{"v":0,"d":"0.00"},3,6,0,3]
[null,{"$f":"IF(AND(COUNTIF(club,C73)>=3,COUNTIF(club,C73)<=5),\"TEAM\",IF(COUNTIF(club,C73)>5,\"Too Many!!!!!\",\"NO TEAM\"))","v":"NO TEAM"},{"$nulls":5},{"$f":"IF($B73=\"NO TEAM\", 0, SUM(LARGE(IF(club=$C73, vault), ROW($1:$3))))","v":{"v":0,"d":"0.00"}},{"$nulls":5},{"$f":"IF($B73=\"NO TEAM\", 0, SUM(LARGE(IF(club=$C73, bars), ROW($1:$3))))","v":{"v":0,"d":"0.00"}},{"$nulls":5},{"$f":"IF($B73=\"NO TEAM\", 0, SUM(LARGE(IF(club=$C73, beam), ROW($1:$3))))","v":{"v":0,"d":"0.00"}},{"$nulls":5},{"$f":"IF($B73=\"NO TEAM\", 0, SUM(LARGE(IF(club=$C73, floor), ROW($1:$3))))","v":{"v":0,"d":"0.00"}},{"$nulls":5},{"$f":"IF($B73=\"NO TEAM\", 0, SUM(LARGE(IF(club=$C73, range), ROW($1:$3))))","v":{"v":0,"d":"0.00"}},{"$nulls":4},{"v":0,"d":"0.00"},3,7,0,3]
[null,{"$f":"IF(AND(COUNTIF(club,C74)>=3,COUNTIF(club,C74)<=5),\"TEAM\",IF(COUNTIF(club,C74)>5,\"Too Many!!!!!\",\"NO TEAM\"))","v":"NO TEAM"},{"$nulls":5},{"$f":"IF($B74=\"NO TEAM\", 0, SUM(LARGE(IF(club=$C74, vault), ROW($1:$3))))","v":{"v":0,"d":"0.00"}},{"$nulls":5},{"$f":"IF($B74=\"NO TEAM\", 0, SUM(LARGE(IF(club=$C74, bars), ROW($1:$3))))","v":{"v":0,"d":"0.00"}},{"$nulls":5},{"$f":"IF($B74=\"NO TEAM\", 0, SUM(LARGE(IF(club=$C74, beam), ROW($1:$3))))","v":{"v":0,"d":"0.00"}},{"$nulls":5},{"$f":"IF($B74=\"NO TEAM\", 0, SUM(LARGE(IF(club=$C74, floor), ROW($1:$3))))","v":{"v":0,"d":"0.00"}},{"$nulls":5},{"$f":"IF($B74=\"NO TEAM\", 0, SUM(LARGE(IF(club=$C74, range), ROW($1:$3))))","v":{"v":0,"d":"0.00"}},{"$nulls":4},{"v":0,"d":"0.00"},3,8,0,3]
[null,{"$f":"IF(AND(COUNTIF(club,C75)>=3,COUNTIF(club,C75)<=5),\"TEAM\",IF(COUNTIF(club,C75)>5,\"Too Many!!!!!\",\"NO TEAM\"))","v":"NO TEAM"},{"$nulls":5},{"$f":"IF($B75=\"NO TEAM\", 0, SUM(LARGE(IF(club=$C75, vault), ROW($1:$3))))","v":{"v":0,"d":"0.00"}},{"$nulls":5},{"$f":"IF($B75=\"NO TEAM\", 0, SUM(LARGE(IF(club=$C75, bars), ROW($1:$3))))","v":{"v":0,"d":"0.00"}},{"$nulls":5},{"$f":"IF($B75=\"NO TEAM\", 0, SUM(LARGE(IF(club=$C75, beam), ROW($1:$3))))","v":{"v":0,"d":"0.00"}},{"$nulls":5},{"$f":"IF($B75=\"NO TEAM\", 0, SUM(LARGE(IF(club=$C75, floor), ROW($1:$3))))","v":{"v":0,"d":"0.00"}},{"$nulls":5},{"$f":"IF($B75=\"NO TEAM\", 0, SUM(LARGE(IF(club=$C75, range), ROW($1:$3))))","v":{"v":0,"d":"0.00"}},{"$nulls":4},{"v":0,"d":"0.00"},3,9,0,3]
[null,{"$f":"IF(AND(COUNTIF(club,C76)>=3,COUNTIF(club,C76)<=5),\"TEAM\",IF(COUNTIF(club,C76)>5,\"Too Many!!!!!\",\"NO TEAM\"))","v":"NO TEAM"},{"$nulls":5},{"$f":"IF($B76=\"NO TEAM\", 0, SUM(LARGE(IF(club=$C76, vault), ROW($1:$3))))","v":{"v":0,"d":"0.00"}},{"$nulls":5},{"$f":"IF($B76=\"NO TEAM\", 0, SUM(LARGE(IF(club=$C76, bars), ROW($1:$3))))","v":{"v":0,"d":"0.00"}},{"$nulls":5},{"$f":"IF($B76=\"NO TEAM\", 0, SUM(LARGE(IF(club=$C76, beam), ROW($1:$3))))","v":{"v":0,"d":"0.00"}},{"$nulls":5},{"$f":"IF($B76=\"NO TEAM\", 0, SUM(LARGE(IF(club=$C76, floor), ROW($1:$3))))","v":{"v":0,"d":"0.00"}},{"$nulls":5},{"$f":"IF($B76=\"NO TEAM\", 0, SUM(LARGE(IF(club=$C76, range), ROW($1:$3))))","v":{"v":0,"d":"0.00"}},{"$nulls":4},{"v":0,"d":"0.00"},3,10,0,3]
[null,{"$f":"IF(AND(COUNTIF(club,C77)>=3,COUNTIF(club,C77)<=5),\"TEAM\",IF(COUNTIF(club,C77)>5,\"Too Many!!!!!\",\"NO TEAM\"))","v":"NO TEAM"},{"$nulls":5},{"$f":"IF($B77=\"NO TEAM\", 0, SUM(LARGE(IF(club=$C77, vault), ROW($1:$3))))","v":{"v":0,"d":"0.00"}},{"$nulls":5},{"$f":"IF($B77=\"NO TEAM\", 0, SUM(LARGE(IF(club=$C77, bars), ROW($1:$3))))","v":{"v":0,"d":"0.00"}},{"$nulls":5},{"$f":"IF($B77=\"NO TEAM\", 0, SUM(LARGE(IF(club=$C77, beam), ROW($1:$3))))","v":{"v":0,"d":"0.00"}},{"$nulls":5},{"$f":"IF($B77=\"NO TEAM\", 0, SUM(LARGE(IF(club=$C77, floor), ROW($1:$3))))","v":{"v":0,"d":"0.00"}},{"$nulls":5},{"$f":"IF($B77=\"NO TEAM\", 0, SUM(LARGE(IF(club=$C77, range), ROW($1:$3))))","v":{"v":0,"d":"0.00"}},{"$nulls":4},{"v":0,"d":"0.00"},3,11,0,3]
[null,{"$f":"IF(AND(COUNTIF(club,C78)>=3,COUNTIF(club,C78)<=5),\"TEAM\",IF(COUNTIF(club,C78)>5,\"Too Many!!!!!\",\"NO TEAM\"))","v":"NO TEAM"},{"$nulls":5},{"$f":"IF($B78=\"NO TEAM\", 0, SUM(LARGE(IF(club=$C78, vault), ROW($1:$3))))","v":{"v":0,"d":"0.00"}},{"$nulls":5},{"$f":"IF($B78=\"NO TEAM\", 0, SUM(LARGE(IF(club=$C78, bars), ROW($1:$3))))","v":{"v":0,"d":"0.00"}},{"$nulls":5},{"$f":"IF($B78=\"NO TEAM\", 0, SUM(LARGE(IF(club=$C78, beam), ROW($1:$3))))","v":{"v":0,"d":"0.00"}},{"$nulls":5},{"$f":"IF($B78=\"NO TEAM\", 0, SUM(LARGE(IF(club=$C78, floor), ROW($1:$3))))","v":{"v":0,"d":"0.00"}},{"$nulls":5},{"$f":"IF($B78=\"NO TEAM\", 0, SUM(LARGE(IF(club=$C78, range), ROW($1:$3))))","v":{"v":0,"d":"0.00"}},{"$nulls":4},{"v":0,"d":"0.00"},3,12,0,3]
[null,{"$f":"IF(AND(COUNTIF(club,C79)>=3,COUNTIF(club,C79)<=5),\"TEAM\",IF(COUNTIF(club,C79)>5,\"Too Many!!!!!\",\"NO TEAM\"))","v":"NO TEAM"},{"$nulls":5},{"$f":"IF($B79=\"NO TEAM\", 0, SUM(LARGE(IF(club=$C79, vault), ROW($1:$3))))","v":{"v":0,"d":"0.00"}},{"$nulls":5},{"$f":"SUM(LARGE(IF(club=$C79, bars), ROW($1:$3)))","v":{"v":0,"d":"0.00"}},{"$nulls":5},{"$f":"SUM(LARGE(IF(club=$C79, beam), ROW($1:$3)))","v":{"v":0,"d":"0.00"}},{"$nulls":5},{"$f":"SUM(LARGE(IF(club=$C79, floor), ROW($1:$3)))","v":{"v":0,"d":"0.00"}},{"$nulls":5},{"$f":"SUM(LARGE(IF(club=$C79, range), ROW($1:$3)))","v":{"v":0,"d":"0.00"}},{"$nulls":4},{"v":0,"d":"0.00"},3,13,0,3]
[null,{"$f":"IF(AND(COUNTIF(club,C80)>=3,COUNTIF(club,C80)<=5),\"TEAM\",IF(COUNTIF(club,C80)>5,\"Too Many!!!!!\",\"NO TEAM\"))","v":"NO TEAM"},{"$nulls":5},{"$f":"IF($B80=\"NO TEAM\", 0, SUM(LARGE(IF(club=$C80, vault), ROW($1:$3))))","v":{"v":0,"d":"0.00"}},{"$nulls":5},{"$f":"SUM(LARGE(IF(club=$C80, bars), ROW($1:$3)))","v":{"v":0,"d":"0.00"}},{"$nulls":5},{"$f":"SUM(LARGE(IF(club=$C80, beam), ROW($1:$3)))","v":{"v":0,"d":"0.00"}},{"$nulls":5},{"$f":"SUM(LARGE(IF(club=$C80, floor), ROW($1:$3)))","v":{"v":0,"d":"0.00"}},{"$nulls":5},{"$f":"SUM(LARGE(IF(club=$C80, range), ROW($1:$3)))","v":{"v":0,"d":"0.00"}},{"$nulls":4},{"v":0,"d":"0.00"},3,14,0,3]
[null,{"$f":"IF(AND(COUNTIF(club,C81)>=3,COUNTIF(club,C81)<=5),\"TEAM\",IF(COUNTIF(club,C81)>5,\"Too Many!!!!!\",\"NO TEAM\"))","v":"NO TEAM"},{"$nulls":5},{"$f":"IF($B81=\"NO TEAM\", 0, SUM(LARGE(IF(club=$C81, vault), ROW($1:$3))))","v":{"v":0,"d":"0.00"}},{"$nulls":5},{"$f":"SUM(LARGE(IF(club=$C81, bars), ROW($1:$3)))","v":{"v":0,"d":"0.00"}},{"$nulls":5},{"$f":"SUM(LARGE(IF(club=$C81, beam), ROW($1:$3)))","v":{"v":0,"d":"0.00"}},{"$nulls":5},{"$f":"SUM(LARGE(IF(club=$C81, floor), ROW($1:$3)))","v":{"v":0,"d":"0.00"}},{"$nulls":5},{"$f":"SUM(LARGE(IF(club=$C81, range), ROW($1:$3)))","v":{"v":0,"d":"0.00"}},{"$nulls":4},{"v":0,"d":"0.00"},3,15,0,3]
[{"$nulls":42},"   "]

{"sheet":"RegGr 3 >12","index":9,"n_rows":81,"n_cols":55,"rows_kept":81,"merged":[[0,3,0,8],[0,12,0,14],[0,18,0,20],[0,24,0,26],[0,30,0,32],[0,36,0,37],[2,45,2,54],[45,44,45,45],[45,48,45,49],[45,52,45,53],[56,44,56,45]]}
[{"$nulls":3},"VAULT",{"$nulls":8},"BARS",{"$nulls":5},"BEAM",{"$nulls":5},"FLOOR",{"$nulls":5},"RANGE",{"$nulls":5},"AA"]
["No","GYMNAST","CLUB","V1 SV","V1","V2 SV","V2","SCORE","POS","idx","sort","ties","SV","SCORE","POS","idx","sort","ties","SV","SCORE","POS","idx","sort","ties","SV","SCORE","POS","idx","sort","ties","SV","SCORE","POS","idx","sort","ties","TOTAL","POS","idx","sort","ties"]
[null,"Regional Grade 3 - 12 & Over",{"$nulls":41},{"$f":"B3","v":"Regional Grade 3 - 12 & Over"},null,"summary results for presentation"]
[135,"Ellie Fox","SD",{"v":4,"d":"4.0"},{"v":12.7,"d":"12.70"},{"v":0,"d":"0.0"},{"v":0,"d":"0.00"},{"$f":"MAX(E4, G4)","v":{"v":12.7,"d":"12.70"}},{"$f":"VLOOKUP(H4, K$4:L$65, 2,FALSE)","v":1},{"$f":"IF(ISNUMBER(J3), J3+1, 1)","v":1},{"$f":"LARGE(H$4:H$65,J4)","v":12.7},{"$f":"IF(K4=K3, L3, L3+1)","v":1},{"v":4,"d":"4.0"},12.65,{"$f":"VLOOKUP(N4, Q$4:R$65, 2,FALSE)","v":1},{"$f":"IF(ISNUMBER(P3), P3+1, 1)","v":1},{"$f":"LARGE(N$4:N$65,P4)","v":12.65},{"$f":"IF(Q4=Q3, R3, R3+1)","v":1},3.5,{"v":10.6,"d":"10.60"},{"$f":"VLOOKUP(T4, W$4:X$65, 2,FALSE)","v":3},{"$f":"IF(ISNUMBER(V3), V3+1, 1)","v":1},{"$f":"LARGE(T$4:T$65,V4)","v":12.2},{"$f":"IF(W4=W3, X3, X3+1)","v":1},{"v":4,"d":"4.0"},{"v":12,"d":"12.00"},{"$f":"VLOOKUP(Z4, AC$4:AD$65, 2,FALSE)","v":1},{"$f":"IF(ISNUMBER(AB3), AB3+1, 1)","v":1},{"$f":"LARGE(Z$4:Z$65,AB4)","v":12},{"$f":"IF(AC4=AC3, AD3, AD3+1)","v":1},{"v":4,"d":"4.0"},{"v":13.1,"d":"13.10"},{"$f":"VLOOKUP(AF4, AI$4:AJ$65, 2,FALSE)","v":1},{"$f":"IF(ISNUMBER(AH3), AH3+1, 1)","v":1},{"$f":"LARGE(AF$4:AF$65,AH4)","v":13.1},{"$f":"IF(AI4=AI3, AJ3, AJ3+1)","v":1},{"$f":"SUMIF(D$2:AJ$2, \"SCORE\", D4:AJ4)","v":{"v":61.050000000000004,"d":"61.05"}},{"$f":"VLOOKUP(AK4, AN$4:AO$65, 2,FALSE)","v":2},{"$f":"IF(ISNUMBER(AM3), AM3+1, 1)","v":1},{"$f":"LARGE($AK$4:$AK$65,$AM4)","v":61.45},{"$f":"IF(AN4=AN3, AO3, AO3+1)","v":1},null,null,"6th Place",{"$f":"IFERROR(INDEX(vault,MATCH(AR5,gymnasts,0)), \"\")","v":{"v":11.8,"d":"11.80"}},"5th Place",{"$f":"IFERROR(INDEX(vault,MATCH(AT5,gymnasts,0)), \"\")","v":{"v":11.9,"d":"11.90"}},"4th Place",{"$f":"IFERROR(INDEX(vault,MATCH(AV5,gymnasts,0)), \"\")","v":12.35},"3rd Place",{"$f":"IFERROR(INDEX(vault,MATCH(AX5,gymnasts,0)), \"\")","v":{"v":12.5,"d":"12.50"}},"2nd Place",{"$f":"IFERROR(INDEX(vault,MATCH(AZ5,gymnasts,0)), \"\")","v":12.55},"1st Place",{"$f":"IFERROR(INDEX(vault,MATCH(BB5,gymnasts,0)), \"\")","v":{"v":12.7,"d":"12.70"}}]
[136,"Sophie Adams","SD",{"v":4,"d":"4.0"},{"v":11.8,"d":"11.80"},{"v":0,"d":"0.0"},{"v":0,"d":"0.00"},{"$f":"MAX(E5, G5)","v":{"v":11.8,"d":"11.80"}},{"$f":"VLOOKUP(H5, K$4:L$65, 2,FALSE)","v":6},2,{"$f":"LARGE(H$4:H$65,J5)","v":12.55},{"$f":"IF(K5=K4, L4, L4+1)","v":2},1.5,{"v":9.9,"d":"9.90"},{"$f":"VLOOKUP(N5, Q$4:R$65, 2,FALSE)","v":6},2,{"$f":"LARGE(N$4:N$65,P5)","v":12.6},{"$f":"IF(Q5=Q4, R4, R4+1)","v":2},3.5,{"v":11.2,"d":"11.20"},{"$f":"VLOOKUP(T5, W$4:X$65, 2,FALSE)","v":2},2,{"$f":"LARGE(T$4:T$65,V5)","v":11.2},{"$f":"IF(W5=W4, X4, X4+1)","v":2},{"v":4,"d":"4.0"},{"v":12,"d":"12.00"},{"$f":"VLOOKUP(Z5, AC$4:AD$65, 2,FALSE)","v":1},2,{"$f":"LARGE(Z$4:Z$65,AB5)","v":12},{"$f":"IF(AC5=AC4, AD4, AD4+1)","v":1},{"v":4,"d":"4.0"},{"v":12.6,"d":"12.60"},{"$f":"VLOOKUP(AF5, AI$4:AJ$65, 2,FALSE)","v":3},2,{"$f":"LARGE(AF$4:AF$65,AH5)","v":13.05},{"$f":"IF(AI5=AI4, AJ4, AJ4+1)","v":2},{"v":57.50000000000001,"d":"57.50"},{"$f":"VLOOKUP(AK5, AN$4:AO$65, 2,FALSE)","v":5},2,{"$f":"LARGE($AK$4:$AK$65,$AM5)","v":61.050000000000004},{"$f":"IF(AN5=AN4, AO4, AO4+1)","v":2},null,"Vault",{"$f":"IFERROR(INDEX(gymnasts, SMALL(IF(VALUE(LEFT(AR$32, 1))=vaultPos, ROW(vaultPos)-MIN(ROW(vaultPos))+1, \"\"), ROW()-4)), \"\")","v":"Sophie Adams"},{"$f":"IFERROR( INDEX(entries, MATCH(AR5, gymnasts, 0), 2), \"\")","v":"SD"},{"$f":"IFERROR(INDEX(gymnasts, SMALL(IF(VALUE(LEFT(AT$32, 1))=vaultPos, ROW(vaultPos)-MIN(ROW(vaultPos))+1, \"\"), ROW()-4)), \"\")","v":"Ashleigh Silva"},{"$f":"IFERROR( INDEX(entries, MATCH(AT5, gymnasts, 0), 2), \"\")","v":"Gymtopia"},{"$f":"IFERROR(INDEX(gymnasts, SMALL(IF(VALUE(LEFT(AV$32, 1))=vaultPos, ROW(vaultPos)-MIN(ROW(vaultPos))+1, \"\"), ROW()-4)), \"\")","v":"Mia Elliott"},{"$f":"IFERROR( INDEX(entries, MATCH(AV5, gymnasts, 0), 2), \"\")","v":"CNGA"},{"$f":"IFERROR(INDEX(gymnasts, SMALL(IF(VALUE(LEFT(AX$32, 1))=vaultPos, ROW(vaultPos)-MIN(ROW(vaultPos))+1, \"\"), ROW()-4)), \"\")","v":"Tegan Anderson"},{"$f":"IFERROR( INDEX(entries, MATCH(AX5, gymnasts, 0), 2), \"\")","v":"SD"},{"$f":"IFERROR(INDEX(gymnasts, SMALL(IF(VALUE(LEFT(AZ$32, 1))=vaultPos, ROW(vaultPos)-MIN(ROW(vaultPos))+1, \"\"), ROW()-4)), \"\")","v":"Zoe Arthur"},{"$f":"IFERROR( INDEX(entries, MATCH(AZ5, gymnasts, 0), 2), \"\")","v":"Gymtopia"},{"$f":"IFERROR(INDEX(gymnasts, SMALL(IF(VALUE(LEFT(BB$32, 1))=vaultPos, ROW(vaultPos)-MIN(ROW(vaultPos))+1, \"\"), ROW()-4)), \"\")","v":"Ellie Fox"},{"$f":"IFERROR( INDEX(entries, MATCH(BB5, gymnasts, 0), 2), \"\")","v":"SD"}]
[137,"Tegan Anderson","SD",{"v":4,"d":"4.0"},{"v":12.5,"d":"12.50"},{"v":0,"d":"0.0"},{"v":0,"d":"0.00"},{"v":12.5,"d":"12.50"},3,3,12.5,3,{"v":4,"d":"4.0"},{"v":12.6,"d":"12.60"},2,3,12.55,3,{"v":4,"d":"4.0"},{"v":12.2,"d":"12.20"},1,3,10.6,3,{"v":4,"d":"4.0"},{"v":11.7,"d":"11.70"},2,3,11.7,2,{"v":4,"d":"4.0"},12.45,4,3,12.6,3,61.45,1,3,57.7,3,null,null,"",{"$f":"IFERROR( INDEX(entries, MATCH(AR6, gymnasts, 0), 2), \"\")","v":""},"",{"$f":"IFERROR( INDEX(entries, MATCH(AT6, gymnasts, 0), 2), \"\")","v":""},"",{"$f":"IFERROR( INDEX(entries, MATCH(AV6, gymnasts, 0), 2), \"\")","v":""},"",{"$f":"IFERROR( INDEX(entries, MATCH(AX6, gymnasts, 0), 2), \"\")","v":""},"",{"$f":"IFERROR( INDEX(entries, MATCH(AZ6, gymnasts, 0), 2), \"\")","v":""},"",""]
[138,"Ashleigh Silva","Gymtopia",{"v":4,"d":"4.0"},{"v":11.9,"d":"11.90"},{"v":0,"d":"0.0"},{"v":0,"d":"0.00"},{"v":11.9,"d":"11.90"},5,4,12.35,4,{"v":4,"d":"4.0"},10.05,5,4,12.35,4,3.5,{"v":9.7,"d":"9.70"},6,4,9.95,4,{"v":4,"d":"4.0"},{"v":10.8,"d":"10.80"},5,4,11.3,3,{"v":4,"d":"4.0"},{"v":12.4,"d":"12.40"},5,4,12.45,4,54.85,6,4,57.599999999999994,4,null,null,"","","","","","","","","","","",""]
[139,"Zoe Arthur","Gymtopia",{"v":4,"d":"4.0"},12.55,{"v":0,"d":"0.0"},{"v":0,"d":"0.00"},12.55,2,5,11.9,5,{"v":4,"d":"4.0"},12.55,3,5,10.05,5,{"v":3,"d":"3.0"},9.95,4,5,9.75,5,{"v":4,"d":"4.0"},{"v":11.3,"d":"11.30"},3,5,11.25,4,3.5,11.25,7,5,12.4,5,{"v":57.599999999999994,"d":"57.60"},4,5,57.50000000000001,5,null,null,"","","","","","","","","","","",""]
[140,"Casey Percival","Gymtopia",{"v":0,"d":"0.0"},{"v":0,"d":"0.00"},{"v":0,"d":"0.0"},{"v":0,"d":"0.00"},{"v":0,"d":"0.00"},7,6,11.8,6,{"v":0,"d":"0.0"},{"v":0,"d":"0.00"},7,6,9.9,6,{"v":0,"d":"0.0"},{"v":0,"d":"0.00"},7,6,9.7,6,null,null,6,6,10.8,5,{"v":4,"d":"4.0"},13.05,2,6,12,6,13.05,7,6,54.85,6,null,null,"","","","","","","","","","","",""]
[142,"Camilla Kumaki","CNGA",{"v":0,"d":"0.0"},{"v":0,"d":"0.00"},{"v":0,"d":"0.0"},{"v":0,"d":"0.00"},{"v":0,"d":"0.00"},7,7,0,7,{"v":0,"d":"0.0"},{"v":0,"d":"0.00"},7,7,0,7,{"v":0,"d":"0.0"},{"v":0,"d":"0.00"},7,7,0,7,{"v":0,"d":"0.0"},{"v":0,"d":"0.00"},6,7,0,6,{"v":0,"d":"0.0"},{"v":0,"d":"0.00"},8,7,11.25,7,{"v":0,"d":"0.00"},8,7,13.05,7,null,null,"","","","","","","","","","","",""]
[143,"Mia Elliott","CNGA",{"v":4,"d":"4.0"},12.35,{"v":0,"d":"0.0"},{"v":0,"d":"0.00"},12.35,4,8,0,7,{"v":4,"d":"4.0"},12.35,4,8,0,7,3.5,9.75,5,8,0,7,{"v":4,"d":"4.0"},11.25,4,8,0,6,3.5,{"v":12,"d":"12.00"},6,8,0,8,{"v":57.7,"d":"57.70"},3,8,0,8,null,null,"6th Place",{"$f":"IFERROR(INDEX(bars,MATCH(AR12,gymnasts,0)), \"\")","v":{"v":9.9,"d":"9.90"}},"5th Place",{"$f":"IFERROR(INDEX(bars,MATCH(AT12,gymnasts,0)), \"\")","v":10.05},"4th Place",{"$f":"IFERROR(INDEX(bars,MATCH(AV12,gymnasts,0)), \"\")","v":12.35},"3rd Place",{"$f":"IFERROR(INDEX(bars,MATCH(AX12,gymnasts,0)), \"\")","v":12.55},"2nd Place",{"$f":"IFERROR(INDEX(bars,MATCH(AZ12,gymnasts,0)), \"\")","v":{"v":12.6,"d":"12.60"}},"1st Place",{"$f":"IFERROR(INDEX(bars,MATCH(BB12,gymnasts,0)), \"\")","v":12.65}]
[{"$nulls":3},{"v":0,"d":"0.0"},{"v":0,"d":"0.00"},{"v":0,"d":"0.0"},{"v":0,"d":"0.00"},{"v":0,"d":"0.00"},7,9,0,7,{"v":0,"d":"0.0"},{"v":0,"d":"0.00"},7,9,0,7,{"v":0,"d":"0.0"},{"v":0,"d":"0.00"},7,9,0,7,{"v":0,"d":"0.0"},{"v":0,"d":"0.00"},6,9,0,6,{"v":0,"d":"0.0"},{"v":0,"d":"0.00"},8,9,0,8,{"v":0,"d":"0.00"},8,9,0,8,null,"Bars",{"$f":"IFERROR(INDEX(gymnasts, SMALL(IF(VALUE(LEFT(AR$32, 1))=BarPos, ROW(BarPos)-MIN(ROW(BarPos))+1, \"\"), ROW()-11)), \"\")","v":"Sophie Adams"},{"$f":"IFERROR( INDEX(entries, MATCH(AR12, gymnasts, 0), 2), \"\")","v":"SD"},{"$f":"IFERROR(INDEX(gymnasts, SMALL(IF(VALUE(LEFT(AT$32, 1))=BarPos, ROW(BarPos)-MIN(ROW(BarPos))+1, \"\"), ROW()-11)), \"\")","v":"Ashleigh Silva"},{"$f":"IFERROR( INDEX(entries, MATCH(AT12, gymnasts, 0), 2), \"\")","v":"Gymtopia"},{"$f":"IFERROR(INDEX(gymnasts, SMALL(IF(VALUE(LEFT(AV$32, 1))=BarPos, ROW(BarPos)-MIN(ROW(BarPos))+1, \"\"), ROW()-11)), \"\")","v":"Mia Elliott"},{"$f":"IFERROR( INDEX(entries, MATCH(AV12, gymnasts, 0), 2), \"\")","v":"CNGA"},{"$f":"IFERROR(INDEX(gymnasts, SMALL(IF(VALUE(LEFT(AX$32, 1))=BarPos, ROW(BarPos)-MIN(ROW(BarPos))+1, \"\"), ROW()-11)), \"\")","v":"Zoe Arthur"},{"$f":"IFERROR( INDEX(entries, MATCH(AX12, gymnasts, 0), 2), \"\")","v":"Gymtopia"},{"$f":"IFERROR(INDEX(gymnasts, SMALL(IF(VALUE(LEFT(AZ$32, 1))=BarPos, ROW(BarPos)-MIN(ROW(BarPos))+1, \"\"), ROW()-11)), \"\")","v":"Tegan Anderson"},{"$f":"IFERROR( INDEX(entries, MATCH(AZ12, gymnasts, 0), 2), \"\")","v":"SD"},{"$f":"IFERROR(INDEX(gymnasts, SMALL(IF(VALUE(LEFT(BB$32, 1))=BarPos, ROW(BarPos)-MIN(ROW(BarPos))+1, \"\"), ROW()-11)), \"\")","v":"Ellie Fox"},{"$f":"IFERROR( INDEX(entries, MATCH(BB12, gymnasts, 0), 2), \"\")","v":"SD"}]
[{"$nulls":3},{"v":0,"d":"0.0"},{"v":0,"d":"0.00"},{"v":0,"d":"0.0"},{"v":0,"d":"0.00"},{"v":0,"d":"0.00"},7,10,0,7,{"v":0,"d":"0.0"},{"v":0,"d":"0.00"},7,10,0,7,{"v":0,"d":"0.0"},{"v":0,"d":"0.00"},7,10,0,7,{"v":0,"d":"0.0"},{"v":0,"d":"0.00"},6,10,0,6,{"v":0,"d":"0.0"},{"v":0,"d":"0.00"},8,10,0,8,{"v":0,"d":"0.00"},8,10,0,8,null,null,"",{"$f":"IFERROR( INDEX(entries, MATCH(AR13, gymnasts, 0), 2), \"\")","v":""},"",{"$f":"IFERROR( INDEX(entries, MATCH(AT13, gymnasts, 0), 2), \"\")","v":""},"",{"$f":"IFERROR( INDEX(entries, MATCH(AV13, gymnasts, 0), 2), \"\")","v":""},"",{"$f":"IFERROR( INDEX(entries, MATCH(AX13, gymnasts, 0), 2), \"\")","v":""},"",{"$f":"IFERROR( INDEX(entries, MATCH(AZ13, gymnasts, 0), 2), \"\")","v":""},"",""]
[{"$nulls":3},{"v":0,"d":"0.0"},{"v":0,"d":"0.00"},{"v":0,"d":"0.0"},{"v":0,"d":"0.00"},{"v":0,"d":"0.00"},7,11,0,7,{"v":0,"d":"0.0"},{"v":0,"d":"0.00"},7,11,0,7,{"v":0,"d":"0.0"},{"v":0,"d":"0.00"},7,11,0,7,{"v":0,"d":"0.0"},{"v":0,"d":"0.00"},6,11,0,6,{"v":0,"d":"0.0"},{"v":0,"d":"0.00"},8,11,0,8,{"v":0,"d":"0.00"},8,11,0,8,null,null,"","","","","","","","","","","",""]
[{"$nulls":3},{"v":0,"d":"0.0"},{"v":0,"d":"0.00"},{"v":0,"d":"0.0"},{"v":0,"d":"0.00"},{"v":0,"d":"0.00"},7,12,0,7,{"v":0,"d":"0.0"},{"v":0,"d":"0.00"},7,12,0,7,{"v":0,"d":"0.0"},{"v":0,"d":"0.00"},7,12,0,7,{"v":0,"d":"0.0"},{"v":0,"d":"0.00"},6,12,0,6,{"v":0,"d":"0.0"},{"v":0,"d":"0.00"},8,12,0,8,{"v":0,"d":"0.00"},8,12,0,8,null,null,"","","","","","","","","","","",""]
[{"$nulls":3},{"v":0,"d":"0.0"},{"v":0,"d":"0.00"},{"v":0,"d":"0.0"},{"v":0,"d":"0.00"},{"v":0,"d":"0.00"},7,13,0,7,{"v":0,"d":"0.0"},{"v":0,"d":"0.00"},7,13,0,7,{"v":0,"d":"0.0"},{"v":0,"d":"0.00"},7,13,0,7,{"v":0,"d":"0.0"},{"v":0,"d":"0.00"},6,13,0,6,{"v":0,"d":"0.0"},{"v":0,"d":"0.00"},8,13,0,8,{"v":0,"d":"0.00"},8,13,0,8,null,null,"","","","","","","","","","","",""]
[{"$nulls":3},{"v":0,"d":"0.0"},{"v":0,"d":"0.00"},{"v":0,"d":"0.0"},{"v":0,"d":"0.00"},{"v":0,"d":"0.00"},7,14,0,7,{"v":0,"d":"0.0"},{"v":0,"d":"0.00"},7,14,0,7,{"v":0,"d":"0.0"},{"v":0,"d":"0.00"},7,14,0,7,{"v":0,"d":"0.0"},{"v":0,"d":"0.00"},6,14,0,6,{"v":0,"d":"0.0"},{"v":0,"d":"0.00"},8,14,0,8,{"v":0,"d":"0.00"},8,14,0,8,null,null,"","","","","","","","","","","",""]
[{"$nulls":3},{"v":0,"d":"0.0"},{"v":0,"d":"0.00"},{"v":0,"d":"0.0"},{"v":0,"d":"0.00"},{"v":0,"d":"0.00"},7,15,0,7,{"v":0,"d":"0.0"},{"v":0,"d":"0.00"},7,15,0,7,{"v":0,"d":"0.0"},{"v":0,"d":"0.00"},7,15,0,7,{"v":0,"d":"0.0"},{"v":0,"d":"0.00"},6,15,0,6,{"v":0,"d":"0.0"},{"v":0,"d":"0.00"},8,15,0,8,{"v":0,"d":"0.00"},8,15,0,8,null,null,"6th Place",{"$f":"IFERROR(INDEX(beam,MATCH(AR19,gymnasts,0)), \"\")","v":{"v":9.7,"d":"9.70"}},"5th Place",{"$f":"IFERROR(INDEX(beam,MATCH(AT19,gymnasts,0)), \"\")","v":9.75},"4th Place",{"$f":"IFERROR(INDEX(beam,MATCH(AV19,gymnasts,0)), \"\")","v":9.95},"3rd Place",{"$f":"IFERROR(INDEX(beam,MATCH(AX19,gymnasts,0)), \"\")","v":{"v":10.6,"d":"10.60"}},"2nd Place",{"$f":"IFERROR(INDEX(beam,MATCH(AZ19,gymnasts,0)), \"\")","v":{"v":11.2,"d":"11.20"}},"1st Place",{"$f":"IFERROR(INDEX(beam,MATCH(BB19,gymnasts,0)), \"\")","v":{"v":12.2,"d":"12.20"}}]
[{"$nulls":3},{"v":0,"d":"0.0"},{"v":0,"d":"0.00"},{"v":0,"d":"0.0"},{"v":0,"d":"0.00"},{"v":0,"d":"0.00"},7,16,0,7,{"v":0,"d":"0.0"},{"v":0,"d":"0.00"},7,16,0,7,{"v":0,"d":"0.0"},{"v":0,"d":"0.00"},7,16,0,7,{"v":0,"d":"0.0"},{"v":0,"d":"0.00"},6,16,0,6,{"v":0,"d":"0.0"},{"v":0,"d":"0.00"},8,16,0,8,{"v":0,"d":"0.00"},8,16,0,8,null,"Beam",{"$f":"IFERROR(INDEX(gymnasts, SMALL(IF(VALUE(LEFT(AR$32, 1))=BeamPos, ROW(BeamPos)-MIN(ROW(BeamPos))+1, \"\"), ROW()-18)), \"\")","v":"Ashleigh Silva"},{"$f":"IFERROR( INDEX(entries, MATCH(AR19, gymnasts, 0), 2), \"\")","v":"Gymtopia"},{"$f":"IFERROR(INDEX(gymnasts, SMALL(IF(VALUE(LEFT(AT$32, 1))=BeamPos, ROW(BeamPos)-MIN(ROW(BeamPos))+1, \"\"), ROW()-18)), \"\")","v":"Mia Elliott"},{"$f":"IFERROR( INDEX(entries, MATCH(AT19, gymnasts, 0), 2), \"\")","v":"CNGA"},{"$f":"IFERROR(INDEX(gymnasts, SMALL(IF(VALUE(LEFT(AV$32, 1))=BeamPos, ROW(BeamPos)-MIN(ROW(BeamPos))+1, \"\"), ROW()-18)), \"\")","v":"Zoe Arthur"},{"$f":"IFERROR( INDEX(entries, MATCH(AV19, gymnasts, 0), 2), \"\")","v":"Gymtopia"},{"$f":"IFERROR(INDEX(gymnasts, SMALL(IF(VALUE(LEFT(AX$32, 1))=BeamPos, ROW(BeamPos)-MIN(ROW(BeamPos))+1, \"\"), ROW()-18)), \"\")","v":"Ellie Fox"},{"$f":"IFERROR( INDEX(entries, MATCH(AX19, gymnasts, 0), 2), \"\")","v":"SD"},{"$f":"IFERROR(INDEX(gymnasts, SMALL(IF(VALUE(LEFT(AZ$32, 1))=BeamPos, ROW(BeamPos)-MIN(ROW(BeamPos))+1, \"\"), ROW()-18)), \"\")","v":"Sophie Adams"},{"$f":"IFERROR( INDEX(entries, MATCH(AZ19, gymnasts, 0), 2), \"\")","v":"SD"},{"$f":"IFERROR(INDEX(gymnasts, SMALL(IF(VALUE(LEFT(BB$32, 1))=BeamPos, ROW(BeamPos)-MIN(ROW(BeamPos))+1, \"\"), ROW()-18)), \"\")","v":"Tegan Anderson"},{"$f":"IFERROR( INDEX(entries, MATCH(BB19, gymnasts, 0), 2), \"\")","v":"SD"}]
[{"$nulls":3},{"v":0,"d":"0.0"},{"v":0,"d":"0.00"},{"v":0,"d":"0.0"},{"v":0,"d":"0.00"},{"v":0,"d":"0.00"},7,17,0,7,{"v":0,"d":"0.0"},{"v":0,"d":"0.00"},7,17,0,7,{"v":0,"d":"0.0"},{"v":0,"d":"0.00"},7,17,0,7,{"v":0,"d":"0.0"},{"v":0,"d":"0.00"},6,17,0,6,{"v":0,"d":"0.0"},{"v":0,"d":"0.00"},8,17,0,8,{"v":0,"d":"0.00"},8,17,0,8,null,null,"",{"$f":"IFERROR( INDEX(entries, MATCH(AR20, gymnasts, 0), 2), \"\")","v":""},"",{"$f":"IFERROR( INDEX(entries, MATCH(AT20, gymnasts, 0), 2), \"\")","v":""},"",{"$f":"IFERROR( INDEX(entries, MATCH(AV20, gymnasts, 0), 2), \"\")","v":""},"",{"$f":"IFERROR( INDEX(entries, MATCH(AX20, gymnasts, 0), 2), \"\")","v":""},"",{"$f":"IFERROR( INDEX(entries, MATCH(AZ20, gymnasts, 0), 2), \"\")","v":""},"",""]
[{"$nulls":3},{"v":0,"d":"0.0"},{"v":0,"d":"0.00"},{"v":0,"d":"0.0"},{"v":0,"d":"0.00"},{"v":0,"d":"0.00"},7,18,0,7,{"v":0,"d":"0.0"},{"v":0,"d":"0.00"},7,18,0,7,{"v":0,"d":"0.0"},{"v":0,"d":"0.00"},7,18,0,7,{"v":0,"d":"0.0"},{"v":0,"d":"0.00"},6,18,0,6,{"v":0,"d":"0.0"},{"v":0,"d":"0.00"},8,18,0,8,{"v":0,"d":"0.00"},8,18,0,8,null,null,"","","","","","","","","","","",""]
[{"$nulls":3},{"v":0,"d":"0.0"},{"v":0,"d":"0.00"},{"v":0,"d":"0.0"},{"v":0,"d":"0.00"},{"v":0,"d":"0.00"},7,19,0,7,{"v":0,"d":"0.0"},{"v":0,"d":"0.00"},7,19,0,7,{"v":0,"d":"0.0"},{"v":0,"d":"0.00"},7,19,0,7,{"v":0,"d":"0.0"},{"v":0,"d":"0.00"},6,19,0,6,{"v":0,"d":"0.0"},{"v":0,"d":"0.00"},8,19,0,8,{"v":0,"d":"0.00"},8,19,0,8,null,null,"","","","","","","","","","","",""]
[{"$nulls":3},{"v":0,"d":"0.0"},{"v":0,"d":"0.00"},{"v":0,"d":"0.0"},{"v":0,"d":"0.00"},{"v":0,"d":"0.00"},7,20,0,7,{"v":0,"d":"0.0"},{"v":0,"d":"0.00"},7,20,0,7,{"v":0,"d":"0.0"},{"v":0,"d":"0.00"},7,20,0,7,{"v":0,"d":"0.0"},{"v":0,"d":"0.00"},6,20,0,6,{"v":0,"d":"0.0"},{"v":0,"d":"0.00"},8,20,0,8,{"v":0,"d":"0.00"},8,20,0,8,null,null,"","","","","","","","","","","",""]
[{"$nulls":3},{"v":0,"d":"0.0"},{"v":0,"d":"0.00"},{"v":0,"d":"0.0"},{"v":0,"d":"0.00"},{"v":0,"d":"0.00"},7,21,0,7,{"v":0,"d":"0.0"},{"v":0,"d":"0.00"},7,21,0,7,{"v":0,"d":"0.0"},{"v":0,"d":"0.00"},7,21,0,7,{"v":0,"d":"0.0"},{"v":0,"d":"0.00"},6,21,0,6,{"v":0,"d":"0.0"},{"v":0,"d":"0.00"},8,21,0,8,{"v":0,"d":"0.00"},8,21,0,8,null,null,"","","","","","","","","","","",""]
[{"$nulls":3},{"v":0,"d":"0.0"},{"v":0,"d":"0.00"},{"v":0,"d":"0.0"},{"v":0,"d":"0.00"},{"v":0,"d":"0.00"},7,22,0,7,{"v":0,"d":"0.0"},{"v":0,"d":"0.00"},7,22,0,7,{"v":0,"d":"0.0"},{"v":0,"d":"0.00"},7,22,0,7,{"v":0,"d":"0.0"},{"v":0,"d":"0.00"},6,22,0,6,{"v":0,"d":"0.0"},{"v":0,"d":"0.00"},8,22,0,8,{"v":0,"d":"0.00"},8,22,0,8,null,null,"6th Place",{"$f":"IFERROR(INDEX(floor,MATCH(AR26,gymnasts,0)), \"\")","v":{"v":0,"d":"0.00"}},"5th Place",{"$f":"IFERROR(INDEX(floor,MATCH(AT26,gymnasts,0)), \"\")","v":{"v":10.8,"d":"10.80"}},"4th Place",{"$f":"IFERROR(INDEX(floor,MATCH(AV26,gymnasts,0)), \"\")","v":11.25},"3rd Place",{"$f":"IFERROR(INDEX(floor,MATCH(AX26,gymnasts,0)), \"\")","v":{"v":11.3,"d":"11.30"}},"2nd Place",{"$f":"IFERROR(INDEX(floor,MATCH(AZ26,gymnasts,0)), \"\")","v":{"v":11.7,"d":"11.70"}},"1st Place",{"$f":"IFERROR(INDEX(floor,MATCH(BB26,gymnasts,0)), \"\")","v":{"v":12,"d":"12.00"}}]
[{"$nulls":3},{"v":0,"d":"0.0"},{"v":0,"d":"0.00"},{"v":0,"d":"0.0"},{"v":0,"d":"0.00"},{"v":0,"d":"0.00"},7,23,0,7,{"v":0,"d":"0.0"},{"v":0,"d":"0.00"},7,23,0,7,{"v":0,"d":"0.0"},{"v":0,"d":"0.00"},7,23,0,7,{"v":0,"d":"0.0"},{"v":0,"d":"0.00"},6,23,0,6,{"v":0,"d":"0.0"},{"v":0,"d":"0.00"},8,23,0,8,{"v":0,"d":"0.00"},8,23,0,8,null,"Floor",{"$f":"IFERROR(INDEX(gymnasts, SMALL(IF(VALUE(LEFT(AR$32, 1))=FloorPos, ROW(FloorPos)-MIN(ROW(FloorPos))+1, \"\"), ROW()-25)), \"\")","v":"Casey Percival"},{"$f":"IFERROR( INDEX(entries, MATCH(AR26, gymnasts, 0), 2), \"\")","v":"Gymtopia"},{"$f":"IFERROR(INDEX(gymnasts, SMALL(IF(VALUE(LEFT(AT$32, 1))=FloorPos, ROW(FloorPos)-MIN(ROW(FloorPos))+1, \"\"), ROW()-25)), \"\")","v":"Ashleigh Silva"},{"$f":"IFERROR( INDEX(entries, MATCH(AT26, gymnasts, 0), 2), \"\")","v":"Gymtopia"},{"$f":"IFERROR(INDEX(gymnasts, SMALL(IF(VALUE(LEFT(AV$32, 1))=FloorPos, ROW(FloorPos)-MIN(ROW(FloorPos))+1, \"\"), ROW()-25)), \"\")","v":"Mia Elliott"},{"$f":"IFERROR( INDEX(entries, MATCH(AV26, gymnasts, 0), 2), \"\")","v":"CNGA"},{"$f":"IFERROR(INDEX(gymnasts, SMALL(IF(VALUE(LEFT(AX$32, 1))=FloorPos, ROW(FloorPos)-MIN(ROW(FloorPos))+1, \"\"), ROW()-25)), \"\")","v":"Zoe Arthur"},{"$f":"IFERROR( INDEX(entries, MATCH(AX26, gymnasts, 0), 2), \"\")","v":"Gymtopia"},{"$f":"IFERROR(INDEX(gymnasts, SMALL(IF(VALUE(LEFT(AZ$32, 1))=FloorPos, ROW(FloorPos)-MIN(ROW(FloorPos))+1, \"\"), ROW()-25)), \"\")","v":"Tegan Anderson"},{"$f":"IFERROR( INDEX(entries, MATCH(AZ26, gymnasts, 0), 2), \"\")","v":"SD"},{"$f":"IFERROR(INDEX(gymnasts, SMALL(IF(VALUE(LEFT(BB$32, 1))=FloorPos, ROW(FloorPos)-MIN(ROW(FloorPos))+1, \"\"), ROW()-25)), \"\")","v":"Ellie Fox"},{"$f":"IFERROR( INDEX(entries, MATCH(BB26, gymnasts, 0), 2), \"\")","v":"SD"}]
[{"$nulls":3},{"v":0,"d":"0.0"},{"v":0,"d":"0.00"},{"v":0,"d":"0.0"},{"v":0,"d":"0.00"},{"v":0,"d":"0.00"},7,24,0,7,{"v":0,"d":"0.0"},{"v":0,"d":"0.00"},7,24,0,7,{"v":0,"d":"0.0"},{"v":0,"d":"0.00"},7,24,0,7,{"v":0,"d":"0.0"},{"v":0,"d":"0.00"},6,24,0,6,{"v":0,"d":"0.0"},{"v":0,"d":"0.00"},8,24,0,8,{"v":0,"d":"0.00"},8,24,0,8,null,null,"Camilla Kumaki",{"$f":"IFERROR( INDEX(entries, MATCH(AR27, gymnasts, 0), 2), \"\")","v":"CNGA"},"",{"$f":"IFERROR( INDEX(entries, MATCH(AT27, gymnasts, 0), 2), \"\")","v":""},"",{"$f":"IFERROR( INDEX(entries, MATCH(AV27, gymnasts, 0), 2), \"\")","v":""},"",{"$f":"IFERROR( INDEX(entries, MATCH(AX27, gymnasts, 0), 2), \"\")","v":""},"",{"$f":"IFERROR( INDEX(entries, MATCH(AZ27, gymnasts, 0), 2), \"\")","v":""},"Sophie Adams","SD"]
[{"$nulls":3},{"v":0,"d":"0.0"},{"v":0,"d":"0.00"},{"v":0,"d":"0.0"},{"v":0,"d":"0.00"},{"v":0,"d":"0.00"},7,25,0,7,{"v":0,"d":"0.0"},{"v":0,"d":"0.00"},7,25,0,7,{"v":0,"d":"0.0"},{"v":0,"d":"0.00"},7,25,0,7,{"v":0,"d":"0.0"},{"v":0,"d":"0.00"},6,25,0,6,{"v":0,"d":"0.0"},{"v":0,"d":"0.00"},8,25,0,8,{"v":0,"d":"0.00"},8,25,0,8,null,null,0,"","","","","","","","","","",""]
[{"$nulls":3},{"v":0,"d":"0.0"},{"v":0,"d":"0.00"},{"v":0,"d":"0.0"},{"v":0,"d":"0.00"},{"v":0,"d":"0.00"},7,26,0,7,{"v":0,"d":"0.0"},{"v":0,"d":"0.00"},7,26,0,7,{"v":0,"d":"0.0"},{"v":0,"d":"0.00"},7,26,0,7,{"v":0,"d":"0.0"},{"v":0,"d":"0.00"},6,26,0,6,{"v":0,"d":"0.0"},{"v":0,"d":"0.00"},8,26,0,8,{"v":0,"d":"0.00"},8,26,0,8,null,null,0,"","","","","","","","","","",""]
[{"$nulls":3},{"v":0,"d":"0.0"},{"v":0,"d":"0.00"},{"v":0,"d":"0.0"},{"v":0,"d":"0.00"},{"v":0,"d":"0.00"},7,27,0,7,{"v":0,"d":"0.0"},{"v":0,"d":"0.00"},7,27,0,7,{"v":0,"d":"0.0"},{"v":0,"d":"0.00"},7,27,0,7,{"v":0,"d":"0.0"},{"v":0,"d":"0.00"},6,27,0,6,{"v":0,"d":"0.0"},{"v":0,"d":"0.00"},8,27,0,8,{"v":0,"d":"0.00"},8,27,0,8,null,null,0,"","","","","","","","","","",""]
[{"$nulls":3},{"v":0,"d":"0.0"},{"v":0,"d":"0.00"},{"v":0,"d":"0.0"},{"v":0,"d":"0.00"},{"v":0,"d":"0.00"},7,28,0,7,{"v":0,"d":"0.0"},{"v":0,"d":"0.00"},7,28,0,7,{"v":0,"d":"0.0"},{"v":0,"d":"0.00"},7,28,0,7,{"v":0,"d":"0.0"},{"v":0,"d":"0.00"},6,28,0,6,{"v":0,"d":"0.0"},{"v":0,"d":"0.00"},8,28,0,8,{"v":0,"d":"0.00"},8,28,0,8,null,null,0,"","","","","","","","","","",""]
[{"$nulls":3},{"v":0,"d":"0.0"},{"v":0,"d":"0.00"},{"v":0,"d":"0.0"},{"v":0,"d":"0.00"},{"v":0,"d":"0.00"},7,29,0,7,{"v":0,"d":"0.0"},{"v":0,"d":"0.00"},7,29,0,7,{"v":0,"d":"0.0"},{"v":0,"d":"0.00"},7,29,0,7,{"v":0,"d":"0.0"},{"v":0,"d":"0.00"},6,29,0,6,{"v":0,"d":"0.0"},{"v":0,"d":"0.00"},8,29,0,8,{"v":0,"d":"0.00"},8,29,0,8,null,null,"6th Place",{"$f":"IFERROR(INDEX(range,MATCH(AR33,gymnasts,0)), \"\")","v":{"v":12,"d":"12.00"}},"5th Place",{"$f":"IFERROR(INDEX(range,MATCH(AT33,gymnasts,0)), \"\")","v":{"v":12.4,"d":"12.40"}},"4th Place",{"$f":"IFERROR(INDEX(range,MATCH(AV33,gymnasts,0)), \"\")","v":12.45},"3rd Place",{"$f":"IFERROR(INDEX(range,MATCH(AX33,gymnasts,0)), \"\")","v":{"v":12.6,"d":"12.60"}},"2nd Place",{"$f":"IFERROR(INDEX(range,MATCH(AZ33,gymnasts,0)), \"\")","v":13.05},"1st Place",{"$f":"IFERROR(INDEX(range,MATCH(BB33,gymnasts,0)), \"\")","v":{"v":13.1,"d":"13.10"}}]
[{"$nulls":3},{"v":0,"d":"0.0"},{"v":0,"d":"0.00"},{"v":0,"d":"0.0"},{"v":0,"d":"0.00"},{"v":0,"d":"0.00"},7,30,0,7,{"v":0,"d":"0.0"},{"v":0,"d":"0.00"},7,30,0,7,{"v":0,"d":"0.0"},{"v":0,"d":"0.00"},7,30,0,7,{"v":0,"d":"0.0"},{"v":0,"d":"0.00"},6,30,0,6,{"v":0,"d":"0.0"},{"v":0,"d":"0.00"},8,30,0,8,{"v":0,"d":"0.00"},8,30,0,8,null,"Range",{"$f":"IFERROR(INDEX(gymnasts, SMALL(IF(VALUE(LEFT(AR$32, 1))=RangePos, ROW(RangePos)-MIN(ROW(RangePos))+1, \"\"), ROW()-32)), \"\")","v":"Mia Elliott"},{"$f":"IFERROR( INDEX(entries, MATCH(AR33, gymnasts, 0), 2), \"\")","v":"CNGA"},{"$f":"IFERROR(INDEX(gymnasts, SMALL(IF(VALUE(LEFT(AT$32, 1))=RangePos, ROW(RangePos)-MIN(ROW(RangePos))+1, \"\"), ROW()-32)), \"\")","v":"Ashleigh Silva"},{"$f":"IFERROR( INDEX(entries, MATCH(AT33, gymnasts, 0), 2), \"\")","v":"Gymtopia"},{"$f":"IFERROR(INDEX(gymnasts, SMALL(IF(VALUE(LEFT(AV$32, 1))=RangePos, ROW(RangePos)-MIN(ROW(RangePos))+1, \"\"), ROW()-32)), \"\")","v":"Tegan Anderson"},{"$f":"IFERROR( INDEX(entries, MATCH(AV33, gymnasts, 0), 2), \"\")","v":"SD"},{"$f":"IFERROR(INDEX(gymnasts, SMALL(IF(VALUE(LEFT(AX$32, 1))=RangePos, ROW(RangePos)-MIN(ROW(RangePos))+1, \"\"), ROW()-32)), \"\")","v":"Sophie Adams"},{"$f":"IFERROR( INDEX(entries, MATCH(AX33, gymnasts, 0), 2), \"\")","v":"SD"},{"$f":"IFERROR(INDEX(gymnasts, SMALL(IF(VALUE(LEFT(AZ$32, 1))=RangePos, ROW(RangePos)-MIN(ROW(RangePos))+1, \"\"), ROW()-32)), \"\")","v":"Casey Percival"},{"$f":"IFERROR( INDEX(entries, MATCH(AZ33, gymnasts, 0), 2), \"\")","v":"Gymtopia"},{"$f":"IFERROR(INDEX(gymnasts, SMALL(IF(VALUE(LEFT(BB$32, 1))=RangePos, ROW(RangePos)-MIN(ROW(RangePos))+1, \"\"), ROW()-32)), \"\")","v":"Ellie Fox"},{"$f":"IFERROR( INDEX(entries, MATCH(BB33, gymnasts, 0), 2), \"\")","v":"SD"}]
[{"$nulls":3},{"v":0,"d":"0.0"},{"v":0,"d":"0.00"},{"v":0,"d":"0.0"},{"v":0,"d":"0.00"},{"v":0,"d":"0.00"},7,31,0,7,{"v":0,"d":"0.0"},{"v":0,"d":"0.00"},7,31,0,7,{"v":0,"d":"0.0"},{"v":0,"d":"0.00"},7,31,0,7,{"v":0,"d":"0.0"},{"v":0,"d":"0.00"},6,31,0,6,{"v":0,"d":"0.0"},{"v":0,"d":"0.00"},8,31,0,8,{"v":0,"d":"0.00"},8,31,0,8,null,null,"",{"$f":"IFERROR( INDEX(entries, MATCH(AR34, gymnasts, 0), 2), \"\")","v":""},"",{"$f":"IFERROR( INDEX(entries, MATCH(AT34, gymnasts, 0), 2), \"\")","v":""},"",{"$f":"IFERROR( INDEX(entries, MATCH(AV34, gymnasts, 0), 2), \"\")","v":""},"",{"$f":"IFERROR( INDEX(entries, MATCH(AX34, gymnasts, 0), 2), \"\")","v":""},"",{"$f":"IFERROR( INDEX(entries, MATCH(AZ34, gymnasts, 0), 2), \"\")","v":""},"",""]
[{"$nulls":3},{"v":0,"d":"0.0"},{"v":0,"d":"0.00"},{"v":0,"d":"0.0"},{"v":0,"d":"0.00"},{"v":0,"d":"0.00"},7,32,0,7,{"v":0,"d":"0.0"},{"v":0,"d":"0.00"},7,32,0,7,{"v":0,"d":"0.0"},{"v":0,"d":"0.00"},7,32,0,7,{"v":0,"d":"0.0"},{"v":0,"d":"0.00"},6,32,0,6,{"v":0,"d":"0.0"},{"v":0,"d":"0.00"},8,32,0,8,{"v":0,"d":"0.00"},8,32,0,8,null,null,"","","","","","","","","","","",""]
[{"$nulls":3},{"v":0,"d":"0.0"},{"v":0,"d":"0.00"},{"v":0,"d":"0.0"},{"v":0,"d":"0.00"},{"v":0,"d":"0.00"},7,33,0,7,{"v":0,"d":"0.0"},{"v":0,"d":"0.00"},7,33,0,7,{"v":0,"d":"0.0"},{"v":0,"d":"0.00"},7,33,0,7,{"v":0,"d":"0.0"},{"v":0,"d":"0.00"},6,33,0,6,{"v":0,"d":"0.0"},{"v":0,"d":"0.00"},8,33,0,8,{"$f":"SUMIF(D$2:AJ$2, \"SCORE\", D36:AJ36)","v":{"v":0,"d":"0.00"}},8,33,0,8,null,null,"","","","","","","","","","","",""]
[{"$nulls":3},{"v":0,"d":"0.0"},{"v":0,"d":"0.00"},{"v":0,"d":"0.0"},{"v":0,"d":"0.00"},{"v":0,"d":"0.00"},7,34,0,7,{"v":0,"d":"0.0"},{"v":0,"d":"0.00"},7,34,0,7,{"v":0,"d":"0.0"},{"v":0,"d":"0.00"},7,34,0,7,{"v":0,"d":"0.0"},{"v":0,"d":"0.00"},6,34,0,6,{"v":0,"d":"0.0"},{"v":0,"d":"0.00"},8,34,0,8,{"v":0,"d":"0.00"},8,34,0,8,null,null,"","","","","","","","","","","",""]
[{"$nulls":3},{"v":0,"d":"0.0"},{"v":0,"d":"0.00"},{"v":0,"d":"0.0"},{"v":0,"d":"0.00"},{"v":0,"d":"0.00"},7,35,0,7,{"v":0,"d":"0.0"},{"v":0,"d":"0.00"},7,35,0,7,{"v":0,"d":"0.0"},{"v":0,"d":"0.00"},7,35,0,7,{"v":0,"d":"0.0"},{"v":0,"d":"0.00"},6,35,0,6,{"v":0,"d":"0.0"},{"v":0,"d":"0.00"},8,35,0,8,{"v":0,"d":"0.00"},8,35,0,8,null,null,"","","","","","","","","","","",""]
[{"$nulls":3},{"v":0,"d":"0.0"},{"v":0,"d":"0.00"},{"v":0,"d":"0.0"},{"v":0,"d":"0.00"},{"v":0,"d":"0.00"},7,36,0,7,{"v":0,"d":"0.0"},{"v":0,"d":"0.00"},7,36,0,7,{"v":0,"d":"0.0"},{"v":0,"d":"0.00"},7,36,0,7,{"v":0,"d":"0.0"},{"v":0,"d":"0.00"},6,36,0,6,{"v":0,"d":"0.0"},{"v":0,"d":"0.00"},8,36,0,8,{"v":0,"d":"0.00"},8,36,0,8,null,null,"6th Place",{"$f":"IFERROR(INDEX(AAscores,MATCH(AR40,gymnasts,0)), \"\")","v":54.85},"5th Place",{"$f":"IFERROR(INDEX(AAscores,MATCH(AT40,gymnasts,0)), \"\")","v":{"v":57.50000000000001,"d":"57.50"}},"4th Place",{"$f":"IFERROR(INDEX(AAscores,MATCH(AV40,gymnasts,0)), \"\")","v":{"v":57.599999999999994,"d":"57.60"}},"3rd Place",{"$f":"IFERROR(INDEX(AAscores,MATCH(AX40,gymnasts,0)), \"\")","v":{"v":57.7,"d":"57.70"}},"2nd Place",{"$f":"IFERROR(INDEX(AAscores,MATCH(AZ40,gymnasts,0)), \"\")","v":{"v":61.050000000000004,"d":"61.05"}},"1st Place",{"$f":"IFERROR(INDEX(AAscores,MATCH(BB40,gymnasts,0)), \"\")","v":61.45}]
[{"$nulls":3},{"v":0,"d":"0.0"},{"v":0,"d":"0.00"},{"v":0,"d":"0.0"},{"v":0,"d":"0.00"},{"v":0,"d":"0.00"},7,37,0,7,{"v":0,"d":"0.0"},{"v":0,"d":"0.00"},7,37,0,7,{"v":0,"d":"0.0"},{"v":0,"d":"0.00"},7,37,0,7,{"v":0,"d":"0.0"},{"v":0,"d":"0.00"},6,37,0,6,{"v":0,"d":"0.0"},{"v":0,"d":"0.00"},8,37,0,8,{"v":0,"d":"0.00"},8,37,0,8,null,"AA",{"$f":"IFERROR(INDEX(gymnasts, SMALL(IF(VALUE(LEFT(AR$39, 1))=AApos, ROW(AApos)-MIN(ROW(AApos))+1, \"\"), ROW()-39)), \"\")","v":"Ashleigh Silva"},{"$f":"IFERROR( INDEX(entries, MATCH(AR40, gymnasts, 0), 2), \"\")","v":"Gymtopia"},{"$f":"IFERROR(INDEX(gymnasts, SMALL(IF(VALUE(LEFT(AT$39, 1))=AApos, ROW(AApos)-MIN(ROW(AApos))+1, \"\"), ROW()-39)), \"\")","v":"Sophie Adams"},{"$f":"IFERROR( INDEX(entries, MATCH(AT40, gymnasts, 0), 2), \"\")","v":"SD"},{"$f":"IFERROR(INDEX(gymnasts, SMALL(IF(VALUE(LEFT(AV$39, 1))=AApos, ROW(AApos)-MIN(ROW(AApos))+1, \"\"), ROW()-39)), \"\")","v":"Zoe Arthur"},{"$f":"IFERROR( INDEX(entries, MATCH(AV40, gymnasts, 0), 2), \"\")","v":"Gymtopia"},{"$f":"IFERROR(INDEX(gymnasts, SMALL(IF(VALUE(LEFT(AX$39, 1))=AApos, ROW(AApos)-MIN(ROW(AApos))+1, \"\"), ROW()-39)), \"\")","v":"Mia Elliott"},{"$f":"IFERROR( INDEX(entries, MATCH(AX40, gymnasts, 0), 2), \"\")","v":"CNGA"},{"$f":"IFERROR(INDEX(gymnasts, SMALL(IF(VALUE(LEFT(AZ$39, 1))=AApos, ROW(AApos)-MIN(ROW(AApos))+1, \"\"), ROW()-39)), \"\")","v":"Ellie Fox"},{"$f":"IFERROR( INDEX(entries, MATCH(AZ40, gymnasts, 0), 2), \"\")","v":"SD"},{"$f":"IFERROR(INDEX(gymnasts, SMALL(IF(VALUE(LEFT(BB$39, 1))=AApos, ROW(AApos)-MIN(ROW(AApos))+1, \"\"), ROW()-39)), \"\")","v":"Tegan Anderson"},{"$f":"IFERROR( INDEX(entries, MATCH(BB40, gymnasts, 0), 2), \"\")","v":"SD"}]
[{"$nulls":3},{"v":0,"d":"0.0"},{"v":0,"d":"0.00"},{"v":0,"d":"0.0"},{"v":0,"d":"0.00"},{"v":0,"d":"0.00"},7,38,0,7,{"v":0,"d":"0.0"},{"v":0,"d":"0.00"},7,38,0,7,{"v":0,"d":"0.0"},{"v":0,"d":"0.00"},7,38,0,7,{"v":0,"d":"0.0"},{"v":0,"d":"0.00"},6,38,0,6,{"v":0,"d":"0.0"},{"v":0,"d":"0.00"},8,38,0,8,{"v":0,"d":"0.00"},8,38,0,8,null,null,"",{"$f":"IFERROR( INDEX(entries, MATCH(AR41, gymnasts, 0), 2), \"\")","v":""},"",{"$f":"IFERROR( INDEX(entries, MATCH(AT41, gymnasts, 0), 2), \"\")","v":""},"",{"$f":"IFERROR( INDEX(entries, MATCH(AV41, gymnasts, 0), 2), \"\")","v":""},"",{"$f":"IFERROR( INDEX(entries, MATCH(AX41, gymnasts, 0), 2), \"\")","v":""},"",{"$f":"IFERROR( INDEX(entries, MATCH(AZ41, gymnasts, 0), 2), \"\")","v":""},"",""]
[{"$nulls":3},{"v":0,"d":"0.0"},{"v":0,"d":"0.00"},{"v":0,"d":"0.0"},{"v":0,"d":"0.00"},{"v":0,"d":"0.00"},7,39,0,7,{"v":0,"d":"0.0"},{"v":0,"d":"0.00"},7,39,0,7,{"v":0,"d":"0.0"},{"v":0,"d":"0.00"},7,39,0,7,{"v":0,"d":"0.0"},{"v":0,"d":"0.00"},6,39,0,6,{"v":0,"d":"0.0"},{"v":0,"d":"0.00"},8,39,0,8,{"v":0,"d":"0.00"},8,39,0,8,null,null,"","","","","","","","","","","",""]
[{"$nulls":3},{"v":0,"d":"0.0"},{"v":0,"d":"0.00"},{"v":0,"d":"0.0"},{"v":0,"d":"0.00"},{"v":0,"d":"0.00"},7,40,0,7,{"v":0,"d":"0.0"},{"v":0,"d":"0.00"},7,40,0,7,{"v":0,"d":"0.0"},{"v":0,"d":"0.00"},7,40,0,7,{"v":0,"d":"0.0"},{"v":0,"d":"0.00"},6,40,0,6,{"v":0,"d":"0.0"},{"v":0,"d":"0.00"},8,40,0,8,{"v":0,"d":"0.00"},8,40,0,8,null,null,"","","","","","","","","","","",""]
[{"$nulls":3},{"v":0,"d":"0.0"},{"v":0,"d":"0.00"},{"v":0,"d":"0.0"},{"v":0,"d":"0.00"},{"v":0,"d":"0.00"},7,41,0,7,{"v":0,"d":"0.0"},{"v":0,"d":"0.00"},7,41,0,7,{"v":0,"d":"0.0"},{"v":0,"d":"0.00"},7,41,0,7,{"v":0,"d":"0.0"},{"v":0,"d":"0.00"},6,41,0,6,{"v":0,"d":"0.0"},{"v":0,"d":"0.00"},8,41,0,8,{"v":0,"d":"0.00"},8,41,0,8,null,null,"","","","","","","","","","","",""]
[{"$nulls":3},{"v":0,"d":"0.0"},{"v":0,"d":"0.00"},{"v":0,"d":"0.0"},{"v":0,"d":"0.00"},{"v":0,"d":"0.00"},7,42,0,7,{"v":0,"d":"0.0"},{"v":0,"d":"0.00"},7,42,0,7,{"v":0,"d":"0.0"},{"v":0,"d":"0.00"},7,42,0,7,{"v":0,"d":"0.0"},{"v":0,"d":"0.00"},6,42,0,6,{"v":0,"d":"0.0"},{"v":0,"d":"0.00"},8,42,0,8,{"v":0,"d":"0.00"},8,42,0,8,null,null,"","","","","","","","","","","",""]
[{"$nulls":3},{"v":0,"d":"0.0"},{"v":0,"d":"0.00"},{"v":0,"d":"0.0"},{"v":0,"d":"0.00"},{"v":0,"d":"0.00"},7,43,0,7,{"v":0,"d":"0.0"},{"v":0,"d":"0.00"},7,43,0,7,{"v":0,"d":"0.0"},{"v":0,"d":"0.00"},7,43,0,7,{"v":0,"d":"0.0"},{"v":0,"d":"0.00"},6,43,0,6,{"v":0,"d":"0.0"},{"v":0,"d":"0.00"},8,43,0,8,{"v":0,"d":"0.00"},8,43,0,8,null,"Team","3rd place Team",{"$f":"IF(COUNTIF(AR47, 0), \"\", INDEX(teamTotals, MATCH(AR47, teams, 0)))","v":""},null,null,"2nd Place Team",{"$f":"IF(COUNTIF(AV47, 0), \"\", INDEX(teamTotals, MATCH(AV47, teams, 0)))","v":{"v":125.50000000000001,"d":"125.50"}},null,null,"1st Place Team",{"$f":"IF(COUNTIF(AZ47, 0), \"\", INDEX(teamTotals, MATCH(AZ47, teams, 0)))","v":{"v":180.00000000000003,"d":"180.00"}}]
[{"$nulls":3},{"v":0,"d":"0.0"},{"v":0,"d":"0.00"},{"v":0,"d":"0.0"},{"v":0,"d":"0.00"},{"v":0,"d":"0.00"},7,44,0,7,{"v":0,"d":"0.0"},{"v":0,"d":"0.00"},7,44,0,7,{"v":0,"d":"0.0"},{"v":0,"d":"0.00"},7,44,0,7,{"v":0,"d":"0.0"},{"v":0,"d":"0.00"},6,44,0,6,{"v":0,"d":"0.0"},{"v":0,"d":"0.00"},8,44,0,8,{"v":0,"d":"0.00"},8,44,0,8,null,null,{"$f":"IFERROR(INDEX(teams, SMALL(IF(VALUE(LEFT(AR$46, 1))=teamPos, ROW(teamPos)-MIN(ROW(teamPos))+1, \"\"), ROW()-46)), \"\")","v":0},{"$f":"IFERROR(IF(COUNTIF(AR47, 0), \"\", INDEX(gymnasts, SMALL(IF(AR$47=club, ROW(club)-MIN(ROW(club))+1, \"\"), ROW()-46))), \"\")","v":""},null,null,{"$f":"IFERROR(INDEX(teams, SMALL(IF(VALUE(LEFT(AV$46, 1))=teamPos, ROW(teamPos)-MIN(ROW(teamPos))+1, \"\"), ROW()-46)), \"\")","v":"Gymtopia"},{"$f":"IFERROR(IF(COUNTIF(AV47, 0), \"\", INDEX(gymnasts, SMALL(IF(AV$47=club, ROW(club)-MIN(ROW(club))+1, \"\"), ROW()-46))), \"\")","v":"Ashleigh Silva"},null,null,{"$f":"IFERROR(INDEX(teams, SMALL(IF(VALUE(LEFT(AZ$46, 1))=teamPos, ROW(teamPos)-MIN(ROW(teamPos))+1, \"\"), ROW()-46)), \"\")","v":"SD"},{"$f":"IFERROR(IF(COUNTIF(AZ47, 0), \"\", INDEX(gymnasts, SMALL(IF(AZ$47=club, ROW(club)-MIN(ROW(club))+1, \"\"), ROW()-46))), \"\")","v":"Ellie Fox"}]
[{"$nulls":3},{"v":0,"d":"0.0"},{"v":0,"d":"0.00"},{"v":0,"d":"0.0"},{"v":0,"d":"0.00"},{"v":0,"d":"0.00"},7,45,0,7,{"v":0,"d":"0.0"},{"v":0,"d":"0.00"},7,45,0,7,{"v":0,"d":"0.0"},{"v":0,"d":"0.00"},7,45,0,7,{"v":0,"d":"0.0"},{"v":0,"d":"0.00"},6,45,0,6,{"v":0,"d":"0.0"},{"v":0,"d":"0.00"},8,45,0,8,{"v":0,"d":"0.00"},8,45,0,8,{"$nulls":3},{"$f":"IFERROR(IF(COUNTIF(AR48, 0), \"\", INDEX(gymnasts, SMALL(IF(AR$47=club, ROW(club)-MIN(ROW(club))+1, \"\"), ROW()-46))), \"\")","v":0},{"$nulls":3},{"$f":"IFERROR(IF(COUNTIF(AV48, 0), \"\", INDEX(gymnasts, SMALL(IF(AV$47=club, ROW(club)-MIN(ROW(club))+1, \"\"), ROW()-46))), \"\")","v":"Zoe Arthur"},{"$nulls":3},{"$f":"IFERROR(IF(COUNTIF(AZ48, 0), \"\", INDEX(gymnasts, SMALL(IF(AZ$47=club, ROW(club)-MIN(ROW(club))+1, \"\"), ROW()-46))), \"\")","v":"Sophie Adams"}]
[{"$nulls":3},{"v":0,"d":"0.0"},{"v":0,"d":"0.00"},{"v":0,"d":"0.0"},{"v":0,"d":"0.00"},{"v":0,"d":"0.00"},7,46,0,7,{"v":0,"d":"0.0"},{"v":0,"d":"0.00"},7,46,0,7,{"v":0,"d":"0.0"},{"v":0,"d":"0.00"},7,46,0,7,{"v":0,"d":"0.0"},{"v":0,"d":"0.00"},6,46,0,6,{"v":0,"d":"0.0"},{"v":0,"d":"0.00"},8,46,0,8,{"v":0,"d":"0.00"},8,46,0,8,{"$nulls":3},{"$f":"IFERROR(IF(COUNTIF(AR49, 0), \"\", INDEX(gymnasts, SMALL(IF(AR$47=club, ROW(club)-MIN(ROW(club))+1, \"\"), ROW()-46))), \"\")","v":0},{"$nulls":3},{"$f":"IFERROR(IF(COUNTIF(AV49, 0), \"\", INDEX(gymnasts, SMALL(IF(AV$47=club, ROW(club)-MIN(ROW(club))+1, \"\"), ROW()-46))), \"\")","v":"Casey Percival"},{"$nulls":3},{"$f":"IFERROR(IF(COUNTIF(AZ49, 0), \"\", INDEX(gymnasts, SMALL(IF(AZ$47=club, ROW(club)-MIN(ROW(club))+1, \"\"), ROW()-46))), \"\")","v":"Tegan Anderson"}]
[{"$nulls":3},{"v":0,"d":"0.0"},{"v":0,"d":"0.00"},{"v":0,"d":"0.0"},{"v":0,"d":"0.00"},{"v":0,"d":"0.00"},7,47,0,7,{"v":0,"d":"0.0"},{"v":0,"d":"0.00"},7,47,0,7,{"v":0,"d":"0.0"},{"v":0,"d":"0.00"},7,47,0,7,{"v":0,"d":"0.0"},{"v":0,"d":"0.00"},6,47,0,6,{"v":0,"d":"0.0"},{"v":0,"d":"0.00"},8,47,0,8,{"v":0,"d":"0.00"},8,47,0,8,{"$nulls":3},{"$f":"IFERROR(IF(COUNTIF(AR50, 0), \"\", INDEX(gymnasts, SMALL(IF(AR$47=club, ROW(club)-MIN(ROW(club))+1, \"\"), ROW()-46))), \"\")","v":0},{"$nulls":3},{"$f":"IFERROR(IF(COUNTIF(AV50, 0), \"\", INDEX(gymnasts, SMALL(IF(AV$47=club, ROW(club)-MIN(ROW(club))+1, \"\"), ROW()-46))), \"\")","v":""},{"$nulls":3},{"$f":"IFERROR(IF(COUNTIF(AZ50, 0), \"\", INDEX(gymnasts, SMALL(IF(AZ$47=club, ROW(club)-MIN(ROW(club))+1, \"\"), ROW()-46))), \"\")","v":""}]
[{"$nulls":3},{"v":0,"d":"0.0"},{"v":0,"d":"0.00"},{"v":0,"d":"0.0"},{"v":0,"d":"0.00"},{"v":0,"d":"0.00"},7,48,0,7,{"v":0,"d":"0.0"},{"v":0,"d":"0.00"},7,48,0,7,{"v":0,"d":"0.0"},{"v":0,"d":"0.00"},7,48,0,7,{"v":0,"d":"0.0"},{"v":0,"d":"0.00"},6,48,0,6,{"v":0,"d":"0.0"},{"v":0,"d":"0.00"},8,48,0,8,{"v":0,"d":"0.00"},8,48,0,8,{"$nulls":3},{"$f":"IFERROR(IF(COUNTIF(AR51, 0), \"\", INDEX(gymnasts, SMALL(IF(AR$47=club, ROW(club)-MIN(ROW(club))+1, \"\"), ROW()-46))), \"\")","v":0},{"$nulls":3},{"$f":"IFERROR(IF(COUNTIF(AV51, 0), \"\", INDEX(gymnasts, SMALL(IF(AV$47=club, ROW(club)-MIN(ROW(club))+1, \"\"), ROW()-46))), \"\")","v":""},{"$nulls":3},{"$f":"IFERROR(IF(COUNTIF(AZ51, 0), \"\", INDEX(gymnasts, SMALL(IF(AZ$47=club, ROW(club)-MIN(ROW(club))+1, \"\"), ROW()-46))), \"\")","v":""}]
[{"$nulls":3},{"v":0,"d":"0.0"},{"v":0,"d":"0.00"},{"v":0,"d":"0.0"},{"v":0,"d":"0.00"},{"v":0,"d":"0.00"},7,49,0,7,{"v":0,"d":"0.0"},{"v":0,"d":"0.00"},7,49,0,7,{"v":0,"d":"0.0"},{"v":0,"d":"0.00"},7,49,0,7,{"v":0,"d":"0.0"},{"v":0,"d":"0.00"},6,49,0,6,{"v":0,"d":"0.0"},{"v":0,"d":"0.00"},8,49,0,8,{"v":0,"d":"0.00"},8,49,0,8,null,null,{"$f":"IFERROR(INDEX(teams, SMALL(IF(VALUE(LEFT(AR$46, 1))=teamPos, ROW(teamPos)-MIN(ROW(teamPos))+1, \"\"), ROW()-50)), \"\")","v":0},{"$f":"IFERROR(IF(COUNTIF(AR$52, 0), \"\", INDEX(gymnasts, SMALL(IF(AR$52=club, ROW(club)-MIN(ROW(club))+1, \"\"), ROW()-51))), \"\")","v":""},null,null,{"$f":"IFERROR(INDEX(teams, SMALL(IF(VALUE(LEFT(AV$46, 1))=teamPos, ROW(teamPos)-MIN(ROW(teamPos))+1, \"\"), ROW()-50)), \"\")","v":""},{"$f":"IFERROR(IF(COUNTIF(AV$52, 0), \"\", INDEX(gymnasts, SMALL(IF(AV$52=club, ROW(club)-MIN(ROW(club))+1, \"\"), ROW()-51))), \"\")","v":0},null,null,{"$f":"IFERROR(INDEX(teams, SMALL(IF(VALUE(LEFT(AZ$46, 1))=teamPos, ROW(teamPos)-MIN(ROW(teamPos))+1, \"\"), ROW()-50)), \"\")","v":""},{"$f":"IFERROR(IF(COUNTIF(AZ$52, 0), \"\", INDEX(gymnasts, SMALL(IF(AZ$52=club, ROW(club)-MIN(ROW(club))+1, \"\"), ROW()-51))), \"\")","v":0}]
[{"$nulls":3},{"v":0,"d":"0.0"},{"v":0,"d":"0.00"},{"v":0,"d":"0.0"},{"v":0,"d":"0.00"},{"v":0,"d":"0.00"},7,50,0,7,{"v":0,"d":"0.0"},{"v":0,"d":"0.00"},7,50,0,7,{"v":0,"d":"0.0"},{"v":0,"d":"0.00"},7,50,0,7,{"v":0,"d":"0.0"},{"v":0,"d":"0.00"},6,50,0,6,{"v":0,"d":"0.0"},{"v":0,"d":"0.00"},8,50,0,8,{"v":0,"d":"0.00"},8,50,0,8,{"$nulls":3},{"$f":"IFERROR(IF(COUNTIF(AR$52, 0), \"\", INDEX(gymnasts, SMALL(IF(AR$52=club, ROW(club)-MIN(ROW(club))+1, \"\"), ROW()-51))), \"\")","v":""},{"$nulls":3},{"$f":"IFERROR(IF(COUNTIF(AV$52, 0), \"\", INDEX(gymnasts, SMALL(IF(AV$52=club, ROW(club)-MIN(ROW(club))+1, \"\"), ROW()-51))), \"\")","v":0},{"$nulls":3},{"$f":"IFERROR(IF(COUNTIF(AZ$52, 0), \"\", INDEX(gymnasts, SMALL(IF(AZ$52=club, ROW(club)-MIN(ROW(club))+1, \"\"), ROW()-51))), \"\")","v":0}]
[{"$nulls":3},{"v":0,"d":"0.0"},{"v":0,"d":"0.00"},{"v":0,"d":"0.0"},{"v":0,"d":"0.00"},{"v":0,"d":"0.00"},7,51,0,7,{"v":0,"d":"0.0"},{"v":0,"d":"0.00"},7,51,0,7,{"v":0,"d":"0.0"},{"v":0,"d":"0.00"},7,51,0,7,{"v":0,"d":"0.0"},{"v":0,"d":"0.00"},6,51,0,6,{"v":0,"d":"0.0"},{"v":0,"d":"0.00"},8,51,0,8,{"v":0,"d":"0.00"},8,51,0,8,{"$nulls":3},{"$f":"IFERROR(IF(COUNTIF(AR$52, 0), \"\", INDEX(gymnasts, SMALL(IF(AR$52=club, ROW(club)-MIN(ROW(club))+1, \"\"), ROW()-51))), \"\")","v":""},{"$nulls":3},{"$f":"IFERROR(IF(COUNTIF(AV$52, 0), \"\", INDEX(gymnasts, SMALL(IF(AV$52=club, ROW(club)-MIN(ROW(club))+1, \"\"), ROW()-51))), \"\")","v":0},{"$nulls":3},{"$f":"IFERROR(IF(COUNTIF(AZ$52, 0), \"\", INDEX(gymnasts, SMALL(IF(AZ$52=club, ROW(club)-MIN(ROW(club))+1, \"\"), ROW()-51))), \"\")","v":0}]
[{"$nulls":3},{"v":0,"d":"0.0"},{"v":0,"d":"0.00"},{"v":0,"d":"0.0"},{"v":0,"d":"0.00"},{"v":0,"d":"0.00"},7,52,0,7,{"v":0,"d":"0.0"},{"v":0,"d":"0.00"},7,52,0,7,{"v":0,"d":"0.0"},{"v":0,"d":"0.00"},7,52,0,7,{"v":0,"d":"0.0"},{"v":0,"d":"0.00"},6,52,0,6,{"v":0,"d":"0.0"},{"v":0,"d":"0.00"},8,52,0,8,{"v":0,"d":"0.00"},8,52,0,8,{"$nulls":3},{"$f":"IFERROR(IF(COUNTIF(AR$52, 0), \"\", INDEX(gymnasts, SMALL(IF(AR$52=club, ROW(club)-MIN(ROW(club))+1, \"\"), ROW()-51))), \"\")","v":""},{"$nulls":3},{"$f":"IFERROR(IF(COUNTIF(AV$52, 0), \"\", INDEX(gymnasts, SMALL(IF(AV$52=club, ROW(club)-MIN(ROW(club))+1, \"\"), ROW()-51))), \"\")","v":0},{"$nulls":3},{"$f":"IFERROR(IF(COUNTIF(AZ$52, 0), \"\", INDEX(gymnasts, SMALL(IF(AZ$52=club, ROW(club)-MIN(ROW(club))+1, \"\"), ROW()-51))), \"\")","v":0}]
[{"$nulls":3},{"v":0,"d":"0.0"},{"v":0,"d":"0.00"},{"v":0,"d":"0.0"},{"v":0,"d":"0.00"},{"v":0,"d":"0.00"},7,53,0,7,{"v":0,"d":"0.0"},{"v":0,"d":"0.00"},7,53,0,7,{"v":0,"d":"0.0"},{"v":0,"d":"0.00"},7,53,0,7,{"v":0,"d":"0.0"},{"v":0,"d":"0.00"},6,53,0,6,{"v":0,"d":"0.0"},{"v":0,"d":"0.00"},8,53,0,8,{"v":0,"d":"0.00"},8,53,0,8,{"$nulls":3},{"$f":"IFERROR(IF(ISTEXT(AR$52), INDEX(gymnasts, SMALL(IF(AR$52=club, ROW(club)-MIN(ROW(club))+1, \"\"), ROW()-51)), \"\"), \"\")","v":""},{"$nulls":3},{"$f":"IFERROR(IF(ISTEXT(AV$52), INDEX(gymnasts, SMALL(IF(AV$52=club, ROW(club)-MIN(ROW(club))+1, \"\"), ROW()-51)), \"\"), \"\")","v":0},{"$nulls":3},{"$f":"IFERROR(IF(ISTEXT(AZ$52), INDEX(gymnasts, SMALL(IF(AZ$52=club, ROW(club)-MIN(ROW(club))+1, \"\"), ROW()-51)), \"\"), \"\")","v":0}]
[{"$nulls":3},{"v":0,"d":"0.0"},{"v":0,"d":"0.00"},{"v":0,"d":"0.0"},{"v":0,"d":"0.00"},{"v":0,"d":"0.00"},7,54,0,7,{"v":0,"d":"0.0"},{"v":0,"d":"0.00"},7,54,0,7,{"v":0,"d":"0.0"},{"v":0,"d":"0.00"},7,54,0,7,{"v":0,"d":"0.0"},{"v":0,"d":"0.00"},6,54,0,6,{"v":0,"d":"0.0"},{"v":0,"d":"0.00"},8,54,0,8,{"v":0,"d":"0.00"},8,54,0,8]
[{"$nulls":3},{"v":0,"d":"0.0"},{"v":0,"d":"0.00"},{"v":0,"d":"0.0"},{"v":0,"d":"0.00"},{"v":0,"d":"0.00"},7,55,0,7,{"v":0,"d":"0.0"},{"v":0,"d":"0.00"},7,55,0,7,{"v":0,"d":"0.0"},{"v":0,"d":"0.00"},7,55,0,7,{"v":0,"d":"0.0"},{"v":0,"d":"0.00"},6,55,0,6,{"v":0,"d":"0.0"},{"v":0,"d":"0.00"},8,55,0,8,{"v":0,"d":"0.00"},8,55,0,8]
[{"$nulls":3},{"v":0,"d":"0.0"},{"v":0,"d":"0.00"},{"v":0,"d":"0.0"},{"v":0,"d":"0.00"},{"v":0,"d":"0.00"},7,56,0,7,{"v":0,"d":"0.0"},{"v":0,"d":"0.00"},7,56,0,7,{"v":0,"d":"0.0"},{"v":0,"d":"0.00"},7,56,0,7,{"v":0,"d":"0.0"},{"v":0,"d":"0.00"},6,56,0,6,{"v":0,"d":"0.0"},{"v":0,"d":"0.00"},8,56,0,8,{"v":0,"d":"0.00"},8,56,0,8]
[{"$nulls":3},{"v":0,"d":"0.0"},{"v":0,"d":"0.00"},{"v":0,"d":"0.0"},{"v":0,"d":"0.00"},{"v":0,"d":"0.00"},7,57,0,7,{"v":0,"d":"0.0"},{"v":0,"d":"0.00"},7,57,0,7,{"v":0,"d":"0.0"},{"v":0,"d":"0.00"},7,57,0,7,{"v":0,"d":"0.0"},{"v":0,"d":"0.00"},6,57,0,6,{"v":0,"d":"0.0"},{"v":0,"d":"0.00"},8,57,0,8,{"v":0,"d":"0.00"},8,57,0,8]
[{"$nulls":3},{"v":0,"d":"0.0"},{"v":0,"d":"0.00"},{"v":0,"d":"0.0"},{"v":0,"d":"0.00"},{"v":0,"d":"0.00"},7,58,0,7,{"v":0,"d":"0.0"},{"v":0,"d":"0.00"},7,58,0,7,{"v":0,"d":"0.0"},{"v":0,"d":"0.00"},7,58,0,7,{"v":0,"d":"0.0"},{"v":0,"d":"0.00"},6,58,0,6,{"v":0,"d":"0.0"},{"v":0,"d":"0.00"},8,58,0,8,{"v":0,"d":"0.00"},8,58,0,8]
[{"$nulls":3},{"v":0,"d":"0.0"},{"v":0,"d":"0.00"},{"v":0,"d":"0.0"},{"v":0,"d":"0.00"},{"v":0,"d":"0.00"},7,59,0,7,{"v":0,"d":"0.0"},{"v":0,"d":"0.00"},7,59,0,7,{"v":0,"d":"0.0"},{"v":0,"d":"0.00"},7,59,0,7,{"v":0,"d":"0.0"},{"v":0,"d":"0.00"},6,59,0,6,{"v":0,"d":"0.0"},{"v":0,"d":"0.00"},8,59,0,8,{"v":0,"d":"0.00"},8,59,0,8]
[{"$nulls":3},{"v":0,"d":"0.0"},{"v":0,"d":"0.00"},{"v":0,"d":"0.0"},{"v":0,"d":"0.00"},{"v":0,"d":"0.00"},7,60,0,7,{"v":0,"d":"0.0"},{"v":0,"d":"0.00"},7,60,0,7,{"v":0,"d":"0.0"},{"v":0,"d":"0.00"},7,60,0,7,{"v":0,"d":"0.0"},{"v":0,"d":"0.00"},6,60,0,6,{"v":0,"d":"0.0"},{"v":0,"d":"0.00"},8,60,0,8,{"v":0,"d":"0.00"},8,60,0,8]
[{"$nulls":3},{"v":0,"d":"0.0"},{"v":0,"d":"0.00"},{"v":0,"d":"0.0"},{"v":0,"d":"0.00"},{"v":0,"d":"0.00"},7,61,0,7,{"v":0,"d":"0.0"},{"v":0,"d":"0.00"},7,61,0,7,{"v":0,"d":"0.0"},{"v":0,"d":"0.00"},7,61,0,7,{"v":0,"d":"0.0"},{"v":0,"d":"0.00"},6,61,0,6,{"v":0,"d":"0.0"},{"v":0,"d":"0.00"},8,61,0,8,{"v":0,"d":"0.00"},8,61,0,8]
[{"$nulls":3},{"v":0,"d":"0.0"},{"v":0,"d":"0.00"},{"v":0,"d":"0.0"},{"v":0,"d":"0.00"},{"v":0,"d":"0.00"},7,62,0,7,{"v":0,"d":"0.0"},{"v":0,"d":"0.00"},7,62,0,7,{"v":0,"d":"0.0"},{"v":0,"d":"0.00"},7,62,0,7,{"v":0,"d":"0.0"},{"v":0,"d":"0.00"},6,62,{"$error":"#NUM!"},{"$error":"#NUM!"},{"v":0,"d":"0.0"},{"v":0,"d":"0.00"},8,62,0,8,{"v":0,"d":"0.00"},8,62,0,8]
[null,"Teams"]
[null,{"$f":"IF(AND(COUNTIF(club,C67)>=3,COUNTIF(club,C67)<=5),\"TEAM\",IF(COUNTIF(club,C67)>5,\"Too Many!!!!!\",\"NO TEAM\"))","v":"TEAM"},"SD",{"$nulls":4},{"$f":"IF($B67=\"NO TEAM\", 0, SUM(LARGE(IF(club=$C67, vault), ROW($1:$3))))","v":{"v":37,"d":"37.00"}},{"$nulls":5},{"$f":"IF($B67=\"NO TEAM\", 0, SUM(LARGE(IF(club=$C67, bars), ROW($1:$3))))","v":35.15},{"$nulls":5},{"$f":"IF($B67=\"NO TEAM\", 0, SUM(LARGE(IF(club=$C67, beam), ROW($1:$3))))","v":{"v":34,"d":"34.00"}},{"$nulls":5},{"$f":"IF($B67=\"NO TEAM\", 0, SUM(LARGE(IF(club=$C67, floor), ROW($1:$3))))","v":{"v":35.7,"d":"35.70"}},{"$nulls":5},{"$f":"IF($B67=\"NO TEAM\", 0, SUM(LARGE(IF(club=$C67, range), ROW($1:$3))))","v":38.15},{"$nulls":4},{"$f":"IF(B67=\"TEAM\", SUMIF(D$2:AJ$2, \"SCORE\", D67:AJ67), 0)","v":{"v":180.00000000000003,"d":"180.00"}},{"$f":"VLOOKUP(AK67,AN$67:AO$81, 2,FALSE)","v":1},{"$f":"IF(ISNUMBER(AM66), AM66+1, 1)","v":1},{"$f":"LARGE((AK$67:AK$81), $AM67)","v":180.00000000000003},{"$f":"IF(AN67=AN66, AO66, AO66+1)","v":1}]
[null,{"$f":"IF(AND(COUNTIF(club,C68)>=3,COUNTIF(club,C68)<=5),\"TEAM\",IF(COUNTIF(club,C68)>5,\"Too Many!!!!!\",\"NO TEAM\"))","v":"TEAM"},"Gymtopia",{"$nulls":4},{"$f":"IF($B68=\"NO TEAM\", 0, SUM(LARGE(IF(club=$C68, vault), ROW($1:$3))))","v":{"v":24.450000000000003,"d":"24.45"}},{"$nulls":5},{"$f":"IF($B68=\"NO TEAM\", 0, SUM(LARGE(IF(club=$C68, bars), ROW($1:$3))))","v":{"v":22.6,"d":"22.60"}},{"$nulls":5},{"$f":"IF($B68=\"NO TEAM\", 0, SUM(LARGE(IF(club=$C68, beam), ROW($1:$3))))","v":19.65},{"$nulls":5},{"$f":"IF($B68=\"NO TEAM\", 0, SUM(LARGE(IF(club=$C68, floor), ROW($1:$3))))","v":{"v":22.1,"d":"22.10"}},{"$nulls":5},{"$f":"IF($B68=\"NO TEAM\", 0, SUM(LARGE(IF(club=$C68, range), ROW($1:$3))))","v":{"v":36.7,"d":"36.70"}},{"$nulls":4},{"v":125.50000000000001,"d":"125.50"},{"$f":"VLOOKUP(AK68,AN$67:AO$81, 2,FALSE)","v":2},{"$f":"IF(ISNUMBER(AM67), AM67+1, 1)","v":2},{"$f":"LARGE((AK$67:AK$81), $AM68)","v":125.50000000000001},{"$f":"IF(AN68=AN67, AO67, AO67+1)","v":2}]
[null,{"$f":"IF(AND(COUNTIF(club,C69)>=3,COUNTIF(club,C69)<=5),\"TEAM\",IF(COUNTIF(club,C69)>5,\"Too Many!!!!!\",\"NO TEAM\"))","v":"NO TEAM"},{"$nulls":5},{"$f":"IF($B69=\"NO TEAM\", 0, SUM(LARGE(IF(club=$C69, vault), ROW($1:$3))))","v":{"v":0,"d":"0.00"}},{"$nulls":5},{"$f":"IF($B69=\"NO TEAM\", 0, SUM(LARGE(IF(club=$C69, bars), ROW($1:$3))))","v":{"v":0,"d":"0.00"}},{"$nulls":5},{"$f":"IF($B69=\"NO TEAM\", 0, SUM(LARGE(IF(club=$C69, beam), ROW($1:$3))))","v":{"v":0,"d":"0.00"}},{"$nulls":5},{"$f":"IF($B69=\"NO TEAM\", 0, SUM(LARGE(IF(club=$C69, floor), ROW($1:$3))))","v":{"v":0,"d":"0.00"}},{"$nulls":5},{"$f":"IF($B69=\"NO TEAM\", 0, SUM(LARGE(IF(club=$C69, range), ROW($1:$3))))","v":{"v":0,"d":"0.00"}},{"$nulls":4},{"v":0,"d":"0.00"},3,3,0,3]
[null,{"$f":"IF(AND(COUNTIF(club,C70)>=3,COUNTIF(club,C70)<=5),\"TEAM\",IF(COUNTIF(club,C70)>5,\"Too Many!!!!!\",\"NO TEAM\"))","v":"NO TEAM"},{"$nulls":5},{"$f":"IF($B70=\"NO TEAM\", 0, SUM(LARGE(IF(club=$C70, vault), ROW($1:$3))))","v":{"v":0,"d":"0.00"}},{"$nulls":5},{"$f":"IF($B70=\"NO TEAM\", 0, SUM(LARGE(IF(club=$C70, bars), ROW($1:$3))))","v":{"v":0,"d":"0.00"}},{"$nulls":5},{"$f":"IF($B70=\"NO TEAM\", 0, SUM(LARGE(IF(club=$C70, beam), ROW($1:$3))))","v":{"v":0,"d":"0.00"}},{"$nulls":5},{"$f":"IF($B70=\"NO TEAM\", 0, SUM(LARGE(IF(club=$C70, floor), ROW($1:$3))))","v":{"v":0,"d":"0.00"}},{"$nulls":5},{"$f":"IF($B70=\"NO TEAM\", 0, SUM(LARGE(IF(club=$C70, range), ROW($1:$3))))","v":{"v":0,"d":"0.00"}},{"$nulls":4},{"v":0,"d":"0.00"},3,4,0,3]
[null,{"$f":"IF(AND(COUNTIF(club,C71)>=3,COUNTIF(club,C71)<=5),\"TEAM\",IF(COUNTIF(club,C71)>5,\"Too Many!!!!!\",\"NO TEAM\"))","v":"NO TEAM"},{"$nulls":5},{"$f":"IF($B71=\"NO TEAM\", 0, SUM(LARGE(IF(club=$C71, vault), ROW($1:$3))))","v":{"v":0,"d":"0.00"}},{"$nulls":5},{"$f":"IF($B71=\"NO TEAM\", 0, SUM(LARGE(IF(club=$C71, bars), ROW($1:$3))))","v":{"v":0,"d":"0.00"}},{"$nulls":5},{"$f":"IF($B71=\"NO TEAM\", 0, SUM(LARGE(IF(club=$C71, beam), ROW($1:$3))))","v":{"v":0,"d":"0.00"}},{"$nulls":5},{"$f":"IF($B71=\"NO TEAM\", 0, SUM(LARGE(IF(club=$C71, floor), ROW($1:$3))))","v":{"v":0,"d":"0.00"}},{"$nulls":5},{"$f":"IF($B71=\"NO TEAM\", 0, SUM(LARGE(IF(club=$C71, range), ROW($1:$3))))","v":{"v":0,"d":"0.00"}},{"$nulls":4},{"v":0,"d":"0.00"},3,5,0,3]
[null,{"$f":"IF(AND(COUNTIF(club,C72)>=3,COUNTIF(club,C72)<=5),\"TEAM\",IF(COUNTIF(club,C72)>5,\"Too Many!!!!!\",\"NO TEAM\"))","v":"NO TEAM"},{"$nulls":5},{"$f":"IF($B72=\"NO TEAM\", 0, SUM(LARGE(IF(club=$C72, vault), ROW($1:$3))))","v":{"v":0,"d":"0.00"}},{"$nulls":5},{"$f":"IF($B72=\"NO TEAM\", 0, SUM(LARGE(IF(club=$C72, bars), ROW($1:$3))))","v":{"v":0,"d":"0.00"}},{"$nulls":5},{"$f":"IF($B72=\"NO TEAM\", 0, SUM(LARGE(IF(club=$C72, beam), ROW($1:$3))))","v":{"v":0,"d":"0.00"}},{"$nulls":5},{"$f":"IF($B72=\"NO TEAM\", 0, SUM(LARGE(IF(club=$C72, floor), ROW($1:$3))))","v":{"v":0,"d":"0.00"}},{"$nulls":5},{"$f":"IF($B72=\"NO TEAM\", 0, SUM(LARGE(IF(club=$C72, range), ROW($1:$3))))","v":{"v":0,"d":"0.00"}},{"$nulls":4},{"v":0,"d":"0.00"},3,6,0,3]
[null,{"$f":"IF(AND(COUNTIF(club,C73)>=3,COUNTIF(club,C73)<=5),\"TEAM\",IF(COUNTIF(club,C73)>5,\"Too Many!!!!!\",\"NO TEAM\"))","v":"NO TEAM"},{"$nulls":5},{"$f":"IF($B73=\"NO TEAM\", 0, SUM(LARGE(IF(club=$C73, vault), ROW($1:$3))))","v":{"v":0,"d":"0.00"}},{"$nulls":5},{"$f":"IF($B73=\"NO TEAM\", 0, SUM(LARGE(IF(club=$C73, bars), ROW($1:$3))))","v":{"v":0,"d":"0.00"}},{"$nulls":5},{"$f":"IF($B73=\"NO TEAM\", 0, SUM(LARGE(IF(club=$C73, beam), ROW($1:$3))))","v":{"v":0,"d":"0.00"}},{"$nulls":5},{"$f":"IF($B73=\"NO TEAM\", 0, SUM(LARGE(IF(club=$C73, floor), ROW($1:$3))))","v":{"v":0,"d":"0.00"}},{"$nulls":5},{"$f":"IF($B73=\"NO TEAM\", 0, SUM(LARGE(IF(club=$C73, range), ROW($1:$3))))","v":{"v":0,"d":"0.00"}},{"$nulls":4},{"v":0,"d":"0.00"},3,7,0,3]
[null,{"$f":"IF(AND(COUNTIF(club,C74)>=3,COUNTIF(club,C74)<=5),\"TEAM\",IF(COUNTIF(club,C74)>5,\"Too Many!!!!!\",\"NO TEAM\"))","v":"NO TEAM"},{"$nulls":5},{"$f":"IF($B74=\"NO TEAM\", 0, SUM(LARGE(IF(club=$C74, vault), ROW($1:$3))))","v":{"v":0,"d":"0.00"}},{"$nulls":5},{"$f":"IF($B74=\"NO TEAM\", 0, SUM(LARGE(IF(club=$C74, bars), ROW($1:$3))))","v":{"v":0,"d":"0.00"}},{"$nulls":5},{"$f":"IF($B74=\"NO TEAM\", 0, SUM(LARGE(IF(club=$C74, beam), ROW($1:$3))))","v":{"v":0,"d":"0.00"}},{"$nulls":5},{"$f":"IF($B74=\"NO TEAM\", 0, SUM(LARGE(IF(club=$C74, floor), ROW($1:$3))))","v":{"v":0,"d":"0.00"}},{"$nulls":5},{"$f":"IF($B74=\"NO TEAM\", 0, SUM(LARGE(IF(club=$C74, range), ROW($1:$3))))","v":{"v":0,"d":"0.00"}},{"$nulls":4},{"v":0,"d":"0.00"},3,8,0,3]
[null,{"$f":"IF(AND(COUNTIF(club,C75)>=3,COUNTIF(club,C75)<=5),\"TEAM\",IF(COUNTIF(club,C75)>5,\"Too Many!!!!!\",\"NO TEAM\"))","v":"NO TEAM"},{"$nulls":5},{"$f":"IF($B75=\"NO TEAM\", 0, SUM(LARGE(IF(club=$C75, vault), ROW($1:$3))))","v":{"v":0,"d":"0.00"}},{"$nulls":5},{"$f":"IF($B75=\"NO TEAM\", 0, SUM(LARGE(IF(club=$C75, bars), ROW($1:$3))))","v":{"v":0,"d":"0.00"}},{"$nulls":5},{"$f":"IF($B75=\"NO TEAM\", 0, SUM(LARGE(IF(club=$C75, beam), ROW($1:$3))))","v":{"v":0,"d":"0.00"}},{"$nulls":5},{"$f":"IF($B75=\"NO TEAM\", 0, SUM(LARGE(IF(club=$C75, floor), ROW($1:$3))))","v":{"v":0,"d":"0.00"}},{"$nulls":5},{"$f":"IF($B75=\"NO TEAM\", 0, SUM(LARGE(IF(club=$C75, range), ROW($1:$3))))","v":{"v":0,"d":"0.00"}},{"$nulls":4},{"v":0,"d":"0.00"},3,9,0,3]
[null,{"$f":"IF(AND(COUNTIF(club,C76)>=3,COUNTIF(club,C76)<=5),\"TEAM\",IF(COUNTIF(club,C76)>5,\"Too Many!!!!!\",\"NO TEAM\"))","v":"NO TEAM"},{"$nulls":5},{"$f":"IF($B76=\"NO TEAM\", 0, SUM(LARGE(IF(club=$C76, vault), ROW($1:$3))))","v":{"v":0,"d":"0.00"}},{"$nulls":5},{"$f":"IF($B76=\"NO TEAM\", 0, SUM(LARGE(IF(club=$C76, bars), ROW($1:$3))))","v":{"v":0,"d":"0.00"}},{"$nulls":5},{"$f":"IF($B76=\"NO TEAM\", 0, SUM(LARGE(IF(club=$C76, beam), ROW($1:$3))))","v":{"v":0,"d":"0.00"}},{"$nulls":5},{"$f":"IF($B76=\"NO TEAM\", 0, SUM(LARGE(IF(club=$C76, floor), ROW($1:$3))))","v":{"v":0,"d":"0.00"}},{"$nulls":5},{"$f":"IF($B76=\"NO TEAM\", 0, SUM(LARGE(IF(club=$C76, range), ROW($1:$3))))","v":{"v":0,"d":"0.00"}},{"$nulls":4},{"v":0,"d":"0.00"},3,10,0,3]
[null,{"$f":"IF(AND(COUNTIF(club,C77)>=3,COUNTIF(club,C77)<=5),\"TEAM\",IF(COUNTIF(club,C77)>5,\"Too Many!!!!!\",\"NO TEAM\"))","v":"NO TEAM"},{"$nulls":5},{"$f":"IF($B77=\"NO TEAM\", 0, SUM(LARGE(IF(club=$C77, vault), ROW($1:$3))))","v":{"v":0,"d":"0.00"}},{"$nulls":5},{"$f":"IF($B77=\"NO TEAM\", 0, SUM(LARGE(IF(club=$C77, bars), ROW($1:$3))))","v":{"v":0,"d":"0.00"}},{"$nulls":5},{"$f":"IF($B77=\"NO TEAM\", 0, SUM(LARGE(IF(club=$C77, beam), ROW($1:$3))))","v":{"v":0,"d":"0.00"}},{"$nulls":5},{"$f":"IF($B77=\"NO TEAM\", 0, SUM(LARGE(IF(club=$C77, floor), ROW($1:$3))))","v":{"v":0,"d":"0.00"}},{"$nulls":5},{"$f":"IF($B77=\"NO TEAM\", 0, SUM(LARGE(IF(club=$C77, range), ROW($1:$3))))","v":{"v":0,"d":"0.00"}},{"$nulls":4},{"v":0,"d":"0.00"},3,11,0,3]
[null,{"$f":"IF(AND(COUNTIF(club,C78)>=3,COUNTIF(club,C78)<=5),\"TEAM\",IF(COUNTIF(club,C78)>5,\"Too Many!!!!!\",\"NO TEAM\"))","v":"NO TEAM"},{"$nulls":5},{"$f":"IF($B78=\"NO TEAM\", 0, SUM(LARGE(IF(club=$C78, vault), ROW($1:$3))))","v":{"v":0,"d":"0.00"}},{"$nulls":5},{"$f":"IF($B78=\"NO TEAM\", 0, SUM(LARGE(IF(club=$C78, bars), ROW($1:$3))))","v":{"v":0,"d":"0.00"}},{"$nulls":5},{"$f":"IF($B78=\"NO TEAM\", 0, SUM(LARGE(IF(club=$C78, beam), ROW($1:$3))))","v":{"v":0,"d":"0.00"}},{"$nulls":5},{"$f":"IF($B78=\"NO TEAM\", 0, SUM(LARGE(IF(club=$C78, floor), ROW($1:$3))))","v":{"v":0,"d":"0.00"}},{"$nulls":5},{"$f":"IF($B78=\"NO TEAM\", 0, SUM(LARGE(IF(club=$C78, range), ROW($1:$3))))","v":{"v":0,"d":"0.00"}},{"$nulls":4},{"v":0,"d":"0.00"},3,12,0,3]
[null,{"$f":"IF(AND(COUNTIF(club,C79)>=3,COUNTIF(club,C79)<=5),\"TEAM\",IF(COUNTIF(club,C79)>5,\"Too Many!!!!!\",\"NO TEAM\"))","v":"NO TEAM"},{"$nulls":5},{"$f":"IF($B79=\"NO TEAM\", 0, SUM(LARGE(IF(club=$C79, vault), ROW($1:$3))))","v":{"v":0,"d":"0.00"}},{"$nulls":5},{"$f":"SUM(LARGE(IF(club=$C79, bars), ROW($1:$3)))","v":{"v":0,"d":"0.00"}},{"$nulls":5},{"$f":"SUM(LARGE(IF(club=$C79, beam), ROW($1:$3)))","v":{"v":0,"d":"0.00"}},{"$nulls":5},{"$f":"SUM(LARGE(IF(club=$C79, floor), ROW($1:$3)))","v":{"v":0,"d":"0.00"}},{"$nulls":5},{"$f":"SUM(LARGE(IF(club=$C79, range), ROW($1:$3)))","v":{"v":0,"d":"0.00"}},{"$nulls":4},{"v":0,"d":"0.00"},3,13,0,3]
[null,{"$f":"IF(AND(COUNTIF(club,C80)>=3,COUNTIF(club,C80)<=5),\"TEAM\",IF(COUNTIF(club,C80)>5,\"Too Many!!!!!\",\"NO TEAM\"))","v":"NO TEAM"},{"$nulls":5},{"$f":"IF($B80=\"NO TEAM\", 0, SUM(LARGE(IF(club=$C80, vault), ROW($1:$3))))","v":{"v":0,"d":"0.00"}},{"$nulls":5},{"$f":"SUM(LARGE(IF(club=$C80, bars), ROW($1:$3)))","v":{"v":0,"d":"0.00"}},{"$nulls":5},{"$f":"SUM(LARGE(IF(club=$C80, beam), ROW($1:$3)))","v":{"v":0,"d":"0.00"}},{"$nulls":5},{"$f":"SUM(LARGE(IF(club=$C80, floor), ROW($1:$3)))","v":{"v":0,"d":"0.00"}},{"$nulls":5},{"$f":"SUM(LARGE(IF(club=$C80, range), ROW($1:$3)))","v":{"v":0,"d":"0.00"}},{"$nulls":4},{"v":0,"d":"0.00"},3,14,0,3]
[null,{"$f":"IF(AND(COUNTIF(club,C81)>=3,COUNTIF(club,C81)<=5),\"TEAM\",IF(COUNTIF(club,C81)>5,\"Too Many!!!!!\",\"NO TEAM\"))","v":"NO TEAM"},{"$nulls":5},{"$f":"IF($B81=\"NO TEAM\", 0, SUM(LARGE(IF(club=$C81, vault), ROW($1:$3))))","v":{"v":0,"d":"0.00"}},{"$nulls":5},{"$f":"SUM(LARGE(IF(club=$C81, bars), ROW($1:$3)))","v":{"v":0,"d":"0.00"}},{"$nulls":5},{"$f":"SUM(LARGE(IF(club=$C81, beam), ROW($1:$3)))","v":{"v":0,"d":"0.00"}},{"$nulls":5},{"$f":"SUM(LARGE(IF(club=$C81, floor), ROW($1:$3)))","v":{"v":0,"d":"0.00"}},{"$nulls":5},{"$f":"SUM(LARGE(IF(club=$C81, range), ROW($1:$3)))","v":{"v":0,"d":"0.00"}},{"$nulls":4},{"v":0,"d":"0.00"},3,15,0,3]

{"sheet":"RegGr 2","index":10,"n_rows":81,"n_cols":55,"rows_kept":81,"merged":[[0,3,0,8],[0,12,0,14],[0,18,0,20],[0,24,0,26],[0,30,0,32],[0,36,0,37],[2,45,2,54],[45,44,45,45],[45,48,45,49],[45,52,45,53],[56,44,56,45]]}
[{"$nulls":3},"VAULT",{"$nulls":8},"BARS",{"$nulls":5},"BEAM",{"$nulls":5},"FLOOR",{"$nulls":5},"RANGE",{"$nulls":5},"AA"]
["No","GYMNAST","CLUB","V1 SV","V1","V2 SV","V2","SCORE","POS","idx","sort","ties","SV","SCORE","POS","idx","sort","ties","SV","SCORE","POS","idx","sort","ties","SV","SCORE","POS","idx","sort","ties","SV","SCORE","POS","idx","sort","ties","TOTAL","POS","idx","sort","ties"]
[null,"Regional Grade 2",{"$nulls":41},{"$f":"B3","v":"Regional Grade 2"},null,"summary results for presentation"]
[146,"Charlotte Jones","SD",{"v":4,"d":"4.0"},{"v":12,"d":"12.00"},{"v":0,"d":"0.0"},{"v":0,"d":"0.00"},{"$f":"MAX(E4, G4)","v":{"v":12,"d":"12.00"}},{"$f":"VLOOKUP(H4, K$4:L$65, 2,FALSE)","v":9},{"$f":"IF(ISNUMBER(J3), J3+1, 1)","v":1},{"$f":"LARGE(H$4:H$65,J4)","v":12.55},{"$f":"IF(K4=K3, L3, L3+1)","v":1},{"v":4,"d":"4.0"},{"v":12.1,"d":"12.10"},{"$f":"VLOOKUP(N4, Q$4:R$65, 2,FALSE)","v":6},{"$f":"IF(ISNUMBER(P3), P3+1, 1)","v":1},{"$f":"LARGE(N$4:N$65,P4)","v":13},{"$f":"IF(Q4=Q3, R3, R3+1)","v":1},{"v":4,"d":"4.0"},8.05,{"$f":"VLOOKUP(T4, W$4:X$65, 2,FALSE)","v":13},{"$f":"IF(ISNUMBER(V3), V3+1, 1)","v":1},{"$f":"LARGE(T$4:T$65,V4)","v":11.65},{"$f":"IF(W4=W3, X3, X3+1)","v":1},{"v":4,"d":"4.0"},10.75,{"$f":"VLOOKUP(Z4, AC$4:AD$65, 2,FALSE)","v":4},{"$f":"IF(ISNUMBER(AB3), AB3+1, 1)","v":1},{"$f":"LARGE(Z$4:Z$65,AB4)","v":11.6},{"$f":"IF(AC4=AC3, AD3, AD3+1)","v":1},3.5,11.75,{"$f":"VLOOKUP(AF4, AI$4:AJ$65, 2,FALSE)","v":5},{"$f":"IF(ISNUMBER(AH3), AH3+1, 1)","v":1},{"$f":"LARGE(AF$4:AF$65,AH4)","v":12.7},{"$f":"IF(AI4=AI3, AJ3, AJ3+1)","v":1},{"$f":"SUMIF(D$2:AJ$2, \"SCORE\", D4:AJ4)","v":{"v":54.650000000000006,"d":"54.65"}},{"$f":"VLOOKUP(AK4, AN$4:AO$65, 2,FALSE)","v":9},{"$f":"IF(ISNUMBER(AM3), AM3+1, 1)","v":1},{"$f":"LARGE($AK$4:$AK$65,$AM4)","v":59.150000000000006},{"$f":"IF(AN4=AN3, AO3, AO3+1)","v":1},null,null,"6th Place",{"$f":"IFERROR(INDEX(vault,MATCH(AR5,gymnasts,0)), \"\")","v":12.25},"5th Place",{"$f":"IFERROR(INDEX(vault,MATCH(AT5,gymnasts,0)), \"\")","v":{"v":12.3,"d":"12.30"}},"4th Place",{"$f":"IFERROR(INDEX(vault,MATCH(AV5,gymnasts,0)), \"\")","v":12.35},"3rd Place",{"$f":"IFERROR(INDEX(vault,MATCH(AX5,gymnasts,0)), \"\")","v":{"v":12.4,"d":"12.40"}},"2nd Place",{"$f":"IFERROR(INDEX(vault,MATCH(AZ5,gymnasts,0)), \"\")","v":12.45},"1st Place",{"$f":"IFERROR(INDEX(vault,MATCH(BB5,gymnasts,0)), \"\")","v":12.55}]
[147,"Emily Hewitt","SD",{"v":4,"d":"4.0"},{"v":12.3,"d":"12.30"},{"v":0,"d":"0.0"},{"v":0,"d":"0.00"},{"$f":"MAX(E5, G5)","v":{"v":12.3,"d":"12.30"}},{"$f":"VLOOKUP(H5, K$4:L$65, 2,FALSE)","v":5},2,{"$f":"LARGE(H$4:H$65,J5)","v":12.45},{"$f":"IF(K5=K4, L4, L4+1)","v":2},{"v":4,"d":"4.0"},{"v":12.3,"d":"12.30"},{"$f":"VLOOKUP(N5, Q$4:R$65, 2,FALSE)","v":5},2,{"$f":"LARGE(N$4:N$65,P5)","v":12.6},{"$f":"IF(Q5=Q4, R4, R4+1)","v":2},3.5,8.55,{"$f":"VLOOKUP(T5, W$4:X$65, 2,FALSE)","v":11},2,{"$f":"LARGE(T$4:T$65,V5)","v":11.3},{"$f":"IF(W5=W4, X4, X4+1)","v":2},3.5,9.79,{"$f":"VLOOKUP(Z5, AC$4:AD$65, 2,FALSE)","v":11},2,{"$f":"LARGE(Z$4:Z$65,AB5)","v":11.4},{"$f":"IF(AC5=AC4, AD4, AD4+1)","v":2},3.5,10.35,{"$f":"VLOOKUP(AF5, AI$4:AJ$65, 2,FALSE)","v":13},2,{"$f":"LARGE(AF$4:AF$65,AH5)","v":12.5},{"$f":"IF(AI5=AI4, AJ4, AJ4+1)","v":2},{"v":53.290000000000006,"d":"53.29"},{"$f":"VLOOKUP(AK5, AN$4:AO$65, 2,FALSE)","v":11},2,{"$f":"LARGE($AK$4:$AK$65,$AM5)","v":58.75},{"$f":"IF(AN5=AN4, AO4, AO4+1)","v":2},null,"Vault",{"$f":"IFERROR(INDEX(gymnasts, SMALL(IF(VALUE(LEFT(AR$32, 1))=vaultPos, ROW(vaultPos)-MIN(ROW(vaultPos))+1, \"\"), ROW()-4)), \"\")","v":"Isabel Green"},{"$f":"IFERROR( INDEX(entries, MATCH(AR5, gymnasts, 0), 2), \"\")","v":"North Lakes"},{"$f":"IFERROR(INDEX(gymnasts, SMALL(IF(VALUE(LEFT(AT$32, 1))=vaultPos, ROW(vaultPos)-MIN(ROW(vaultPos))+1, \"\"), ROW()-4)), \"\")","v":"Emily Hewitt"},{"$f":"IFERROR( INDEX(entries, MATCH(AT5, gymnasts, 0), 2), \"\")","v":"SD"},{"$f":"IFERROR(INDEX(gymnasts, SMALL(IF(VALUE(LEFT(AV$32, 1))=vaultPos, ROW(vaultPos)-MIN(ROW(vaultPos))+1, \"\"), ROW()-4)), \"\")","v":"Tess Conway"},{"$f":"IFERROR( INDEX(entries, MATCH(AV5, gymnasts, 0), 2), \"\")","v":"SD"},{"$f":"IFERROR(INDEX(gymnasts, SMALL(IF(VALUE(LEFT(AX$32, 1))=vaultPos, ROW(vaultPos)-MIN(ROW(vaultPos))+1, \"\"), ROW()-4)), \"\")","v":"Sienna Howard"},{"$f":"IFERROR( INDEX(entries, MATCH(AX5, gymnasts, 0), 2), \"\")","v":"Gymtopia"},{"$f":"IFERROR(INDEX(gymnasts, SMALL(IF(VALUE(LEFT(AZ$32, 1))=vaultPos, ROW(vaultPos)-MIN(ROW(vaultPos))+1, \"\"), ROW()-4)), \"\")","v":"Scarlett Home"},{"$f":"IFERROR( INDEX(entries, MATCH(AZ5, gymnasts, 0), 2), \"\")","v":"Gymtopia"},{"$f":"IFERROR(INDEX(gymnasts, SMALL(IF(VALUE(LEFT(BB$32, 1))=vaultPos, ROW(vaultPos)-MIN(ROW(vaultPos))+1, \"\"), ROW()-4)), \"\")","v":"Chloe Young"},{"$f":"IFERROR( INDEX(entries, MATCH(BB5, gymnasts, 0), 2), \"\")","v":"Darlington"}]
[148,"Tess Conway","SD",{"v":4,"d":"4.0"},12.35,{"v":0,"d":"0.0"},{"v":0,"d":"0.00"},12.35,4,3,12.4,3,{"v":4,"d":"4.0"},12.55,3,3,12.55,3,{"v":4,"d":"4.0"},7.65,14,3,10.85,3,{"v":4,"d":"4.0"},{"v":11,"d":"11.00"},3,3,11,3,3.5,{"v":11.8,"d":"11.80"},4,3,12,3,{"v":55.349999999999994,"d":"55.35"},6,3,58.75,2,null,null,"",{"$f":"IFERROR( INDEX(entries, MATCH(AR6, gymnasts, 0), 2), \"\")","v":""},"Ava Anderson",{"$f":"IFERROR( INDEX(entries, MATCH(AT6, gymnasts, 0), 2), \"\")","v":"Carlisle"},"",{"$f":"IFERROR( INDEX(entries, MATCH(AV6, gymnasts, 0), 2), \"\")","v":""},"",{"$f":"IFERROR( INDEX(entries, MATCH(AX6, gymnasts, 0), 2), \"\")","v":""},"",{"$f":"IFERROR( INDEX(entries, MATCH(AZ6, gymnasts, 0), 2), \"\")","v":""},"",""]
[149,"Hannah Pilmer","Carlisle",{"v":0,"d":"0.0"},{"v":0,"d":"0.00"},{"v":0,"d":"0.0"},{"v":0,"d":"0.00"},{"v":0,"d":"0.00"},13,4,12.35,4,{"v":0,"d":"0.0"},{"v":0,"d":"0.00"},13,4,12.55,3,{"v":0,"d":"0.0"},{"v":0,"d":"0.00"},16,4,10.6,4,{"v":0,"d":"0.0"},{"v":0,"d":"0.00"},13,4,11,3,{"v":0,"d":"0.0"},{"v":0,"d":"0.00"},15,4,11.8,4,{"v":0,"d":"0.00"},15,4,56.65,3,null,null,"","","Lucy Stutt","Gymtopia","","","","","","","",""]
[150,"Bethan Cameron","Carlisle",{"v":0,"d":"0.0"},{"v":0,"d":"0.00"},{"v":0,"d":"0.0"},{"v":0,"d":"0.00"},{"v":0,"d":"0.00"},13,5,12.3,5,{"v":0,"d":"0.0"},{"v":0,"d":"0.00"},13,5,12.55,3,{"v":0,"d":"0.0"},{"v":0,"d":"0.00"},16,5,10.5,5,{"v":0,"d":"0.0"},{"v":0,"d":"0.00"},13,5,11,3,{"v":0,"d":"0.0"},{"v":0,"d":"0.00"},15,5,11.75,5,{"v":0,"d":"0.00"},15,5,56.2,4,null,null,"","","","","","","","","","","",""]
[151,"Ava Anderson","Carlisle",{"v":4,"d":"4.0"},{"v":12.3,"d":"12.30"},{"v":0,"d":"0.0"},{"v":0,"d":"0.00"},{"v":12.3,"d":"12.30"},5,6,12.3,5,{"v":4,"d":"4.0"},12.55,3,6,12.55,3,{"v":4,"d":"4.0"},8.95,10,6,9.85,6,{"v":4,"d":"4.0"},{"v":11,"d":"11.00"},3,6,10.75,4,3.5,10.45,12,6,11.4,6,55.25,7,6,55.800000000000004,5,null,null,"","","","","","","","","","","",""]
[152,"Chloe Young","Darlington",{"v":4,"d":"4.0"},12.55,{"v":0,"d":"0.0"},{"v":0,"d":"0.00"},12.55,1,7,12.3,5,{"v":4,"d":"4.0"},11.85,7,7,12.4,4,3.5,{"v":8.2,"d":"8.20"},12,7,9.7,7,3.5,{"v":10.1,"d":"10.10"},9,7,10.7,5,{"v":4,"d":"4.0"},{"v":10.7,"d":"10.70"},10,7,11,7,{"v":53.39999999999999,"d":"53.40"},10,7,55.349999999999994,6,null,null,"","","","","","","","","","","",""]
[153,"Amara Gavriel","Darlington",{"v":4,"d":"4.0"},{"v":12,"d":"12.00"},{"v":0,"d":"0.0"},{"v":0,"d":"0.00"},{"v":12,"d":"12.00"},9,8,12.25,6,{"v":4,"d":"4.0"},{"v":11.6,"d":"11.60"},9,8,12.3,5,{"v":4,"d":"4.0"},11.65,1,8,9.3,8,{"v":4,"d":"4.0"},{"v":11,"d":"11.00"},3,8,10.7,5,{"v":4,"d":"4.0"},{"v":12.5,"d":"12.50"},2,8,10.85,8,58.75,2,8,55.25,7,null,null,"6th Place",{"$f":"IFERROR(INDEX(bars,MATCH(AR12,gymnasts,0)), \"\")","v":{"v":12.1,"d":"12.10"}},"5th Place",{"$f":"IFERROR(INDEX(bars,MATCH(AT12,gymnasts,0)), \"\")","v":{"v":12.3,"d":"12.30"}},"4th Place",{"$f":"IFERROR(INDEX(bars,MATCH(AV12,gymnasts,0)), \"\")","v":{"v":12.4,"d":"12.40"}},"3rd Place",{"$f":"IFERROR(INDEX(bars,MATCH(AX12,gymnasts,0)), \"\")","v":12.55},"2nd Place",{"$f":"IFERROR(INDEX(bars,MATCH(AZ12,gymnasts,0)), \"\")","v":{"v":12.6,"d":"12.60"}},"1st Place",{"$f":"IFERROR(INDEX(bars,MATCH(BB12,gymnasts,0)), \"\")","v":{"v":13,"d":"13.00"}}]
[154,"Neve Cooper","Darlington",{"v":4,"d":"4.0"},11.55,{"v":0,"d":"0.0"},{"v":0,"d":"0.00"},11.55,12,9,12.2,7,{"v":4,"d":"4.0"},{"v":11.3,"d":"11.30"},11,9,12.1,6,{"v":4,"d":"4.0"},{"v":11.3,"d":"11.30"},2,9,9.15,9,3.5,{"v":9.9,"d":"9.90"},10,9,10.6,6,3.5,10.75,9,9,10.75,9,{"v":54.800000000000004,"d":"54.80"},8,9,54.800000000000004,8,null,"Bars",{"$f":"IFERROR(INDEX(gymnasts, SMALL(IF(VALUE(LEFT(AR$32, 1))=BarPos, ROW(BarPos)-MIN(ROW(BarPos))+1, \"\"), ROW()-11)), \"\")","v":"Charlotte Jones"},{"$f":"IFERROR( INDEX(entries, MATCH(AR12, gymnasts, 0), 2), \"\")","v":"SD"},{"$f":"IFERROR(INDEX(gymnasts, SMALL(IF(VALUE(LEFT(AT$32, 1))=BarPos, ROW(BarPos)-MIN(ROW(BarPos))+1, \"\"), ROW()-11)), \"\")","v":"Emily Hewitt"},{"$f":"IFERROR( INDEX(entries, MATCH(AT12, gymnasts, 0), 2), \"\")","v":"SD"},{"$f":"IFERROR(INDEX(gymnasts, SMALL(IF(VALUE(LEFT(AV$32, 1))=BarPos, ROW(BarPos)-MIN(ROW(BarPos))+1, \"\"), ROW()-11)), \"\")","v":"Lucy Stutt"},{"$f":"IFERROR( INDEX(entries, MATCH(AV12, gymnasts, 0), 2), \"\")","v":"Gymtopia"},{"$f":"IFERROR(INDEX(gymnasts, SMALL(IF(VALUE(LEFT(AX$32, 1))=BarPos, ROW(BarPos)-MIN(ROW(BarPos))+1, \"\"), ROW()-11)), \"\")","v":"Tess Conway"},{"$f":"IFERROR( INDEX(entries, MATCH(AX12, gymnasts, 0), 2), \"\")","v":"SD"},{"$f":"IFERROR(INDEX(gymnasts, SMALL(IF(VALUE(LEFT(AZ$32, 1))=BarPos, ROW(BarPos)-MIN(ROW(BarPos))+1, \"\"), ROW()-11)), \"\")","v":"Scarlett Home"},{"$f":"IFERROR( INDEX(entries, MATCH(AZ12, gymnasts, 0), 2), \"\")","v":"Gymtopia"},{"$f":"IFERROR(INDEX(gymnasts, SMALL(IF(VALUE(LEFT(BB$32, 1))=BarPos, ROW(BarPos)-MIN(ROW(BarPos))+1, \"\"), ROW()-11)), \"\")","v":"Summer Davidson"},{"$f":"IFERROR( INDEX(entries, MATCH(BB12, gymnasts, 0), 2), \"\")","v":"North Lakes"}]
[155,"Scarlett Home","Gymtopia",{"v":4,"d":"4.0"},12.45,{"v":0,"d":"0.0"},{"v":0,"d":"0.00"},12.45,2,10,12.1,8,{"v":4,"d":"4.0"},{"v":12.6,"d":"12.60"},2,10,11.85,7,{"v":4,"d":"4.0"},{"v":9.7,"d":"9.70"},7,10,8.95,10,3.5,{"v":10.2,"d":"10.20"},8,10,10.5,7,{"v":4,"d":"4.0"},10.85,8,10,10.75,9,{"v":55.800000000000004,"d":"55.80"},5,10,54.650000000000006,9,null,null,"",{"$f":"IFERROR( INDEX(entries, MATCH(AR13, gymnasts, 0), 2), \"\")","v":""},"",{"$f":"IFERROR( INDEX(entries, MATCH(AT13, gymnasts, 0), 2), \"\")","v":""},"",{"$f":"IFERROR( INDEX(entries, MATCH(AV13, gymnasts, 0), 2), \"\")","v":""},"Ava Anderson",{"$f":"IFERROR( INDEX(entries, MATCH(AX13, gymnasts, 0), 2), \"\")","v":"Carlisle"},"",{"$f":"IFERROR( INDEX(entries, MATCH(AZ13, gymnasts, 0), 2), \"\")","v":""},"",""]
[156,"Sienna Howard","Gymtopia",{"v":4,"d":"4.0"},{"v":12.4,"d":"12.40"},{"v":0,"d":"0.0"},{"v":0,"d":"0.00"},{"v":12.4,"d":"12.40"},3,11,12,9,{"v":4,"d":"4.0"},{"v":11.1,"d":"11.10"},12,11,11.8,8,{"v":4,"d":"4.0"},{"v":6,"d":"6.00"},15,11,8.55,11,{"v":4,"d":"4.0"},{"v":11.4,"d":"11.40"},2,11,10.2,8,3.5,10.75,9,11,10.7,10,51.65,13,11,53.39999999999999,10,null,null,"","","","","","","Isabel Green","North Lakes","","","",""]
[157,"Lucy Stutt","Gymtopia",{"v":4,"d":"4.0"},{"v":12.3,"d":"12.30"},{"v":0,"d":"0.0"},{"v":0,"d":"0.00"},{"v":12.3,"d":"12.30"},5,12,12,9,{"v":4,"d":"4.0"},{"v":12.4,"d":"12.40"},4,12,11.6,9,{"v":4,"d":"4.0"},10.85,3,12,8.2,12,{"v":4,"d":"4.0"},{"v":11.6,"d":"11.60"},1,12,10.1,9,{"v":4,"d":"4.0"},{"v":12,"d":"12.00"},3,12,10.65,11,{"v":59.150000000000006,"d":"59.15"},1,12,53.290000000000006,11,null,null,"","","","","","","Mia Schofield","Redcar","","","",""]
[158,"Summer Davidson","North Lakes",{"v":4,"d":"4.0"},11.75,{"v":0,"d":"0.0"},{"v":0,"d":"0.00"},11.75,11,13,11.95,10,{"v":4,"d":"4.0"},{"v":13,"d":"13.00"},1,13,11.55,10,{"v":4,"d":"4.0"},{"v":10.6,"d":"10.60"},4,13,8.05,13,{"v":4,"d":"4.0"},{"v":10.7,"d":"10.70"},5,13,9.9,10,{"v":4,"d":"4.0"},{"v":12.7,"d":"12.70"},1,13,10.45,12,58.75,2,13,52.65,12,null,null,"","","","","","","","","","","",""]
[159,"Isabel Green","North Lakes",{"v":4,"d":"4.0"},12.25,{"v":0,"d":"0.0"},{"v":0,"d":"0.00"},12.25,6,14,11.75,11,{"v":4,"d":"4.0"},12.55,3,14,11.3,11,{"v":4,"d":"4.0"},{"v":10.5,"d":"10.50"},5,14,7.65,14,{"v":4,"d":"4.0"},{"v":10.7,"d":"10.70"},5,14,9.79,11,3.5,10.65,11,14,10.35,13,56.65,3,14,51.65,13,null,null,"","","","","","","","","","","",""]
[160,"Mia Schofield","Redcar",{"v":4,"d":"4.0"},{"v":12.2,"d":"12.20"},{"v":0,"d":"0.0"},{"v":0,"d":"0.00"},{"v":12.2,"d":"12.20"},7,15,11.55,12,{"v":4,"d":"4.0"},12.55,3,15,11.1,12,{"v":4,"d":"4.0"},9.85,6,15,6,15,{"v":4,"d":"4.0"},{"v":10.6,"d":"10.60"},6,15,6.4,12,{"v":3,"d":"3.0"},{"v":11,"d":"11.00"},7,15,9.5,14,{"v":56.2,"d":"56.20"},4,15,51,14,null,null,"6th Place",{"$f":"IFERROR(INDEX(beam,MATCH(AR19,gymnasts,0)), \"\")","v":9.85},"5th Place",{"$f":"IFERROR(INDEX(beam,MATCH(AT19,gymnasts,0)), \"\")","v":{"v":10.5,"d":"10.50"}},"4th Place",{"$f":"IFERROR(INDEX(beam,MATCH(AV19,gymnasts,0)), \"\")","v":{"v":10.6,"d":"10.60"}},"3rd Place",{"$f":"IFERROR(INDEX(beam,MATCH(AX19,gymnasts,0)), \"\")","v":10.85},"2nd Place",{"$f":"IFERROR(INDEX(beam,MATCH(AZ19,gymnasts,0)), \"\")","v":{"v":11.3,"d":"11.30"}},"1st Place",{"$f":"IFERROR(INDEX(beam,MATCH(BB19,gymnasts,0)), \"\")","v":11.65}]
[161,"Sofia Gaynon","Redcar",{"v":0,"d":"0.0"},{"v":0,"d":"0.00"},{"v":0,"d":"0.0"},{"v":0,"d":"0.00"},{"v":0,"d":"0.00"},13,16,0,13,{"v":0,"d":"0.0"},{"v":0,"d":"0.00"},13,16,0,13,{"v":0,"d":"0.0"},{"v":0,"d":"0.00"},16,16,0,16,{"v":0,"d":"0.0"},{"v":0,"d":"0.00"},13,16,0,13,{"v":0,"d":"0.0"},{"v":0,"d":"0.00"},15,16,0,15,{"v":0,"d":"0.00"},15,16,0,15,null,"Beam",{"$f":"IFERROR(INDEX(gymnasts, SMALL(IF(VALUE(LEFT(AR$32, 1))=BeamPos, ROW(BeamPos)-MIN(ROW(BeamPos))+1, \"\"), ROW()-18)), \"\")","v":"Mia Schofield"},{"$f":"IFERROR( INDEX(entries, MATCH(AR19, gymnasts, 0), 2), \"\")","v":"Redcar"},{"$f":"IFERROR(INDEX(gymnasts, SMALL(IF(VALUE(LEFT(AT$32, 1))=BeamPos, ROW(BeamPos)-MIN(ROW(BeamPos))+1, \"\"), ROW()-18)), \"\")","v":"Isabel Green"},{"$f":"IFERROR( INDEX(entries, MATCH(AT19, gymnasts, 0), 2), \"\")","v":"North Lakes"},{"$f":"IFERROR(INDEX(gymnasts, SMALL(IF(VALUE(LEFT(AV$32, 1))=BeamPos, ROW(BeamPos)-MIN(ROW(BeamPos))+1, \"\"), ROW()-18)), \"\")","v":"Summer Davidson"},{"$f":"IFERROR( INDEX(entries, MATCH(AV19, gymnasts, 0), 2), \"\")","v":"North Lakes"},{"$f":"IFERROR(INDEX(gymnasts, SMALL(IF(VALUE(LEFT(AX$32, 1))=BeamPos, ROW(BeamPos)-MIN(ROW(BeamPos))+1, \"\"), ROW()-18)), \"\")","v":"Lucy Stutt"},{"$f":"IFERROR( INDEX(entries, MATCH(AX19, gymnasts, 0), 2), \"\")","v":"Gymtopia"},{"$f":"IFERROR(INDEX(gymnasts, SMALL(IF(VALUE(LEFT(AZ$32, 1))=BeamPos, ROW(BeamPos)-MIN(ROW(BeamPos))+1, \"\"), ROW()-18)), \"\")","v":"Neve Cooper"},{"$f":"IFERROR( INDEX(entries, MATCH(AZ19, gymnasts, 0), 2), \"\")","v":"Darlington"},{"$f":"IFERROR(INDEX(gymnasts, SMALL(IF(VALUE(LEFT(BB$32, 1))=BeamPos, ROW(BeamPos)-MIN(ROW(BeamPos))+1, \"\"), ROW()-18)), \"\")","v":"Amara Gavriel"},{"$f":"IFERROR( INDEX(entries, MATCH(BB19, gymnasts, 0), 2), \"\")","v":"Darlington"}]
[144,"Tanya Seaton","DC Gymnastics",{"v":4,"d":"4.0"},11.95,{"v":0,"d":"0.0"},{"v":0,"d":"0.00"},11.95,10,17,0,13,{"v":4,"d":"4.0"},11.55,10,17,0,13,{"v":4,"d":"4.0"},9.15,9,17,0,16,{"v":4,"d":"4.0"},{"v":10.5,"d":"10.50"},7,17,0,13,3.5,{"v":9.5,"d":"9.50"},14,17,0,15,52.65,12,17,0,15,null,null,"",{"$f":"IFERROR( INDEX(entries, MATCH(AR20, gymnasts, 0), 2), \"\")","v":""},"",{"$f":"IFERROR( INDEX(entries, MATCH(AT20, gymnasts, 0), 2), \"\")","v":""},"",{"$f":"IFERROR( INDEX(entries, MATCH(AV20, gymnasts, 0), 2), \"\")","v":""},"",{"$f":"IFERROR( INDEX(entries, MATCH(AX20, gymnasts, 0), 2), \"\")","v":""},"",{"$f":"IFERROR( INDEX(entries, MATCH(AZ20, gymnasts, 0), 2), \"\")","v":""},"",""]
[145,"Ava Burgon","DC Gymnastics",{"v":4,"d":"4.0"},{"v":12.1,"d":"12.10"},{"v":0,"d":"0.0"},{"v":0,"d":"0.00"},{"v":12.1,"d":"12.10"},8,18,0,13,{"v":4,"d":"4.0"},{"v":11.8,"d":"11.80"},8,18,0,13,{"v":4,"d":"4.0"},{"v":9.3,"d":"9.30"},8,18,0,16,{"v":3,"d":"3.0"},{"v":6.4,"d":"6.40"},12,18,0,13,3.5,{"v":11.4,"d":"11.40"},6,18,0,15,{"v":51,"d":"51.00"},14,18,0,15,null,null,"","","","","","","","","","","",""]
[{"$nulls":3},{"v":0,"d":"0.0"},{"v":0,"d":"0.00"},{"v":0,"d":"0.0"},{"v":0,"d":"0.00"},{"v":0,"d":"0.00"},13,19,0,13,{"v":0,"d":"0.0"},{"v":0,"d":"0.00"},13,19,0,13,{"v":0,"d":"0.0"},{"v":0,"d":"0.00"},16,19,0,16,{"v":0,"d":"0.0"},{"v":0,"d":"0.00"},13,19,0,13,{"v":0,"d":"0.0"},{"v":0,"d":"0.00"},15,19,0,15,{"v":0,"d":"0.00"},15,19,0,15,null,null,"","","","","","","","","","","",""]
[{"$nulls":3},{"v":0,"d":"0.0"},{"v":0,"d":"0.00"},{"v":0,"d":"0.0"},{"v":0,"d":"0.00"},{"v":0,"d":"0.00"},13,20,0,13,{"v":0,"d":"0.0"},{"v":0,"d":"0.00"},13,20,0,13,{"v":0,"d":"0.0"},{"v":0,"d":"0.00"},16,20,0,16,{"v":0,"d":"0.0"},{"v":0,"d":"0.00"},13,20,0,13,{"v":0,"d":"0.0"},{"v":0,"d":"0.00"},15,20,0,15,{"v":0,"d":"0.00"},15,20,0,15,null,null,"","","","","","","","","","","",""]
[{"$nulls":3},{"v":0,"d":"0.0"},{"v":0,"d":"0.00"},{"v":0,"d":"0.0"},{"v":0,"d":"0.00"},{"v":0,"d":"0.00"},13,21,0,13,{"v":0,"d":"0.0"},{"v":0,"d":"0.00"},13,21,0,13,{"v":0,"d":"0.0"},{"v":0,"d":"0.00"},16,21,0,16,{"v":0,"d":"0.0"},{"v":0,"d":"0.00"},13,21,0,13,{"v":0,"d":"0.0"},{"v":0,"d":"0.00"},15,21,0,15,{"v":0,"d":"0.00"},15,21,0,15,null,null,"","","","","","","","","","","",""]
[{"$nulls":3},{"v":0,"d":"0.0"},{"v":0,"d":"0.00"},{"v":0,"d":"0.0"},{"v":0,"d":"0.00"},{"v":0,"d":"0.00"},13,22,0,13,{"v":0,"d":"0.0"},{"v":0,"d":"0.00"},13,22,0,13,{"v":0,"d":"0.0"},{"v":0,"d":"0.00"},16,22,0,16,{"v":0,"d":"0.0"},{"v":0,"d":"0.00"},13,22,0,13,{"v":0,"d":"0.0"},{"v":0,"d":"0.00"},15,22,0,15,{"v":0,"d":"0.00"},15,22,0,15,null,null,"6th Place",{"$f":"IFERROR(INDEX(floor,MATCH(AR26,gymnasts,0)), \"\")","v":{"v":10.6,"d":"10.60"}},"5th Place",{"$f":"IFERROR(INDEX(floor,MATCH(AT26,gymnasts,0)), \"\")","v":{"v":10.7,"d":"10.70"}},"4th Place",{"$f":"IFERROR(INDEX(floor,MATCH(AV26,gymnasts,0)), \"\")","v":10.75},"3rd Place",{"$f":"IFERROR(INDEX(floor,MATCH(AX26,gymnasts,0)), \"\")","v":{"v":11,"d":"11.00"}},"2nd Place",{"$f":"IFERROR(INDEX(floor,MATCH(AZ26,gymnasts,0)), \"\")","v":{"v":11.4,"d":"11.40"}},"1st Place",{"$f":"IFERROR(INDEX(floor,MATCH(BB26,gymnasts,0)), \"\")","v":{"v":11.6,"d":"11.60"}}]
[{"$nulls":3},{"v":0,"d":"0.0"},{"v":0,"d":"0.00"},{"v":0,"d":"0.0"},{"v":0,"d":"0.00"},{"v":0,"d":"0.00"},13,23,0,13,{"v":0,"d":"0.0"},{"v":0,"d":"0.00"},13,23,0,13,{"v":0,"d":"0.0"},{"v":0,"d":"0.00"},16,23,0,16,{"v":0,"d":"0.0"},{"v":0,"d":"0.00"},13,23,0,13,{"v":0,"d":"0.0"},{"v":0,"d":"0.00"},15,23,0,15,{"v":0,"d":"0.00"},15,23,0,15,null,"Floor",{"$f":"IFERROR(INDEX(gymnasts, SMALL(IF(VALUE(LEFT(AR$32, 1))=FloorPos, ROW(FloorPos)-MIN(ROW(FloorPos))+1, \"\"), ROW()-25)), \"\")","v":"Mia Schofield"},{"$f":"IFERROR( INDEX(entries, MATCH(AR26, gymnasts, 0), 2), \"\")","v":"Redcar"},{"$f":"IFERROR(INDEX(gymnasts, SMALL(IF(VALUE(LEFT(AT$32, 1))=FloorPos, ROW(FloorPos)-MIN(ROW(FloorPos))+1, \"\"), ROW()-25)), \"\")","v":"Summer Davidson"},{"$f":"IFERROR( INDEX(entries, MATCH(AT26, gymnasts, 0), 2), \"\")","v":"North Lakes"},{"$f":"IFERROR(INDEX(gymnasts, SMALL(IF(VALUE(LEFT(AV$32, 1))=FloorPos, ROW(FloorPos)-MIN(ROW(FloorPos))+1, \"\"), ROW()-25)), \"\")","v":"Charlotte Jones"},{"$f":"IFERROR( INDEX(entries, MATCH(AV26, gymnasts, 0), 2), \"\")","v":"SD"},{"$f":"IFERROR(INDEX(gymnasts, SMALL(IF(VALUE(LEFT(AX$32, 1))=FloorPos, ROW(FloorPos)-MIN(ROW(FloorPos))+1, \"\"), ROW()-25)), \"\")","v":"Tess Conway"},{"$f":"IFERROR( INDEX(entries, MATCH(AX26, gymnasts, 0), 2), \"\")","v":"SD"},{"$f":"IFERROR(INDEX(gymnasts, SMALL(IF(VALUE(LEFT(AZ$32, 1))=FloorPos, ROW(FloorPos)-MIN(ROW(FloorPos))+1, \"\"), ROW()-25)), \"\")","v":"Sienna Howard"},{"$f":"IFERROR( INDEX(entries, MATCH(AZ26, gymnasts, 0), 2), \"\")","v":"Gymtopia"},{"$f":"IFERROR(INDEX(gymnasts, SMALL(IF(VALUE(LEFT(BB$32, 1))=FloorPos, ROW(FloorPos)-MIN(ROW(FloorPos))+1, \"\"), ROW()-25)), \"\")","v":"Lucy Stutt"},{"$f":"IFERROR( INDEX(entries, MATCH(BB26, gymnasts, 0), 2), \"\")","v":"Gymtopia"}]
[{"$nulls":3},{"v":0,"d":"0.0"},{"v":0,"d":"0.00"},{"v":0,"d":"0.0"},{"v":0,"d":"0.00"},{"v":0,"d":"0.00"},13,24,0,13,{"v":0,"d":"0.0"},{"v":0,"d":"0.00"},13,24,0,13,{"v":0,"d":"0.0"},{"v":0,"d":"0.00"},16,24,0,16,{"v":0,"d":"0.0"},{"v":0,"d":"0.00"},13,24,0,13,{"v":0,"d":"0.0"},{"v":0,"d":"0.00"},15,24,0,15,{"v":0,"d":"0.00"},15,24,0,15,null,null,"",{"$f":"IFERROR( INDEX(entries, MATCH(AR27, gymnasts, 0), 2), \"\")","v":""},"Isabel Green",{"$f":"IFERROR( INDEX(entries, MATCH(AT27, gymnasts, 0), 2), \"\")","v":"North Lakes"},"",{"$f":"IFERROR( INDEX(entries, MATCH(AV27, gymnasts, 0), 2), \"\")","v":""},"Ava Anderson",{"$f":"IFERROR( INDEX(entries, MATCH(AX27, gymnasts, 0), 2), \"\")","v":"Carlisle"},"",{"$f":"IFERROR( INDEX(entries, MATCH(AZ27, gymnasts, 0), 2), \"\")","v":""},"",""]
[{"$nulls":3},{"v":0,"d":"0.0"},{"v":0,"d":"0.00"},{"v":0,"d":"0.0"},{"v":0,"d":"0.00"},{"v":0,"d":"0.00"},13,25,0,13,{"v":0,"d":"0.0"},{"v":0,"d":"0.00"},13,25,0,13,{"v":0,"d":"0.0"},{"v":0,"d":"0.00"},16,25,0,16,{"v":0,"d":"0.0"},{"v":0,"d":"0.00"},13,25,0,13,{"v":0,"d":"0.0"},{"v":0,"d":"0.00"},15,25,0,15,{"v":0,"d":"0.00"},15,25,0,15,null,null,"","","","","","","Amara Gavriel","Darlington","","","",""]
[{"$nulls":3},{"v":0,"d":"0.0"},{"v":0,"d":"0.00"},{"v":0,"d":"0.0"},{"v":0,"d":"0.00"},{"v":0,"d":"0.00"},13,26,0,13,{"v":0,"d":"0.0"},{"v":0,"d":"0.00"},13,26,0,13,{"v":0,"d":"0.0"},{"v":0,"d":"0.00"},16,26,0,16,{"v":0,"d":"0.0"},{"v":0,"d":"0.00"},13,26,0,13,{"v":0,"d":"0.0"},{"v":0,"d":"0.00"},15,26,0,15,{"v":0,"d":"0.00"},15,26,0,15,null,null,"","","","","","","","","","","",""]
[{"$nulls":3},{"v":0,"d":"0.0"},{"v":0,"d":"0.00"},{"v":0,"d":"0.0"},{"v":0,"d":"0.00"},{"v":0,"d":"0.00"},13,27,0,13,{"v":0,"d":"0.0"},{"v":0,"d":"0.00"},13,27,0,13,{"v":0,"d":"0.0"},{"v":0,"d":"0.00"},16,27,0,16,{"v":0,"d":"0.0"},{"v":0,"d":"0.00"},13,27,0,13,{"v":0,"d":"0.0"},{"v":0,"d":"0.00"},15,27,0,15,{"v":0,"d":"0.00"},15,27,0,15,null,null,"","","","","","","","","","","",""]
[{"$nulls":3},{"v":0,"d":"0.0"},{"v":0,"d":"0.00"},{"v":0,"d":"0.0"},{"v":0,"d":"0.00"},{"v":0,"d":"0.00"},13,28,0,13,{"v":0,"d":"0.0"},{"v":0,"d":"0.00"},13,28,0,13,{"v":0,"d":"0.0"},{"v":0,"d":"0.00"},16,28,0,16,{"v":0,"d":"0.0"},{"v":0,"d":"0.00"},13,28,0,13,{"v":0,"d":"0.0"},{"v":0,"d":"0.00"},15,28,0,15,{"v":0,"d":"0.00"},15,28,0,15,null,null,"","","","","","","","","","","",""]
[{"$nulls":3},{"v":0,"d":"0.0"},{"v":0,"d":"0.00"},{"v":0,"d":"0.0"},{"v":0,"d":"0.00"},{"v":0,"d":"0.00"},13,29,0,13,{"v":0,"d":"0.0"},{"v":0,"d":"0.00"},13,29,0,13,{"v":0,"d":"0.0"},{"v":0,"d":"0.00"},16,29,0,16,{"v":0,"d":"0.0"},{"v":0,"d":"0.00"},13,29,0,13,{"v":0,"d":"0.0"},{"v":0,"d":"0.00"},15,29,0,15,{"v":0,"d":"0.00"},15,29,0,15,null,null,"6th Place",{"$f":"IFERROR(INDEX(range,MATCH(AR33,gymnasts,0)), \"\")","v":{"v":11.4,"d":"11.40"}},"5th Place",{"$f":"IFERROR(INDEX(range,MATCH(AT33,gymnasts,0)), \"\")","v":11.75},"4th Place",{"$f":"IFERROR(INDEX(range,MATCH(AV33,gymnasts,0)), \"\")","v":{"v":11.8,"d":"11.80"}},"3rd Place",{"$f":"IFERROR(INDEX(range,MATCH(AX33,gymnasts,0)), \"\")","v":{"v":12,"d":"12.00"}},"2nd Place",{"$f":"IFERROR(INDEX(range,MATCH(AZ33,gymnasts,0)), \"\")","v":{"v":12.5,"d":"12.50"}},"1st Place",{"$f":"IFERROR(INDEX(range,MATCH(BB33,gymnasts,0)), \"\")","v":{"v":12.7,"d":"12.70"}}]
[{"$nulls":3},{"v":0,"d":"0.0"},{"v":0,"d":"0.00"},{"v":0,"d":"0.0"},{"v":0,"d":"0.00"},{"v":0,"d":"0.00"},13,30,0,13,{"v":0,"d":"0.0"},{"v":0,"d":"0.00"},13,30,0,13,{"v":0,"d":"0.0"},{"v":0,"d":"0.00"},16,30,0,16,{"v":0,"d":"0.0"},{"v":0,"d":"0.00"},13,30,0,13,{"v":0,"d":"0.0"},{"v":0,"d":"0.00"},15,30,0,15,{"v":0,"d":"0.00"},15,30,0,15,null,"Range",{"$f":"IFERROR(INDEX(gymnasts, SMALL(IF(VALUE(LEFT(AR$32, 1))=RangePos, ROW(RangePos)-MIN(ROW(RangePos))+1, \"\"), ROW()-32)), \"\")","v":"Ava Burgon"},{"$f":"IFERROR( INDEX(entries, MATCH(AR33, gymnasts, 0), 2), \"\")","v":"DC Gymnastics"},{"$f":"IFERROR(INDEX(gymnasts, SMALL(IF(VALUE(LEFT(AT$32, 1))=RangePos, ROW(RangePos)-MIN(ROW(RangePos))+1, \"\"), ROW()-32)), \"\")","v":"Charlotte Jones"},{"$f":"IFERROR( INDEX(entries, MATCH(AT33, gymnasts, 0), 2), \"\")","v":"SD"},{"$f":"IFERROR(INDEX(gymnasts, SMALL(IF(VALUE(LEFT(AV$32, 1))=RangePos, ROW(RangePos)-MIN(ROW(RangePos))+1, \"\"), ROW()-32)), \"\")","v":"Tess Conway"},{"$f":"IFERROR( INDEX(entries, MATCH(AV33, gymnasts, 0), 2), \"\")","v":"SD"},{"$f":"IFERROR(INDEX(gymnasts, SMALL(IF(VALUE(LEFT(AX$32, 1))=RangePos, ROW(RangePos)-MIN(ROW(RangePos))+1, \"\"), ROW()-32)), \"\")","v":"Lucy Stutt"},{"$f":"IFERROR( INDEX(entries, MATCH(AX33, gymnasts, 0), 2), \"\")","v":"Gymtopia"},{"$f":"IFERROR(INDEX(gymnasts, SMALL(IF(VALUE(LEFT(AZ$32, 1))=RangePos, ROW(RangePos)-MIN(ROW(RangePos))+1, \"\"), ROW()-32)), \"\")","v":"Amara Gavriel"},{"$f":"IFERROR( INDEX(entries, MATCH(AZ33, gymnasts, 0), 2), \"\")","v":"Darlington"},{"$f":"IFERROR(INDEX(gymnasts, SMALL(IF(VALUE(LEFT(BB$32, 1))=RangePos, ROW(RangePos)-MIN(ROW(RangePos))+1, \"\"), ROW()-32)), \"\")","v":"Summer Davidson"},{"$f":"IFERROR( INDEX(entries, MATCH(BB33, gymnasts, 0), 2), \"\")","v":"North Lakes"}]
[{"$nulls":3},{"v":0,"d":"0.0"},{"v":0,"d":"0.00"},{"v":0,"d":"0.0"},{"v":0,"d":"0.00"},{"v":0,"d":"0.00"},13,31,0,13,{"v":0,"d":"0.0"},{"v":0,"d":"0.00"},13,31,0,13,{"v":0,"d":"0.0"},{"v":0,"d":"0.00"},16,31,0,16,{"v":0,"d":"0.0"},{"v":0,"d":"0.00"},13,31,0,13,{"v":0,"d":"0.0"},{"v":0,"d":"0.00"},15,31,0,15,{"v":0,"d":"0.00"},15,31,0,15,null,null,"",{"$f":"IFERROR( INDEX(entries, MATCH(AR34, gymnasts, 0), 2), \"\")","v":""},"",{"$f":"IFERROR( INDEX(entries, MATCH(AT34, gymnasts, 0), 2), \"\")","v":""},"",{"$f":"IFERROR( INDEX(entries, MATCH(AV34, gymnasts, 0), 2), \"\")","v":""},"",{"$f":"IFERROR( INDEX(entries, MATCH(AX34, gymnasts, 0), 2), \"\")","v":""},"",{"$f":"IFERROR( INDEX(entries, MATCH(AZ34, gymnasts, 0), 2), \"\")","v":""},"",""]
[{"$nulls":3},{"v":0,"d":"0.0"},{"v":0,"d":"0.00"},{"v":0,"d":"0.0"},{"v":0,"d":"0.00"},{"v":0,"d":"0.00"},13,32,0,13,{"v":0,"d":"0.0"},{"v":0,"d":"0.00"},13,32,0,13,{"v":0,"d":"0.0"},{"v":0,"d":"0.00"},16,32,0,16,{"v":0,"d":"0.0"},{"v":0,"d":"0.00"},13,32,0,13,{"v":0,"d":"0.0"},{"v":0,"d":"0.00"},15,32,0,15,{"v":0,"d":"0.00"},15,32,0,15,null,null,"","","","","","","","","","","",""]
[{"$nulls":3},{"v":0,"d":"0.0"},{"v":0,"d":"0.00"},{"v":0,"d":"0.0"},{"v":0,"d":"0.00"},{"v":0,"d":"0.00"},13,33,0,13,{"v":0,"d":"0.0"},{"v":0,"d":"0.00"},13,33,0,13,{"v":0,"d":"0.0"},{"v":0,"d":"0.00"},16,33,0,16,{"v":0,"d":"0.0"},{"v":0,"d":"0.00"},13,33,0,13,{"v":0,"d":"0.0"},{"v":0,"d":"0.00"},15,33,0,15,{"$f":"SUMIF(D$2:AJ$2, \"SCORE\", D36:AJ36)","v":{"v":0,"d":"0.00"}},15,33,0,15,null,null,"","","","","","","","","","","",""]
[{"$nulls":3},{"v":0,"d":"0.0"},{"v":0,"d":"0.00"},{"v":0,"d":"0.0"},{"v":0,"d":"0.00"},{"v":0,"d":"0.00"},13,34,0,13,{"v":0,"d":"0.0"},{"v":0,"d":"0.00"},13,34,0,13,{"v":0,"d":"0.0"},{"v":0,"d":"0.00"},16,34,0,16,{"v":0,"d":"0.0"},{"v":0,"d":"0.00"},13,34,0,13,{"v":0,"d":"0.0"},{"v":0,"d":"0.00"},15,34,0,15,{"v":0,"d":"0.00"},15,34,0,15,null,null,"","","","","","","","","","","",""]
[{"$nulls":3},{"v":0,"d":"0.0"},{"v":0,"d":"0.00"},{"v":0,"d":"0.0"},{"v":0,"d":"0.00"},{"v":0,"d":"0.00"},13,35,0,13,{"v":0,"d":"0.0"},{"v":0,"d":"0.00"},13,35,0,13,{"v":0,"d":"0.0"},{"v":0,"d":"0.00"},16,35,0,16,{"v":0,"d":"0.0"},{"v":0,"d":"0.00"},13,35,0,13,{"v":0,"d":"0.0"},{"v":0,"d":"0.00"},15,35,0,15,{"v":0,"d":"0.00"},15,35,0,15,null,null,"","","","","","","","","","","",""]
[{"$nulls":3},{"v":0,"d":"0.0"},{"v":0,"d":"0.00"},{"v":0,"d":"0.0"},{"v":0,"d":"0.00"},{"v":0,"d":"0.00"},13,36,0,13,{"v":0,"d":"0.0"},{"v":0,"d":"0.00"},13,36,0,13,{"v":0,"d":"0.0"},{"v":0,"d":"0.00"},16,36,0,16,{"v":0,"d":"0.0"},{"v":0,"d":"0.00"},13,36,0,13,{"v":0,"d":"0.0"},{"v":0,"d":"0.00"},15,36,0,15,{"v":0,"d":"0.00"},15,36,0,15,null,null,"6th Place",{"$f":"IFERROR(INDEX(AAscores,MATCH(AR40,gymnasts,0)), \"\")","v":{"v":55.349999999999994,"d":"55.35"}},"5th Place",{"$f":"IFERROR(INDEX(AAscores,MATCH(AT40,gymnasts,0)), \"\")","v":{"v":55.800000000000004,"d":"55.80"}},"4th Place",{"$f":"IFERROR(INDEX(AAscores,MATCH(AV40,gymnasts,0)), \"\")","v":{"v":56.2,"d":"56.20"}},"3rd Place",{"$f":"IFERROR(INDEX(AAscores,MATCH(AX40,gymnasts,0)), \"\")","v":56.65},"2nd Place",{"$f":"IFERROR(INDEX(AAscores,MATCH(AZ40,gymnasts,0)), \"\")","v":58.75},"1st Place",{"$f":"IFERROR(INDEX(AAscores,MATCH(BB40,gymnasts,0)), \"\")","v":{"v":59.150000000000006,"d":"59.15"}}]
[{"$nulls":3},{"v":0,"d":"0.0"},{"v":0,"d":"0.00"},{"v":0,"d":"0.0"},{"v":0,"d":"0.00"},{"v":0,"d":"0.00"},13,37,0,13,{"v":0,"d":"0.0"},{"v":0,"d":"0.00"},13,37,0,13,{"v":0,"d":"0.0"},{"v":0,"d":"0.00"},16,37,0,16,{"v":0,"d":"0.0"},{"v":0,"d":"0.00"},13,37,0,13,{"v":0,"d":"0.0"},{"v":0,"d":"0.00"},15,37,0,15,{"v":0,"d":"0.00"},15,37,0,15,null,"AA",{"$f":"IFERROR(INDEX(gymnasts, SMALL(IF(VALUE(LEFT(AR$39, 1))=AApos, ROW(AApos)-MIN(ROW(AApos))+1, \"\"), ROW()-39)), \"\")","v":"Tess Conway"},{"$f":"IFERROR( INDEX(entries, MATCH(AR40, gymnasts, 0), 2), \"\")","v":"SD"},{"$f":"IFERROR(INDEX(gymnasts, SMALL(IF(VALUE(LEFT(AT$39, 1))=AApos, ROW(AApos)-MIN(ROW(AApos))+1, \"\"), ROW()-39)), \"\")","v":"Scarlett Home"},{"$f":"IFERROR( INDEX(entries, MATCH(AT40, gymnasts, 0), 2), \"\")","v":"Gymtopia"},{"$f":"IFERROR(INDEX(gymnasts, SMALL(IF(VALUE(LEFT(AV$39, 1))=AApos, ROW(AApos)-MIN(ROW(AApos))+1, \"\"), ROW()-39)), \"\")","v":"Mia Schofield"},{"$f":"IFERROR( INDEX(entries, MATCH(AV40, gymnasts, 0), 2), \"\")","v":"Redcar"},{"$f":"IFERROR(INDEX(gymnasts, SMALL(IF(VALUE(LEFT(AX$39, 1))=AApos, ROW(AApos)-MIN(ROW(AApos))+1, \"\"), ROW()-39)), \"\")","v":"Isabel Green"},{"$f":"IFERROR( INDEX(entries, MATCH(AX40, gymnasts, 0), 2), \"\")","v":"North Lakes"},{"$f":"IFERROR(INDEX(gymnasts, SMALL(IF(VALUE(LEFT(AZ$39, 1))=AApos, ROW(AApos)-MIN(ROW(AApos))+1, \"\"), ROW()-39)), \"\")","v":"Amara Gavriel"},{"$f":"IFERROR( INDEX(entries, MATCH(AZ40, gymnasts, 0), 2), \"\")","v":"Darlington"},{"$f":"IFERROR(INDEX(gymnasts, SMALL(IF(VALUE(LEFT(BB$39, 1))=AApos, ROW(AApos)-MIN(ROW(AApos))+1, \"\"), ROW()-39)), \"\")","v":"Lucy Stutt"},{"$f":"IFERROR( INDEX(entries, MATCH(BB40, gymnasts, 0), 2), \"\")","v":"Gymtopia"}]
[{"$nulls":3},{"v":0,"d":"0.0"},{"v":0,"d":"0.00"},{"v":0,"d":"0.0"},{"v":0,"d":"0.00"},{"v":0,"d":"0.00"},13,38,0,13,{"v":0,"d":"0.0"},{"v":0,"d":"0.00"},13,38,0,13,{"v":0,"d":"0.0"},{"v":0,"d":"0.00"},16,38,0,16,{"v":0,"d":"0.0"},{"v":0,"d":"0.00"},13,38,0,13,{"v":0,"d":"0.0"},{"v":0,"d":"0.00"},15,38,0,15,{"v":0,"d":"0.00"},15,38,0,15,null,null,"",{"$f":"IFERROR( INDEX(entries, MATCH(AR41, gymnasts, 0), 2), \"\")","v":""},"",{"$f":"IFERROR( INDEX(entries, MATCH(AT41, gymnasts, 0), 2), \"\")","v":""},"",{"$f":"IFERROR( INDEX(entries, MATCH(AV41, gymnasts, 0), 2), \"\")","v":""},"",{"$f":"IFERROR( INDEX(entries, MATCH(AX41, gymnasts, 0), 2), \"\")","v":""},"Summer Davidson",{"$f":"IFERROR( INDEX(entries, MATCH(AZ41, gymnasts, 0), 2), \"\")","v":"North Lakes"},"",""]
[{"$nulls":3},{"v":0,"d":"0.0"},{"v":0,"d":"0.00"},{"v":0,"d":"0.0"},{"v":0,"d":"0.00"},{"v":0,"d":"0.00"},13,39,0,13,{"v":0,"d":"0.0"},{"v":0,"d":"0.00"},13,39,0,13,{"v":0,"d":"0.0"},{"v":0,"d":"0.00"},16,39,0,16,{"v":0,"d":"0.0"},{"v":0,"d":"0.00"},13,39,0,13,{"v":0,"d":"0.0"},{"v":0,"d":"0.00"},15,39,0,15,{"v":0,"d":"0.00"},15,39,0,15,null,null,"","","","","","","","","","","",""]
[{"$nulls":3},{"v":0,"d":"0.0"},{"v":0,"d":"0.00"},{"v":0,"d":"0.0"},{"v":0,"d":"0.00"},{"v":0,"d":"0.00"},13,40,0,13,{"v":0,"d":"0.0"},{"v":0,"d":"0.00"},13,40,0,13,{"v":0,"d":"0.0"},{"v":0,"d":"0.00"},16,40,0,16,{"v":0,"d":"0.0"},{"v":0,"d":"0.00"},13,40,0,13,{"v":0,"d":"0.0"},{"v":0,"d":"0.00"},15,40,0,15,{"v":0,"d":"0.00"},15,40,0,15,null,null,"","","","","","","","","","","",""]
[{"$nulls":3},{"v":0,"d":"0.0"},{"v":0,"d":"0.00"},{"v":0,"d":"0.0"},{"v":0,"d":"0.00"},{"v":0,"d":"0.00"},13,41,0,13,{"v":0,"d":"0.0"},{"v":0,"d":"0.00"},13,41,0,13,{"v":0,"d":"0.0"},{"v":0,"d":"0.00"},16,41,0,16,{"v":0,"d":"0.0"},{"v":0,"d":"0.00"},13,41,0,13,{"v":0,"d":"0.0"},{"v":0,"d":"0.00"},15,41,0,15,{"v":0,"d":"0.00"},15,41,0,15,null,null,"","","","","","","","","","","",""]
[{"$nulls":3},{"v":0,"d":"0.0"},{"v":0,"d":"0.00"},{"v":0,"d":"0.0"},{"v":0,"d":"0.00"},{"v":0,"d":"0.00"},13,42,0,13,{"v":0,"d":"0.0"},{"v":0,"d":"0.00"},13,42,0,13,{"v":0,"d":"0.0"},{"v":0,"d":"0.00"},16,42,0,16,{"v":0,"d":"0.0"},{"v":0,"d":"0.00"},13,42,0,13,{"v":0,"d":"0.0"},{"v":0,"d":"0.00"},15,42,0,15,{"v":0,"d":"0.00"},15,42,0,15,null,null,"","","","","","","","","","","",""]
[{"$nulls":3},{"v":0,"d":"0.0"},{"v":0,"d":"0.00"},{"v":0,"d":"0.0"},{"v":0,"d":"0.00"},{"v":0,"d":"0.00"},13,43,0,13,{"v":0,"d":"0.0"},{"v":0,"d":"0.00"},13,43,0,13,{"v":0,"d":"0.0"},{"v":0,"d":"0.00"},16,43,0,16,{"v":0,"d":"0.0"},{"v":0,"d":"0.00"},13,43,0,13,{"v":0,"d":"0.0"},{"v":0,"d":"0.00"},15,43,0,15,{"v":0,"d":"0.00"},15,43,0,15,null,"Team","3rd place Team",{"$f":"IF(COUNTIF(AR47, 0), \"\", INDEX(teamTotals, MATCH(AR47, teams, 0)))","v":163.29},null,null,"2nd Place Team",{"$f":"IF(COUNTIF(AV47, 0), \"\", INDEX(teamTotals, MATCH(AV47, teams, 0)))","v":{"v":166.6,"d":"166.60"}},null,null,"1st Place Team",{"$f":"IF(COUNTIF(AZ47, 0), \"\", INDEX(teamTotals, MATCH(AZ47, teams, 0)))","v":166.95}]
[{"$nulls":3},{"v":0,"d":"0.0"},{"v":0,"d":"0.00"},{"v":0,"d":"0.0"},{"v":0,"d":"0.00"},{"v":0,"d":"0.00"},13,44,0,13,{"v":0,"d":"0.0"},{"v":0,"d":"0.00"},13,44,0,13,{"v":0,"d":"0.0"},{"v":0,"d":"0.00"},16,44,0,16,{"v":0,"d":"0.0"},{"v":0,"d":"0.00"},13,44,0,13,{"v":0,"d":"0.0"},{"v":0,"d":"0.00"},15,44,0,15,{"v":0,"d":"0.00"},15,44,0,15,null,null,{"$f":"IFERROR(INDEX(teams, SMALL(IF(VALUE(LEFT(AR$46, 1))=teamPos, ROW(teamPos)-MIN(ROW(teamPos))+1, \"\"), ROW()-46)), \"\")","v":"SD"},{"$f":"IFERROR(IF(COUNTIF(AR47, 0), \"\", INDEX(gymnasts, SMALL(IF(AR$47=club, ROW(club)-MIN(ROW(club))+1, \"\"), ROW()-46))), \"\")","v":"Charlotte Jones"},null,null,{"$f":"IFERROR(INDEX(teams, SMALL(IF(VALUE(LEFT(AV$46, 1))=teamPos, ROW(teamPos)-MIN(ROW(teamPos))+1, \"\"), ROW()-46)), \"\")","v":"Gymtopia"},{"$f":"IFERROR(IF(COUNTIF(AV47, 0), \"\", INDEX(gymnasts, SMALL(IF(AV$47=club, ROW(club)-MIN(ROW(club))+1, \"\"), ROW()-46))), \"\")","v":"Scarlett Home"},null,null,{"$f":"IFERROR(INDEX(teams, SMALL(IF(VALUE(LEFT(AZ$46, 1))=teamPos, ROW(teamPos)-MIN(ROW(teamPos))+1, \"\"), ROW()-46)), \"\")","v":"Darlington"},{"$f":"IFERROR(IF(COUNTIF(AZ47, 0), \"\", INDEX(gymnasts, SMALL(IF(AZ$47=club, ROW(club)-MIN(ROW(club))+1, \"\"), ROW()-46))), \"\")","v":"Chloe Young"}]
[{"$nulls":3},{"v":0,"d":"0.0"},{"v":0,"d":"0.00"},{"v":0,"d":"0.0"},{"v":0,"d":"0.00"},{"v":0,"d":"0.00"},13,45,0,13,{"v":0,"d":"0.0"},{"v":0,"d":"0.00"},13,45,0,13,{"v":0,"d":"0.0"},{"v":0,"d":"0.00"},16,45,0,16,{"v":0,"d":"0.0"},{"v":0,"d":"0.00"},13,45,0,13,{"v":0,"d":"0.0"},{"v":0,"d":"0.00"},15,45,0,15,{"v":0,"d":"0.00"},15,45,0,15,{"$nulls":3},{"$f":"IFERROR(IF(COUNTIF(AR48, 0), \"\", INDEX(gymnasts, SMALL(IF(AR$47=club, ROW(club)-MIN(ROW(club))+1, \"\"), ROW()-46))), \"\")","v":"Emily Hewitt"},{"$nulls":3},{"$f":"IFERROR(IF(COUNTIF(AV48, 0), \"\", INDEX(gymnasts, SMALL(IF(AV$47=club, ROW(club)-MIN(ROW(club))+1, \"\"), ROW()-46))), \"\")","v":"Sienna Howard"},{"$nulls":3},{"$f":"IFERROR(IF(COUNTIF(AZ48, 0), \"\", INDEX(gymnasts, SMALL(IF(AZ$47=club, ROW(club)-MIN(ROW(club))+1, \"\"), ROW()-46))), \"\")","v":"Amara Gavriel"}]
[{"$nulls":3},{"v":0,"d":"0.0"},{"v":0,"d":"0.00"},{"v":0,"d":"0.0"},{"v":0,"d":"0.00"},{"v":0,"d":"0.00"},13,46,0,13,{"v":0,"d":"0.0"},{"v":0,"d":"0.00"},13,46,0,13,{"v":0,"d":"0.0"},{"v":0,"d":"0.00"},16,46,0,16,{"v":0,"d":"0.0"},{"v":0,"d":"0.00"},13,46,0,13,{"v":0,"d":"0.0"},{"v":0,"d":"0.00"},15,46,0,15,{"v":0,"d":"0.00"},15,46,0,15,{"$nulls":3},{"$f":"IFERROR(IF(COUNTIF(AR49, 0), \"\", INDEX(gymnasts, SMALL(IF(AR$47=club, ROW(club)-MIN(ROW(club))+1, \"\"), ROW()-46))), \"\")","v":"Tess Conway"},{"$nulls":3},{"$f":"IFERROR(IF(COUNTIF(AV49, 0), \"\", INDEX(gymnasts, SMALL(IF(AV$47=club, ROW(club)-MIN(ROW(club))+1, \"\"), ROW()-46))), \"\")","v":"Lucy Stutt"},{"$nulls":3},{"$f":"IFERROR(IF(COUNTIF(AZ49, 0), \"\", INDEX(gymnasts, SMALL(IF(AZ$47=club, ROW(club)-MIN(ROW(club))+1, \"\"), ROW()-46))), \"\")","v":"Neve Cooper"}]
[{"$nulls":3},{"v":0,"d":"0.0"},{"v":0,"d":"0.00"},{"v":0,"d":"0.0"},{"v":0,"d":"0.00"},{"v":0,"d":"0.00"},13,47,0,13,{"v":0,"d":"0.0"},{"v":0,"d":"0.00"},13,47,0,13,{"v":0,"d":"0.0"},{"v":0,"d":"0.00"},16,47,0,16,{"v":0,"d":"0.0"},{"v":0,"d":"0.00"},13,47,0,13,{"v":0,"d":"0.0"},{"v":0,"d":"0.00"},15,47,0,15,{"v":0,"d":"0.00"},15,47,0,15,{"$nulls":3},{"$f":"IFERROR(IF(COUNTIF(AR50, 0), \"\", INDEX(gymnasts, SMALL(IF(AR$47=club, ROW(club)-MIN(ROW(club))+1, \"\"), ROW()-46))), \"\")","v":""},{"$nulls":3},{"$f":"IFERROR(IF(COUNTIF(AV50, 0), \"\", INDEX(gymnasts, SMALL(IF(AV$47=club, ROW(club)-MIN(ROW(club))+1, \"\"), ROW()-46))), \"\")","v":""},{"$nulls":3},{"$f":"IFERROR(IF(COUNTIF(AZ50, 0), \"\", INDEX(gymnasts, SMALL(IF(AZ$47=club, ROW(club)-MIN(ROW(club))+1, \"\"), ROW()-46))), \"\")","v":""}]
[{"$nulls":3},{"v":0,"d":"0.0"},{"v":0,"d":"0.00"},{"v":0,"d":"0.0"},{"v":0,"d":"0.00"},{"v":0,"d":"0.00"},13,48,0,13,{"v":0,"d":"0.0"},{"v":0,"d":"0.00"},13,48,0,13,{"v":0,"d":"0.0"},{"v":0,"d":"0.00"},16,48,0,16,{"v":0,"d":"0.0"},{"v":0,"d":"0.00"},13,48,0,13,{"v":0,"d":"0.0"},{"v":0,"d":"0.00"},15,48,0,15,{"v":0,"d":"0.00"},15,48,0,15,{"$nulls":3},{"$f":"IFERROR(IF(COUNTIF(AR51, 0), \"\", INDEX(gymnasts, SMALL(IF(AR$47=club, ROW(club)-MIN(ROW(club))+1, \"\"), ROW()-46))), \"\")","v":""},{"$nulls":3},{"$f":"IFERROR(IF(COUNTIF(AV51, 0), \"\", INDEX(gymnasts, SMALL(IF(AV$47=club, ROW(club)-MIN(ROW(club))+1, \"\"), ROW()-46))), \"\")","v":""},{"$nulls":3},{"$f":"IFERROR(IF(COUNTIF(AZ51, 0), \"\", INDEX(gymnasts, SMALL(IF(AZ$47=club, ROW(club)-MIN(ROW(club))+1, \"\"), ROW()-46))), \"\")","v":""}]
[{"$nulls":3},{"v":0,"d":"0.0"},{"v":0,"d":"0.00"},{"v":0,"d":"0.0"},{"v":0,"d":"0.00"},{"v":0,"d":"0.00"},13,49,0,13,{"v":0,"d":"0.0"},{"v":0,"d":"0.00"},13,49,0,13,{"v":0,"d":"0.0"},{"v":0,"d":"0.00"},16,49,0,16,{"v":0,"d":"0.0"},{"v":0,"d":"0.00"},13,49,0,13,{"v":0,"d":"0.0"},{"v":0,"d":"0.00"},15,49,0,15,{"v":0,"d":"0.00"},15,49,0,15,null,null,{"$f":"IFERROR(INDEX(teams, SMALL(IF(VALUE(LEFT(AR$46, 1))=teamPos, ROW(teamPos)-MIN(ROW(teamPos))+1, \"\"), ROW()-50)), \"\")","v":""},{"$f":"IFERROR(IF(COUNTIF(AR$52, 0), \"\", INDEX(gymnasts, SMALL(IF(AR$52=club, ROW(club)-MIN(ROW(club))+1, \"\"), ROW()-51))), \"\")","v":0},null,null,{"$f":"IFERROR(INDEX(teams, SMALL(IF(VALUE(LEFT(AV$46, 1))=teamPos, ROW(teamPos)-MIN(ROW(teamPos))+1, \"\"), ROW()-50)), \"\")","v":""},{"$f":"IFERROR(IF(COUNTIF(AV$52, 0), \"\", INDEX(gymnasts, SMALL(IF(AV$52=club, ROW(club)-MIN(ROW(club))+1, \"\"), ROW()-51))), \"\")","v":0},null,null,{"$f":"IFERROR(INDEX(teams, SMALL(IF(VALUE(LEFT(AZ$46, 1))=teamPos, ROW(teamPos)-MIN(ROW(teamPos))+1, \"\"), ROW()-50)), \"\")","v":""},{"$f":"IFERROR(IF(COUNTIF(AZ$52, 0), \"\", INDEX(gymnasts, SMALL(IF(AZ$52=club, ROW(club)-MIN(ROW(club))+1, \"\"), ROW()-51))), \"\")","v":0}]
[{"$nulls":3},{"v":0,"d":"0.0"},{"v":0,"d":"0.00"},{"v":0,"d":"0.0"},{"v":0,"d":"0.00"},{"v":0,"d":"0.00"},13,50,0,13,{"v":0,"d":"0.0"},{"v":0,"d":"0.00"},13,50,0,13,{"v":0,"d":"0.0"},{"v":0,"d":"0.00"},16,50,0,16,{"v":0,"d":"0.0"},{"v":0,"d":"0.00"},13,50,0,13,{"v":0,"d":"0.0"},{"v":0,"d":"0.00"},15,50,0,15,{"v":0,"d":"0.00"},15,50,0,15,{"$nulls":3},{"$f":"IFERROR(IF(COUNTIF(AR$52, 0), \"\", INDEX(gymnasts, SMALL(IF(AR$52=club, ROW(club)-MIN(ROW(club))+1, \"\"), ROW()-51))), \"\")","v":0},{"$nulls":3},{"$f":"IFERROR(IF(COUNTIF(AV$52, 0), \"\", INDEX(gymnasts, SMALL(IF(AV$52=club, ROW(club)-MIN(ROW(club))+1, \"\"), ROW()-51))), \"\")","v":0},{"$nulls":3},{"$f":"IFERROR(IF(COUNTIF(AZ$52, 0), \"\", INDEX(gymnasts, SMALL(IF(AZ$52=club, ROW(club)-MIN(ROW(club))+1, \"\"), ROW()-51))), \"\")","v":0}]
[{"$nulls":3},{"v":0,"d":"0.0"},{"v":0,"d":"0.00"},{"v":0,"d":"0.0"},{"v":0,"d":"0.00"},{"v":0,"d":"0.00"},13,51,0,13,{"v":0,"d":"0.0"},{"v":0,"d":"0.00"},13,51,0,13,{"v":0,"d":"0.0"},{"v":0,"d":"0.00"},16,51,0,16,{"v":0,"d":"0.0"},{"v":0,"d":"0.00"},13,51,0,13,{"v":0,"d":"0.0"},{"v":0,"d":"0.00"},15,51,0,15,{"v":0,"d":"0.00"},15,51,0,15,{"$nulls":3},{"$f":"IFERROR(IF(COUNTIF(AR$52, 0), \"\", INDEX(gymnasts, SMALL(IF(AR$52=club, ROW(club)-MIN(ROW(club))+1, \"\"), ROW()-51))), \"\")","v":0},{"$nulls":3},{"$f":"IFERROR(IF(COUNTIF(AV$52, 0), \"\", INDEX(gymnasts, SMALL(IF(AV$52=club, ROW(club)-MIN(ROW(club))+1, \"\"), ROW()-51))), \"\")","v":0},{"$nulls":3},{"$f":"IFERROR(IF(COUNTIF(AZ$52, 0), \"\", INDEX(gymnasts, SMALL(IF(AZ$52=club, ROW(club)-MIN(ROW(club))+1, \"\"), ROW()-51))), \"\")","v":0}]
[{"$nulls":3},{"v":0,"d":"0.0"},{"v":0,"d":"0.00"},{"v":0,"d":"0.0"},{"v":0,"d":"0.00"},{"v":0,"d":"0.00"},13,52,0,13,{"v":0,"d":"0.0"},{"v":0,"d":"0.00"},13,52,0,13,{"v":0,"d":"0.0"},{"v":0,"d":"0.00"},16,52,0,16,{"v":0,"d":"0.0"},{"v":0,"d":"0.00"},13,52,0,13,{"v":0,"d":"0.0"},{"v":0,"d":"0.00"},15,52,0,15,{"v":0,"d":"0.00"},15,52,0,15,{"$nulls":3},{"$f":"IFERROR(IF(COUNTIF(AR$52, 0), \"\", INDEX(gymnasts, SMALL(IF(AR$52=club, ROW(club)-MIN(ROW(club))+1, \"\"), ROW()-51))), \"\")","v":0},{"$nulls":3},{"$f":"IFERROR(IF(COUNTIF(AV$52, 0), \"\", INDEX(gymnasts, SMALL(IF(AV$52=club, ROW(club)-MIN(ROW(club))+1, \"\"), ROW()-51))), \"\")","v":0},{"$nulls":3},{"$f":"IFERROR(IF(COUNTIF(AZ$52, 0), \"\", INDEX(gymnasts, SMALL(IF(AZ$52=club, ROW(club)-MIN(ROW(club))+1, \"\"), ROW()-51))), \"\")","v":0}]
[{"$nulls":3},{"v":0,"d":"0.0"},{"v":0,"d":"0.00"},{"v":0,"d":"0.0"},{"v":0,"d":"0.00"},{"v":0,"d":"0.00"},13,53,0,13,{"v":0,"d":"0.0"},{"v":0,"d":"0.00"},13,53,0,13,{"v":0,"d":"0.0"},{"v":0,"d":"0.00"},16,53,0,16,{"v":0,"d":"0.0"},{"v":0,"d":"0.00"},13,53,0,13,{"v":0,"d":"0.0"},{"v":0,"d":"0.00"},15,53,0,15,{"v":0,"d":"0.00"},15,53,0,15,{"$nulls":3},{"$f":"IFERROR(IF(ISTEXT(AR$52), INDEX(gymnasts, SMALL(IF(AR$52=club, ROW(club)-MIN(ROW(club))+1, \"\"), ROW()-51)), \"\"), \"\")","v":0},{"$nulls":3},{"$f":"IFERROR(IF(ISTEXT(AV$52), INDEX(gymnasts, SMALL(IF(AV$52=club, ROW(club)-MIN(ROW(club))+1, \"\"), ROW()-51)), \"\"), \"\")","v":0},{"$nulls":3},{"$f":"IFERROR(IF(ISTEXT(AZ$52), INDEX(gymnasts, SMALL(IF(AZ$52=club, ROW(club)-MIN(ROW(club))+1, \"\"), ROW()-51)), \"\"), \"\")","v":0}]
[{"$nulls":3},{"v":0,"d":"0.0"},{"v":0,"d":"0.00"},{"v":0,"d":"0.0"},{"v":0,"d":"0.00"},{"v":0,"d":"0.00"},13,54,0,13,{"v":0,"d":"0.0"},{"v":0,"d":"0.00"},13,54,0,13,{"v":0,"d":"0.0"},{"v":0,"d":"0.00"},16,54,0,16,{"v":0,"d":"0.0"},{"v":0,"d":"0.00"},13,54,0,13,{"v":0,"d":"0.0"},{"v":0,"d":"0.00"},15,54,0,15,{"v":0,"d":"0.00"},15,54,0,15]
[{"$nulls":3},{"v":0,"d":"0.0"},{"v":0,"d":"0.00"},{"v":0,"d":"0.0"},{"v":0,"d":"0.00"},{"v":0,"d":"0.00"},13,55,0,13,{"v":0,"d":"0.0"},{"v":0,"d":"0.00"},13,55,0,13,{"v":0,"d":"0.0"},{"v":0,"d":"0.00"},16,55,0,16,{"v":0,"d":"0.0"},{"v":0,"d":"0.00"},13,55,0,13,{"v":0,"d":"0.0"},{"v":0,"d":"0.00"},15,55,0,15,{"v":0,"d":"0.00"},15,55,0,15]
[{"$nulls":3},{"v":0,"d":"0.0"},{"v":0,"d":"0.00"},{"v":0,"d":"0.0"},{"v":0,"d":"0.00"},{"v":0,"d":"0.00"},13,56,0,13,{"v":0,"d":"0.0"},{"v":0,"d":"0.00"},13,56,0,13,{"v":0,"d":"0.0"},{"v":0,"d":"0.00"},16,56,0,16,{"v":0,"d":"0.0"},{"v":0,"d":"0.00"},13,56,0,13,{"v":0,"d":"0.0"},{"v":0,"d":"0.00"},15,56,0,15,{"v":0,"d":"0.00"},15,56,0,15]
[{"$nulls":3},{"v":0,"d":"0.0"},{"v":0,"d":"0.00"},{"v":0,"d":"0.0"},{"v":0,"d":"0.00"},{"v":0,"d":"0.00"},13,57,0,13,{"v":0,"d":"0.0"},{"v":0,"d":"0.00"},13,57,0,13,{"v":0,"d":"0.0"},{"v":0,"d":"0.00"},16,57,0,16,{"v":0,"d":"0.0"},{"v":0,"d":"0.00"},13,57,0,13,{"v":0,"d":"0.0"},{"v":0,"d":"0.00"},15,57,0,15,{"v":0,"d":"0.00"},15,57,0,15]
[{"$nulls":3},{"v":0,"d":"0.0"},{"v":0,"d":"0.00"},{"v":0,"d":"0.0"},{"v":0,"d":"0.00"},{"v":0,"d":"0.00"},13,58,0,13,{"v":0,"d":"0.0"},{"v":0,"d":"0.00"},13,58,0,13,{"v":0,"d":"0.0"},{"v":0,"d":"0.00"},16,58,0,16,{"v":0,"d":"0.0"},{"v":0,"d":"0.00"},13,58,0,13,{"v":0,"d":"0.0"},{"v":0,"d":"0.00"},15,58,0,15,{"v":0,"d":"0.00"},15,58,0,15]
[{"$nulls":3},{"v":0,"d":"0.0"},{"v":0,"d":"0.00"},{"v":0,"d":"0.0"},{"v":0,"d":"0.00"},{"v":0,"d":"0.00"},13,59,0,13,{"v":0,"d":"0.0"},{"v":0,"d":"0.00"},13,59,0,13,{"v":0,"d":"0.0"},{"v":0,"d":"0.00"},16,59,0,16,{"v":0,"d":"0.0"},{"v":0,"d":"0.00"},13,59,0,13,{"v":0,"d":"0.0"},{"v":0,"d":"0.00"},15,59,0,15,{"v":0,"d":"0.00"},15,59,0,15]
[{"$nulls":3},{"v":0,"d":"0.0"},{"v":0,"d":"0.00"},{"v":0,"d":"0.0"},{"v":0,"d":"0.00"},{"v":0,"d":"0.00"},13,60,0,13,{"v":0,"d":"0.0"},{"v":0,"d":"0.00"},13,60,0,13,{"v":0,"d":"0.0"},{"v":0,"d":"0.00"},16,60,0,16,{"v":0,"d":"0.0"},{"v":0,"d":"0.00"},13,60,0,13,{"v":0,"d":"0.0"},{"v":0,"d":"0.00"},15,60,0,15,{"v":0,"d":"0.00"},15,60,0,15]
[{"$nulls":3},{"v":0,"d":"0.0"},{"v":0,"d":"0.00"},{"v":0,"d":"0.0"},{"v":0,"d":"0.00"},{"v":0,"d":"0.00"},13,61,0,13,{"v":0,"d":"0.0"},{"v":0,"d":"0.00"},13,61,0,13,{"v":0,"d":"0.0"},{"v":0,"d":"0.00"},16,61,0,16,{"v":0,"d":"0.0"},{"v":0,"d":"0.00"},13,61,0,13,{"v":0,"d":"0.0"},{"v":0,"d":"0.00"},15,61,0,15,{"v":0,"d":"0.00"},15,61,0,15]
[{"$nulls":3},{"v":0,"d":"0.0"},{"v":0,"d":"0.00"},{"v":0,"d":"0.0"},{"v":0,"d":"0.00"},{"v":0,"d":"0.00"},13,62,0,13,{"v":0,"d":"0.0"},{"v":0,"d":"0.00"},13,62,0,13,{"v":0,"d":"0.0"},{"v":0,"d":"0.00"},16,62,0,16,{"v":0,"d":"0.0"},{"v":0,"d":"0.00"},13,62,0,13,{"v":0,"d":"0.0"},{"v":0,"d":"0.00"},15,62,0,15,{"v":0,"d":"0.00"},15,62,0,15]
[null,"Teams"]
[null,{"$f":"IF(AND(COUNTIF(club,C67)>=3,COUNTIF(club,C67)<=5),\"TEAM\",IF(COUNTIF(club,C67)>5,\"Too Many!!!!!\",\"NO TEAM\"))","v":"TEAM"},"SD",{"$nulls":4},{"$f":"IF($B67=\"NO TEAM\", 0, SUM(LARGE(IF(club=$C67, vault), ROW($1:$3))))","v":36.65},{"$nulls":5},{"$f":"IF($B67=\"NO TEAM\", 0, SUM(LARGE(IF(club=$C67, bars), ROW($1:$3))))","v":36.95},{"$nulls":5},{"$f":"IF($B67=\"NO TEAM\", 0, SUM(LARGE(IF(club=$C67, beam), ROW($1:$3))))","v":24.25},{"$nulls":5},{"$f":"IF($B67=\"NO TEAM\", 0, SUM(LARGE(IF(club=$C67, floor), ROW($1:$3))))","v":31.54},{"$nulls":5},{"$f":"IF($B67=\"NO TEAM\", 0, SUM(LARGE(IF(club=$C67, range), ROW($1:$3))))","v":{"v":33.9,"d":"33.90"}},{"$nulls":4},{"$f":"IF(B67=\"TEAM\", SUMIF(D$2:AJ$2, \"SCORE\", D67:AJ67), 0)","v":163.29},{"$f":"VLOOKUP(AK67,AN$67:AO$81, 2,FALSE)","v":3},{"$f":"IF(ISNUMBER(AM66), AM66+1, 1)","v":1},{"$f":"LARGE((AK$67:AK$81), $AM67)","v":166.95},{"$f":"IF(AN67=AN66, AO66, AO66+1)","v":1}]
[null,{"$f":"IF(AND(COUNTIF(club,C68)>=3,COUNTIF(club,C68)<=5),\"TEAM\",IF(COUNTIF(club,C68)>5,\"Too Many!!!!!\",\"NO TEAM\"))","v":"TEAM"},"Carlisle",{"$nulls":4},{"$f":"IF($B68=\"NO TEAM\", 0, SUM(LARGE(IF(club=$C68, vault), ROW($1:$3))))","v":{"v":12.3,"d":"12.30"}},{"$nulls":5},{"$f":"IF($B68=\"NO TEAM\", 0, SUM(LARGE(IF(club=$C68, bars), ROW($1:$3))))","v":12.55},{"$nulls":5},{"$f":"IF($B68=\"NO TEAM\", 0, SUM(LARGE(IF(club=$C68, beam), ROW($1:$3))))","v":8.95},{"$nulls":5},{"$f":"IF($B68=\"NO TEAM\", 0, SUM(LARGE(IF(club=$C68, floor), ROW($1:$3))))","v":{"v":11,"d":"11.00"}},{"$nulls":5},{"$f":"IF($B68=\"NO TEAM\", 0, SUM(LARGE(IF(club=$C68, range), ROW($1:$3))))","v":10.45},{"$nulls":4},55.25,{"$f":"VLOOKUP(AK68,AN$67:AO$81, 2,FALSE)","v":4},{"$f":"IF(ISNUMBER(AM67), AM67+1, 1)","v":2},{"$f":"LARGE((AK$67:AK$81), $AM68)","v":166.6},{"$f":"IF(AN68=AN67, AO67, AO67+1)","v":2}]
[null,{"$f":"IF(AND(COUNTIF(club,C69)>=3,COUNTIF(club,C69)<=5),\"TEAM\",IF(COUNTIF(club,C69)>5,\"Too Many!!!!!\",\"NO TEAM\"))","v":"TEAM"},"Darlington",{"$nulls":4},{"$f":"IF($B69=\"NO TEAM\", 0, SUM(LARGE(IF(club=$C69, vault), ROW($1:$3))))","v":{"v":36.1,"d":"36.10"}},{"$nulls":5},{"$f":"IF($B69=\"NO TEAM\", 0, SUM(LARGE(IF(club=$C69, bars), ROW($1:$3))))","v":34.75},{"$nulls":5},{"$f":"IF($B69=\"NO TEAM\", 0, SUM(LARGE(IF(club=$C69, beam), ROW($1:$3))))","v":{"v":31.150000000000002,"d":"31.15"}},{"$nulls":5},{"$f":"IF($B69=\"NO TEAM\", 0, SUM(LARGE(IF(club=$C69, floor), ROW($1:$3))))","v":{"v":31,"d":"31.00"}},{"$nulls":5},{"$f":"IF($B69=\"NO TEAM\", 0, SUM(LARGE(IF(club=$C69, range), ROW($1:$3))))","v":33.95},{"$nulls":4},166.95,1,3,163.29,3]
[null,{"$f":"IF(AND(COUNTIF(club,C70)>=3,COUNTIF(club,C70)<=5),\"TEAM\",IF(COUNTIF(club,C70)>5,\"Too Many!!!!!\",\"NO TEAM\"))","v":"TEAM"},"Gymtopia",{"$nulls":4},{"$f":"IF($B70=\"NO TEAM\", 0, SUM(LARGE(IF(club=$C70, vault), ROW($1:$3))))","v":{"v":37.150000000000006,"d":"37.15"}},{"$nulls":5},{"$f":"IF($B70=\"NO TEAM\", 0, SUM(LARGE(IF(club=$C70, bars), ROW($1:$3))))","v":{"v":36.1,"d":"36.10"}},{"$nulls":5},{"$f":"IF($B70=\"NO TEAM\", 0, SUM(LARGE(IF(club=$C70, beam), ROW($1:$3))))","v":{"v":26.549999999999997,"d":"26.55"}},{"$nulls":5},{"$f":"IF($B70=\"NO TEAM\", 0, SUM(LARGE(IF(club=$C70, floor), ROW($1:$3))))","v":{"v":33.2,"d":"33.20"}},{"$nulls":5},{"$f":"IF($B70=\"NO TEAM\", 0, SUM(LARGE(IF(club=$C70, range), ROW($1:$3))))","v":{"v":33.6,"d":"33.60"}},{"$nulls":4},{"v":166.6,"d":"166.60"},2,4,55.25,4]
[null,{"$f":"IF(AND(COUNTIF(club,C71)>=3,COUNTIF(club,C71)<=5),\"TEAM\",IF(COUNTIF(club,C71)>5,\"Too Many!!!!!\",\"NO TEAM\"))","v":"NO TEAM"},{"$nulls":5},{"$f":"IF($B71=\"NO TEAM\", 0, SUM(LARGE(IF(club=$C71, vault), ROW($1:$3))))","v":{"v":0,"d":"0.00"}},{"$nulls":5},{"$f":"IF($B71=\"NO TEAM\", 0, SUM(LARGE(IF(club=$C71, bars), ROW($1:$3))))","v":{"v":0,"d":"0.00"}},{"$nulls":5},{"$f":"IF($B71=\"NO TEAM\", 0, SUM(LARGE(IF(club=$C71, beam), ROW($1:$3))))","v":{"v":0,"d":"0.00"}},{"$nulls":5},{"$f":"IF($B71=\"NO TEAM\", 0, SUM(LARGE(IF(club=$C71, floor), ROW($1:$3))))","v":{"v":0,"d":"0.00"}},{"$nulls":5},{"$f":"IF($B71=\"NO TEAM\", 0, SUM(LARGE(IF(club=$C71, range), ROW($1:$3))))","v":{"v":0,"d":"0.00"}},{"$nulls":4},{"v":0,"d":"0.00"},5,5,0,5]
[null,{"$f":"IF(AND(COUNTIF(club,C72)>=3,COUNTIF(club,C72)<=5),\"TEAM\",IF(COUNTIF(club,C72)>5,\"Too Many!!!!!\",\"NO TEAM\"))","v":"NO TEAM"},{"$nulls":5},{"$f":"IF($B72=\"NO TEAM\", 0, SUM(LARGE(IF(club=$C72, vault), ROW($1:$3))))","v":{"v":0,"d":"0.00"}},{"$nulls":5},{"$f":"IF($B72=\"NO TEAM\", 0, SUM(LARGE(IF(club=$C72, bars), ROW($1:$3))))","v":{"v":0,"d":"0.00"}},{"$nulls":5},{"$f":"IF($B72=\"NO TEAM\", 0, SUM(LARGE(IF(club=$C72, beam), ROW($1:$3))))","v":{"v":0,"d":"0.00"}},{"$nulls":5},{"$f":"IF($B72=\"NO TEAM\", 0, SUM(LARGE(IF(club=$C72, floor), ROW($1:$3))))","v":{"v":0,"d":"0.00"}},{"$nulls":5},{"$f":"IF($B72=\"NO TEAM\", 0, SUM(LARGE(IF(club=$C72, range), ROW($1:$3))))","v":{"v":0,"d":"0.00"}},{"$nulls":4},{"v":0,"d":"0.00"},5,6,0,5]
[null,{"$f":"IF(AND(COUNTIF(club,C73)>=3,COUNTIF(club,C73)<=5),\"TEAM\",IF(COUNTIF(club,C73)>5,\"Too Many!!!!!\",\"NO TEAM\"))","v":"NO TEAM"},{"$nulls":5},{"$f":"IF($B73=\"NO TEAM\", 0, SUM(LARGE(IF(club=$C73, vault), ROW($1:$3))))","v":{"v":0,"d":"0.00"}},{"$nulls":5},{"$f":"IF($B73=\"NO TEAM\", 0, SUM(LARGE(IF(club=$C73, bars), ROW($1:$3))))","v":{"v":0,"d":"0.00"}},{"$nulls":5},{"$f":"IF($B73=\"NO TEAM\", 0, SUM(LARGE(IF(club=$C73, beam), ROW($1:$3))))","v":{"v":0,"d":"0.00"}},{"$nulls":5},{"$f":"IF($B73=\"NO TEAM\", 0, SUM(LARGE(IF(club=$C73, floor), ROW($1:$3))))","v":{"v":0,"d":"0.00"}},{"$nulls":5},{"$f":"IF($B73=\"NO TEAM\", 0, SUM(LARGE(IF(club=$C73, range), ROW($1:$3))))","v":{"v":0,"d":"0.00"}},{"$nulls":4},{"v":0,"d":"0.00"},5,7,0,5]
[null,{"$f":"IF(AND(COUNTIF(club,C74)>=3,COUNTIF(club,C74)<=5),\"TEAM\",IF(COUNTIF(club,C74)>5,\"Too Many!!!!!\",\"NO TEAM\"))","v":"NO TEAM"},{"$nulls":5},{"$f":"IF($B74=\"NO TEAM\", 0, SUM(LARGE(IF(club=$C74, vault), ROW($1:$3))))","v":{"v":0,"d":"0.00"}},{"$nulls":5},{"$f":"IF($B74=\"NO TEAM\", 0, SUM(LARGE(IF(club=$C74, bars), ROW($1:$3))))","v":{"v":0,"d":"0.00"}},{"$nulls":5},{"$f":"IF($B74=\"NO TEAM\", 0, SUM(LARGE(IF(club=$C74, beam), ROW($1:$3))))","v":{"v":0,"d":"0.00"}},{"$nulls":5},{"$f":"IF($B74=\"NO TEAM\", 0, SUM(LARGE(IF(club=$C74, floor), ROW($1:$3))))","v":{"v":0,"d":"0.00"}},{"$nulls":5},{"$f":"IF($B74=\"NO TEAM\", 0, SUM(LARGE(IF(club=$C74, range), ROW($1:$3))))","v":{"v":0,"d":"0.00"}},{"$nulls":4},{"v":0,"d":"0.00"},5,8,0,5]
[null,{"$f":"IF(AND(COUNTIF(club,C75)>=3,COUNTIF(club,C75)<=5),\"TEAM\",IF(COUNTIF(club,C75)>5,\"Too Many!!!!!\",\"NO TEAM\"))","v":"NO TEAM"},{"$nulls":5},{"$f":"IF($B75=\"NO TEAM\", 0, SUM(LARGE(IF(club=$C75, vault), ROW($1:$3))))","v":{"v":0,"d":"0.00"}},{"$nulls":5},{"$f":"IF($B75=\"NO TEAM\", 0, SUM(LARGE(IF(club=$C75, bars), ROW($1:$3))))","v":{"v":0,"d":"0.00"}},{"$nulls":5},{"$f":"IF($B75=\"NO TEAM\", 0, SUM(LARGE(IF(club=$C75, beam), ROW($1:$3))))","v":{"v":0,"d":"0.00"}},{"$nulls":5},{"$f":"IF($B75=\"NO TEAM\", 0, SUM(LARGE(IF(club=$C75, floor), ROW($1:$3))))","v":{"v":0,"d":"0.00"}},{"$nulls":5},{"$f":"IF($B75=\"NO TEAM\", 0, SUM(LARGE(IF(club=$C75, range), ROW($1:$3))))","v":{"v":0,"d":"0.00"}},{"$nulls":4},{"v":0,"d":"0.00"},5,9,0,5]
[null,{"$f":"IF(AND(COUNTIF(club,C76)>=3,COUNTIF(club,C76)<=5),\"TEAM\",IF(COUNTIF(club,C76)>5,\"Too Many!!!!!\",\"NO TEAM\"))","v":"NO TEAM"},{"$nulls":5},{"$f":"IF($B76=\"NO TEAM\", 0, SUM(LARGE(IF(club=$C76, vault), ROW($1:$3))))","v":{"v":0,"d":"0.00"}},{"$nulls":5},{"$f":"IF($B76=\"NO TEAM\", 0, SUM(LARGE(IF(club=$C76, bars), ROW($1:$3))))","v":{"v":0,"d":"0.00"}},{"$nulls":5},{"$f":"IF($B76=\"NO TEAM\", 0, SUM(LARGE(IF(club=$C76, beam), ROW($1:$3))))","v":{"v":0,"d":"0.00"}},{"$nulls":5},{"$f":"IF($B76=\"NO TEAM\", 0, SUM(LARGE(IF(club=$C76, floor), ROW($1:$3))))","v":{"v":0,"d":"0.00"}},{"$nulls":5},{"$f":"IF($B76=\"NO TEAM\", 0, SUM(LARGE(IF(club=$C76, range), ROW($1:$3))))","v":{"v":0,"d":"0.00"}},{"$nulls":4},{"v":0,"d":"0.00"},5,10,0,5]
[null,{"$f":"IF(AND(COUNTIF(club,C77)>=3,COUNTIF(club,C77)<=5),\"TEAM\",IF(COUNTIF(club,C77)>5,\"Too Many!!!!!\",\"NO TEAM\"))","v":"NO TEAM"},{"$nulls":5},{"$f":"IF($B77=\"NO TEAM\", 0, SUM(LARGE(IF(club=$C77, vault), ROW($1:$3))))","v":{"v":0,"d":"0.00"}},{"$nulls":5},{"$f":"IF($B77=\"NO TEAM\", 0, SUM(LARGE(IF(club=$C77, bars), ROW($1:$3))))","v":{"v":0,"d":"0.00"}},{"$nulls":5},{"$f":"IF($B77=\"NO TEAM\", 0, SUM(LARGE(IF(club=$C77, beam), ROW($1:$3))))","v":{"v":0,"d":"0.00"}},{"$nulls":5},{"$f":"IF($B77=\"NO TEAM\", 0, SUM(LARGE(IF(club=$C77, floor), ROW($1:$3))))","v":{"v":0,"d":"0.00"}},{"$nulls":5},{"$f":"IF($B77=\"NO TEAM\", 0, SUM(LARGE(IF(club=$C77, range), ROW($1:$3))))","v":{"v":0,"d":"0.00"}},{"$nulls":4},{"v":0,"d":"0.00"},5,11,0,5]
[null,{"$f":"IF(AND(COUNTIF(club,C78)>=3,COUNTIF(club,C78)<=5),\"TEAM\",IF(COUNTIF(club,C78)>5,\"Too Many!!!!!\",\"NO TEAM\"))","v":"NO TEAM"},{"$nulls":5},{"$f":"IF($B78=\"NO TEAM\", 0, SUM(LARGE(IF(club=$C78, vault), ROW($1:$3))))","v":{"v":0,"d":"0.00"}},{"$nulls":5},{"$f":"IF($B78=\"NO TEAM\", 0, SUM(LARGE(IF(club=$C78, bars), ROW($1:$3))))","v":{"v":0,"d":"0.00"}},{"$nulls":5},{"$f":"IF($B78=\"NO TEAM\", 0, SUM(LARGE(IF(club=$C78, beam), ROW($1:$3))))","v":{"v":0,"d":"0.00"}},{"$nulls":5},{"$f":"IF($B78=\"NO TEAM\", 0, SUM(LARGE(IF(club=$C78, floor), ROW($1:$3))))","v":{"v":0,"d":"0.00"}},{"$nulls":5},{"$f":"IF($B78=\"NO TEAM\", 0, SUM(LARGE(IF(club=$C78, range), ROW($1:$3))))","v":{"v":0,"d":"0.00"}},{"$nulls":4},{"v":0,"d":"0.00"},5,12,0,5]
[null,{"$f":"IF(AND(COUNTIF(club,C79)>=3,COUNTIF(club,C79)<=5),\"TEAM\",IF(COUNTIF(club,C79)>5,\"Too Many!!!!!\",\"NO TEAM\"))","v":"NO TEAM"},{"$nulls":5},{"$f":"IF($B79=\"NO TEAM\", 0, SUM(LARGE(IF(club=$C79, vault), ROW($1:$3))))","v":{"v":0,"d":"0.00"}},{"$nulls":5},{"$f":"SUM(LARGE(IF(club=$C79, bars), ROW($1:$3)))","v":{"v":0,"d":"0.00"}},{"$nulls":5},{"$f":"SUM(LARGE(IF(club=$C79, beam), ROW($1:$3)))","v":{"v":0,"d":"0.00"}},{"$nulls":5},{"$f":"SUM(LARGE(IF(club=$C79, floor), ROW($1:$3)))","v":{"v":0,"d":"0.00"}},{"$nulls":5},{"$f":"SUM(LARGE(IF(club=$C79, range), ROW($1:$3)))","v":{"v":0,"d":"0.00"}},{"$nulls":4},{"v":0,"d":"0.00"},5,13,0,5]
[null,{"$f":"IF(AND(COUNTIF(club,C80)>=3,COUNTIF(club,C80)<=5),\"TEAM\",IF(COUNTIF(club,C80)>5,\"Too Many!!!!!\",\"NO TEAM\"))","v":"NO TEAM"},{"$nulls":5},{"$f":"IF($B80=\"NO TEAM\", 0, SUM(LARGE(IF(club=$C80, vault), ROW($1:$3))))","v":{"v":0,"d":"0.00"}},{"$nulls":5},{"$f":"SUM(LARGE(IF(club=$C80, bars), ROW($1:$3)))","v":{"v":0,"d":"0.00"}},{"$nulls":5},{"$f":"SUM(LARGE(IF(club=$C80, beam), ROW($1:$3)))","v":{"v":0,"d":"0.00"}},{"$nulls":5},{"$f":"SUM(LARGE(IF(club=$C80, floor), ROW($1:$3)))","v":{"v":0,"d":"0.00"}},{"$nulls":5},{"$f":"SUM(LARGE(IF(club=$C80, range), ROW($1:$3)))","v":{"v":0,"d":"0.00"}},{"$nulls":4},{"v":0,"d":"0.00"},5,14,0,5]
[null,{"$f":"IF(AND(COUNTIF(club,C81)>=3,COUNTIF(club,C81)<=5),\"TEAM\",IF(COUNTIF(club,C81)>5,\"Too Many!!!!!\",\"NO TEAM\"))","v":"NO TEAM"},{"$nulls":5},{"$f":"IF($B81=\"NO TEAM\", 0, SUM(LARGE(IF(club=$C81, vault), ROW($1:$3))))","v":{"v":0,"d":"0.00"}},{"$nulls":5},{"$f":"SUM(LARGE(IF(club=$C81, bars), ROW($1:$3)))","v":{"v":0,"d":"0.00"}},{"$nulls":5},{"$f":"SUM(LARGE(IF(club=$C81, beam), ROW($1:$3)))","v":{"v":0,"d":"0.00"}},{"$nulls":5},{"$f":"SUM(LARGE(IF(club=$C81, floor), ROW($1:$3)))","v":{"v":0,"d":"0.00"}},{"$nulls":5},{"$f":"SUM(LARGE(IF(club=$C81, range), ROW($1:$3)))","v":{"v":0,"d":"0.00"}},{"$nulls":4},{"v":0,"d":"0.00"},5,15,0,5]

{"sheet":"RegGr 1","index":11,"n_rows":87,"n_cols":55,"rows_kept":87,"merged":[[0,3,0,8],[0,12,0,14],[0,18,0,20],[0,24,0,26],[0,30,0,32],[0,36,0,37],[2,45,2,54],[45,44,45,45],[45,48,45,49],[45,52,45,53],[56,44,56,45]]}
[{"$nulls":3},"VAULT",{"$nulls":8},"BARS",{"$nulls":5},"BEAM",{"$nulls":5},"FLOOR",{"$nulls":5},"RANGE",{"$nulls":5},"AA"]
["No","GYMNAST","CLUB","V1 SV","V1","V2 SV","V2","SCORE","POS","idx","sort","ties","SV","SCORE","POS","idx","sort","ties","SV","SCORE","POS","idx","sort","ties","SV","SCORE","POS","idx","sort","ties","SV","SCORE","POS","idx","sort","ties","TOTAL","POS","idx","sort","ties"]
[null,"Regional Grade 1",{"$nulls":41},{"$f":"B3","v":"Regional Grade 1"},null,"summary results for presentation"]
[162,"Demi Solan","SD",{"v":4,"d":"4.0"},{"v":12.6,"d":"12.60"},{"v":0,"d":"0.0"},{"v":0,"d":"0.00"},{"$f":"MAX(E4, G4)","v":{"v":12.6,"d":"12.60"}},{"$f":"VLOOKUP(H4, K$4:L$65, 2,FALSE)","v":1},{"$f":"IF(ISNUMBER(J3), J3+1, 1)","v":1},{"$f":"LARGE(H$4:H$65,J4)","v":12.6},{"$f":"IF(K4=K3, L3, L3+1)","v":1},{"v":4,"d":"4.0"},{"v":12.5,"d":"12.50"},{"$f":"VLOOKUP(N4, Q$4:R$65, 2,FALSE)","v":2},{"$f":"IF(ISNUMBER(P3), P3+1, 1)","v":1},{"$f":"LARGE(N$4:N$65,P4)","v":12.6},{"$f":"IF(Q4=Q3, R3, R3+1)","v":1},{"v":4,"d":"4.0"},{"v":9,"d":"9.00"},{"$f":"VLOOKUP(T4, W$4:X$65, 2,FALSE)","v":10},{"$f":"IF(ISNUMBER(V3), V3+1, 1)","v":1},{"$f":"LARGE(T$4:T$65,V4)","v":11.5},{"$f":"IF(W4=W3, X3, X3+1)","v":1},{"v":4,"d":"4.0"},{"v":10,"d":"10.00"},{"$f":"VLOOKUP(Z4, AC$4:AD$65, 2,FALSE)","v":6},{"$f":"IF(ISNUMBER(AB3), AB3+1, 1)","v":1},{"$f":"LARGE(Z$4:Z$65,AB4)","v":11.25},{"$f":"IF(AC4=AC3, AD3, AD3+1)","v":1},{"v":4,"d":"4.0"},{"v":12.7,"d":"12.70"},{"$f":"VLOOKUP(AF4, AI$4:AJ$65, 2,FALSE)","v":1},{"$f":"IF(ISNUMBER(AH3), AH3+1, 1)","v":1},{"$f":"LARGE(AF$4:AF$65,AH4)","v":12.7},{"$f":"IF(AI4=AI3, AJ3, AJ3+1)","v":1},{"$f":"SUMIF(D$2:AJ$2, \"SCORE\", D4:AJ4)","v":{"v":56.8,"d":"56.80"}},{"$f":"VLOOKUP(AK4, AN$4:AO$65, 2,FALSE)","v":7},{"$f":"IF(ISNUMBER(AM3), AM3+1, 1)","v":1},{"$f":"LARGE($AK$4:$AK$65,$AM4)","v":60.150000000000006},{"$f":"IF(AN4=AN3, AO3, AO3+1)","v":1},null,null,"6th Place",{"$f":"IFERROR(INDEX(vault,MATCH(AR5,gymnasts,0)), \"\")","v":{"v":12.3,"d":"12.30"}},"5th Place",{"$f":"IFERROR(INDEX(vault,MATCH(AT5,gymnasts,0)), \"\")","v":12.35},"4th Place",{"$f":"IFERROR(INDEX(vault,MATCH(AV5,gymnasts,0)), \"\")","v":{"v":12.4,"d":"12.40"}},"3rd Place",{"$f":"IFERROR(INDEX(vault,MATCH(AX5,gymnasts,0)), \"\")","v":{"v":12.5,"d":"12.50"}},"2nd Place",{"$f":"IFERROR(INDEX(vault,MATCH(AZ5,gymnasts,0)), \"\")","v":12.55},"1st Place",{"$f":"IFERROR(INDEX(vault,MATCH(BB5,gymnasts,0)), \"\")","v":{"v":12.6,"d":"12.60"}}]
[163,"Elise Blanckley","SD",{"v":4,"d":"4.0"},12.35,{"v":0,"d":"0.0"},{"v":0,"d":"0.00"},{"$f":"MAX(E5, G5)","v":12.35},{"$f":"VLOOKUP(H5, K$4:L$65, 2,FALSE)","v":5},2,{"$f":"LARGE(H$4:H$65,J5)","v":12.55},{"$f":"IF(K5=K4, L4, L4+1)","v":2},{"v":4,"d":"4.0"},11.55,{"$f":"VLOOKUP(N5, Q$4:R$65, 2,FALSE)","v":9},2,{"$f":"LARGE(N$4:N$65,P5)","v":12.5},{"$f":"IF(Q5=Q4, R4, R4+1)","v":2},{"v":4,"d":"4.0"},{"v":10.7,"d":"10.70"},{"$f":"VLOOKUP(T5, W$4:X$65, 2,FALSE)","v":5},2,{"$f":"LARGE(T$4:T$65,V5)","v":11.4},{"$f":"IF(W5=W4, X4, X4+1)","v":2},{"v":4,"d":"4.0"},10.75,{"$f":"VLOOKUP(Z5, AC$4:AD$65, 2,FALSE)","v":3},2,{"$f":"LARGE(Z$4:Z$65,AB5)","v":11.2},{"$f":"IF(AC5=AC4, AD4, AD4+1)","v":2},3.5,{"v":10.6,"d":"10.60"},{"$f":"VLOOKUP(AF5, AI$4:AJ$65, 2,FALSE)","v":11},2,{"$f":"LARGE(AF$4:AF$65,AH5)","v":12.45},{"$f":"IF(AI5=AI4, AJ4, AJ4+1)","v":2},{"v":55.949999999999996,"d":"55.95"},{"$f":"VLOOKUP(AK5, AN$4:AO$65, 2,FALSE)","v":8},2,{"$f":"LARGE($AK$4:$AK$65,$AM5)","v":58.75},{"$f":"IF(AN5=AN4, AO4, AO4+1)","v":2},null,"Vault",{"$f":"IFERROR(INDEX(gymnasts, SMALL(IF(VALUE(LEFT(AR$32, 1))=vaultPos, ROW(vaultPos)-MIN(ROW(vaultPos))+1, \"\"), ROW()-4)), \"\")","v":"Cora-Beth Martin"},{"$f":"IFERROR( INDEX(entries, MATCH(AR5, gymnasts, 0), 2), \"\")","v":"SD"},{"$f":"IFERROR(INDEX(gymnasts, SMALL(IF(VALUE(LEFT(AT$32, 1))=vaultPos, ROW(vaultPos)-MIN(ROW(vaultPos))+1, \"\"), ROW()-4)), \"\")","v":"Elise Blanckley"},{"$f":"IFERROR( INDEX(entries, MATCH(AT5, gymnasts, 0), 2), \"\")","v":"SD"},{"$f":"IFERROR(INDEX(gymnasts, SMALL(IF(VALUE(LEFT(AV$32, 1))=vaultPos, ROW(vaultPos)-MIN(ROW(vaultPos))+1, \"\"), ROW()-4)), \"\")","v":"Jasmine Emolaga"},{"$f":"IFERROR( INDEX(entries, MATCH(AV5, gymnasts, 0), 2), \"\")","v":"Wansbeck"},{"$f":"IFERROR(INDEX(gymnasts, SMALL(IF(VALUE(LEFT(AX$32, 1))=vaultPos, ROW(vaultPos)-MIN(ROW(vaultPos))+1, \"\"), ROW()-4)), \"\")","v":"Eleanor Carragher"},{"$f":"IFERROR( INDEX(entries, MATCH(AX5, gymnasts, 0), 2), \"\")","v":"Redcar"},{"$f":"IFERROR(INDEX(gymnasts, SMALL(IF(VALUE(LEFT(AZ$32, 1))=vaultPos, ROW(vaultPos)-MIN(ROW(vaultPos))+1, \"\"), ROW()-4)), \"\")","v":"Lucie Wylie"},{"$f":"IFERROR( INDEX(entries, MATCH(AZ5, gymnasts, 0), 2), \"\")","v":"Hartlepool"},{"$f":"IFERROR(INDEX(gymnasts, SMALL(IF(VALUE(LEFT(BB$32, 1))=vaultPos, ROW(vaultPos)-MIN(ROW(vaultPos))+1, \"\"), ROW()-4)), \"\")","v":"Demi Solan"},{"$f":"IFERROR( INDEX(entries, MATCH(BB5, gymnasts, 0), 2), \"\")","v":"SD"}]
[164,"Cora-Beth Martin","SD",{"v":4,"d":"4.0"},{"v":12.3,"d":"12.30"},{"v":0,"d":"0.0"},{"v":0,"d":"0.00"},{"v":12.3,"d":"12.30"},6,3,12.5,3,{"v":4,"d":"4.0"},{"v":12.2,"d":"12.20"},4,3,12.3,3,{"v":4,"d":"4.0"},{"v":11,"d":"11.00"},3,3,11,3,{"v":4,"d":"4.0"},10.65,4,3,11.2,2,{"v":4,"d":"4.0"},{"v":11.7,"d":"11.70"},6,3,12.4,3,{"v":57.849999999999994,"d":"57.85"},3,3,57.849999999999994,3,null,null,"Isabel Christmas",{"$f":"IFERROR( INDEX(entries, MATCH(AR6, gymnasts, 0), 2), \"\")","v":"Carlisle"},"",{"$f":"IFERROR( INDEX(entries, MATCH(AT6, gymnasts, 0), 2), \"\")","v":""},"Megan Sewell",{"$f":"IFERROR( INDEX(entries, MATCH(AV6, gymnasts, 0), 2), \"\")","v":"Tyneside"},"",{"$f":"IFERROR( INDEX(entries, MATCH(AX6, gymnasts, 0), 2), \"\")","v":""},"",{"$f":"IFERROR( INDEX(entries, MATCH(AZ6, gymnasts, 0), 2), \"\")","v":""},"",""]
[165,"Charlotte Scott","Carlisle",{"v":4,"d":"4.0"},11.75,{"v":0,"d":"0.0"},{"v":0,"d":"0.00"},11.75,9,4,12.4,4,{"v":4,"d":"4.0"},12.05,6,4,12.2,4,{"v":4,"d":"4.0"},{"v":9.8,"d":"9.80"},9,4,10.8,4,{"v":4,"d":"4.0"},9.65,8,4,10.75,3,{"v":4,"d":"4.0"},11.45,8,4,12.1,4,{"v":54.7,"d":"54.70"},10,4,57.8,4,null,null,"","","","","","","","","","","",""]
[166,"Ella Smith","Carlisle",{"v":4,"d":"4.0"},{"v":12,"d":"12.00"},{"v":0,"d":"0.0"},{"v":0,"d":"0.00"},{"v":12,"d":"12.00"},8,5,12.4,4,{"v":4,"d":"4.0"},10.75,11,5,12.15,5,{"v":4,"d":"4.0"},8.75,11,5,10.7,5,3.5,9.65,8,5,10.75,3,3.5,{"v":9.7,"d":"9.70"},12,5,11.85,5,{"v":50.849999999999994,"d":"50.85"},12,5,57.75,5,null,null,"","","","","","","","","","","",""]
[167,"Isabel Christmas","Carlisle",{"v":4,"d":"4.0"},{"v":12.3,"d":"12.30"},{"v":0,"d":"0.0"},{"v":0,"d":"0.00"},{"v":12.3,"d":"12.30"},6,6,12.35,5,{"v":4,"d":"4.0"},{"v":12.3,"d":"12.30"},3,6,12.05,6,{"v":4,"d":"4.0"},{"v":10,"d":"10.00"},8,6,10.45,6,{"v":4,"d":"4.0"},10.75,3,6,10.65,4,{"v":4,"d":"4.0"},{"v":12.4,"d":"12.40"},3,6,11.7,6,57.75,5,6,57.1,6,null,null,"","","","","","","","","","","",""]
[168,"Eleanor Carragher","Redcar",{"v":4,"d":"4.0"},{"v":12.5,"d":"12.50"},{"v":0,"d":"0.0"},{"v":0,"d":"0.00"},{"v":12.5,"d":"12.50"},3,7,12.3,6,{"v":4,"d":"4.0"},{"v":12.6,"d":"12.60"},1,7,11.95,7,{"v":4,"d":"4.0"},{"v":11.4,"d":"11.40"},2,7,10.2,7,{"v":4,"d":"4.0"},{"v":11.2,"d":"11.20"},2,7,10.6,5,{"v":4,"d":"4.0"},12.45,2,7,11.5,7,{"v":60.150000000000006,"d":"60.15"},1,7,56.8,7,null,null,"","","","","","","","","","","",""]
[169,"Faith Hampton","Redcar",{"v":0,"d":"0.0"},{"v":0,"d":"0.00"},{"v":0,"d":"0.0"},{"v":0,"d":"0.00"},{"v":0,"d":"0.00"},10,8,12.3,6,{"v":0,"d":"0.0"},{"v":0,"d":"0.00"},12,8,11.85,8,{"v":0,"d":"0.0"},{"v":0,"d":"0.00"},13,8,10,8,{"v":0,"d":"0.0"},{"v":0,"d":"0.00"},10,8,10,6,{"v":0,"d":"0.0"},{"v":0,"d":"0.00"},13,8,11.45,8,{"v":0,"d":"0.00"},13,8,55.949999999999996,8,null,null,"6th Place",{"$f":"IFERROR(INDEX(bars,MATCH(AR12,gymnasts,0)), \"\")","v":12.05},"5th Place",{"$f":"IFERROR(INDEX(bars,MATCH(AT12,gymnasts,0)), \"\")","v":12.15},"4th Place",{"$f":"IFERROR(INDEX(bars,MATCH(AV12,gymnasts,0)), \"\")","v":{"v":12.2,"d":"12.20"}},"3rd Place",{"$f":"IFERROR(INDEX(bars,MATCH(AX12,gymnasts,0)), \"\")","v":{"v":12.3,"d":"12.30"}},"2nd Place",{"$f":"IFERROR(INDEX(bars,MATCH(AZ12,gymnasts,0)), \"\")","v":{"v":12.5,"d":"12.50"}},"1st Place",{"$f":"IFERROR(INDEX(bars,MATCH(BB12,gymnasts,0)), \"\")","v":{"v":12.6,"d":"12.60"}}]
[170,"Jasmine Emolaga","Wansbeck",{"v":4,"d":"4.0"},{"v":12.4,"d":"12.40"},{"v":0,"d":"0.0"},{"v":0,"d":"0.00"},{"v":12.4,"d":"12.40"},4,9,12.25,7,{"v":4,"d":"4.0"},12.15,5,9,11.55,9,{"v":4,"d":"4.0"},{"v":11.5,"d":"11.50"},1,9,9.8,9,{"v":4,"d":"4.0"},{"v":10.6,"d":"10.60"},5,9,9.9,7,{"v":4,"d":"4.0"},{"v":12.1,"d":"12.10"},4,9,11.3,9,58.75,2,9,55.199999999999996,9,null,"Bars",{"$f":"IFERROR(INDEX(gymnasts, SMALL(IF(VALUE(LEFT(AR$32, 1))=BarPos, ROW(BarPos)-MIN(ROW(BarPos))+1, \"\"), ROW()-11)), \"\")","v":"Charlotte Scott"},{"$f":"IFERROR( INDEX(entries, MATCH(AR12, gymnasts, 0), 2), \"\")","v":"Carlisle"},{"$f":"IFERROR(INDEX(gymnasts, SMALL(IF(VALUE(LEFT(AT$32, 1))=BarPos, ROW(BarPos)-MIN(ROW(BarPos))+1, \"\"), ROW()-11)), \"\")","v":"Jasmine Emolaga"},{"$f":"IFERROR( INDEX(entries, MATCH(AT12, gymnasts, 0), 2), \"\")","v":"Wansbeck"},{"$f":"IFERROR(INDEX(gymnasts, SMALL(IF(VALUE(LEFT(AV$32, 1))=BarPos, ROW(BarPos)-MIN(ROW(BarPos))+1, \"\"), ROW()-11)), \"\")","v":"Cora-Beth Martin"},{"$f":"IFERROR( INDEX(entries, MATCH(AV12, gymnasts, 0), 2), \"\")","v":"SD"},{"$f":"IFERROR(INDEX(gymnasts, SMALL(IF(VALUE(LEFT(AX$32, 1))=BarPos, ROW(BarPos)-MIN(ROW(BarPos))+1, \"\"), ROW()-11)), \"\")","v":"Isabel Christmas"},{"$f":"IFERROR( INDEX(entries, MATCH(AX12, gymnasts, 0), 2), \"\")","v":"Carlisle"},{"$f":"IFERROR(INDEX(gymnasts, SMALL(IF(VALUE(LEFT(AZ$32, 1))=BarPos, ROW(BarPos)-MIN(ROW(BarPos))+1, \"\"), ROW()-11)), \"\")","v":"Demi Solan"},{"$f":"IFERROR( INDEX(entries, MATCH(AZ12, gymnasts, 0), 2), \"\")","v":"SD"},{"$f":"IFERROR(INDEX(gymnasts, SMALL(IF(VALUE(LEFT(BB$32, 1))=BarPos, ROW(BarPos)-MIN(ROW(BarPos))+1, \"\"), ROW()-11)), \"\")","v":"Eleanor Carragher"},{"$f":"IFERROR( INDEX(entries, MATCH(BB12, gymnasts, 0), 2), \"\")","v":"Redcar"}]
[171,"Megan Sewell","Tyneside",{"v":4,"d":"4.0"},{"v":12.4,"d":"12.40"},{"v":0,"d":"0.0"},{"v":0,"d":"0.00"},{"v":12.4,"d":"12.40"},4,10,12.25,7,{"v":4,"d":"4.0"},11.85,8,10,11.55,9,{"v":4,"d":"4.0"},7.75,12,10,9,10,{"v":4,"d":"4.0"},{"v":9.6,"d":"9.60"},9,10,9.65,8,3.5,11.25,10,10,11.25,10,52.85,11,10,54.7,10,null,null,"",{"$f":"IFERROR( INDEX(entries, MATCH(AR13, gymnasts, 0), 2), \"\")","v":""},"",{"$f":"IFERROR( INDEX(entries, MATCH(AT13, gymnasts, 0), 2), \"\")","v":""},"",{"$f":"IFERROR( INDEX(entries, MATCH(AV13, gymnasts, 0), 2), \"\")","v":""},"",{"$f":"IFERROR( INDEX(entries, MATCH(AX13, gymnasts, 0), 2), \"\")","v":""},"",{"$f":"IFERROR( INDEX(entries, MATCH(AZ13, gymnasts, 0), 2), \"\")","v":""},"",""]
[172,"Daisy Garnett ","Kendal",{"v":0,"d":"0.0"},{"v":0,"d":"0.00"},{"v":0,"d":"0.0"},{"v":0,"d":"0.00"},{"v":0,"d":"0.00"},10,11,12,8,{"v":0,"d":"0.0"},{"v":0,"d":"0.00"},12,11,11.1,10,{"v":0,"d":"0.0"},{"v":0,"d":"0.00"},13,11,8.75,11,{"v":0,"d":"0.0"},{"v":0,"d":"0.00"},10,11,9.65,8,{"v":0,"d":"0.0"},{"v":0,"d":"0.00"},13,11,10.6,11,{"v":0,"d":"0.00"},13,11,52.85,11,null,null,"","","","","","","","","","","",""]
[173,"Clara Spiby","Kendal",{"v":4,"d":"4.0"},12.25,{"v":0,"d":"0.0"},{"v":0,"d":"0.00"},12.25,7,12,11.75,9,{"v":4,"d":"4.0"},11.55,9,12,10.75,11,{"v":4,"d":"4.0"},{"v":10.2,"d":"10.20"},7,12,7.75,12,{"v":4,"d":"4.0"},11.25,1,12,9.6,9,3.5,11.85,5,12,9.7,12,{"v":57.1,"d":"57.10"},6,12,50.849999999999994,12,null,null,"","","","","","","","","","","",""]
[174,"Lucie Wylie","Hartlepool",{"v":4,"d":"4.0"},12.55,{"v":0,"d":"0.0"},{"v":0,"d":"0.00"},12.55,2,13,0,10,{"v":4,"d":"4.0"},11.95,7,13,0,12,3.5,{"v":10.8,"d":"10.80"},4,13,0,13,{"v":4,"d":"4.0"},{"v":11.2,"d":"11.20"},2,13,0,10,3.5,{"v":11.3,"d":"11.30"},9,13,0,13,{"v":57.8,"d":"57.80"},4,13,0,13,null,null,"","","","","","","","","","","",""]
[175,"Gabrielle Aird","Gymtopia",{"v":4,"d":"4.0"},12.25,{"v":0,"d":"0.0"},{"v":0,"d":"0.00"},12.25,7,14,0,10,{"v":4,"d":"4.0"},{"v":11.1,"d":"11.10"},10,14,0,12,{"v":4,"d":"4.0"},10.45,6,14,0,13,3.5,{"v":9.9,"d":"9.90"},7,14,0,10,3.5,{"v":11.5,"d":"11.50"},7,14,0,13,{"v":55.199999999999996,"d":"55.20"},9,14,0,13,null,null,"","","","","","","","","","","",""]
[{"$nulls":3},{"v":0,"d":"0.0"},{"v":0,"d":"0.00"},{"v":0,"d":"0.0"},{"v":0,"d":"0.00"},{"v":0,"d":"0.00"},10,15,0,10,{"v":0,"d":"0.0"},{"v":0,"d":"0.00"},12,15,0,12,{"v":0,"d":"0.0"},{"v":0,"d":"0.00"},13,15,0,13,{"v":0,"d":"0.0"},{"v":0,"d":"0.00"},10,15,0,10,{"v":0,"d":"0.0"},{"v":0,"d":"0.00"},13,15,0,13,{"v":0,"d":"0.00"},13,15,0,13,null,null,"6th Place",{"$f":"IFERROR(INDEX(beam,MATCH(AR19,gymnasts,0)), \"\")","v":10.45},"5th Place",{"$f":"IFERROR(INDEX(beam,MATCH(AT19,gymnasts,0)), \"\")","v":{"v":10.7,"d":"10.70"}},"4th Place",{"$f":"IFERROR(INDEX(beam,MATCH(AV19,gymnasts,0)), \"\")","v":{"v":10.8,"d":"10.80"}},"3rd Place",{"$f":"IFERROR(INDEX(beam,MATCH(AX19,gymnasts,0)), \"\")","v":{"v":11,"d":"11.00"}},"2nd Place",{"$f":"IFERROR(INDEX(beam,MATCH(AZ19,gymnasts,0)), \"\")","v":{"v":11.4,"d":"11.40"}},"1st Place",{"$f":"IFERROR(INDEX(beam,MATCH(BB19,gymnasts,0)), \"\")","v":{"v":11.5,"d":"11.50"}}]
[{"$nulls":3},{"v":0,"d":"0.0"},{"v":0,"d":"0.00"},{"v":0,"d":"0.0"},{"v":0,"d":"0.00"},{"v":0,"d":"0.00"},10,16,0,10,{"v":0,"d":"0.0"},{"v":0,"d":"0.00"},12,16,0,12,{"v":0,"d":"0.0"},{"v":0,"d":"0.00"},13,16,0,13,{"v":0,"d":"0.0"},{"v":0,"d":"0.00"},10,16,0,10,{"v":0,"d":"0.0"},{"v":0,"d":"0.00"},13,16,0,13,{"v":0,"d":"0.00"},13,16,0,13,null,"Beam",{"$f":"IFERROR(INDEX(gymnasts, SMALL(IF(VALUE(LEFT(AR$32, 1))=BeamPos, ROW(BeamPos)-MIN(ROW(BeamPos))+1, \"\"), ROW()-18)), \"\")","v":"Gabrielle Aird"},{"$f":"IFERROR( INDEX(entries, MATCH(AR19, gymnasts, 0), 2), \"\")","v":"Gymtopia"},{"$f":"IFERROR(INDEX(gymnasts, SMALL(IF(VALUE(LEFT(AT$32, 1))=BeamPos, ROW(BeamPos)-MIN(ROW(BeamPos))+1, \"\"), ROW()-18)), \"\")","v":"Elise Blanckley"},{"$f":"IFERROR( INDEX(entries, MATCH(AT19, gymnasts, 0), 2), \"\")","v":"SD"},{"$f":"IFERROR(INDEX(gymnasts, SMALL(IF(VALUE(LEFT(AV$32, 1))=BeamPos, ROW(BeamPos)-MIN(ROW(BeamPos))+1, \"\"), ROW()-18)), \"\")","v":"Lucie Wylie"},{"$f":"IFERROR( INDEX(entries, MATCH(AV19, gymnasts, 0), 2), \"\")","v":"Hartlepool"},{"$f":"IFERROR(INDEX(gymnasts, SMALL(IF(VALUE(LEFT(AX$32, 1))=BeamPos, ROW(BeamPos)-MIN(ROW(BeamPos))+1, \"\"), ROW()-18)), \"\")","v":"Cora-Beth Martin"},{"$f":"IFERROR( INDEX(entries, MATCH(AX19, gymnasts, 0), 2), \"\")","v":"SD"},{"$f":"IFERROR(INDEX(gymnasts, SMALL(IF(VALUE(LEFT(AZ$32, 1))=BeamPos, ROW(BeamPos)-MIN(ROW(BeamPos))+1, \"\"), ROW()-18)), \"\")","v":"Eleanor Carragher"},{"$f":"IFERROR( INDEX(entries, MATCH(AZ19, gymnasts, 0), 2), \"\")","v":"Redcar"},{"$f":"IFERROR(INDEX(gymnasts, SMALL(IF(VALUE(LEFT(BB$32, 1))=BeamPos, ROW(BeamPos)-MIN(ROW(BeamPos))+1, \"\"), ROW()-18)), \"\")","v":"Jasmine Emolaga"},{"$f":"IFERROR( INDEX(entries, MATCH(BB19, gymnasts, 0), 2), \"\")","v":"Wansbeck"}]
[{"$nulls":3},{"v":0,"d":"0.0"},{"v":0,"d":"0.00"},{"v":0,"d":"0.0"},{"v":0,"d":"0.00"},{"v":0,"d":"0.00"},10,17,0,10,{"v":0,"d":"0.0"},{"v":0,"d":"0.00"},12,17,0,12,{"v":0,"d":"0.0"},{"v":0,"d":"0.00"},13,17,0,13,{"v":0,"d":"0.0"},{"v":0,"d":"0.00"},10,17,0,10,{"v":0,"d":"0.0"},{"v":0,"d":"0.00"},13,17,0,13,{"v":0,"d":"0.00"},13,17,0,13,null,null,"",{"$f":"IFERROR( INDEX(entries, MATCH(AR20, gymnasts, 0), 2), \"\")","v":""},"",{"$f":"IFERROR( INDEX(entries, MATCH(AT20, gymnasts, 0), 2), \"\")","v":""},"",{"$f":"IFERROR( INDEX(entries, MATCH(AV20, gymnasts, 0), 2), \"\")","v":""},"",{"$f":"IFERROR( INDEX(entries, MATCH(AX20, gymnasts, 0), 2), \"\")","v":""},"",{"$f":"IFERROR( INDEX(entries, MATCH(AZ20, gymnasts, 0), 2), \"\")","v":""},"",""]
[{"$nulls":3},{"v":0,"d":"0.0"},{"v":0,"d":"0.00"},{"v":0,"d":"0.0"},{"v":0,"d":"0.00"},{"v":0,"d":"0.00"},10,18,0,10,{"v":0,"d":"0.0"},{"v":0,"d":"0.00"},12,18,0,12,{"v":0,"d":"0.0"},{"v":0,"d":"0.00"},13,18,0,13,{"v":0,"d":"0.0"},{"v":0,"d":"0.00"},10,18,0,10,{"v":0,"d":"0.0"},{"v":0,"d":"0.00"},13,18,0,13,{"v":0,"d":"0.00"},13,18,0,13,null,null,"","","","","","","","","","","",""]
[{"$nulls":3},{"v":0,"d":"0.0"},{"v":0,"d":"0.00"},{"v":0,"d":"0.0"},{"v":0,"d":"0.00"},{"v":0,"d":"0.00"},10,19,0,10,{"v":0,"d":"0.0"},{"v":0,"d":"0.00"},12,19,0,12,{"v":0,"d":"0.0"},{"v":0,"d":"0.00"},13,19,0,13,{"v":0,"d":"0.0"},{"v":0,"d":"0.00"},10,19,0,10,{"v":0,"d":"0.0"},{"v":0,"d":"0.00"},13,19,0,13,{"v":0,"d":"0.00"},13,19,0,13,null,null,"","","","","","","","","","","",""]
[{"$nulls":3},{"v":0,"d":"0.0"},{"v":0,"d":"0.00"},{"v":0,"d":"0.0"},{"v":0,"d":"0.00"},{"v":0,"d":"0.00"},10,20,0,10,{"v":0,"d":"0.0"},{"v":0,"d":"0.00"},12,20,0,12,{"v":0,"d":"0.0"},{"v":0,"d":"0.00"},13,20,0,13,{"v":0,"d":"0.0"},{"v":0,"d":"0.00"},10,20,0,10,{"v":0,"d":"0.0"},{"v":0,"d":"0.00"},13,20,0,13,{"v":0,"d":"0.00"},13,20,0,13,null,null,"","","","","","","","","","","",""]
[{"$nulls":3},{"v":0,"d":"0.0"},{"v":0,"d":"0.00"},{"v":0,"d":"0.0"},{"v":0,"d":"0.00"},{"v":0,"d":"0.00"},10,21,0,10,{"v":0,"d":"0.0"},{"v":0,"d":"0.00"},12,21,0,12,{"v":0,"d":"0.0"},{"v":0,"d":"0.00"},13,21,0,13,{"v":0,"d":"0.0"},{"v":0,"d":"0.00"},10,21,0,10,{"v":0,"d":"0.0"},{"v":0,"d":"0.00"},13,21,0,13,{"v":0,"d":"0.00"},13,21,0,13,null,null,"","","","","","","","","","","",""]
[{"$nulls":3},{"v":0,"d":"0.0"},{"v":0,"d":"0.00"},{"v":0,"d":"0.0"},{"v":0,"d":"0.00"},{"v":0,"d":"0.00"},10,22,0,10,{"v":0,"d":"0.0"},{"v":0,"d":"0.00"},12,22,0,12,{"v":0,"d":"0.0"},{"v":0,"d":"0.00"},13,22,0,13,{"v":0,"d":"0.0"},{"v":0,"d":"0.00"},10,22,0,10,{"v":0,"d":"0.0"},{"v":0,"d":"0.00"},13,22,0,13,{"v":0,"d":"0.00"},13,22,0,13,null,null,"6th Place",{"$f":"IFERROR(INDEX(floor,MATCH(AR26,gymnasts,0)), \"\")","v":{"v":10,"d":"10.00"}},"5th Place",{"$f":"IFERROR(INDEX(floor,MATCH(AT26,gymnasts,0)), \"\")","v":{"v":10.6,"d":"10.60"}},"4th Place",{"$f":"IFERROR(INDEX(floor,MATCH(AV26,gymnasts,0)), \"\")","v":10.65},"3rd Place",{"$f":"IFERROR(INDEX(floor,MATCH(AX26,gymnasts,0)), \"\")","v":10.75},"2nd Place",{"$f":"IFERROR(INDEX(floor,MATCH(AZ26,gymnasts,0)), \"\")","v":{"v":11.2,"d":"11.20"}},"1st Place",{"$f":"IFERROR(INDEX(floor,MATCH(BB26,gymnasts,0)), \"\")","v":11.25}]
[{"$nulls":3},{"v":0,"d":"0.0"},{"v":0,"d":"0.00"},{"v":0,"d":"0.0"},{"v":0,"d":"0.00"},{"v":0,"d":"0.00"},10,23,0,10,{"v":0,"d":"0.0"},{"v":0,"d":"0.00"},12,23,0,12,{"v":0,"d":"0.0"},{"v":0,"d":"0.00"},13,23,0,13,{"v":0,"d":"0.0"},{"v":0,"d":"0.00"},10,23,0,10,{"v":0,"d":"0.0"},{"v":0,"d":"0.00"},13,23,0,13,{"v":0,"d":"0.00"},13,23,0,13,null,"Floor",{"$f":"IFERROR(INDEX(gymnasts, SMALL(IF(VALUE(LEFT(AR$32, 1))=FloorPos, ROW(FloorPos)-MIN(ROW(FloorPos))+1, \"\"), ROW()-25)), \"\")","v":"Demi Solan"},{"$f":"IFERROR( INDEX(entries, MATCH(AR26, gymnasts, 0), 2), \"\")","v":"SD"},{"$f":"IFERROR(INDEX(gymnasts, SMALL(IF(VALUE(LEFT(AT$32, 1))=FloorPos, ROW(FloorPos)-MIN(ROW(FloorPos))+1, \"\"), ROW()-25)), \"\")","v":"Jasmine Emolaga"},{"$f":"IFERROR( INDEX(entries, MATCH(AT26, gymnasts, 0), 2), \"\")","v":"Wansbeck"},{"$f":"IFERROR(INDEX(gymnasts, SMALL(IF(VALUE(LEFT(AV$32, 1))=FloorPos, ROW(FloorPos)-MIN(ROW(FloorPos))+1, \"\"), ROW()-25)), \"\")","v":"Cora-Beth Martin"},{"$f":"IFERROR( INDEX(entries, MATCH(AV26, gymnasts, 0), 2), \"\")","v":"SD"},{"$f":"IFERROR(INDEX(gymnasts, SMALL(IF(VALUE(LEFT(AX$32, 1))=FloorPos, ROW(FloorPos)-MIN(ROW(FloorPos))+1, \"\"), ROW()-25)), \"\")","v":"Elise Blanckley"},{"$f":"IFERROR( INDEX(entries, MATCH(AX26, gymnasts, 0), 2), \"\")","v":"SD"},{"$f":"IFERROR(INDEX(gymnasts, SMALL(IF(VALUE(LEFT(AZ$32, 1))=FloorPos, ROW(FloorPos)-MIN(ROW(FloorPos))+1, \"\"), ROW()-25)), \"\")","v":"Eleanor Carragher"},{"$f":"IFERROR( INDEX(entries, MATCH(AZ26, gymnasts, 0), 2), \"\")","v":"Redcar"},{"$f":"IFERROR(INDEX(gymnasts, SMALL(IF(VALUE(LEFT(BB$32, 1))=FloorPos, ROW(FloorPos)-MIN(ROW(FloorPos))+1, \"\"), ROW()-25)), \"\")","v":"Clara Spiby"},{"$f":"IFERROR( INDEX(entries, MATCH(BB26, gymnasts, 0), 2), \"\")","v":"Kendal"}]
[{"$nulls":3},{"v":0,"d":"0.0"},{"v":0,"d":"0.00"},{"v":0,"d":"0.0"},{"v":0,"d":"0.00"},{"v":0,"d":"0.00"},10,24,0,10,{"v":0,"d":"0.0"},{"v":0,"d":"0.00"},12,24,0,12,{"v":0,"d":"0.0"},{"v":0,"d":"0.00"},13,24,0,13,{"v":0,"d":"0.0"},{"v":0,"d":"0.00"},10,24,0,10,{"v":0,"d":"0.0"},{"v":0,"d":"0.00"},13,24,0,13,{"v":0,"d":"0.00"},13,24,0,13,null,null,"",{"$f":"IFERROR( INDEX(entries, MATCH(AR27, gymnasts, 0), 2), \"\")","v":""},"",{"$f":"IFERROR( INDEX(entries, MATCH(AT27, gymnasts, 0), 2), \"\")","v":""},"",{"$f":"IFERROR( INDEX(entries, MATCH(AV27, gymnasts, 0), 2), \"\")","v":""},"Isabel Christmas",{"$f":"IFERROR( INDEX(entries, MATCH(AX27, gymnasts, 0), 2), \"\")","v":"Carlisle"},"Lucie Wylie",{"$f":"IFERROR( INDEX(entries, MATCH(AZ27, gymnasts, 0), 2), \"\")","v":"Hartlepool"},"",""]
[{"$nulls":3},{"v":0,"d":"0.0"},{"v":0,"d":"0.00"},{"v":0,"d":"0.0"},{"v":0,"d":"0.00"},{"v":0,"d":"0.00"},10,25,0,10,{"v":0,"d":"0.0"},{"v":0,"d":"0.00"},12,25,0,12,{"v":0,"d":"0.0"},{"v":0,"d":"0.00"},13,25,0,13,{"v":0,"d":"0.0"},{"v":0,"d":"0.00"},10,25,0,10,{"v":0,"d":"0.0"},{"v":0,"d":"0.00"},13,25,0,13,{"v":0,"d":"0.00"},13,25,0,13,null,null,"","","","","","","","","","","",""]
[{"$nulls":3},{"v":0,"d":"0.0"},{"v":0,"d":"0.00"},{"v":0,"d":"0.0"},{"v":0,"d":"0.00"},{"v":0,"d":"0.00"},10,26,0,10,{"v":0,"d":"0.0"},{"v":0,"d":"0.00"},12,26,0,12,{"v":0,"d":"0.0"},{"v":0,"d":"0.00"},13,26,0,13,{"v":0,"d":"0.0"},{"v":0,"d":"0.00"},10,26,0,10,{"v":0,"d":"0.0"},{"v":0,"d":"0.00"},13,26,0,13,{"v":0,"d":"0.00"},13,26,0,13,null,null,"","","","","","","","","","","",""]
[{"$nulls":3},{"v":0,"d":"0.0"},{"v":0,"d":"0.00"},{"v":0,"d":"0.0"},{"v":0,"d":"0.00"},{"v":0,"d":"0.00"},10,27,0,10,{"v":0,"d":"0.0"},{"v":0,"d":"0.00"},12,27,0,12,{"v":0,"d":"0.0"},{"v":0,"d":"0.00"},13,27,0,13,{"v":0,"d":"0.0"},{"v":0,"d":"0.00"},10,27,0,10,{"v":0,"d":"0.0"},{"v":0,"d":"0.00"},13,27,0,13,{"v":0,"d":"0.00"},13,27,0,13,null,null,"","","","","","","","","","","",""]
[{"$nulls":3},{"v":0,"d":"0.0"},{"v":0,"d":"0.00"},{"v":0,"d":"0.0"},{"v":0,"d":"0.00"},{"v":0,"d":"0.00"},10,28,0,10,{"v":0,"d":"0.0"},{"v":0,"d":"0.00"},12,28,0,12,{"v":0,"d":"0.0"},{"v":0,"d":"0.00"},13,28,0,13,{"v":0,"d":"0.0"},{"v":0,"d":"0.00"},10,28,0,10,{"v":0,"d":"0.0"},{"v":0,"d":"0.00"},13,28,0,13,{"v":0,"d":"0.00"},13,28,0,13,null,null,"","","","","","","","","","","",""]
[{"$nulls":3},{"v":0,"d":"0.0"},{"v":0,"d":"0.00"},{"v":0,"d":"0.0"},{"v":0,"d":"0.00"},{"v":0,"d":"0.00"},10,29,0,10,{"v":0,"d":"0.0"},{"v":0,"d":"0.00"},12,29,0,12,{"v":0,"d":"0.0"},{"v":0,"d":"0.00"},13,29,0,13,{"v":0,"d":"0.0"},{"v":0,"d":"0.00"},10,29,0,10,{"v":0,"d":"0.0"},{"v":0,"d":"0.00"},13,29,0,13,{"v":0,"d":"0.00"},13,29,0,13,null,null,"6th Place",{"$f":"IFERROR(INDEX(range,MATCH(AR33,gymnasts,0)), \"\")","v":{"v":11.7,"d":"11.70"}},"5th Place",{"$f":"IFERROR(INDEX(range,MATCH(AT33,gymnasts,0)), \"\")","v":11.85},"4th Place",{"$f":"IFERROR(INDEX(range,MATCH(AV33,gymnasts,0)), \"\")","v":{"v":12.1,"d":"12.10"}},"3rd Place",{"$f":"IFERROR(INDEX(range,MATCH(AX33,gymnasts,0)), \"\")","v":{"v":12.4,"d":"12.40"}},"2nd Place",{"$f":"IFERROR(INDEX(range,MATCH(AZ33,gymnasts,0)), \"\")","v":12.45},"1st Place",{"$f":"IFERROR(INDEX(range,MATCH(BB33,gymnasts,0)), \"\")","v":{"v":12.7,"d":"12.70"}}]
[{"$nulls":3},{"v":0,"d":"0.0"},{"v":0,"d":"0.00"},{"v":0,"d":"0.0"},{"v":0,"d":"0.00"},{"v":0,"d":"0.00"},10,30,0,10,{"v":0,"d":"0.0"},{"v":0,"d":"0.00"},12,30,0,12,{"v":0,"d":"0.0"},{"v":0,"d":"0.00"},13,30,0,13,{"v":0,"d":"0.0"},{"v":0,"d":"0.00"},10,30,0,10,{"v":0,"d":"0.0"},{"v":0,"d":"0.00"},13,30,0,13,{"v":0,"d":"0.00"},13,30,0,13,null,"Range",{"$f":"IFERROR(INDEX(gymnasts, SMALL(IF(VALUE(LEFT(AR$32, 1))=RangePos, ROW(RangePos)-MIN(ROW(RangePos))+1, \"\"), ROW()-32)), \"\")","v":"Cora-Beth Martin"},{"$f":"IFERROR( INDEX(entries, MATCH(AR33, gymnasts, 0), 2), \"\")","v":"SD"},{"$f":"IFERROR(INDEX(gymnasts, SMALL(IF(VALUE(LEFT(AT$32, 1))=RangePos, ROW(RangePos)-MIN(ROW(RangePos))+1, \"\"), ROW()-32)), \"\")","v":"Clara Spiby"},{"$f":"IFERROR( INDEX(entries, MATCH(AT33, gymnasts, 0), 2), \"\")","v":"Kendal"},{"$f":"IFERROR(INDEX(gymnasts, SMALL(IF(VALUE(LEFT(AV$32, 1))=RangePos, ROW(RangePos)-MIN(ROW(RangePos))+1, \"\"), ROW()-32)), \"\")","v":"Jasmine Emolaga"},{"$f":"IFERROR( INDEX(entries, MATCH(AV33, gymnasts, 0), 2), \"\")","v":"Wansbeck"},{"$f":"IFERROR(INDEX(gymnasts, SMALL(IF(VALUE(LEFT(AX$32, 1))=RangePos, ROW(RangePos)-MIN(ROW(RangePos))+1, \"\"), ROW()-32)), \"\")","v":"Isabel Christmas"},{"$f":"IFERROR( INDEX(entries, MATCH(AX33, gymnasts, 0), 2), \"\")","v":"Carlisle"},{"$f":"IFERROR(INDEX(gymnasts, SMALL(IF(VALUE(LEFT(AZ$32, 1))=RangePos, ROW(RangePos)-MIN(ROW(RangePos))+1, \"\"), ROW()-32)), \"\")","v":"Eleanor Carragher"},{"$f":"IFERROR( INDEX(entries, MATCH(AZ33, gymnasts, 0), 2), \"\")","v":"Redcar"},{"$f":"IFERROR(INDEX(gymnasts, SMALL(IF(VALUE(LEFT(BB$32, 1))=RangePos, ROW(RangePos)-MIN(ROW(RangePos))+1, \"\"), ROW()-32)), \"\")","v":"Demi Solan"},{"$f":"IFERROR( INDEX(entries, MATCH(BB33, gymnasts, 0), 2), \"\")","v":"SD"}]
[{"$nulls":3},{"v":0,"d":"0.0"},{"v":0,"d":"0.00"},{"v":0,"d":"0.0"},{"v":0,"d":"0.00"},{"v":0,"d":"0.00"},10,31,0,10,{"v":0,"d":"0.0"},{"v":0,"d":"0.00"},12,31,0,12,{"v":0,"d":"0.0"},{"v":0,"d":"0.00"},13,31,0,13,{"v":0,"d":"0.0"},{"v":0,"d":"0.00"},10,31,0,10,{"v":0,"d":"0.0"},{"v":0,"d":"0.00"},13,31,0,13,{"v":0,"d":"0.00"},13,31,0,13,null,null,"",{"$f":"IFERROR( INDEX(entries, MATCH(AR34, gymnasts, 0), 2), \"\")","v":""},"",{"$f":"IFERROR( INDEX(entries, MATCH(AT34, gymnasts, 0), 2), \"\")","v":""},"",{"$f":"IFERROR( INDEX(entries, MATCH(AV34, gymnasts, 0), 2), \"\")","v":""},"",{"$f":"IFERROR( INDEX(entries, MATCH(AX34, gymnasts, 0), 2), \"\")","v":""},"",{"$f":"IFERROR( INDEX(entries, MATCH(AZ34, gymnasts, 0), 2), \"\")","v":""},"",""]
[{"$nulls":3},{"v":0,"d":"0.0"},{"v":0,"d":"0.00"},{"v":0,"d":"0.0"},{"v":0,"d":"0.00"},{"v":0,"d":"0.00"},10,32,0,10,{"v":0,"d":"0.0"},{"v":0,"d":"0.00"},12,32,0,12,{"v":0,"d":"0.0"},{"v":0,"d":"0.00"},13,32,0,13,{"v":0,"d":"0.0"},{"v":0,"d":"0.00"},10,32,0,10,{"v":0,"d":"0.0"},{"v":0,"d":"0.00"},13,32,0,13,{"v":0,"d":"0.00"},13,32,0,13,null,null,"","","","","","","","","","","",""]
[{"$nulls":3},{"v":0,"d":"0.0"},{"v":0,"d":"0.00"},{"v":0,"d":"0.0"},{"v":0,"d":"0.00"},{"v":0,"d":"0.00"},10,33,0,10,{"v":0,"d":"0.0"},{"v":0,"d":"0.00"},12,33,0,12,{"v":0,"d":"0.0"},{"v":0,"d":"0.00"},13,33,0,13,{"v":0,"d":"0.0"},{"v":0,"d":"0.00"},10,33,0,10,{"v":0,"d":"0.0"},{"v":0,"d":"0.00"},13,33,0,13,{"$f":"SUMIF(D$2:AJ$2, \"SCORE\", D36:AJ36)","v":{"v":0,"d":"0.00"}},13,33,0,13,null,null,"","","","","","","","","","","",""]
[{"$nulls":3},{"v":0,"d":"0.0"},{"v":0,"d":"0.00"},{"v":0,"d":"0.0"},{"v":0,"d":"0.00"},{"v":0,"d":"0.00"},10,34,0,10,{"v":0,"d":"0.0"},{"v":0,"d":"0.00"},12,34,0,12,{"v":0,"d":"0.0"},{"v":0,"d":"0.00"},13,34,0,13,{"v":0,"d":"0.0"},{"v":0,"d":"0.00"},10,34,0,10,{"v":0,"d":"0.0"},{"v":0,"d":"0.00"},13,34,0,13,{"v":0,"d":"0.00"},13,34,0,13,null,null,"","","","","","","","","","","",""]
[{"$nulls":3},{"v":0,"d":"0.0"},{"v":0,"d":"0.00"},{"v":0,"d":"0.0"},{"v":0,"d":"0.00"},{"v":0,"d":"0.00"},10,35,0,10,{"v":0,"d":"0.0"},{"v":0,"d":"0.00"},12,35,0,12,{"v":0,"d":"0.0"},{"v":0,"d":"0.00"},13,35,0,13,{"v":0,"d":"0.0"},{"v":0,"d":"0.00"},10,35,0,10,{"v":0,"d":"0.0"},{"v":0,"d":"0.00"},13,35,0,13,{"v":0,"d":"0.00"},13,35,0,13,null,null,"","","","","","","","","","","",""]
[{"$nulls":3},{"v":0,"d":"0.0"},{"v":0,"d":"0.00"},{"v":0,"d":"0.0"},{"v":0,"d":"0.00"},{"v":0,"d":"0.00"},10,36,0,10,{"v":0,"d":"0.0"},{"v":0,"d":"0.00"},12,36,0,12,{"v":0,"d":"0.0"},{"v":0,"d":"0.00"},13,36,0,13,{"v":0,"d":"0.0"},{"v":0,"d":"0.00"},10,36,0,10,{"v":0,"d":"0.0"},{"v":0,"d":"0.00"},13,36,0,13,{"v":0,"d":"0.00"},13,36,0,13,null,null,"6th Place",{"$f":"IFERROR(INDEX(AAscores,MATCH(AR40,gymnasts,0)), \"\")","v":{"v":57.1,"d":"57.10"}},"5th Place",{"$f":"IFERROR(INDEX(AAscores,MATCH(AT40,gymnasts,0)), \"\")","v":57.75},"4th Place",{"$f":"IFERROR(INDEX(AAscores,MATCH(AV40,gymnasts,0)), \"\")","v":{"v":57.8,"d":"57.80"}},"3rd Place",{"$f":"IFERROR(INDEX(AAscores,MATCH(AX40,gymnasts,0)), \"\")","v":{"v":57.849999999999994,"d":"57.85"}},"2nd Place",{"$f":"IFERROR(INDEX(AAscores,MATCH(AZ40,gymnasts,0)), \"\")","v":58.75},"1st Place",{"$f":"IFERROR(INDEX(AAscores,MATCH(BB40,gymnasts,0)), \"\")","v":{"v":60.150000000000006,"d":"60.15"}}]
[{"$nulls":3},{"v":0,"d":"0.0"},{"v":0,"d":"0.00"},{"v":0,"d":"0.0"},{"v":0,"d":"0.00"},{"v":0,"d":"0.00"},10,37,0,10,{"v":0,"d":"0.0"},{"v":0,"d":"0.00"},12,37,0,12,{"v":0,"d":"0.0"},{"v":0,"d":"0.00"},13,37,0,13,{"v":0,"d":"0.0"},{"v":0,"d":"0.00"},10,37,0,10,{"v":0,"d":"0.0"},{"v":0,"d":"0.00"},13,37,0,13,{"v":0,"d":"0.00"},13,37,0,13,null,"AA",{"$f":"IFERROR(INDEX(gymnasts, SMALL(IF(VALUE(LEFT(AR$39, 1))=AApos, ROW(AApos)-MIN(ROW(AApos))+1, \"\"), ROW()-39)), \"\")","v":"Clara Spiby"},{"$f":"IFERROR( INDEX(entries, MATCH(AR40, gymnasts, 0), 2), \"\")","v":"Kendal"},{"$f":"IFERROR(INDEX(gymnasts, SMALL(IF(VALUE(LEFT(AT$39, 1))=AApos, ROW(AApos)-MIN(ROW(AApos))+1, \"\"), ROW()-39)), \"\")","v":"Isabel Christmas"},{"$f":"IFERROR( INDEX(entries, MATCH(AT40, gymnasts, 0), 2), \"\")","v":"Carlisle"},{"$f":"IFERROR(INDEX(gymnasts, SMALL(IF(VALUE(LEFT(AV$39, 1))=AApos, ROW(AApos)-MIN(ROW(AApos))+1, \"\"), ROW()-39)), \"\")","v":"Lucie Wylie"},{"$f":"IFERROR( INDEX(entries, MATCH(AV40, gymnasts, 0), 2), \"\")","v":"Hartlepool"},{"$f":"IFERROR(INDEX(gymnasts, SMALL(IF(VALUE(LEFT(AX$39, 1))=AApos, ROW(AApos)-MIN(ROW(AApos))+1, \"\"), ROW()-39)), \"\")","v":"Cora-Beth Martin"},{"$f":"IFERROR( INDEX(entries, MATCH(AX40, gymnasts, 0), 2), \"\")","v":"SD"},{"$f":"IFERROR(INDEX(gymnasts, SMALL(IF(VALUE(LEFT(AZ$39, 1))=AApos, ROW(AApos)-MIN(ROW(AApos))+1, \"\"), ROW()-39)), \"\")","v":"Jasmine Emolaga"},{"$f":"IFERROR( INDEX(entries, MATCH(AZ40, gymnasts, 0), 2), \"\")","v":"Wansbeck"},{"$f":"IFERROR(INDEX(gymnasts, SMALL(IF(VALUE(LEFT(BB$39, 1))=AApos, ROW(AApos)-MIN(ROW(AApos))+1, \"\"), ROW()-39)), \"\")","v":"Eleanor Carragher"},{"$f":"IFERROR( INDEX(entries, MATCH(BB40, gymnasts, 0), 2), \"\")","v":"Redcar"}]
[{"$nulls":3},{"v":0,"d":"0.0"},{"v":0,"d":"0.00"},{"v":0,"d":"0.0"},{"v":0,"d":"0.00"},{"v":0,"d":"0.00"},10,38,0,10,{"v":0,"d":"0.0"},{"v":0,"d":"0.00"},12,38,0,12,{"v":0,"d":"0.0"},{"v":0,"d":"0.00"},13,38,0,13,{"v":0,"d":"0.0"},{"v":0,"d":"0.00"},10,38,0,10,{"v":0,"d":"0.0"},{"v":0,"d":"0.00"},13,38,0,13,{"v":0,"d":"0.00"},13,38,0,13,null,null,"","","","","","","","","","","",""]
[{"$nulls":3},{"v":0,"d":"0.0"},{"v":0,"d":"0.00"},{"v":0,"d":"0.0"},{"v":0,"d":"0.00"},{"v":0,"d":"0.00"},10,39,0,10,{"v":0,"d":"0.0"},{"v":0,"d":"0.00"},12,39,0,12,{"v":0,"d":"0.0"},{"v":0,"d":"0.00"},13,39,0,13,{"v":0,"d":"0.0"},{"v":0,"d":"0.00"},10,39,0,10,{"v":0,"d":"0.0"},{"v":0,"d":"0.00"},13,39,0,13,{"v":0,"d":"0.00"},13,39,0,13,null,null,"","","","","","","","","","","",""]
[{"$nulls":3},{"v":0,"d":"0.0"},{"v":0,"d":"0.00"},{"v":0,"d":"0.0"},{"v":0,"d":"0.00"},{"v":0,"d":"0.00"},10,40,0,10,{"v":0,"d":"0.0"},{"v":0,"d":"0.00"},12,40,0,12,{"v":0,"d":"0.0"},{"v":0,"d":"0.00"},13,40,0,13,{"v":0,"d":"0.0"},{"v":0,"d":"0.00"},10,40,0,10,{"v":0,"d":"0.0"},{"v":0,"d":"0.00"},13,40,0,13,{"v":0,"d":"0.00"},13,40,0,13,null,null,"","","","","","","","","","","",""]
[{"$nulls":3},{"v":0,"d":"0.0"},{"v":0,"d":"0.00"},{"v":0,"d":"0.0"},{"v":0,"d":"0.00"},{"v":0,"d":"0.00"},10,41,0,10,{"v":0,"d":"0.0"},{"v":0,"d":"0.00"},12,41,0,12,{"v":0,"d":"0.0"},{"v":0,"d":"0.00"},13,41,0,13,{"v":0,"d":"0.0"},{"v":0,"d":"0.00"},10,41,0,10,{"v":0,"d":"0.0"},{"v":0,"d":"0.00"},13,41,0,13,{"v":0,"d":"0.00"},13,41,0,13,null,null,"","","","","","","","","","","",""]
[{"$nulls":3},{"v":0,"d":"0.0"},{"v":0,"d":"0.00"},{"v":0,"d":"0.0"},{"v":0,"d":"0.00"},{"v":0,"d":"0.00"},10,42,0,10,{"v":0,"d":"0.0"},{"v":0,"d":"0.00"},12,42,0,12,{"v":0,"d":"0.0"},{"v":0,"d":"0.00"},13,42,0,13,{"v":0,"d":"0.0"},{"v":0,"d":"0.00"},10,42,0,10,{"v":0,"d":"0.0"},{"v":0,"d":"0.00"},13,42,0,13,{"v":0,"d":"0.00"},13,42,0,13,null,null,"","","","","","","","","","","",""]
[{"$nulls":3},{"v":0,"d":"0.0"},{"v":0,"d":"0.00"},{"v":0,"d":"0.0"},{"v":0,"d":"0.00"},{"v":0,"d":"0.00"},10,43,0,10,{"v":0,"d":"0.0"},{"v":0,"d":"0.00"},12,43,0,12,{"v":0,"d":"0.0"},{"v":0,"d":"0.00"},13,43,0,13,{"v":0,"d":"0.0"},{"v":0,"d":"0.00"},10,43,0,10,{"v":0,"d":"0.0"},{"v":0,"d":"0.00"},13,43,0,13,{"v":0,"d":"0.00"},13,43,0,13,null,"Team","3rd place Team",{"$f":"IF(COUNTIF(AR47, 0), \"\", INDEX(teamTotals, MATCH(AR47, teams, 0)))","v":""},null,null,"2nd Place Team",{"$f":"IF(COUNTIF(AV47, 0), \"\", INDEX(teamTotals, MATCH(AV47, teams, 0)))","v":{"v":163.3,"d":"163.30"}},null,null,"1st Place Team",{"$f":"IF(COUNTIF(AZ47, 0), \"\", INDEX(teamTotals, MATCH(AZ47, teams, 0)))","v":{"v":170.6,"d":"170.60"}}]
[{"$nulls":3},{"v":0,"d":"0.0"},{"v":0,"d":"0.00"},{"v":0,"d":"0.0"},{"v":0,"d":"0.00"},{"v":0,"d":"0.00"},10,44,0,10,{"v":0,"d":"0.0"},{"v":0,"d":"0.00"},12,44,0,12,{"v":0,"d":"0.0"},{"v":0,"d":"0.00"},13,44,0,13,{"v":0,"d":"0.0"},{"v":0,"d":"0.00"},10,44,0,10,{"v":0,"d":"0.0"},{"v":0,"d":"0.00"},13,44,0,13,{"v":0,"d":"0.00"},13,44,0,13,null,null,{"$f":"IFERROR(INDEX(teams, SMALL(IF(VALUE(LEFT(AR$46, 1))=teamPos, ROW(teamPos)-MIN(ROW(teamPos))+1, \"\"), ROW()-46)), \"\")","v":0},{"$f":"IFERROR(IF(COUNTIF(AR47, 0), \"\", INDEX(gymnasts, SMALL(IF(AR$47=club, ROW(club)-MIN(ROW(club))+1, \"\"), ROW()-46))), \"\")","v":""},null,null,{"$f":"IFERROR(INDEX(teams, SMALL(IF(VALUE(LEFT(AV$46, 1))=teamPos, ROW(teamPos)-MIN(ROW(teamPos))+1, \"\"), ROW()-46)), \"\")","v":"Carlisle"},{"$f":"IFERROR(IF(COUNTIF(AV47, 0), \"\", INDEX(gymnasts, SMALL(IF(AV$47=club, ROW(club)-MIN(ROW(club))+1, \"\"), ROW()-46))), \"\")","v":"Charlotte Scott"},null,null,{"$f":"IFERROR(INDEX(teams, SMALL(IF(VALUE(LEFT(AZ$46, 1))=teamPos, ROW(teamPos)-MIN(ROW(teamPos))+1, \"\"), ROW()-46)), \"\")","v":"SD"},{"$f":"IFERROR(IF(COUNTIF(AZ47, 0), \"\", INDEX(gymnasts, SMALL(IF(AZ$47=club, ROW(club)-MIN(ROW(club))+1, \"\"), ROW()-46))), \"\")","v":"Demi Solan"}]
[{"$nulls":3},{"v":0,"d":"0.0"},{"v":0,"d":"0.00"},{"v":0,"d":"0.0"},{"v":0,"d":"0.00"},{"v":0,"d":"0.00"},10,45,0,10,{"v":0,"d":"0.0"},{"v":0,"d":"0.00"},12,45,0,12,{"v":0,"d":"0.0"},{"v":0,"d":"0.00"},13,45,0,13,{"v":0,"d":"0.0"},{"v":0,"d":"0.00"},10,45,0,10,{"v":0,"d":"0.0"},{"v":0,"d":"0.00"},13,45,0,13,{"v":0,"d":"0.00"},13,45,0,13,{"$nulls":3},{"$f":"IFERROR(IF(COUNTIF(AR48, 0), \"\", INDEX(gymnasts, SMALL(IF(AR$47=club, ROW(club)-MIN(ROW(club))+1, \"\"), ROW()-46))), \"\")","v":0},{"$nulls":3},{"$f":"IFERROR(IF(COUNTIF(AV48, 0), \"\", INDEX(gymnasts, SMALL(IF(AV$47=club, ROW(club)-MIN(ROW(club))+1, \"\"), ROW()-46))), \"\")","v":"Ella Smith"},{"$nulls":3},{"$f":"IFERROR(IF(COUNTIF(AZ48, 0), \"\", INDEX(gymnasts, SMALL(IF(AZ$47=club, ROW(club)-MIN(ROW(club))+1, \"\"), ROW()-46))), \"\")","v":"Elise Blanckley"}]
[{"$nulls":3},{"v":0,"d":"0.0"},{"v":0,"d":"0.00"},{"v":0,"d":"0.0"},{"v":0,"d":"0.00"},{"v":0,"d":"0.00"},10,46,0,10,{"v":0,"d":"0.0"},{"v":0,"d":"0.00"},12,46,0,12,{"v":0,"d":"0.0"},{"v":0,"d":"0.00"},13,46,0,13,{"v":0,"d":"0.0"},{"v":0,"d":"0.00"},10,46,0,10,{"v":0,"d":"0.0"},{"v":0,"d":"0.00"},13,46,0,13,{"v":0,"d":"0.00"},13,46,0,13,{"$nulls":3},{"$f":"IFERROR(IF(COUNTIF(AR49, 0), \"\", INDEX(gymnasts, SMALL(IF(AR$47=club, ROW(club)-MIN(ROW(club))+1, \"\"), ROW()-46))), \"\")","v":0},{"$nulls":3},{"$f":"IFERROR(IF(COUNTIF(AV49, 0), \"\", INDEX(gymnasts, SMALL(IF(AV$47=club, ROW(club)-MIN(ROW(club))+1, \"\"), ROW()-46))), \"\")","v":"Isabel Christmas"},{"$nulls":3},{"$f":"IFERROR(IF(COUNTIF(AZ49, 0), \"\", INDEX(gymnasts, SMALL(IF(AZ$47=club, ROW(club)-MIN(ROW(club))+1, \"\"), ROW()-46))), \"\")","v":"Cora-Beth Martin"}]
[{"$nulls":3},{"v":0,"d":"0.0"},{"v":0,"d":"0.00"},{"v":0,"d":"0.0"},{"v":0,"d":"0.00"},{"v":0,"d":"0.00"},10,47,0,10,{"v":0,"d":"0.0"},{"v":0,"d":"0.00"},12,47,0,12,{"v":0,"d":"0.0"},{"v":0,"d":"0.00"},13,47,0,13,{"v":0,"d":"0.0"},{"v":0,"d":"0.00"},10,47,0,10,{"v":0,"d":"0.0"},{"v":0,"d":"0.00"},13,47,0,13,{"v":0,"d":"0.00"},13,47,0,13,{"$nulls":3},{"$f":"IFERROR(IF(COUNTIF(AR50, 0), \"\", INDEX(gymnasts, SMALL(IF(AR$47=club, ROW(club)-MIN(ROW(club))+1, \"\"), ROW()-46))), \"\")","v":0},{"$nulls":3},{"$f":"IFERROR(IF(COUNTIF(AV50, 0), \"\", INDEX(gymnasts, SMALL(IF(AV$47=club, ROW(club)-MIN(ROW(club))+1, \"\"), ROW()-46))), \"\")","v":""},{"$nulls":3},{"$f":"IFERROR(IF(COUNTIF(AZ50, 0), \"\", INDEX(gymnasts, SMALL(IF(AZ$47=club, ROW(club)-MIN(ROW(club))+1, \"\"), ROW()-46))), \"\")","v":""}]
[{"$nulls":3},{"v":0,"d":"0.0"},{"v":0,"d":"0.00"},{"v":0,"d":"0.0"},{"v":0,"d":"0.00"},{"v":0,"d":"0.00"},10,48,0,10,{"v":0,"d":"0.0"},{"v":0,"d":"0.00"},12,48,0,12,{"v":0,"d":"0.0"},{"v":0,"d":"0.00"},13,48,0,13,{"v":0,"d":"0.0"},{"v":0,"d":"0.00"},10,48,0,10,{"v":0,"d":"0.0"},{"v":0,"d":"0.00"},13,48,0,13,{"v":0,"d":"0.00"},13,48,0,13,{"$nulls":3},{"$f":"IFERROR(IF(COUNTIF(AR51, 0), \"\", INDEX(gymnasts, SMALL(IF(AR$47=club, ROW(club)-MIN(ROW(club))+1, \"\"), ROW()-46))), \"\")","v":0},{"$nulls":3},{"$f":"IFERROR(IF(COUNTIF(AV51, 0), \"\", INDEX(gymnasts, SMALL(IF(AV$47=club, ROW(club)-MIN(ROW(club))+1, \"\"), ROW()-46))), \"\")","v":""},{"$nulls":3},{"$f":"IFERROR(IF(COUNTIF(AZ51, 0), \"\", INDEX(gymnasts, SMALL(IF(AZ$47=club, ROW(club)-MIN(ROW(club))+1, \"\"), ROW()-46))), \"\")","v":""}]
[{"$nulls":3},{"v":0,"d":"0.0"},{"v":0,"d":"0.00"},{"v":0,"d":"0.0"},{"v":0,"d":"0.00"},{"v":0,"d":"0.00"},10,49,0,10,{"v":0,"d":"0.0"},{"v":0,"d":"0.00"},12,49,0,12,{"v":0,"d":"0.0"},{"v":0,"d":"0.00"},13,49,0,13,{"v":0,"d":"0.0"},{"v":0,"d":"0.00"},10,49,0,10,{"v":0,"d":"0.0"},{"v":0,"d":"0.00"},13,49,0,13,{"v":0,"d":"0.00"},13,49,0,13,null,null,{"$f":"IFERROR(INDEX(teams, SMALL(IF(VALUE(LEFT(AR$46, 1))=teamPos, ROW(teamPos)-MIN(ROW(teamPos))+1, \"\"), ROW()-50)), \"\")","v":0},{"$f":"IFERROR(IF(COUNTIF(AR$52, 0), \"\", INDEX(gymnasts, SMALL(IF(AR$52=club, ROW(club)-MIN(ROW(club))+1, \"\"), ROW()-51))), \"\")","v":""},null,null,{"$f":"IFERROR(INDEX(teams, SMALL(IF(VALUE(LEFT(AV$46, 1))=teamPos, ROW(teamPos)-MIN(ROW(teamPos))+1, \"\"), ROW()-50)), \"\")","v":""},{"$f":"IFERROR(IF(COUNTIF(AV$52, 0), \"\", INDEX(gymnasts, SMALL(IF(AV$52=club, ROW(club)-MIN(ROW(club))+1, \"\"), ROW()-51))), \"\")","v":0},null,null,{"$f":"IFERROR(INDEX(teams, SMALL(IF(VALUE(LEFT(AZ$46, 1))=teamPos, ROW(teamPos)-MIN(ROW(teamPos))+1, \"\"), ROW()-50)), \"\")","v":""},{"$f":"IFERROR(IF(COUNTIF(AZ$52, 0), \"\", INDEX(gymnasts, SMALL(IF(AZ$52=club, ROW(club)-MIN(ROW(club))+1, \"\"), ROW()-51))), \"\")","v":0}]
[{"$nulls":3},{"v":0,"d":"0.0"},{"v":0,"d":"0.00"},{"v":0,"d":"0.0"},{"v":0,"d":"0.00"},{"v":0,"d":"0.00"},10,50,0,10,{"v":0,"d":"0.0"},{"v":0,"d":"0.00"},12,50,0,12,{"v":0,"d":"0.0"},{"v":0,"d":"0.00"},13,50,0,13,{"v":0,"d":"0.0"},{"v":0,"d":"0.00"},10,50,0,10,{"v":0,"d":"0.0"},{"v":0,"d":"0.00"},13,50,0,13,{"v":0,"d":"0.00"},13,50,0,13,{"$nulls":3},{"$f":"IFERROR(IF(COUNTIF(AR$52, 0), \"\", INDEX(gymnasts, SMALL(IF(AR$52=club, ROW(club)-MIN(ROW(club))+1, \"\"), ROW()-51))), \"\")","v":""},{"$nulls":3},{"$f":"IFERROR(IF(COUNTIF(AV$52, 0), \"\", INDEX(gymnasts, SMALL(IF(AV$52=club, ROW(club)-MIN(ROW(club))+1, \"\"), ROW()-51))), \"\")","v":0},{"$nulls":3},{"$f":"IFERROR(IF(COUNTIF(AZ$52, 0), \"\", INDEX(gymnasts, SMALL(IF(AZ$52=club, ROW(club)-MIN(ROW(club))+1, \"\"), ROW()-51))), \"\")","v":0}]
[{"$nulls":3},{"v":0,"d":"0.0"},{"v":0,"d":"0.00"},{"v":0,"d":"0.0"},{"v":0,"d":"0.00"},{"v":0,"d":"0.00"},10,51,0,10,{"v":0,"d":"0.0"},{"v":0,"d":"0.00"},12,51,0,12,{"v":0,"d":"0.0"},{"v":0,"d":"0.00"},13,51,0,13,{"v":0,"d":"0.0"},{"v":0,"d":"0.00"},10,51,0,10,{"v":0,"d":"0.0"},{"v":0,"d":"0.00"},13,51,0,13,{"v":0,"d":"0.00"},13,51,0,13,{"$nulls":3},{"$f":"IFERROR(IF(COUNTIF(AR$52, 0), \"\", INDEX(gymnasts, SMALL(IF(AR$52=club, ROW(club)-MIN(ROW(club))+1, \"\"), ROW()-51))), \"\")","v":""},{"$nulls":3},{"$f":"IFERROR(IF(COUNTIF(AV$52, 0), \"\", INDEX(gymnasts, SMALL(IF(AV$52=club, ROW(club)-MIN(ROW(club))+1, \"\"), ROW()-51))), \"\")","v":0},{"$nulls":3},{"$f":"IFERROR(IF(COUNTIF(AZ$52, 0), \"\", INDEX(gymnasts, SMALL(IF(AZ$52=club, ROW(club)-MIN(ROW(club))+1, \"\"), ROW()-51))), \"\")","v":0}]
[{"$nulls":3},{"v":0,"d":"0.0"},{"v":0,"d":"0.00"},{"v":0,"d":"0.0"},{"v":0,"d":"0.00"},{"v":0,"d":"0.00"},10,52,0,10,{"v":0,"d":"0.0"},{"v":0,"d":"0.00"},12,52,0,12,{"v":0,"d":"0.0"},{"v":0,"d":"0.00"},13,52,0,13,{"v":0,"d":"0.0"},{"v":0,"d":"0.00"},10,52,0,10,{"v":0,"d":"0.0"},{"v":0,"d":"0.00"},13,52,0,13,{"v":0,"d":"0.00"},13,52,0,13,{"$nulls":3},{"$f":"IFERROR(IF(COUNTIF(AR$52, 0), \"\", INDEX(gymnasts, SMALL(IF(AR$52=club, ROW(club)-MIN(ROW(club))+1, \"\"), ROW()-51))), \"\")","v":""},{"$nulls":3},{"$f":"IFERROR(IF(COUNTIF(AV$52, 0), \"\", INDEX(gymnasts, SMALL(IF(AV$52=club, ROW(club)-MIN(ROW(club))+1, \"\"), ROW()-51))), \"\")","v":0},{"$nulls":3},{"$f":"IFERROR(IF(COUNTIF(AZ$52, 0), \"\", INDEX(gymnasts, SMALL(IF(AZ$52=club, ROW(club)-MIN(ROW(club))+1, \"\"), ROW()-51))), \"\")","v":0}]
[{"$nulls":3},{"v":0,"d":"0.0"},{"v":0,"d":"0.00"},{"v":0,"d":"0.0"},{"v":0,"d":"0.00"},{"v":0,"d":"0.00"},10,53,0,10,{"v":0,"d":"0.0"},{"v":0,"d":"0.00"},12,53,0,12,{"v":0,"d":"0.0"},{"v":0,"d":"0.00"},13,53,0,13,{"v":0,"d":"0.0"},{"v":0,"d":"0.00"},10,53,0,10,{"v":0,"d":"0.0"},{"v":0,"d":"0.00"},13,53,0,13,{"v":0,"d":"0.00"},13,53,0,13,{"$nulls":3},{"$f":"IFERROR(IF(ISTEXT(AR$52), INDEX(gymnasts, SMALL(IF(AR$52=club, ROW(club)-MIN(ROW(club))+1, \"\"), ROW()-51)), \"\"), \"\")","v":""},{"$nulls":3},{"$f":"IFERROR(IF(ISTEXT(AV$52), INDEX(gymnasts, SMALL(IF(AV$52=club, ROW(club)-MIN(ROW(club))+1, \"\"), ROW()-51)), \"\"), \"\")","v":0},{"$nulls":3},{"$f":"IFERROR(IF(ISTEXT(AZ$52), INDEX(gymnasts, SMALL(IF(AZ$52=club, ROW(club)-MIN(ROW(club))+1, \"\"), ROW()-51)), \"\"), \"\")","v":0}]
[{"$nulls":3},{"v":0,"d":"0.0"},{"v":0,"d":"0.00"},{"v":0,"d":"0.0"},{"v":0,"d":"0.00"},{"v":0,"d":"0.00"},10,54,0,10,{"v":0,"d":"0.0"},{"v":0,"d":"0.00"},12,54,0,12,{"v":0,"d":"0.0"},{"v":0,"d":"0.00"},13,54,0,13,{"v":0,"d":"0.0"},{"v":0,"d":"0.00"},10,54,0,10,{"v":0,"d":"0.0"},{"v":0,"d":"0.00"},13,54,0,13,{"v":0,"d":"0.00"},13,54,0,13]
[{"$nulls":3},{"v":0,"d":"0.0"},{"v":0,"d":"0.00"},{"v":0,"d":"0.0"},{"v":0,"d":"0.00"},{"v":0,"d":"0.00"},10,55,0,10,{"v":0,"d":"0.0"},{"v":0,"d":"0.00"},12,55,0,12,{"v":0,"d":"0.0"},{"v":0,"d":"0.00"},13,55,0,13,{"v":0,"d":"0.0"},{"v":0,"d":"0.00"},10,55,0,10,{"v":0,"d":"0.0"},{"v":0,"d":"0.00"},13,55,0,13,{"v":0,"d":"0.00"},13,55,0,13]
[{"$nulls":3},{"v":0,"d":"0.0"},{"v":0,"d":"0.00"},{"v":0,"d":"0.0"},{"v":0,"d":"0.00"},{"v":0,"d":"0.00"},10,56,0,10,{"v":0,"d":"0.0"},{"v":0,"d":"0.00"},12,56,0,12,{"v":0,"d":"0.0"},{"v":0,"d":"0.00"},13,56,0,13,{"v":0,"d":"0.0"},{"v":0,"d":"0.00"},10,56,0,10,{"v":0,"d":"0.0"},{"v":0,"d":"0.00"},13,56,0,13,{"v":0,"d":"0.00"},13,56,0,13]
[{"$nulls":3},{"v":0,"d":"0.0"},{"v":0,"d":"0.00"},{"v":0,"d":"0.0"},{"v":0,"d":"0.00"},{"v":0,"d":"0.00"},10,57,0,10,{"v":0,"d":"0.0"},{"v":0,"d":"0.00"},12,57,0,12,{"v":0,"d":"0.0"},{"v":0,"d":"0.00"},13,57,0,13,{"v":0,"d":"0.0"},{"v":0,"d":"0.00"},10,57,0,10,{"v":0,"d":"0.0"},{"v":0,"d":"0.00"},13,57,0,13,{"v":0,"d":"0.00"},13,57,0,13]
[{"$nulls":3},{"v":0,"d":"0.0"},{"v":0,"d":"0.00"},{"v":0,"d":"0.0"},{"v":0,"d":"0.00"},{"v":0,"d":"0.00"},10,58,0,10,{"v":0,"d":"0.0"},{"v":0,"d":"0.00"},12,58,0,12,{"v":0,"d":"0.0"},{"v":0,"d":"0.00"},13,58,0,13,{"v":0,"d":"0.0"},{"v":0,"d":"0.00"},10,58,0,10,{"v":0,"d":"0.0"},{"v":0,"d":"0.00"},13,58,0,13,{"v":0,"d":"0.00"},13,58,0,13]
[{"$nulls":3},{"v":0,"d":"0.0"},{"v":0,"d":"0.00"},{"v":0,"d":"0.0"},{"v":0,"d":"0.00"},{"v":0,"d":"0.00"},10,59,0,10,{"v":0,"d":"0.0"},{"v":0,"d":"0.00"},12,59,0,12,{"v":0,"d":"0.0"},{"v":0,"d":"0.00"},13,59,0,13,{"v":0,"d":"0.0"},{"v":0,"d":"0.00"},10,59,0,10,{"v":0,"d":"0.0"},{"v":0,"d":"0.00"},13,59,0,13,{"v":0,"d":"0.00"},13,59,0,13]
[{"$nulls":3},{"v":0,"d":"0.0"},{"v":0,"d":"0.00"},{"v":0,"d":"0.0"},{"v":0,"d":"0.00"},{"v":0,"d":"0.00"},10,60,0,10,{"v":0,"d":"0.0"},{"v":0,"d":"0.00"},12,60,0,12,{"v":0,"d":"0.0"},{"v":0,"d":"0.00"},13,60,0,13,{"v":0,"d":"0.0"},{"v":0,"d":"0.00"},10,60,0,10,{"v":0,"d":"0.0"},{"v":0,"d":"0.00"},13,60,0,13,{"v":0,"d":"0.00"},13,60,0,13]
[{"$nulls":3},{"v":0,"d":"0.0"},{"v":0,"d":"0.00"},{"v":0,"d":"0.0"},{"v":0,"d":"0.00"},{"v":0,"d":"0.00"},10,61,0,10,{"v":0,"d":"0.0"},{"v":0,"d":"0.00"},12,61,0,12,{"v":0,"d":"0.0"},{"v":0,"d":"0.00"},13,61,0,13,{"v":0,"d":"0.0"},{"v":0,"d":"0.00"},10,61,0,10,{"v":0,"d":"0.0"},{"v":0,"d":"0.00"},13,61,0,13,{"v":0,"d":"0.00"},13,61,0,13]
[{"$nulls":3},{"v":0,"d":"0.0"},{"v":0,"d":"0.00"},{"v":0,"d":"0.0"},{"v":0,"d":"0.00"},{"v":0,"d":"0.00"},10,62,0,10,{"v":0,"d":"0.0"},{"v":0,"d":"0.00"},12,62,0,12,{"v":0,"d":"0.0"},{"v":0,"d":"0.00"},13,62,0,13,{"v":0,"d":"0.0"},{"v":0,"d":"0.00"},10,62,0,10,{"v":0,"d":"0.0"},{"v":0,"d":"0.00"},13,62,0,13,{"v":0,"d":"0.00"},13,62,0,13]
[null,"Teams"]
[null,{"$f":"IF(AND(COUNTIF(club,C67)>=3,COUNTIF(club,C67)<=5),\"TEAM\",IF(COUNTIF(club,C67)>5,\"Too Many!!!!!\",\"NO TEAM\"))","v":"TEAM"},"SD",{"$nulls":4},{"$f":"IF($B67=\"NO TEAM\", 0, SUM(LARGE(IF(club=$C67, vault), ROW($1:$3))))","v":37.25},{"$nulls":5},{"$f":"IF($B67=\"NO TEAM\", 0, SUM(LARGE(IF(club=$C67, bars), ROW($1:$3))))","v":36.25},{"$nulls":5},{"$f":"IF($B67=\"NO TEAM\", 0, SUM(LARGE(IF(club=$C67, beam), ROW($1:$3))))","v":{"v":30.7,"d":"30.70"}},{"$nulls":5},{"$f":"IF($B67=\"NO TEAM\", 0, SUM(LARGE(IF(club=$C67, floor), ROW($1:$3))))","v":{"v":31.4,"d":"31.40"}},{"$nulls":5},{"$f":"IF($B67=\"NO TEAM\", 0, SUM(LARGE(IF(club=$C67, range), ROW($1:$3))))","v":{"v":35,"d":"35.00"}},{"$nulls":4},{"$f":"IF(B67=\"TEAM\", SUMIF(D$2:AJ$2, \"SCORE\", D67:AJ67), 0)","v":{"v":170.6,"d":"170.60"}},{"$f":"VLOOKUP(AK67,AN$67:AO$81, 2,FALSE)","v":1},{"$f":"IF(ISNUMBER(AM66), AM66+1, 1)","v":1},{"$f":"LARGE((AK$67:AK$81), $AM67)","v":170.6},{"$f":"IF(AN67=AN66, AO66, AO66+1)","v":1}]
[null,{"$f":"IF(AND(COUNTIF(club,C68)>=3,COUNTIF(club,C68)<=5),\"TEAM\",IF(COUNTIF(club,C68)>5,\"Too Many!!!!!\",\"NO TEAM\"))","v":"TEAM"},"Carlisle",{"$nulls":4},{"$f":"IF($B68=\"NO TEAM\", 0, SUM(LARGE(IF(club=$C68, vault), ROW($1:$3))))","v":36.05},{"$nulls":5},{"$f":"IF($B68=\"NO TEAM\", 0, SUM(LARGE(IF(club=$C68, bars), ROW($1:$3))))","v":{"v":35.1,"d":"35.10"}},{"$nulls":5},{"$f":"IF($B68=\"NO TEAM\", 0, SUM(LARGE(IF(club=$C68, beam), ROW($1:$3))))","v":28.55},{"$nulls":5},{"$f":"IF($B68=\"NO TEAM\", 0, SUM(LARGE(IF(club=$C68, floor), ROW($1:$3))))","v":{"v":30.049999999999997,"d":"30.05"}},{"$nulls":5},{"$f":"IF($B68=\"NO TEAM\", 0, SUM(LARGE(IF(club=$C68, range), ROW($1:$3))))","v":33.55},{"$nulls":4},{"v":163.3,"d":"163.30"},{"$f":"VLOOKUP(AK68,AN$67:AO$81, 2,FALSE)","v":2},{"$f":"IF(ISNUMBER(AM67), AM67+1, 1)","v":2},{"$f":"LARGE((AK$67:AK$81), $AM68)","v":163.3},{"$f":"IF(AN68=AN67, AO67, AO67+1)","v":2}]
[null,{"$f":"IF(AND(COUNTIF(club,C69)>=3,COUNTIF(club,C69)<=5),\"TEAM\",IF(COUNTIF(club,C69)>5,\"Too Many!!!!!\",\"NO TEAM\"))","v":"NO TEAM"},{"$nulls":5},{"$f":"IF($B69=\"NO TEAM\", 0, SUM(LARGE(IF(club=$C69, vault), ROW($1:$3))))","v":{"v":0,"d":"0.00"}},{"$nulls":5},{"$f":"IF($B69=\"NO TEAM\", 0, SUM(LARGE(IF(club=$C69, bars), ROW($1:$3))))","v":{"v":0,"d":"0.00"}},{"$nulls":5},{"$f":"IF($B69=\"NO TEAM\", 0, SUM(LARGE(IF(club=$C69, beam), ROW($1:$3))))","v":{"v":0,"d":"0.00"}},{"$nulls":5},{"$f":"IF($B69=\"NO TEAM\", 0, SUM(LARGE(IF(club=$C69, floor), ROW($1:$3))))","v":{"v":0,"d":"0.00"}},{"$nulls":5},{"$f":"IF($B69=\"NO TEAM\", 0, SUM(LARGE(IF(club=$C69, range), ROW($1:$3))))","v":{"v":0,"d":"0.00"}},{"$nulls":4},{"v":0,"d":"0.00"},3,3,0,3]
[null,{"$f":"IF(AND(COUNTIF(club,C70)>=3,COUNTIF(club,C70)<=5),\"TEAM\",IF(COUNTIF(club,C70)>5,\"Too Many!!!!!\",\"NO TEAM\"))","v":"NO TEAM"},{"$nulls":5},{"$f":"IF($B70=\"NO TEAM\", 0, SUM(LARGE(IF(club=$C70, vault), ROW($1:$3))))","v":{"v":0,"d":"0.00"}},{"$nulls":5},{"$f":"IF($B70=\"NO TEAM\", 0, SUM(LARGE(IF(club=$C70, bars), ROW($1:$3))))","v":{"v":0,"d":"0.00"}},{"$nulls":5},{"$f":"IF($B70=\"NO TEAM\", 0, SUM(LARGE(IF(club=$C70, beam), ROW($1:$3))))","v":{"v":0,"d":"0.00"}},{"$nulls":5},{"$f":"IF($B70=\"NO TEAM\", 0, SUM(LARGE(IF(club=$C70, floor), ROW($1:$3))))","v":{"v":0,"d":"0.00"}},{"$nulls":5},{"$f":"IF($B70=\"NO TEAM\", 0, SUM(LARGE(IF(club=$C70, range), ROW($1:$3))))","v":{"v":0,"d":"0.00"}},{"$nulls":4},{"v":0,"d":"0.00"},3,4,0,3]
[null,{"$f":"IF(AND(COUNTIF(club,C71)>=3,COUNTIF(club,C71)<=5),\"TEAM\",IF(COUNTIF(club,C71)>5,\"Too Many!!!!!\",\"NO TEAM\"))","v":"NO TEAM"},{"$nulls":5},{"$f":"IF($B71=\"NO TEAM\", 0, SUM(LARGE(IF(club=$C71, vault), ROW($1:$3))))","v":{"v":0,"d":"0.00"}},{"$nulls":5},{"$f":"IF($B71=\"NO TEAM\", 0, SUM(LARGE(IF(club=$C71, bars), ROW($1:$3))))","v":{"v":0,"d":"0.00"}},{"$nulls":5},{"$f":"IF($B71=\"NO TEAM\", 0, SUM(LARGE(IF(club=$C71, beam), ROW($1:$3))))","v":{"v":0,"d":"0.00"}},{"$nulls":5},{"$f":"IF($B71=\"NO TEAM\", 0, SUM(LARGE(IF(club=$C71, floor), ROW($1:$3))))","v":{"v":0,"d":"0.00"}},{"$nulls":5},{"$f":"IF($B71=\"NO TEAM\", 0, SUM(LARGE(IF(club=$C71, range), ROW($1:$3))))","v":{"v":0,"d":"0.00"}},{"$nulls":4},{"v":0,"d":"0.00"},3,5,0,3]
[null,{"$f":"IF(AND(COUNTIF(club,C72)>=3,COUNTIF(club,C72)<=5),\"TEAM\",IF(COUNTIF(club,C72)>5,\"Too Many!!!!!\",\"NO TEAM\"))","v":"NO TEAM"},{"$nulls":5},{"$f":"IF($B72=\"NO TEAM\", 0, SUM(LARGE(IF(club=$C72, vault), ROW($1:$3))))","v":{"v":0,"d":"0.00"}},{"$nulls":5},{"$f":"IF($B72=\"NO TEAM\", 0, SUM(LARGE(IF(club=$C72, bars), ROW($1:$3))))","v":{"v":0,"d":"0.00"}},{"$nulls":5},{"$f":"IF($B72=\"NO TEAM\", 0, SUM(LARGE(IF(club=$C72, beam), ROW($1:$3))))","v":{"v":0,"d":"0.00"}},{"$nulls":5},{"$f":"IF($B72=\"NO TEAM\", 0, SUM(LARGE(IF(club=$C72, floor), ROW($1:$3))))","v":{"v":0,"d":"0.00"}},{"$nulls":5},{"$f":"IF($B72=\"NO TEAM\", 0, SUM(LARGE(IF(club=$C72, range), ROW($1:$3))))","v":{"v":0,"d":"0.00"}},{"$nulls":4},{"v":0,"d":"0.00"},3,6,0,3]
[null,{"$f":"IF(AND(COUNTIF(club,C73)>=3,COUNTIF(club,C73)<=5),\"TEAM\",IF(COUNTIF(club,C73)>5,\"Too Many!!!!!\",\"NO TEAM\"))","v":"NO TEAM"},{"$nulls":5},{"$f":"IF($B73=\"NO TEAM\", 0, SUM(LARGE(IF(club=$C73, vault), ROW($1:$3))))","v":{"v":0,"d":"0.00"}},{"$nulls":5},{"$f":"IF($B73=\"NO TEAM\", 0, SUM(LARGE(IF(club=$C73, bars), ROW($1:$3))))","v":{"v":0,"d":"0.00"}},{"$nulls":5},{"$f":"IF($B73=\"NO TEAM\", 0, SUM(LARGE(IF(club=$C73, beam), ROW($1:$3))))","v":{"v":0,"d":"0.00"}},{"$nulls":5},{"$f":"IF($B73=\"NO TEAM\", 0, SUM(LARGE(IF(club=$C73, floor), ROW($1:$3))))","v":{"v":0,"d":"0.00"}},{"$nulls":5},{"$f":"IF($B73=\"NO TEAM\", 0, SUM(LARGE(IF(club=$C73, range), ROW($1:$3))))","v":{"v":0,"d":"0.00"}},{"$nulls":4},{"v":0,"d":"0.00"},3,7,0,3]
[null,{"$f":"IF(AND(COUNTIF(club,C74)>=3,COUNTIF(club,C74)<=5),\"TEAM\",IF(COUNTIF(club,C74)>5,\"Too Many!!!!!\",\"NO TEAM\"))","v":"NO TEAM"},{"$nulls":5},{"$f":"IF($B74=\"NO TEAM\", 0, SUM(LARGE(IF(club=$C74, vault), ROW($1:$3))))","v":{"v":0,"d":"0.00"}},{"$nulls":5},{"$f":"IF($B74=\"NO TEAM\", 0, SUM(LARGE(IF(club=$C74, bars), ROW($1:$3))))","v":{"v":0,"d":"0.00"}},{"$nulls":5},{"$f":"IF($B74=\"NO TEAM\", 0, SUM(LARGE(IF(club=$C74, beam), ROW($1:$3))))","v":{"v":0,"d":"0.00"}},{"$nulls":5},{"$f":"IF($B74=\"NO TEAM\", 0, SUM(LARGE(IF(club=$C74, floor), ROW($1:$3))))","v":{"v":0,"d":"0.00"}},{"$nulls":5},{"$f":"IF($B74=\"NO TEAM\", 0, SUM(LARGE(IF(club=$C74, range), ROW($1:$3))))","v":{"v":0,"d":"0.00"}},{"$nulls":4},{"v":0,"d":"0.00"},3,8,0,3]
[null,{"$f":"IF(AND(COUNTIF(club,C75)>=3,COUNTIF(club,C75)<=5),\"TEAM\",IF(COUNTIF(club,C75)>5,\"Too Many!!!!!\",\"NO TEAM\"))","v":"NO TEAM"},{"$nulls":5},{"$f":"IF($B75=\"NO TEAM\", 0, SUM(LARGE(IF(club=$C75, vault), ROW($1:$3))))","v":{"v":0,"d":"0.00"}},{"$nulls":5},{"$f":"IF($B75=\"NO TEAM\", 0, SUM(LARGE(IF(club=$C75, bars), ROW($1:$3))))","v":{"v":0,"d":"0.00"}},{"$nulls":5},{"$f":"IF($B75=\"NO TEAM\", 0, SUM(LARGE(IF(club=$C75, beam), ROW($1:$3))))","v":{"v":0,"d":"0.00"}},{"$nulls":5},{"$f":"IF($B75=\"NO TEAM\", 0, SUM(LARGE(IF(club=$C75, floor), ROW($1:$3))))","v":{"v":0,"d":"0.00"}},{"$nulls":5},{"$f":"IF($B75=\"NO TEAM\", 0, SUM(LARGE(IF(club=$C75, range), ROW($1:$3))))","v":{"v":0,"d":"0.00"}},{"$nulls":4},{"v":0,"d":"0.00"},3,9,0,3]
[null,{"$f":"IF(AND(COUNTIF(club,C76)>=3,COUNTIF(club,C76)<=5),\"TEAM\",IF(COUNTIF(club,C76)>5,\"Too Many!!!!!\",\"NO TEAM\"))","v":"NO TEAM"},{"$nulls":5},{"$f":"IF($B76=\"NO TEAM\", 0, SUM(LARGE(IF(club=$C76, vault), ROW($1:$3))))","v":{"v":0,"d":"0.00"}},{"$nulls":5},{"$f":"IF($B76=\"NO TEAM\", 0, SUM(LARGE(IF(club=$C76, bars), ROW($1:$3))))","v":{"v":0,"d":"0.00"}},{"$nulls":5},{"$f":"IF($B76=\"NO TEAM\", 0, SUM(LARGE(IF(club=$C76, beam), ROW($1:$3))))","v":{"v":0,"d":"0.00"}},{"$nulls":5},{"$f":"IF($B76=\"NO TEAM\", 0, SUM(LARGE(IF(club=$C76, floor), ROW($1:$3))))","v":{"v":0,"d":"0.00"}},{"$nulls":5},{"$f":"IF($B76=\"NO TEAM\", 0, SUM(LARGE(IF(club=$C76, range), ROW($1:$3))))","v":{"v":0,"d":"0.00"}},{"$nulls":4},{"v":0,"d":"0.00"},3,10,0,3]
[null,{"$f":"IF(AND(COUNTIF(club,C77)>=3,COUNTIF(club,C77)<=5),\"TEAM\",IF(COUNTIF(club,C77)>5,\"Too Many!!!!!\",\"NO TEAM\"))","v":"NO TEAM"},{"$nulls":5},{"$f":"IF($B77=\"NO TEAM\", 0, SUM(LARGE(IF(club=$C77, vault), ROW($1:$3))))","v":{"v":0,"d":"0.00"}},{"$nulls":5},{"$f":"IF($B77=\"NO TEAM\", 0, SUM(LARGE(IF(club=$C77, bars), ROW($1:$3))))","v":{"v":0,"d":"0.00"}},{"$nulls":5},{"$f":"IF($B77=\"NO TEAM\", 0, SUM(LARGE(IF(club=$C77, beam), ROW($1:$3))))","v":{"v":0,"d":"0.00"}},{"$nulls":5},{"$f":"IF($B77=\"NO TEAM\", 0, SUM(LARGE(IF(club=$C77, floor), ROW($1:$3))))","v":{"v":0,"d":"0.00"}},{"$nulls":5},{"$f":"IF($B77=\"NO TEAM\", 0, SUM(LARGE(IF(club=$C77, range), ROW($1:$3))))","v":{"v":0,"d":"0.00"}},{"$nulls":4},{"v":0,"d":"0.00"},3,11,0,3]
[null,{"$f":"IF(AND(COUNTIF(club,C78)>=3,COUNTIF(club,C78)<=5),\"TEAM\",IF(COUNTIF(club,C78)>5,\"Too Many!!!!!\",\"NO TEAM\"))","v":"NO TEAM"},{"$nulls":5},{"$f":"IF($B78=\"NO TEAM\", 0, SUM(LARGE(IF(club=$C78, vault), ROW($1:$3))))","v":{"v":0,"d":"0.00"}},{"$nulls":5},{"$f":"IF($B78=\"NO TEAM\", 0, SUM(LARGE(IF(club=$C78, bars), ROW($1:$3))))","v":{"v":0,"d":"0.00"}},{"$nulls":5},{"$f":"IF($B78=\"NO TEAM\", 0, SUM(LARGE(IF(club=$C78, beam), ROW($1:$3))))","v":{"v":0,"d":"0.00"}},{"$nulls":5},{"$f":"IF($B78=\"NO TEAM\", 0, SUM(LARGE(IF(club=$C78, floor), ROW($1:$3))))","v":{"v":0,"d":"0.00"}},{"$nulls":5},{"$f":"IF($B78=\"NO TEAM\", 0, SUM(LARGE(IF(club=$C78, range), ROW($1:$3))))","v":{"v":0,"d":"0.00"}},{"$nulls":4},{"v":0,"d":"0.00"},3,12,0,3]
[null,{"$f":"IF(AND(COUNTIF(club,C79)>=3,COUNTIF(club,C79)<=5),\"TEAM\",IF(COUNTIF(club,C79)>5,\"Too Many!!!!!\",\"NO TEAM\"))","v":"NO TEAM"},{"$nulls":5},{"$f":"IF($B79=\"NO TEAM\", 0, SUM(LARGE(IF(club=$C79, vault), ROW($1:$3))))","v":{"v":0,"d":"0.00"}},{"$nulls":5},{"$f":"SUM(LARGE(IF(club=$C79, bars), ROW($1:$3)))","v":{"v":0,"d":"0.00"}},{"$nulls":5},{"$f":"SUM(LARGE(IF(club=$C79, beam), ROW($1:$3)))","v":{"v":0,"d":"0.00"}},{"$nulls":5},{"$f":"SUM(LARGE(IF(club=$C79, floor), ROW($1:$3)))","v":{"v":0,"d":"0.00"}},{"$nulls":5},{"$f":"SUM(LARGE(IF(club=$C79, range), ROW($1:$3)))","v":{"v":0,"d":"0.00"}},{"$nulls":4},{"v":0,"d":"0.00"},3,13,0,3]
[null,{"$f":"IF(AND(COUNTIF(club,C80)>=3,COUNTIF(club,C80)<=5),\"TEAM\",IF(COUNTIF(club,C80)>5,\"Too Many!!!!!\",\"NO TEAM\"))","v":"NO TEAM"},{"$nulls":5},{"$f":"IF($B80=\"NO TEAM\", 0, SUM(LARGE(IF(club=$C80, vault), ROW($1:$3))))","v":{"v":0,"d":"0.00"}},{"$nulls":5},{"$f":"SUM(LARGE(IF(club=$C80, bars), ROW($1:$3)))","v":{"v":0,"d":"0.00"}},{"$nulls":5},{"$f":"SUM(LARGE(IF(club=$C80, beam), ROW($1:$3)))","v":{"v":0,"d":"0.00"}},{"$nulls":5},{"$f":"SUM(LARGE(IF(club=$C80, floor), ROW($1:$3)))","v":{"v":0,"d":"0.00"}},{"$nulls":5},{"$f":"SUM(LARGE(IF(club=$C80, range), ROW($1:$3)))","v":{"v":0,"d":"0.00"}},{"$nulls":4},{"v":0,"d":"0.00"},3,14,0,3]
[null,{"$f":"IF(AND(COUNTIF(club,C81)>=3,COUNTIF(club,C81)<=5),\"TEAM\",IF(COUNTIF(club,C81)>5,\"Too Many!!!!!\",\"NO TEAM\"))","v":"NO TEAM"},{"$nulls":5},{"$f":"IF($B81=\"NO TEAM\", 0, SUM(LARGE(IF(club=$C81, vault), ROW($1:$3))))","v":{"v":0,"d":"0.00"}},{"$nulls":5},{"$f":"SUM(LARGE(IF(club=$C81, bars), ROW($1:$3)))","v":{"v":0,"d":"0.00"}},{"$nulls":5},{"$f":"SUM(LARGE(IF(club=$C81, beam), ROW($1:$3)))","v":{"v":0,"d":"0.00"}},{"$nulls":5},{"$f":"SUM(LARGE(IF(club=$C81, floor), ROW($1:$3)))","v":{"v":0,"d":"0.00"}},{"$nulls":5},{"$f":"SUM(LARGE(IF(club=$C81, range), ROW($1:$3)))","v":{"v":0,"d":"0.00"}},{"$nulls":4},{"v":0,"d":"0.00"},3,15,0,3]
[]
[]
[]
[]
[]
[{"$nulls":41}," "]

{"sheet":"average vault","index":12,"n_rows":81,"n_cols":49,"rows_kept":81,"hidden":true,"merged":[[0,3,0,8],[0,12,0,14],[0,18,0,20],[0,24,0,26],[0,30,0,31],[2,39,2,48],[38,38,38,39],[38,42,38,43],[38,46,38,47],[49,38,49,39]]}
[{"$nulls":3},"VAULT",{"$nulls":8},"BARS",{"$nulls":5},"BEAM",{"$nulls":5},"FLOOR",{"$nulls":5},"AA"]
["No","GYMNAST","CLUB","V1 SV","V1","V2 SV","V2","SCORE","POS","idx","sort","ties","SV","SCORE","POS","idx","sort","ties","SV","SCORE","POS","idx","sort","ties","SV","SCORE","POS","idx","sort","ties","TOTAL","POS","idx","sort","ties"]
[null,"average vaults",{"$nulls":35},{"$f":"B3","v":"average vaults"},null,"summary results for presentation"]
[{"$nulls":3},{"v":0,"d":"0.0"},{"v":0,"d":"0.00"},{"v":0,"d":"0.0"},{"v":0,"d":"0.00"},{"$f":"IF(OR(E4>0, G4>0), AVERAGE(E4, G4), 0)","v":{"v":0,"d":"0.00"}},{"$f":"VLOOKUP(H4, K$4:L$65, 2,FALSE)","v":0},{"$f":"IF(ISNUMBER(J3), J3+1, 1)","v":1},{"$f":"LARGE(H$4:H$65,J4)","v":0},{"$f":"IF(K4=K3, L3, L3+1)","v":0},{"v":0,"d":"0.0"},{"v":0,"d":"0.00"},{"$f":"VLOOKUP(N4, Q$4:R$65, 2,FALSE)","v":0},{"$f":"IF(ISNUMBER(P3), P3+1, 1)","v":1},{"$f":"LARGE(N$4:N$65,P4)","v":0},{"$f":"IF(Q4=Q3, R3, R3+1)","v":0},{"v":0,"d":"0.0"},{"v":0,"d":"0.00"},{"$f":"VLOOKUP(T4, W$4:X$65, 2,FALSE)","v":0},{"$f":"IF(ISNUMBER(V3), V3+1, 1)","v":1},{"$f":"LARGE(T$4:T$65,V4)","v":0},{"$f":"IF(W4=W3, X3, X3+1)","v":0},{"v":0,"d":"0.0"},{"v":0,"d":"0.00"},{"$f":"VLOOKUP(Z4, AC$4:AD$65, 2,FALSE)","v":0},{"$f":"IF(ISNUMBER(AB3), AB3+1, 1)","v":1},{"$f":"LARGE(Z$4:Z$65,AB4)","v":0},{"$f":"IF(AC4=AC3, AD3, AD3+1)","v":0},{"$f":"SUMIF(D$2:AD$2, \"SCORE\", D4:AD4)","v":{"v":0,"d":"0.00"}},{"$f":"VLOOKUP(AE4, AH$4:AI$65, 2,FALSE)","v":0},{"$f":"IF(ISNUMBER(AG3), AG3+1, 1)","v":1},{"$f":"LARGE($AE$4:$AE$65,$AG4)","v":0},{"$f":"IF(AH4=AH3, AI3, AI3+1)","v":0},null,null,"6th Place",{"$f":"IFERROR(INDEX(vault,MATCH(AL5,gymnasts,0)), \"\")","v":""},"5th Place",{"$f":"IFERROR(INDEX(vault,MATCH(AN5,gymnasts,0)), \"\")","v":""},"4th Place",{"$f":"IFERROR(INDEX(vault,MATCH(AP5,gymnasts,0)), \"\")","v":""},"3rd Place",{"$f":"IFERROR(INDEX(vault,MATCH(AR5,gymnasts,0)), \"\")","v":""},"2nd Place",{"$f":"IFERROR(INDEX(vault,MATCH(AT5,gymnasts,0)), \"\")","v":""},"1st Place",{"$f":"IFERROR(INDEX(vault,MATCH(AV5,gymnasts,0)), \"\")","v":""}]
[{"$nulls":3},{"v":0,"d":"0.0"},{"v":0,"d":"0.00"},{"v":0,"d":"0.0"},{"v":0,"d":"0.00"},{"$f":"IF(OR(E5>0, G5>0), AVERAGE(E5, G5), 0)","v":{"v":0,"d":"0.00"}},{"$f":"VLOOKUP(H5, K$4:L$65, 2,FALSE)","v":0},2,{"$f":"LARGE(H$4:H$65,J5)","v":0},{"$f":"IF(K5=K4, L4, L4+1)","v":0},{"v":0,"d":"0.0"},{"v":0,"d":"0.00"},{"$f":"VLOOKUP(N5, Q$4:R$65, 2,FALSE)","v":0},2,{"$f":"LARGE(N$4:N$65,P5)","v":0},{"$f":"IF(Q5=Q4, R4, R4+1)","v":0},{"v":0,"d":"0.0"},{"v":0,"d":"0.00"},{"$f":"VLOOKUP(T5, W$4:X$65, 2,FALSE)","v":0},2,{"$f":"LARGE(T$4:T$65,V5)","v":0},{"$f":"IF(W5=W4, X4, X4+1)","v":0},{"v":0,"d":"0.0"},{"v":0,"d":"0.00"},{"$f":"VLOOKUP(Z5, AC$4:AD$65, 2,FALSE)","v":0},2,{"$f":"LARGE(Z$4:Z$65,AB5)","v":0},{"$f":"IF(AC5=AC4, AD4, AD4+1)","v":0},{"$f":"SUMIF(D$2:AD$2, \"SCORE\", D5:AD5)","v":{"v":0,"d":"0.00"}},{"$f":"VLOOKUP(AE5, AH$4:AI$65, 2,FALSE)","v":0},2,{"$f":"LARGE($AE$4:$AE$65,$AG5)","v":0},{"$f":"IF(AH5=AH4, AI4, AI4+1)","v":0},null,"Vault",{"$f":"IFERROR(INDEX(gymnasts, SMALL(IF(VALUE(LEFT(AL$32, 1))=vaultPos, ROW(vaultPos)-MIN(ROW(vaultPos))+1, \"\"), ROW()-4)), \"\")","v":""},{"$f":"IFERROR( INDEX(entries, MATCH(AL5, gymnasts, 0), 2), \"\")","v":""},{"$f":"IFERROR(INDEX(gymnasts, SMALL(IF(VALUE(LEFT(AN$32, 1))=vaultPos, ROW(vaultPos)-MIN(ROW(vaultPos))+1, \"\"), ROW()-4)), \"\")","v":""},{"$f":"IFERROR( INDEX(entries, MATCH(AN5, gymnasts, 0), 2), \"\")","v":""},{"$f":"IFERROR(INDEX(gymnasts, SMALL(IF(VALUE(LEFT(AP$32, 1))=vaultPos, ROW(vaultPos)-MIN(ROW(vaultPos))+1, \"\"), ROW()-4)), \"\")","v":""},{"$f":"IFERROR( INDEX(entries, MATCH(AP5, gymnasts, 0), 2), \"\")","v":""},{"$f":"IFERROR(INDEX(gymnasts, SMALL(IF(VALUE(LEFT(AR$32, 1))=vaultPos, ROW(vaultPos)-MIN(ROW(vaultPos))+1, \"\"), ROW()-4)), \"\")","v":""},{"$f":"IFERROR( INDEX(entries, MATCH(AR5, gymnasts, 0), 2), \"\")","v":""},{"$f":"IFERROR(INDEX(gymnasts, SMALL(IF(VALUE(LEFT(AT$32, 1))=vaultPos, ROW(vaultPos)-MIN(ROW(vaultPos))+1, \"\"), ROW()-4)), \"\")","v":""},{"$f":"IFERROR( INDEX(entries, MATCH(AT5, gymnasts, 0), 2), \"\")","v":""},{"$f":"IFERROR(INDEX(gymnasts, SMALL(IF(VALUE(LEFT(AV$32, 1))=vaultPos, ROW(vaultPos)-MIN(ROW(vaultPos))+1, \"\"), ROW()-4)), \"\")","v":""},{"$f":"IFERROR( INDEX(entries, MATCH(AV5, gymnasts, 0), 2), \"\")","v":""}]
[{"$nulls":3},{"v":0,"d":"0.0"},{"v":0,"d":"0.00"},{"v":0,"d":"0.0"},{"v":0,"d":"0.00"},{"v":0,"d":"0.00"},0,3,0,0,{"v":0,"d":"0.0"},{"v":0,"d":"0.00"},0,3,0,0,{"v":0,"d":"0.0"},{"v":0,"d":"0.00"},0,3,0,0,{"v":0,"d":"0.0"},{"v":0,"d":"0.00"},0,3,0,0,{"v":0,"d":"0.00"},0,3,0,0,null,null,"",{"$f":"IFERROR( INDEX(entries, MATCH(AL6, gymnasts, 0), 2), \"\")","v":""},"",{"$f":"IFERROR( INDEX(entries, MATCH(AN6, gymnasts, 0), 2), \"\")","v":""},"",{"$f":"IFERROR( INDEX(entries, MATCH(AP6, gymnasts, 0), 2), \"\")","v":""},"",{"$f":"IFERROR( INDEX(entries, MATCH(AR6, gymnasts, 0), 2), \"\")","v":""},"",{"$f":"IFERROR( INDEX(entries, MATCH(AT6, gymnasts, 0), 2), \"\")","v":""},"",""]
[{"$nulls":3},{"v":0,"d":"0.0"},{"v":0,"d":"0.00"},{"v":0,"d":"0.0"},{"v":0,"d":"0.00"},{"v":0,"d":"0.00"},0,4,0,0,{"v":0,"d":"0.0"},{"v":0,"d":"0.00"},0,4,0,0,{"v":0,"d":"0.0"},{"v":0,"d":"0.00"},0,4,0,0,{"v":0,"d":"0.0"},{"v":0,"d":"0.00"},0,4,0,0,{"v":0,"d":"0.00"},0,4,0,0,null,null,"","","","","","","","","","","",""]
[{"$nulls":3},{"v":0,"d":"0.0"},{"v":0,"d":"0.00"},{"v":0,"d":"0.0"},{"v":0,"d":"0.00"},{"v":0,"d":"0.00"},0,5,0,0,{"v":0,"d":"0.0"},{"v":0,"d":"0.00"},0,5,0,0,{"v":0,"d":"0.0"},{"v":0,"d":"0.00"},0,5,0,0,{"v":0,"d":"0.0"},{"v":0,"d":"0.00"},0,5,0,0,{"v":0,"d":"0.00"},0,5,0,0,null,null,"","","","","","","","","","","",""]
[{"$nulls":3},{"v":0,"d":"0.0"},{"v":0,"d":"0.00"},{"v":0,"d":"0.0"},{"v":0,"d":"0.00"},{"v":0,"d":"0.00"},0,6,0,0,{"v":0,"d":"0.0"},{"v":0,"d":"0.00"},0,6,0,0,{"v":0,"d":"0.0"},{"v":0,"d":"0.00"},0,6,0,0,{"v":0,"d":"0.0"},{"v":0,"d":"0.00"},0,6,0,0,{"v":0,"d":"0.00"},0,6,0,0,null,null,"","","","","","","","","","","",""]
[{"$nulls":3},{"v":0,"d":"0.0"},{"v":0,"d":"0.00"},{"v":0,"d":"0.0"},{"v":0,"d":"0.00"},{"v":0,"d":"0.00"},0,7,0,0,{"v":0,"d":"0.0"},{"v":0,"d":"0.00"},0,7,0,0,{"v":0,"d":"0.0"},{"v":0,"d":"0.00"},0,7,0,0,{"v":0,"d":"0.0"},{"v":0,"d":"0.00"},0,7,0,0,{"v":0,"d":"0.00"},0,7,0,0,null,null,"","","","","","","","","","","",""]
[{"$nulls":3},{"v":0,"d":"0.0"},{"v":0,"d":"0.00"},{"v":0,"d":"0.0"},{"v":0,"d":"0.00"},{"v":0,"d":"0.00"},0,8,0,0,{"v":0,"d":"0.0"},{"v":0,"d":"0.00"},0,8,0,0,{"v":0,"d":"0.0"},{"v":0,"d":"0.00"},0,8,0,0,{"v":0,"d":"0.0"},{"v":0,"d":"0.00"},0,8,0,0,{"v":0,"d":"0.00"},0,8,0,0,null,null,"6th Place",{"$f":"IFERROR(INDEX(bars,MATCH(AL12,gymnasts,0)), \"\")","v":""},"5th Place",{"$f":"IFERROR(INDEX(bars,MATCH(AN12,gymnasts,0)), \"\")","v":""},"4th Place",{"$f":"IFERROR(INDEX(bars,MATCH(AP12,gymnasts,0)), \"\")","v":""},"3rd Place",{"$f":"IFERROR(INDEX(bars,MATCH(AR12,gymnasts,0)), \"\")","v":""},"2nd Place",{"$f":"IFERROR(INDEX(bars,MATCH(AT12,gymnasts,0)), \"\")","v":""},"1st Place",{"$f":"IFERROR(INDEX(bars,MATCH(AV12,gymnasts,0)), \"\")","v":""}]
[{"$nulls":3},{"v":0,"d":"0.0"},{"v":0,"d":"0.00"},{"v":0,"d":"0.0"},{"v":0,"d":"0.00"},{"v":0,"d":"0.00"},0,9,0,0,{"v":0,"d":"0.0"},{"v":0,"d":"0.00"},0,9,0,0,{"v":0,"d":"0.0"},{"v":0,"d":"0.00"},0,9,0,0,{"v":0,"d":"0.0"},{"v":0,"d":"0.00"},0,9,0,0,{"v":0,"d":"0.00"},0,9,0,0,null,"Bars",{"$f":"IFERROR(INDEX(gymnasts, SMALL(IF(VALUE(LEFT(AL$32, 1))=BarPos, ROW(BarPos)-MIN(ROW(BarPos))+1, \"\"), ROW()-11)), \"\")","v":""},{"$f":"IFERROR( INDEX(entries, MATCH(AL12, gymnasts, 0), 2), \"\")","v":""},{"$f":"IFERROR(INDEX(gymnasts, SMALL(IF(VALUE(LEFT(AN$32, 1))=BarPos, ROW(BarPos)-MIN(ROW(BarPos))+1, \"\"), ROW()-11)), \"\")","v":""},{"$f":"IFERROR( INDEX(entries, MATCH(AN12, gymnasts, 0), 2), \"\")","v":""},{"$f":"IFERROR(INDEX(gymnasts, SMALL(IF(VALUE(LEFT(AP$32, 1))=BarPos, ROW(BarPos)-MIN(ROW(BarPos))+1, \"\"), ROW()-11)), \"\")","v":""},{"$f":"IFERROR( INDEX(entries, MATCH(AP12, gymnasts, 0), 2), \"\")","v":""},{"$f":"IFERROR(INDEX(gymnasts, SMALL(IF(VALUE(LEFT(AR$32, 1))=BarPos, ROW(BarPos)-MIN(ROW(BarPos))+1, \"\"), ROW()-11)), \"\")","v":""},{"$f":"IFERROR( INDEX(entries, MATCH(AR12, gymnasts, 0), 2), \"\")","v":""},{"$f":"IFERROR(INDEX(gymnasts, SMALL(IF(VALUE(LEFT(AT$32, 1))=BarPos, ROW(BarPos)-MIN(ROW(BarPos))+1, \"\"), ROW()-11)), \"\")","v":""},{"$f":"IFERROR( INDEX(entries, MATCH(AT12, gymnasts, 0), 2), \"\")","v":""},{"$f":"IFERROR(INDEX(gymnasts, SMALL(IF(VALUE(LEFT(AV$32, 1))=BarPos, ROW(BarPos)-MIN(ROW(BarPos))+1, \"\"), ROW()-11)), \"\")","v":""},{"$f":"IFERROR( INDEX(entries, MATCH(AV12, gymnasts, 0), 2), \"\")","v":""}]
[{"$nulls":3},{"v":0,"d":"0.0"},{"v":0,"d":"0.00"},{"v":0,"d":"0.0"},{"v":0,"d":"0.00"},{"v":0,"d":"0.00"},0,10,0,0,{"v":0,"d":"0.0"},{"v":0,"d":"0.00"},0,10,0,0,{"v":0,"d":"0.0"},{"v":0,"d":"0.00"},0,10,0,0,{"v":0,"d":"0.0"},{"v":0,"d":"0.00"},0,10,0,0,{"v":0,"d":"0.00"},0,10,0,0,null,null,"",{"$f":"IFERROR( INDEX(entries, MATCH(AL13, gymnasts, 0), 2), \"\")","v":""},"",{"$f":"IFERROR( INDEX(entries, MATCH(AN13, gymnasts, 0), 2), \"\")","v":""},"",{"$f":"IFERROR( INDEX(entries, MATCH(AP13, gymnasts, 0), 2), \"\")","v":""},"",{"$f":"IFERROR( INDEX(entries, MATCH(AR13, gymnasts, 0), 2), \"\")","v":""},"",{"$f":"IFERROR( INDEX(entries, MATCH(AT13, gymnasts, 0), 2), \"\")","v":""},"",""]
[{"$nulls":3},{"v":0,"d":"0.0"},{"v":0,"d":"0.00"},{"v":0,"d":"0.0"},{"v":0,"d":"0.00"},{"v":0,"d":"0.00"},0,11,0,0,{"v":0,"d":"0.0"},{"v":0,"d":"0.00"},0,11,0,0,{"v":0,"d":"0.0"},{"v":0,"d":"0.00"},0,11,0,0,{"v":0,"d":"0.0"},{"v":0,"d":"0.00"},0,11,0,0,{"v":0,"d":"0.00"},0,11,0,0,null,null,"","","","","","","","","","","",""]
[{"$nulls":3},{"v":0,"d":"0.0"},{"v":0,"d":"0.00"},{"v":0,"d":"0.0"},{"v":0,"d":"0.00"},{"v":0,"d":"0.00"},0,12,0,0,{"v":0,"d":"0.0"},{"v":0,"d":"0.00"},0,12,0,0,{"v":0,"d":"0.0"},{"v":0,"d":"0.00"},0,12,0,0,{"v":0,"d":"0.0"},{"v":0,"d":"0.00"},0,12,0,0,{"v":0,"d":"0.00"},0,12,0,0,null,null,"","","","","","","","","","","",""]
[{"$nulls":3},{"v":0,"d":"0.0"},{"v":0,"d":"0.00"},{"v":0,"d":"0.0"},{"v":0,"d":"0.00"},{"v":0,"d":"0.00"},0,13,0,0,{"v":0,"d":"0.0"},{"v":0,"d":"0.00"},0,13,0,0,{"v":0,"d":"0.0"},{"v":0,"d":"0.00"},0,13,0,0,{"v":0,"d":"0.0"},{"v":0,"d":"0.00"},0,13,0,0,{"v":0,"d":"0.00"},0,13,0,0,null,null,"","","","","","","","","","","",""]
[{"$nulls":3},{"v":0,"d":"0.0"},{"v":0,"d":"0.00"},{"v":0,"d":"0.0"},{"v":0,"d":"0.00"},{"v":0,"d":"0.00"},0,14,0,0,{"v":0,"d":"0.0"},{"v":0,"d":"0.00"},0,14,0,0,{"v":0,"d":"0.0"},{"v":0,"d":"0.00"},0,14,0,0,{"v":0,"d":"0.0"},{"v":0,"d":"0.00"},0,14,0,0,{"v":0,"d":"0.00"},0,14,0,0,null,null,"","","","","","","","","","","",""]
[{"$nulls":3},{"v":0,"d":"0.0"},{"v":0,"d":"0.00"},{"v":0,"d":"0.0"},{"v":0,"d":"0.00"},{"v":0,"d":"0.00"},0,15,0,0,{"v":0,"d":"0.0"},{"v":0,"d":"0.00"},0,15,0,0,{"v":0,"d":"0.0"},{"v":0,"d":"0.00"},0,15,0,0,{"v":0,"d":"0.0"},{"v":0,"d":"0.00"},0,15,0,0,{"v":0,"d":"0.00"},0,15,0,0,null,null,"6th Place",{"$f":"IFERROR(INDEX(beam,MATCH(AL19,gymnasts,0)), \"\")","v":""},"5th Place",{"$f":"IFERROR(INDEX(beam,MATCH(AN19,gymnasts,0)), \"\")","v":""},"4th Place",{"$f":"IFERROR(INDEX(beam,MATCH(AP19,gymnasts,0)), \"\")","v":""},"3rd Place",{"$f":"IFERROR(INDEX(beam,MATCH(AR19,gymnasts,0)), \"\")","v":""},"2nd Place",{"$f":"IFERROR(INDEX(beam,MATCH(AT19,gymnasts,0)), \"\")","v":""},"1st Place",{"$f":"IFERROR(INDEX(beam,MATCH(AV19,gymnasts,0)), \"\")","v":""}]
[{"$nulls":3},{"v":0,"d":"0.0"},{"v":0,"d":"0.00"},{"v":0,"d":"0.0"},{"v":0,"d":"0.00"},{"v":0,"d":"0.00"},0,16,0,0,{"v":0,"d":"0.0"},{"v":0,"d":"0.00"},0,16,0,0,{"v":0,"d":"0.0"},{"v":0,"d":"0.00"},0,16,0,0,{"v":0,"d":"0.0"},{"v":0,"d":"0.00"},0,16,0,0,{"v":0,"d":"0.00"},0,16,0,0,null,"Beam",{"$f":"IFERROR(INDEX(gymnasts, SMALL(IF(VALUE(LEFT(AL$32, 1))=BeamPos, ROW(BeamPos)-MIN(ROW(BeamPos))+1, \"\"), ROW()-18)), \"\")","v":""},{"$f":"IFERROR( INDEX(entries, MATCH(AL19, gymnasts, 0), 2), \"\")","v":""},{"$f":"IFERROR(INDEX(gymnasts, SMALL(IF(VALUE(LEFT(AN$32, 1))=BeamPos, ROW(BeamPos)-MIN(ROW(BeamPos))+1, \"\"), ROW()-18)), \"\")","v":""},{"$f":"IFERROR( INDEX(entries, MATCH(AN19, gymnasts, 0), 2), \"\")","v":""},{"$f":"IFERROR(INDEX(gymnasts, SMALL(IF(VALUE(LEFT(AP$32, 1))=BeamPos, ROW(BeamPos)-MIN(ROW(BeamPos))+1, \"\"), ROW()-18)), \"\")","v":""},{"$f":"IFERROR( INDEX(entries, MATCH(AP19, gymnasts, 0), 2), \"\")","v":""},{"$f":"IFERROR(INDEX(gymnasts, SMALL(IF(VALUE(LEFT(AR$32, 1))=BeamPos, ROW(BeamPos)-MIN(ROW(BeamPos))+1, \"\"), ROW()-18)), \"\")","v":""},{"$f":"IFERROR( INDEX(entries, MATCH(AR19, gymnasts, 0), 2), \"\")","v":""},{"$f":"IFERROR(INDEX(gymnasts, SMALL(IF(VALUE(LEFT(AT$32, 1))=BeamPos, ROW(BeamPos)-MIN(ROW(BeamPos))+1, \"\"), ROW()-18)), \"\")","v":""},{"$f":"IFERROR( INDEX(entries, MATCH(AT19, gymnasts, 0), 2), \"\")","v":""},{"$f":"IFERROR(INDEX(gymnasts, SMALL(IF(VALUE(LEFT(AV$32, 1))=BeamPos, ROW(BeamPos)-MIN(ROW(BeamPos))+1, \"\"), ROW()-18)), \"\")","v":""},{"$f":"IFERROR( INDEX(entries, MATCH(AV19, gymnasts, 0), 2), \"\")","v":""}]
[{"$nulls":3},{"v":0,"d":"0.0"},{"v":0,"d":"0.00"},{"v":0,"d":"0.0"},{"v":0,"d":"0.00"},{"v":0,"d":"0.00"},0,17,0,0,{"v":0,"d":"0.0"},{"v":0,"d":"0.00"},0,17,0,0,{"v":0,"d":"0.0"},{"v":0,"d":"0.00"},0,17,0,0,{"v":0,"d":"0.0"},{"v":0,"d":"0.00"},0,17,0,0,{"v":0,"d":"0.00"},0,17,0,0,null,null,"",{"$f":"IFERROR( INDEX(entries, MATCH(AL20, gymnasts, 0), 2), \"\")","v":""},"",{"$f":"IFERROR( INDEX(entries, MATCH(AN20, gymnasts, 0), 2), \"\")","v":""},"",{"$f":"IFERROR( INDEX(entries, MATCH(AP20, gymnasts, 0), 2), \"\")","v":""},"",{"$f":"IFERROR( INDEX(entries, MATCH(AR20, gymnasts, 0), 2), \"\")","v":""},"",{"$f":"IFERROR( INDEX(entries, MATCH(AT20, gymnasts, 0), 2), \"\")","v":""},"",""]
[{"$nulls":3},{"v":0,"d":"0.0"},{"v":0,"d":"0.00"},{"v":0,"d":"0.0"},{"v":0,"d":"0.00"},{"v":0,"d":"0.00"},0,18,0,0,{"v":0,"d":"0.0"},{"v":0,"d":"0.00"},0,18,0,0,{"v":0,"d":"0.0"},{"v":0,"d":"0.00"},0,18,0,0,{"v":0,"d":"0.0"},{"v":0,"d":"0.00"},0,18,0,0,{"v":0,"d":"0.00"},0,18,0,0,null,null,"","","","","","","","","","","",""]
[{"$nulls":3},{"v":0,"d":"0.0"},{"v":0,"d":"0.00"},{"v":0,"d":"0.0"},{"v":0,"d":"0.00"},{"v":0,"d":"0.00"},0,19,0,0,{"v":0,"d":"0.0"},{"v":0,"d":"0.00"},0,19,0,0,{"v":0,"d":"0.0"},{"v":0,"d":"0.00"},0,19,0,0,{"v":0,"d":"0.0"},{"v":0,"d":"0.00"},0,19,0,0,{"v":0,"d":"0.00"},0,19,0,0,null,null,"","","","","","","","","","","",""]
[{"$nulls":3},{"v":0,"d":"0.0"},{"v":0,"d":"0.00"},{"v":0,"d":"0.0"},{"v":0,"d":"0.00"},{"v":0,"d":"0.00"},0,20,0,0,{"v":0,"d":"0.0"},{"v":0,"d":"0.00"},0,20,0,0,{"v":0,"d":"0.0"},{"v":0,"d":"0.00"},0,20,0,0,{"v":0,"d":"0.0"},{"v":0,"d":"0.00"},0,20,0,0,{"v":0,"d":"0.00"},0,20,0,0,null,null,"","","","","","","","","","","",""]
[{"$nulls":3},{"v":0,"d":"0.0"},{"v":0,"d":"0.00"},{"v":0,"d":"0.0"},{"v":0,"d":"0.00"},{"v":0,"d":"0.00"},0,21,0,0,{"v":0,"d":"0.0"},{"v":0,"d":"0.00"},0,21,0,0,{"v":0,"d":"0.0"},{"v":0,"d":"0.00"},0,21,0,0,{"v":0,"d":"0.0"},{"v":0,"d":"0.00"},0,21,0,0,{"v":0,"d":"0.00"},0,21,0,0,null,null,"","","","","","","","","","","",""]
[{"$nulls":3},{"v":0,"d":"0.0"},{"v":0,"d":"0.00"},{"v":0,"d":"0.0"},{"v":0,"d":"0.00"},{"v":0,"d":"0.00"},0,22,0,0,{"v":0,"d":"0.0"},{"v":0,"d":"0.00"},0,22,0,0,{"v":0,"d":"0.0"},{"v":0,"d":"0.00"},0,22,0,0,{"v":0,"d":"0.0"},{"v":0,"d":"0.00"},0,22,0,0,{"v":0,"d":"0.00"},0,22,0,0,null,null,"6th Place",{"$f":"IFERROR(INDEX(floor,MATCH(AL26,gymnasts,0)), \"\")","v":""},"5th Place",{"$f":"IFERROR(INDEX(floor,MATCH(AN26,gymnasts,0)), \"\")","v":""},"4th Place",{"$f":"IFERROR(INDEX(floor,MATCH(AP26,gymnasts,0)), \"\")","v":""},"3rd Place",{"$f":"IFERROR(INDEX(floor,MATCH(AR26,gymnasts,0)), \"\")","v":""},"2nd Place",{"$f":"IFERROR(INDEX(floor,MATCH(AT26,gymnasts,0)), \"\")","v":""},"1st Place",{"$f":"IFERROR(INDEX(floor,MATCH(AV26,gymnasts,0)), \"\")","v":""}]
[{"$nulls":3},{"v":0,"d":"0.0"},{"v":0,"d":"0.00"},{"v":0,"d":"0.0"},{"v":0,"d":"0.00"},{"v":0,"d":"0.00"},0,23,0,0,{"v":0,"d":"0.0"},{"v":0,"d":"0.00"},0,23,0,0,{"v":0,"d":"0.0"},{"v":0,"d":"0.00"},0,23,0,0,{"v":0,"d":"0.0"},{"v":0,"d":"0.00"},0,23,0,0,{"v":0,"d":"0.00"},0,23,0,0,null,"Floor",{"$f":"IFERROR(INDEX(gymnasts, SMALL(IF(VALUE(LEFT(AL$32, 1))=FloorPos, ROW(FloorPos)-MIN(ROW(FloorPos))+1, \"\"), ROW()-25)), \"\")","v":""},{"$f":"IFERROR( INDEX(entries, MATCH(AL26, gymnasts, 0), 2), \"\")","v":""},{"$f":"IFERROR(INDEX(gymnasts, SMALL(IF(VALUE(LEFT(AN$32, 1))=FloorPos, ROW(FloorPos)-MIN(ROW(FloorPos))+1, \"\"), ROW()-25)), \"\")","v":""},{"$f":"IFERROR( INDEX(entries, MATCH(AN26, gymnasts, 0), 2), \"\")","v":""},{"$f":"IFERROR(INDEX(gymnasts, SMALL(IF(VALUE(LEFT(AP$32, 1))=FloorPos, ROW(FloorPos)-MIN(ROW(FloorPos))+1, \"\"), ROW()-25)), \"\")","v":""},{"$f":"IFERROR( INDEX(entries, MATCH(AP26, gymnasts, 0), 2), \"\")","v":""},{"$f":"IFERROR(INDEX(gymnasts, SMALL(IF(VALUE(LEFT(AR$32, 1))=FloorPos, ROW(FloorPos)-MIN(ROW(FloorPos))+1, \"\"), ROW()-25)), \"\")","v":""},{"$f":"IFERROR( INDEX(entries, MATCH(AR26, gymnasts, 0), 2), \"\")","v":""},{"$f":"IFERROR(INDEX(gymnasts, SMALL(IF(VALUE(LEFT(AT$32, 1))=FloorPos, ROW(FloorPos)-MIN(ROW(FloorPos))+1, \"\"), ROW()-25)), \"\")","v":""},{"$f":"IFERROR( INDEX(entries, MATCH(AT26, gymnasts, 0), 2), \"\")","v":""},{"$f":"IFERROR(INDEX(gymnasts, SMALL(IF(VALUE(LEFT(AV$32, 1))=FloorPos, ROW(FloorPos)-MIN(ROW(FloorPos))+1, \"\"), ROW()-25)), \"\")","v":""},{"$f":"IFERROR( INDEX(entries, MATCH(AV26, gymnasts, 0), 2), \"\")","v":""}]
[{"$nulls":3},{"v":0,"d":"0.0"},{"v":0,"d":"0.00"},{"v":0,"d":"0.0"},{"v":0,"d":"0.00"},{"v":0,"d":"0.00"},0,24,0,0,{"v":0,"d":"0.0"},{"v":0,"d":"0.00"},0,24,0,0,{"v":0,"d":"0.0"},{"v":0,"d":"0.00"},0,24,0,0,{"v":0,"d":"0.0"},{"v":0,"d":"0.00"},0,24,0,0,{"v":0,"d":"0.00"},0,24,0,0,null,null,"",{"$f":"IFERROR( INDEX(entries, MATCH(AL27, gymnasts, 0), 2), \"\")","v":""},"",{"$f":"IFERROR( INDEX(entries, MATCH(AN27, gymnasts, 0), 2), \"\")","v":""},"",{"$f":"IFERROR( INDEX(entries, MATCH(AP27, gymnasts, 0), 2), \"\")","v":""},"",{"$f":"IFERROR( INDEX(entries, MATCH(AR27, gymnasts, 0), 2), \"\")","v":""},"",{"$f":"IFERROR( INDEX(entries, MATCH(AT27, gymnasts, 0), 2), \"\")","v":""},"",""]
[{"$nulls":3},{"v":0,"d":"0.0"},{"v":0,"d":"0.00"},{"v":0,"d":"0.0"},{"v":0,"d":"0.00"},{"v":0,"d":"0.00"},0,25,0,0,{"v":0,"d":"0.0"},{"v":0,"d":"0.00"},0,25,0,0,{"v":0,"d":"0.0"},{"v":0,"d":"0.00"},0,25,0,0,{"v":0,"d":"0.0"},{"v":0,"d":"0.00"},0,25,0,0,{"v":0,"d":"0.00"},0,25,0,0,null,null,"","","","","","","","","","","",""]
[{"$nulls":3},{"v":0,"d":"0.0"},{"v":0,"d":"0.00"},{"v":0,"d":"0.0"},{"v":0,"d":"0.00"},{"v":0,"d":"0.00"},0,26,0,0,{"v":0,"d":"0.0"},{"v":0,"d":"0.00"},0,26,0,0,{"v":0,"d":"0.0"},{"v":0,"d":"0.00"},0,26,0,0,{"v":0,"d":"0.0"},{"v":0,"d":"0.00"},0,26,0,0,{"v":0,"d":"0.00"},0,26,0,0,null,null,"","","","","","","","","","","",""]
[{"$nulls":3},{"v":0,"d":"0.0"},{"v":0,"d":"0.00"},{"v":0,"d":"0.0"},{"v":0,"d":"0.00"},{"v":0,"d":"0.00"},0,27,0,0,{"v":0,"d":"0.0"},{"v":0,"d":"0.00"},0,27,0,0,{"v":0,"d":"0.0"},{"v":0,"d":"0.00"},0,27,0,0,{"v":0,"d":"0.0"},{"v":0,"d":"0.00"},0,27,0,0,{"v":0,"d":"0.00"},0,27,0,0,null,null,"","","","","","","","","","","",""]
[{"$nulls":3},{"v":0,"d":"0.0"},{"v":0,"d":"0.00"},{"v":0,"d":"0.0"},{"v":0,"d":"0.00"},{"v":0,"d":"0.00"},0,28,0,0,{"v":0,"d":"0.0"},{"v":0,"d":"0.00"},0,28,0,0,{"v":0,"d":"0.0"},{"v":0,"d":"0.00"},0,28,0,0,{"v":0,"d":"0.0"},{"v":0,"d":"0.00"},0,28,0,0,{"v":0,"d":"0.00"},0,28,0,0,null,null,"","","","","","","","","","","",""]
[{"$nulls":3},{"v":0,"d":"0.0"},{"v":0,"d":"0.00"},{"v":0,"d":"0.0"},{"v":0,"d":"0.00"},{"v":0,"d":"0.00"},0,29,0,0,{"v":0,"d":"0.0"},{"v":0,"d":"0.00"},0,29,0,0,{"v":0,"d":"0.0"},{"v":0,"d":"0.00"},0,29,0,0,{"v":0,"d":"0.0"},{"v":0,"d":"0.00"},0,29,0,0,{"v":0,"d":"0.00"},0,29,0,0,null,null,"6th Place",{"$f":"IFERROR(INDEX(AAscores,MATCH(AL33,gymnasts,0)), \"\")","v":""},"5th Place",{"$f":"IFERROR(INDEX(AAscores,MATCH(AN33,gymnasts,0)), \"\")","v":""},"4th Place",{"$f":"IFERROR(INDEX(AAscores,MATCH(AP33,gymnasts,0)), \"\")","v":""},"3rd Place",{"$f":"IFERROR(INDEX(AAscores,MATCH(AR33,gymnasts,0)), \"\")","v":""},"2nd Place",{"$f":"IFERROR(INDEX(AAscores,MATCH(AT33,gymnasts,0)), \"\")","v":""},"1st Place",{"$f":"IFERROR(INDEX(AAscores,MATCH(AV33,gymnasts,0)), \"\")","v":""}]
[{"$nulls":3},{"v":0,"d":"0.0"},{"v":0,"d":"0.00"},{"v":0,"d":"0.0"},{"v":0,"d":"0.00"},{"v":0,"d":"0.00"},0,30,0,0,{"v":0,"d":"0.0"},{"v":0,"d":"0.00"},0,30,0,0,{"v":0,"d":"0.0"},{"v":0,"d":"0.00"},0,30,0,0,{"v":0,"d":"0.0"},{"v":0,"d":"0.00"},0,30,0,0,{"v":0,"d":"0.00"},0,30,0,0,null,"AA",{"$f":"IFERROR(INDEX(gymnasts, SMALL(IF(VALUE(LEFT(AL$32, 1))=AApos, ROW(AApos)-MIN(ROW(AApos))+1, \"\"), ROW()-32)), \"\")","v":""},{"$f":"IFERROR( INDEX(entries, MATCH(AL33, gymnasts, 0), 2), \"\")","v":""},{"$f":"IFERROR(INDEX(gymnasts, SMALL(IF(VALUE(LEFT(AN$32, 1))=AApos, ROW(AApos)-MIN(ROW(AApos))+1, \"\"), ROW()-32)), \"\")","v":""},{"$f":"IFERROR( INDEX(entries, MATCH(AN33, gymnasts, 0), 2), \"\")","v":""},{"$f":"IFERROR(INDEX(gymnasts, SMALL(IF(VALUE(LEFT(AP$32, 1))=AApos, ROW(AApos)-MIN(ROW(AApos))+1, \"\"), ROW()-32)), \"\")","v":""},{"$f":"IFERROR( INDEX(entries, MATCH(AP33, gymnasts, 0), 2), \"\")","v":""},{"$f":"IFERROR(INDEX(gymnasts, SMALL(IF(VALUE(LEFT(AR$32, 1))=AApos, ROW(AApos)-MIN(ROW(AApos))+1, \"\"), ROW()-32)), \"\")","v":""},{"$f":"IFERROR( INDEX(entries, MATCH(AR33, gymnasts, 0), 2), \"\")","v":""},{"$f":"IFERROR(INDEX(gymnasts, SMALL(IF(VALUE(LEFT(AT$32, 1))=AApos, ROW(AApos)-MIN(ROW(AApos))+1, \"\"), ROW()-32)), \"\")","v":""},{"$f":"IFERROR( INDEX(entries, MATCH(AT33, gymnasts, 0), 2), \"\")","v":""},{"$f":"IFERROR(INDEX(gymnasts, SMALL(IF(VALUE(LEFT(AV$32, 1))=AApos, ROW(AApos)-MIN(ROW(AApos))+1, \"\"), ROW()-32)), \"\")","v":""},{"$f":"IFERROR( INDEX(entries, MATCH(AV33, gymnasts, 0), 2), \"\")","v":""}]
[{"$nulls":3},{"v":0,"d":"0.0"},{"v":0,"d":"0.00"},{"v":0,"d":"0.0"},{"v":0,"d":"0.00"},{"v":0,"d":"0.00"},0,31,0,0,{"v":0,"d":"0.0"},{"v":0,"d":"0.00"},0,31,0,0,{"v":0,"d":"0.0"},{"v":0,"d":"0.00"},0,31,0,0,{"v":0,"d":"0.0"},{"v":0,"d":"0.00"},0,31,0,0,{"v":0,"d":"0.00"},0,31,0,0,null,null,"",{"$f":"IFERROR( INDEX(entries, MATCH(AL34, gymnasts, 0), 2), \"\")","v":""},"",{"$f":"IFERROR( INDEX(entries, MATCH(AN34, gymnasts, 0), 2), \"\")","v":""},"",{"$f":"IFERROR( INDEX(entries, MATCH(AP34, gymnasts, 0), 2), \"\")","v":""},"",{"$f":"IFERROR( INDEX(entries, MATCH(AR34, gymnasts, 0), 2), \"\")","v":""},"",{"$f":"IFERROR( INDEX(entries, MATCH(AT34, gymnasts, 0), 2), \"\")","v":""},"",""]
[{"$nulls":3},{"v":0,"d":"0.0"},{"v":0,"d":"0.00"},{"v":0,"d":"0.0"},{"v":0,"d":"0.00"},{"v":0,"d":"0.00"},0,32,0,0,{"v":0,"d":"0.0"},{"v":0,"d":"0.00"},0,32,0,0,{"v":0,"d":"0.0"},{"v":0,"d":"0.00"},0,32,0,0,{"v":0,"d":"0.0"},{"v":0,"d":"0.00"},0,32,0,0,{"v":0,"d":"0.00"},0,32,0,0,null,null,"","","","","","","","","","","",""]
[{"$nulls":3},{"v":0,"d":"0.0"},{"v":0,"d":"0.00"},{"v":0,"d":"0.0"},{"v":0,"d":"0.00"},{"v":0,"d":"0.00"},0,33,0,0,{"v":0,"d":"0.0"},{"v":0,"d":"0.00"},0,33,0,0,{"v":0,"d":"0.0"},{"v":0,"d":"0.00"},0,33,0,0,{"v":0,"d":"0.0"},{"v":0,"d":"0.00"},0,33,0,0,{"v":0,"d":"0.00"},0,33,0,0,null,null,"","","","","","","","","","","",""]
[{"$nulls":3},{"v":0,"d":"0.0"},{"v":0,"d":"0.00"},{"v":0,"d":"0.0"},{"v":0,"d":"0.00"},{"v":0,"d":"0.00"},0,34,0,0,{"v":0,"d":"0.0"},{"v":0,"d":"0.00"},0,34,0,0,{"v":0,"d":"0.0"},{"v":0,"d":"0.00"},0,34,0,0,{"v":0,"d":"0.0"},{"v":0,"d":"0.00"},0,34,0,0,{"v":0,"d":"0.00"},0,34,0,0,null,null,"","","","","","","","","","","",""]
[{"$nulls":3},{"v":0,"d":"0.0"},{"v":0,"d":"0.00"},{"v":0,"d":"0.0"},{"v":0,"d":"0.00"},{"v":0,"d":"0.00"},0,35,0,0,{"v":0,"d":"0.0"},{"v":0,"d":"0.00"},0,35,0,0,{"v":0,"d":"0.0"},{"v":0,"d":"0.00"},0,35,0,0,{"v":0,"d":"0.0"},{"v":0,"d":"0.00"},0,35,0,0,{"v":0,"d":"0.00"},0,35,0,0,null,null,"","","","","","","","","","","",""]
[{"$nulls":3},{"v":0,"d":"0.0"},{"v":0,"d":"0.00"},{"v":0,"d":"0.0"},{"v":0,"d":"0.00"},{"v":0,"d":"0.00"},0,36,0,0,{"v":0,"d":"0.0"},{"v":0,"d":"0.00"},0,36,0,0,{"v":0,"d":"0.0"},{"v":0,"d":"0.00"},0,36,0,0,{"v":0,"d":"0.0"},{"v":0,"d":"0.00"},0,36,0,0,{"v":0,"d":"0.00"},0,36,0,0,null,"Team","3rd place Team",{"$f":"IF(COUNTIF(AL40, 0), \"\", INDEX(teamTotals, MATCH(AL40, teams, 0)))","v":{"$error":"#N/A"}},null,null,"2nd Place Team",{"$f":"IF(COUNTIF(AP40, 0), \"\", INDEX(teamTotals, MATCH(AP40, teams, 0)))","v":{"$error":"#N/A"}},null,null,"1st Place Team",{"$f":"IF(COUNTIF(AT40, 0), \"\", INDEX(teamTotals, MATCH(AT40, teams, 0)))","v":{"$error":"#N/A"}}]
[{"$nulls":3},{"v":0,"d":"0.0"},{"v":0,"d":"0.00"},{"v":0,"d":"0.0"},{"v":0,"d":"0.00"},{"v":0,"d":"0.00"},0,37,0,0,{"v":0,"d":"0.0"},{"v":0,"d":"0.00"},0,37,0,0,{"v":0,"d":"0.0"},{"v":0,"d":"0.00"},0,37,0,0,{"v":0,"d":"0.0"},{"v":0,"d":"0.00"},0,37,0,0,{"v":0,"d":"0.00"},0,37,0,0,null,null,{"$f":"IFERROR(INDEX(teams, SMALL(IF(VALUE(LEFT(AL$39, 1))=teamPos, ROW(teamPos)-MIN(ROW(teamPos))+1, \"\"), ROW()-39)), \"\")","v":""},{"$f":"IFERROR(IF(COUNTIF(AL40, 0), \"\", INDEX(gymnasts, SMALL(IF(AL$40=club, ROW(club)-MIN(ROW(club))+1, \"\"), ROW()-39))), \"\")","v":0},null,null,{"$f":"IFERROR(INDEX(teams, SMALL(IF(VALUE(LEFT(AP$39, 1))=teamPos, ROW(teamPos)-MIN(ROW(teamPos))+1, \"\"), ROW()-39)), \"\")","v":""},{"$f":"IFERROR(IF(COUNTIF(AP40, 0), \"\", INDEX(gymnasts, SMALL(IF(AP$40=club, ROW(club)-MIN(ROW(club))+1, \"\"), ROW()-39))), \"\")","v":0},null,null,{"$f":"IFERROR(INDEX(teams, SMALL(IF(VALUE(LEFT(AT$39, 1))=teamPos, ROW(teamPos)-MIN(ROW(teamPos))+1, \"\"), ROW()-39)), \"\")","v":""},{"$f":"IFERROR(IF(COUNTIF(AT40, 0), \"\", INDEX(gymnasts, SMALL(IF(AT$40=club, ROW(club)-MIN(ROW(club))+1, \"\"), ROW()-39))), \"\")","v":0}]
[{"$nulls":3},{"v":0,"d":"0.0"},{"v":0,"d":"0.00"},{"v":0,"d":"0.0"},{"v":0,"d":"0.00"},{"v":0,"d":"0.00"},0,38,0,0,{"v":0,"d":"0.0"},{"v":0,"d":"0.00"},0,38,0,0,{"v":0,"d":"0.0"},{"v":0,"d":"0.00"},0,38,0,0,{"v":0,"d":"0.0"},{"v":0,"d":"0.00"},0,38,0,0,{"v":0,"d":"0.00"},0,38,0,0,{"$nulls":3},{"$f":"IFERROR(IF(COUNTIF(AL41, 0), \"\", INDEX(gymnasts, SMALL(IF(AL$40=club, ROW(club)-MIN(ROW(club))+1, \"\"), ROW()-39))), \"\")","v":0},{"$nulls":3},{"$f":"IFERROR(IF(COUNTIF(AP41, 0), \"\", INDEX(gymnasts, SMALL(IF(AP$40=club, ROW(club)-MIN(ROW(club))+1, \"\"), ROW()-39))), \"\")","v":0},{"$nulls":3},{"$f":"IFERROR(IF(COUNTIF(AT41, 0), \"\", INDEX(gymnasts, SMALL(IF(AT$40=club, ROW(club)-MIN(ROW(club))+1, \"\"), ROW()-39))), \"\")","v":0}]
[{"$nulls":3},{"v":0,"d":"0.0"},{"v":0,"d":"0.00"},{"v":0,"d":"0.0"},{"v":0,"d":"0.00"},{"v":0,"d":"0.00"},0,39,0,0,{"v":0,"d":"0.0"},{"v":0,"d":"0.00"},0,39,0,0,{"v":0,"d":"0.0"},{"v":0,"d":"0.00"},0,39,0,0,{"v":0,"d":"0.0"},{"v":0,"d":"0.00"},0,39,0,0,{"v":0,"d":"0.00"},0,39,0,0,{"$nulls":3},{"$f":"IFERROR(IF(COUNTIF(AL42, 0), \"\", INDEX(gymnasts, SMALL(IF(AL$40=club, ROW(club)-MIN(ROW(club))+1, \"\"), ROW()-39))), \"\")","v":0},{"$nulls":3},{"$f":"IFERROR(IF(COUNTIF(AP42, 0), \"\", INDEX(gymnasts, SMALL(IF(AP$40=club, ROW(club)-MIN(ROW(club))+1, \"\"), ROW()-39))), \"\")","v":0},{"$nulls":3},{"$f":"IFERROR(IF(COUNTIF(AT42, 0), \"\", INDEX(gymnasts, SMALL(IF(AT$40=club, ROW(club)-MIN(ROW(club))+1, \"\"), ROW()-39))), \"\")","v":0}]
[{"$nulls":3},{"v":0,"d":"0.0"},{"v":0,"d":"0.00"},{"v":0,"d":"0.0"},{"v":0,"d":"0.00"},{"v":0,"d":"0.00"},0,40,0,0,{"v":0,"d":"0.0"},{"v":0,"d":"0.00"},0,40,0,0,{"v":0,"d":"0.0"},{"v":0,"d":"0.00"},0,40,0,0,{"v":0,"d":"0.0"},{"v":0,"d":"0.00"},0,40,0,0,{"v":0,"d":"0.00"},0,40,0,0,{"$nulls":3},{"$f":"IFERROR(IF(COUNTIF(AL43, 0), \"\", INDEX(gymnasts, SMALL(IF(AL$40=club, ROW(club)-MIN(ROW(club))+1, \"\"), ROW()-39))), \"\")","v":0},{"$nulls":3},{"$f":"IFERROR(IF(COUNTIF(AP43, 0), \"\", INDEX(gymnasts, SMALL(IF(AP$40=club, ROW(club)-MIN(ROW(club))+1, \"\"), ROW()-39))), \"\")","v":0},{"$nulls":3},{"$f":"IFERROR(IF(COUNTIF(AT43, 0), \"\", INDEX(gymnasts, SMALL(IF(AT$40=club, ROW(club)-MIN(ROW(club))+1, \"\"), ROW()-39))), \"\")","v":0}]
[{"$nulls":3},{"v":0,"d":"0.0"},{"v":0,"d":"0.00"},{"v":0,"d":"0.0"},{"v":0,"d":"0.00"},{"v":0,"d":"0.00"},0,41,0,0,{"v":0,"d":"0.0"},{"v":0,"d":"0.00"},0,41,0,0,{"v":0,"d":"0.0"},{"v":0,"d":"0.00"},0,41,0,0,{"v":0,"d":"0.0"},{"v":0,"d":"0.00"},0,41,0,0,{"v":0,"d":"0.00"},0,41,0,0,{"$nulls":3},{"$f":"IFERROR(IF(COUNTIF(AL44, 0), \"\", INDEX(gymnasts, SMALL(IF(AL$40=club, ROW(club)-MIN(ROW(club))+1, \"\"), ROW()-39))), \"\")","v":0},{"$nulls":3},{"$f":"IFERROR(IF(COUNTIF(AP44, 0), \"\", INDEX(gymnasts, SMALL(IF(AP$40=club, ROW(club)-MIN(ROW(club))+1, \"\"), ROW()-39))), \"\")","v":0},{"$nulls":3},{"$f":"IFERROR(IF(COUNTIF(AT44, 0), \"\", INDEX(gymnasts, SMALL(IF(AT$40=club, ROW(club)-MIN(ROW(club))+1, \"\"), ROW()-39))), \"\")","v":0}]
[{"$nulls":3},{"v":0,"d":"0.0"},{"v":0,"d":"0.00"},{"v":0,"d":"0.0"},{"v":0,"d":"0.00"},{"v":0,"d":"0.00"},0,42,0,0,{"v":0,"d":"0.0"},{"v":0,"d":"0.00"},0,42,0,0,{"v":0,"d":"0.0"},{"v":0,"d":"0.00"},0,42,0,0,{"v":0,"d":"0.0"},{"v":0,"d":"0.00"},0,42,0,0,{"v":0,"d":"0.00"},0,42,0,0,null,null,{"$f":"IFERROR(INDEX(teams, SMALL(IF(VALUE(LEFT(AL$39, 1))=teamPos, ROW(teamPos)-MIN(ROW(teamPos))+1, \"\"), ROW()-43)), \"\")","v":""},{"$f":"IFERROR(IF(COUNTIF(AL$45, 0), \"\", INDEX(gymnasts, SMALL(IF(AL$45=club, ROW(club)-MIN(ROW(club))+1, \"\"), ROW()-44))), \"\")","v":0},null,null,{"$f":"IFERROR(INDEX(teams, SMALL(IF(VALUE(LEFT(AP$39, 1))=teamPos, ROW(teamPos)-MIN(ROW(teamPos))+1, \"\"), ROW()-43)), \"\")","v":""},{"$f":"IFERROR(IF(COUNTIF(AP$45, 0), \"\", INDEX(gymnasts, SMALL(IF(AP$45=club, ROW(club)-MIN(ROW(club))+1, \"\"), ROW()-44))), \"\")","v":0},null,null,{"$f":"IFERROR(INDEX(teams, SMALL(IF(VALUE(LEFT(AT$39, 1))=teamPos, ROW(teamPos)-MIN(ROW(teamPos))+1, \"\"), ROW()-43)), \"\")","v":""},{"$f":"IFERROR(IF(COUNTIF(AT$45, 0), \"\", INDEX(gymnasts, SMALL(IF(AT$45=club, ROW(club)-MIN(ROW(club))+1, \"\"), ROW()-44))), \"\")","v":0}]
[{"$nulls":3},{"v":0,"d":"0.0"},{"v":0,"d":"0.00"},{"v":0,"d":"0.0"},{"v":0,"d":"0.00"},{"v":0,"d":"0.00"},0,43,0,0,{"v":0,"d":"0.0"},{"v":0,"d":"0.00"},0,43,0,0,{"v":0,"d":"0.0"},{"v":0,"d":"0.00"},0,43,0,0,{"v":0,"d":"0.0"},{"v":0,"d":"0.00"},0,43,0,0,{"v":0,"d":"0.00"},0,43,0,0,{"$nulls":3},{"$f":"IFERROR(IF(COUNTIF(AL$45, 0), \"\", INDEX(gymnasts, SMALL(IF(AL$45=club, ROW(club)-MIN(ROW(club))+1, \"\"), ROW()-44))), \"\")","v":0},{"$nulls":3},{"$f":"IFERROR(IF(COUNTIF(AP$45, 0), \"\", INDEX(gymnasts, SMALL(IF(AP$45=club, ROW(club)-MIN(ROW(club))+1, \"\"), ROW()-44))), \"\")","v":0},{"$nulls":3},{"$f":"IFERROR(IF(COUNTIF(AT$45, 0), \"\", INDEX(gymnasts, SMALL(IF(AT$45=club, ROW(club)-MIN(ROW(club))+1, \"\"), ROW()-44))), \"\")","v":0}]
[{"$nulls":3},{"v":0,"d":"0.0"},{"v":0,"d":"0.00"},{"v":0,"d":"0.0"},{"v":0,"d":"0.00"},{"v":0,"d":"0.00"},0,44,0,0,{"v":0,"d":"0.0"},{"v":0,"d":"0.00"},0,44,0,0,{"v":0,"d":"0.0"},{"v":0,"d":"0.00"},0,44,0,0,{"v":0,"d":"0.0"},{"v":0,"d":"0.00"},0,44,0,0,{"v":0,"d":"0.00"},0,44,0,0,{"$nulls":3},{"$f":"IFERROR(IF(COUNTIF(AL$45, 0), \"\", INDEX(gymnasts, SMALL(IF(AL$45=club, ROW(club)-MIN(ROW(club))+1, \"\"), ROW()-44))), \"\")","v":0},{"$nulls":3},{"$f":"IFERROR(IF(COUNTIF(AP$45, 0), \"\", INDEX(gymnasts, SMALL(IF(AP$45=club, ROW(club)-MIN(ROW(club))+1, \"\"), ROW()-44))), \"\")","v":0},{"$nulls":3},{"$f":"IFERROR(IF(COUNTIF(AT$45, 0), \"\", INDEX(gymnasts, SMALL(IF(AT$45=club, ROW(club)-MIN(ROW(club))+1, \"\"), ROW()-44))), \"\")","v":0}]
[{"$nulls":3},{"v":0,"d":"0.0"},{"v":0,"d":"0.00"},{"v":0,"d":"0.0"},{"v":0,"d":"0.00"},{"v":0,"d":"0.00"},0,45,0,0,{"v":0,"d":"0.0"},{"v":0,"d":"0.00"},0,45,0,0,{"v":0,"d":"0.0"},{"v":0,"d":"0.00"},0,45,0,0,{"v":0,"d":"0.0"},{"v":0,"d":"0.00"},0,45,0,0,{"v":0,"d":"0.00"},0,45,0,0,{"$nulls":3},{"$f":"IFERROR(IF(COUNTIF(AL$45, 0), \"\", INDEX(gymnasts, SMALL(IF(AL$45=club, ROW(club)-MIN(ROW(club))+1, \"\"), ROW()-44))), \"\")","v":0},{"$nulls":3},{"$f":"IFERROR(IF(COUNTIF(AP$45, 0), \"\", INDEX(gymnasts, SMALL(IF(AP$45=club, ROW(club)-MIN(ROW(club))+1, \"\"), ROW()-44))), \"\")","v":0},{"$nulls":3},{"$f":"IFERROR(IF(COUNTIF(AT$45, 0), \"\", INDEX(gymnasts, SMALL(IF(AT$45=club, ROW(club)-MIN(ROW(club))+1, \"\"), ROW()-44))), \"\")","v":0}]
[{"$nulls":3},{"v":0,"d":"0.0"},{"v":0,"d":"0.00"},{"v":0,"d":"0.0"},{"v":0,"d":"0.00"},{"v":0,"d":"0.00"},0,46,0,0,{"v":0,"d":"0.0"},{"v":0,"d":"0.00"},0,46,0,0,{"v":0,"d":"0.0"},{"v":0,"d":"0.00"},0,46,0,0,{"v":0,"d":"0.0"},{"v":0,"d":"0.00"},0,46,0,0,{"v":0,"d":"0.00"},0,46,0,0,{"$nulls":3},{"$f":"IFERROR(IF(ISTEXT(AL$45), INDEX(gymnasts, SMALL(IF(AL$45=club, ROW(club)-MIN(ROW(club))+1, \"\"), ROW()-44)), \"\"), \"\")","v":0},{"$nulls":3},{"$f":"IFERROR(IF(ISTEXT(AP$45), INDEX(gymnasts, SMALL(IF(AP$45=club, ROW(club)-MIN(ROW(club))+1, \"\"), ROW()-44)), \"\"), \"\")","v":0},{"$nulls":3},{"$f":"IFERROR(IF(ISTEXT(AT$45), INDEX(gymnasts, SMALL(IF(AT$45=club, ROW(club)-MIN(ROW(club))+1, \"\"), ROW()-44)), \"\"), \"\")","v":0}]
[{"$nulls":3},{"v":0,"d":"0.0"},{"v":0,"d":"0.00"},{"v":0,"d":"0.0"},{"v":0,"d":"0.00"},{"v":0,"d":"0.00"},0,47,0,0,{"v":0,"d":"0.0"},{"v":0,"d":"0.00"},0,47,0,0,{"v":0,"d":"0.0"},{"v":0,"d":"0.00"},0,47,0,0,{"v":0,"d":"0.0"},{"v":0,"d":"0.00"},0,47,0,0,{"v":0,"d":"0.00"},0,47,0,0]
[{"$nulls":3},{"v":0,"d":"0.0"},{"v":0,"d":"0.00"},{"v":0,"d":"0.0"},{"v":0,"d":"0.00"},{"v":0,"d":"0.00"},0,48,0,0,{"v":0,"d":"0.0"},{"v":0,"d":"0.00"},0,48,0,0,{"v":0,"d":"0.0"},{"v":0,"d":"0.00"},0,48,0,0,{"v":0,"d":"0.0"},{"v":0,"d":"0.00"},0,48,0,0,{"v":0,"d":"0.00"},0,48,0,0]
[{"$nulls":3},{"v":0,"d":"0.0"},{"v":0,"d":"0.00"},{"v":0,"d":"0.0"},{"v":0,"d":"0.00"},{"v":0,"d":"0.00"},0,49,0,0,{"v":0,"d":"0.0"},{"v":0,"d":"0.00"},0,49,0,0,{"v":0,"d":"0.0"},{"v":0,"d":"0.00"},0,49,0,0,{"v":0,"d":"0.0"},{"v":0,"d":"0.00"},0,49,0,0,{"v":0,"d":"0.00"},0,49,0,0]
[{"$nulls":3},{"v":0,"d":"0.0"},{"v":0,"d":"0.00"},{"v":0,"d":"0.0"},{"v":0,"d":"0.00"},{"v":0,"d":"0.00"},0,50,0,0,{"v":0,"d":"0.0"},{"v":0,"d":"0.00"},0,50,0,0,{"v":0,"d":"0.0"},{"v":0,"d":"0.00"},0,50,0,0,{"v":0,"d":"0.0"},{"v":0,"d":"0.00"},0,50,0,0,{"v":0,"d":"0.00"},0,50,0,0]
[{"$nulls":3},{"v":0,"d":"0.0"},{"v":0,"d":"0.00"},{"v":0,"d":"0.0"},{"v":0,"d":"0.00"},{"v":0,"d":"0.00"},0,51,0,0,{"v":0,"d":"0.0"},{"v":0,"d":"0.00"},0,51,0,0,{"v":0,"d":"0.0"},{"v":0,"d":"0.00"},0,51,0,0,{"v":0,"d":"0.0"},{"v":0,"d":"0.00"},0,51,0,0,{"v":0,"d":"0.00"},0,51,0,0]
[{"$nulls":3},{"v":0,"d":"0.0"},{"v":0,"d":"0.00"},{"v":0,"d":"0.0"},{"v":0,"d":"0.00"},{"v":0,"d":"0.00"},0,52,0,0,{"v":0,"d":"0.0"},{"v":0,"d":"0.00"},0,52,0,0,{"v":0,"d":"0.0"},{"v":0,"d":"0.00"},0,52,0,0,{"v":0,"d":"0.0"},{"v":0,"d":"0.00"},0,52,0,0,{"v":0,"d":"0.00"},0,52,0,0]
[{"$nulls":3},{"v":0,"d":"0.0"},{"v":0,"d":"0.00"},{"v":0,"d":"0.0"},{"v":0,"d":"0.00"},{"v":0,"d":"0.00"},0,53,0,0,{"v":0,"d":"0.0"},{"v":0,"d":"0.00"},0,53,0,0,{"v":0,"d":"0.0"},{"v":0,"d":"0.00"},0,53,0,0,{"v":0,"d":"0.0"},{"v":0,"d":"0.00"},0,53,0,0,{"v":0,"d":"0.00"},0,53,0,0]
[{"$nulls":3},{"v":0,"d":"0.0"},{"v":0,"d":"0.00"},{"v":0,"d":"0.0"},{"v":0,"d":"0.00"},{"v":0,"d":"0.00"},0,54,0,0,{"v":0,"d":"0.0"},{"v":0,"d":"0.00"},0,54,0,0,{"v":0,"d":"0.0"},{"v":0,"d":"0.00"},0,54,0,0,{"v":0,"d":"0.0"},{"v":0,"d":"0.00"},0,54,0,0,{"v":0,"d":"0.00"},0,54,0,0]
[{"$nulls":3},{"v":0,"d":"0.0"},{"v":0,"d":"0.00"},{"v":0,"d":"0.0"},{"v":0,"d":"0.00"},{"v":0,"d":"0.00"},0,55,0,0,{"v":0,"d":"0.0"},{"v":0,"d":"0.00"},0,55,0,0,{"v":0,"d":"0.0"},{"v":0,"d":"0.00"},0,55,0,0,{"v":0,"d":"0.0"},{"v":0,"d":"0.00"},0,55,0,0,{"v":0,"d":"0.00"},0,55,0,0]
[{"$nulls":3},{"v":0,"d":"0.0"},{"v":0,"d":"0.00"},{"v":0,"d":"0.0"},{"v":0,"d":"0.00"},{"v":0,"d":"0.00"},0,56,0,0,{"v":0,"d":"0.0"},{"v":0,"d":"0.00"},0,56,0,0,{"v":0,"d":"0.0"},{"v":0,"d":"0.00"},0,56,0,0,{"v":0,"d":"0.0"},{"v":0,"d":"0.00"},0,56,0,0,{"v":0,"d":"0.00"},0,56,0,0]
[{"$nulls":3},{"v":0,"d":"0.0"},{"v":0,"d":"0.00"},{"v":0,"d":"0.0"},{"v":0,"d":"0.00"},{"v":0,"d":"0.00"},0,57,0,0,{"v":0,"d":"0.0"},{"v":0,"d":"0.00"},0,57,0,0,{"v":0,"d":"0.0"},{"v":0,"d":"0.00"},0,57,0,0,{"v":0,"d":"0.0"},{"v":0,"d":"0.00"},0,57,0,0,{"v":0,"d":"0.00"},0,57,0,0]
[{"$nulls":3},{"v":0,"d":"0.0"},{"v":0,"d":"0.00"},{"v":0,"d":"0.0"},{"v":0,"d":"0.00"},{"v":0,"d":"0.00"},0,58,0,0,{"v":0,"d":"0.0"},{"v":0,"d":"0.00"},0,58,0,0,{"v":0,"d":"0.0"},{"v":0,"d":"0.00"},0,58,0,0,{"v":0,"d":"0.0"},{"v":0,"d":"0.00"},0,58,0,0,{"v":0,"d":"0.00"},0,58,0,0]
[{"$nulls":3},{"v":0,"d":"0.0"},{"v":0,"d":"0.00"},{"v":0,"d":"0.0"},{"v":0,"d":"0.00"},{"v":0,"d":"0.00"},0,59,0,0,{"v":0,"d":"0.0"},{"v":0,"d":"0.00"},0,59,0,0,{"v":0,"d":"0.0"},{"v":0,"d":"0.00"},0,59,0,0,{"v":0,"d":"0.0"},{"v":0,"d":"0.00"},0,59,0,0,{"v":0,"d":"0.00"},0,59,0,0]
[{"$nulls":3},{"v":0,"d":"0.0"},{"v":0,"d":"0.00"},{"v":0,"d":"0.0"},{"v":0,"d":"0.00"},{"v":0,"d":"0.00"},0,60,0,0,{"v":0,"d":"0.0"},{"v":0,"d":"0.00"},0,60,0,0,{"v":0,"d":"0.0"},{"v":0,"d":"0.00"},0,60,0,0,{"v":0,"d":"0.0"},{"v":0,"d":"0.00"},0,60,0,0,{"v":0,"d":"0.00"},0,60,0,0]
[{"$nulls":3},{"v":0,"d":"0.0"},{"v":0,"d":"0.00"},{"v":0,"d":"0.0"},{"v":0,"d":"0.00"},{"v":0,"d":"0.00"},0,61,0,0,{"v":0,"d":"0.0"},{"v":0,"d":"0.00"},0,61,0,0,{"v":0,"d":"0.0"},{"v":0,"d":"0.00"},0,61,0,0,{"v":0,"d":"0.0"},{"v":0,"d":"0.00"},0,61,0,0,{"v":0,"d":"0.00"},0,61,0,0]
[{"$nulls":3},{"v":0,"d":"0.0"},{"v":0,"d":"0.00"},{"v":0,"d":"0.0"},{"v":0,"d":"0.00"},{"v":0,"d":"0.00"},0,62,0,0,{"v":0,"d":"0.0"},{"v":0,"d":"0.00"},0,62,0,0,{"v":0,"d":"0.0"},{"v":0,"d":"0.00"},0,62,0,0,{"v":0,"d":"0.0"},{"v":0,"d":"0.00"},0,62,0,0,{"v":0,"d":"0.00"},0,62,0,0]
[null,"Teams"]
[null,{"$f":"IF(AND(COUNTIF(club,C67)>=3,COUNTIF(club,C67)<=5),\"TEAM\",IF(COUNTIF(club,C67)>5,\"Too Many!!!!!\",\"NO TEAM\"))","v":"NO TEAM"},{"$nulls":5},{"$f":"IF($B67=\"NO TEAM\", 0, SUM(LARGE(IF(club=$C67, vault), ROW($1:$3))))","v":{"v":0,"d":"0.00"}},{"$nulls":5},{"$f":"IF($B67=\"NO TEAM\", 0, SUM(LARGE(IF(club=$C67, floor), ROW($1:$3))))","v":{"v":0,"d":"0.00"}},{"$nulls":5},{"$f":"IF($B67=\"NO TEAM\", 0, SUM(LARGE(IF(club=$C67, floor), ROW($1:$3))))","v":{"v":0,"d":"0.00"}},{"$nulls":5},{"$f":"IF($B67=\"NO TEAM\", 0, SUM(LARGE(IF(club=$C67, floor), ROW($1:$3))))","v":{"v":0,"d":"0.00"}},{"$nulls":4},{"$f":"IF(B67=\"TEAM\", SUMIF(D$2:AD$2, \"SCORE\", D67:AD67), 0)","v":{"v":0,"d":"0.00"}},{"$f":"VLOOKUP(AE67,AH$67:AI$81, 2,FALSE)","v":0},{"$f":"IF(ISNUMBER(AG66), AG66+1, 1)","v":1},{"$f":"LARGE((AE$67:AE$81), $AG67)","v":0},{"$f":"IF(AH67=AH66, AI66, AI66+1)","v":0}]
[null,{"$f":"IF(AND(COUNTIF(club,C68)>=3,COUNTIF(club,C68)<=5),\"TEAM\",IF(COUNTIF(club,C68)>5,\"Too Many!!!!!\",\"NO TEAM\"))","v":"NO TEAM"},{"$nulls":5},{"$f":"IF($B68=\"NO TEAM\", 0, SUM(LARGE(IF(club=$C68, vault), ROW($1:$3))))","v":{"v":0,"d":"0.00"}},{"$nulls":5},{"$f":"IF($B68=\"NO TEAM\", 0, SUM(LARGE(IF(club=$C68, floor), ROW($1:$3))))","v":{"v":0,"d":"0.00"}},{"$nulls":5},{"$f":"IF($B68=\"NO TEAM\", 0, SUM(LARGE(IF(club=$C68, floor), ROW($1:$3))))","v":{"v":0,"d":"0.00"}},{"$nulls":5},{"$f":"IF($B68=\"NO TEAM\", 0, SUM(LARGE(IF(club=$C68, floor), ROW($1:$3))))","v":{"v":0,"d":"0.00"}},{"$nulls":4},{"v":0,"d":"0.00"},{"$f":"VLOOKUP(AE68,AH$67:AI$81, 2,FALSE)","v":0},{"$f":"IF(ISNUMBER(AG67), AG67+1, 1)","v":2},{"$f":"LARGE((AE$67:AE$81), $AG68)","v":0},{"$f":"IF(AH68=AH67, AI67, AI67+1)","v":0}]
[null,{"$f":"IF(AND(COUNTIF(club,C69)>=3,COUNTIF(club,C69)<=5),\"TEAM\",IF(COUNTIF(club,C69)>5,\"Too Many!!!!!\",\"NO TEAM\"))","v":"NO TEAM"},{"$nulls":5},{"$f":"IF($B69=\"NO TEAM\", 0, SUM(LARGE(IF(club=$C69, vault), ROW($1:$3))))","v":{"v":0,"d":"0.00"}},{"$nulls":5},{"$f":"IF($B69=\"NO TEAM\", 0, SUM(LARGE(IF(club=$C69, floor), ROW($1:$3))))","v":{"v":0,"d":"0.00"}},{"$nulls":5},{"$f":"IF($B69=\"NO TEAM\", 0, SUM(LARGE(IF(club=$C69, floor), ROW($1:$3))))","v":{"v":0,"d":"0.00"}},{"$nulls":5},{"$f":"IF($B69=\"NO TEAM\", 0, SUM(LARGE(IF(club=$C69, floor), ROW($1:$3))))","v":{"v":0,"d":"0.00"}},{"$nulls":4},{"v":0,"d":"0.00"},0,3,0,0]
[null,{"$f":"IF(AND(COUNTIF(club,C70)>=3,COUNTIF(club,C70)<=5),\"TEAM\",IF(COUNTIF(club,C70)>5,\"Too Many!!!!!\",\"NO TEAM\"))","v":"NO TEAM"},{"$nulls":5},{"$f":"IF($B70=\"NO TEAM\", 0, SUM(LARGE(IF(club=$C70, vault), ROW($1:$3))))","v":{"v":0,"d":"0.00"}},{"$nulls":5},{"$f":"IF($B70=\"NO TEAM\", 0, SUM(LARGE(IF(club=$C70, floor), ROW($1:$3))))","v":{"v":0,"d":"0.00"}},{"$nulls":5},{"$f":"IF($B70=\"NO TEAM\", 0, SUM(LARGE(IF(club=$C70, floor), ROW($1:$3))))","v":{"v":0,"d":"0.00"}},{"$nulls":5},{"$f":"IF($B70=\"NO TEAM\", 0, SUM(LARGE(IF(club=$C70, floor), ROW($1:$3))))","v":{"v":0,"d":"0.00"}},{"$nulls":4},{"v":0,"d":"0.00"},0,4,0,0]
[null,{"$f":"IF(AND(COUNTIF(club,C71)>=3,COUNTIF(club,C71)<=5),\"TEAM\",IF(COUNTIF(club,C71)>5,\"Too Many!!!!!\",\"NO TEAM\"))","v":"NO TEAM"},{"$nulls":5},{"$f":"IF($B71=\"NO TEAM\", 0, SUM(LARGE(IF(club=$C71, vault), ROW($1:$3))))","v":{"v":0,"d":"0.00"}},{"$nulls":5},{"$f":"IF($B71=\"NO TEAM\", 0, SUM(LARGE(IF(club=$C71, floor), ROW($1:$3))))","v":{"v":0,"d":"0.00"}},{"$nulls":5},{"$f":"IF($B71=\"NO TEAM\", 0, SUM(LARGE(IF(club=$C71, floor), ROW($1:$3))))","v":{"v":0,"d":"0.00"}},{"$nulls":5},{"$f":"IF($B71=\"NO TEAM\", 0, SUM(LARGE(IF(club=$C71, floor), ROW($1:$3))))","v":{"v":0,"d":"0.00"}},{"$nulls":4},{"v":0,"d":"0.00"},0,5,0,0]
[null,{"$f":"IF(AND(COUNTIF(club,C72)>=3,COUNTIF(club,C72)<=5),\"TEAM\",IF(COUNTIF(club,C72)>5,\"Too Many!!!!!\",\"NO TEAM\"))","v":"NO TEAM"},{"$nulls":5},{"$f":"IF($B72=\"NO TEAM\", 0, SUM(LARGE(IF(club=$C72, vault), ROW($1:$3))))","v":{"v":0,"d":"0.00"}},{"$nulls":5},{"$f":"IF($B72=\"NO TEAM\", 0, SUM(LARGE(IF(club=$C72, floor), ROW($1:$3))))","v":{"v":0,"d":"0.00"}},{"$nulls":5},{"$f":"IF($B72=\"NO TEAM\", 0, SUM(LARGE(IF(club=$C72, floor), ROW($1:$3))))","v":{"v":0,"d":"0.00"}},{"$nulls":5},{"$f":"IF($B72=\"NO TEAM\", 0, SUM(LARGE(IF(club=$C72, floor), ROW($1:$3))))","v":{"v":0,"d":"0.00"}},{"$nulls":4},{"v":0,"d":"0.00"},0,6,0,0]
[null,{"$f":"IF(AND(COUNTIF(club,C73)>=3,COUNTIF(club,C73)<=5),\"TEAM\",IF(COUNTIF(club,C73)>5,\"Too Many!!!!!\",\"NO TEAM\"))","v":"NO TEAM"},{"$nulls":5},{"$f":"IF($B73=\"NO TEAM\", 0, SUM(LARGE(IF(club=$C73, vault), ROW($1:$3))))","v":{"v":0,"d":"0.00"}},{"$nulls":5},{"$f":"IF($B73=\"NO TEAM\", 0, SUM(LARGE(IF(club=$C73, floor), ROW($1:$3))))","v":{"v":0,"d":"0.00"}},{"$nulls":5},{"$f":"IF($B73=\"NO TEAM\", 0, SUM(LARGE(IF(club=$C73, floor), ROW($1:$3))))","v":{"v":0,"d":"0.00"}},{"$nulls":5},{"$f":"IF($B73=\"NO TEAM\", 0, SUM(LARGE(IF(club=$C73, floor), ROW($1:$3))))","v":{"v":0,"d":"0.00"}},{"$nulls":4},{"v":0,"d":"0.00"},0,7,0,0]
[null,{"$f":"IF(AND(COUNTIF(club,C74)>=3,COUNTIF(club,C74)<=5),\"TEAM\",IF(COUNTIF(club,C74)>5,\"Too Many!!!!!\",\"NO TEAM\"))","v":"NO TEAM"},{"$nulls":5},{"$f":"IF($B74=\"NO TEAM\", 0, SUM(LARGE(IF(club=$C74, vault), ROW($1:$3))))","v":{"v":0,"d":"0.00"}},{"$nulls":5},{"$f":"IF($B74=\"NO TEAM\", 0, SUM(LARGE(IF(club=$C74, floor), ROW($1:$3))))","v":{"v":0,"d":"0.00"}},{"$nulls":5},{"$f":"IF($B74=\"NO TEAM\", 0, SUM(LARGE(IF(club=$C74, floor), ROW($1:$3))))","v":{"v":0,"d":"0.00"}},{"$nulls":5},{"$f":"IF($B74=\"NO TEAM\", 0, SUM(LARGE(IF(club=$C74, floor), ROW($1:$3))))","v":{"v":0,"d":"0.00"}},{"$nulls":4},{"v":0,"d":"0.00"},0,8,0,0]
[null,{"$f":"IF(AND(COUNTIF(club,C75)>=3,COUNTIF(club,C75)<=5),\"TEAM\",IF(COUNTIF(club,C75)>5,\"Too Many!!!!!\",\"NO TEAM\"))","v":"NO TEAM"},{"$nulls":5},{"$f":"IF($B75=\"NO TEAM\", 0, SUM(LARGE(IF(club=$C75, vault), ROW($1:$3))))","v":{"v":0,"d":"0.00"}},{"$nulls":5},{"$f":"IF($B75=\"NO TEAM\", 0, SUM(LARGE(IF(club=$C75, floor), ROW($1:$3))))","v":{"v":0,"d":"0.00"}},{"$nulls":5},{"$f":"IF($B75=\"NO TEAM\", 0, SUM(LARGE(IF(club=$C75, floor), ROW($1:$3))))","v":{"v":0,"d":"0.00"}},{"$nulls":5},{"$f":"IF($B75=\"NO TEAM\", 0, SUM(LARGE(IF(club=$C75, floor), ROW($1:$3))))","v":{"v":0,"d":"0.00"}},{"$nulls":4},{"v":0,"d":"0.00"},0,9,0,0]
[null,{"$f":"IF(AND(COUNTIF(club,C76)>=3,COUNTIF(club,C76)<=5),\"TEAM\",IF(COUNTIF(club,C76)>5,\"Too Many!!!!!\",\"NO TEAM\"))","v":"NO TEAM"},{"$nulls":5},{"$f":"IF($B76=\"NO TEAM\", 0, SUM(LARGE(IF(club=$C76, vault), ROW($1:$3))))","v":{"v":0,"d":"0.00"}},{"$nulls":5},{"$f":"IF($B76=\"NO TEAM\", 0, SUM(LARGE(IF(club=$C76, floor), ROW($1:$3))))","v":{"v":0,"d":"0.00"}},{"$nulls":5},{"$f":"IF($B76=\"NO TEAM\", 0, SUM(LARGE(IF(club=$C76, floor), ROW($1:$3))))","v":{"v":0,"d":"0.00"}},{"$nulls":5},{"$f":"IF($B76=\"NO TEAM\", 0, SUM(LARGE(IF(club=$C76, floor), ROW($1:$3))))","v":{"v":0,"d":"0.00"}},{"$nulls":4},{"v":0,"d":"0.00"},0,10,0,0]
[null,{"$f":"IF(AND(COUNTIF(club,C77)>=3,COUNTIF(club,C77)<=5),\"TEAM\",IF(COUNTIF(club,C77)>5,\"Too Many!!!!!\",\"NO TEAM\"))","v":"NO TEAM"},{"$nulls":5},{"$f":"IF($B77=\"NO TEAM\", 0, SUM(LARGE(IF(club=$C77, vault), ROW($1:$3))))","v":{"v":0,"d":"0.00"}},{"$nulls":5},{"$f":"IF($B77=\"NO TEAM\", 0, SUM(LARGE(IF(club=$C77, floor), ROW($1:$3))))","v":{"v":0,"d":"0.00"}},{"$nulls":5},{"$f":"IF($B77=\"NO TEAM\", 0, SUM(LARGE(IF(club=$C77, floor), ROW($1:$3))))","v":{"v":0,"d":"0.00"}},{"$nulls":5},{"$f":"IF($B77=\"NO TEAM\", 0, SUM(LARGE(IF(club=$C77, floor), ROW($1:$3))))","v":{"v":0,"d":"0.00"}},{"$nulls":4},{"v":0,"d":"0.00"},0,11,0,0]
[null,{"$f":"IF(AND(COUNTIF(club,C78)>=3,COUNTIF(club,C78)<=5),\"TEAM\",IF(COUNTIF(club,C78)>5,\"Too Many!!!!!\",\"NO TEAM\"))","v":"NO TEAM"},{"$nulls":5},{"$f":"IF($B78=\"NO TEAM\", 0, SUM(LARGE(IF(club=$C78, vault), ROW($1:$3))))","v":{"v":0,"d":"0.00"}},{"$nulls":5},{"$f":"IF($B78=\"NO TEAM\", 0, SUM(LARGE(IF(club=$C78, floor), ROW($1:$3))))","v":{"v":0,"d":"0.00"}},{"$nulls":5},{"$f":"IF($B78=\"NO TEAM\", 0, SUM(LARGE(IF(club=$C78, floor), ROW($1:$3))))","v":{"v":0,"d":"0.00"}},{"$nulls":5},{"$f":"IF($B78=\"NO TEAM\", 0, SUM(LARGE(IF(club=$C78, floor), ROW($1:$3))))","v":{"v":0,"d":"0.00"}},{"$nulls":4},{"v":0,"d":"0.00"},0,12,0,0]
[null,{"$f":"IF(AND(COUNTIF(club,C79)>=3,COUNTIF(club,C79)<=5),\"TEAM\",IF(COUNTIF(club,C79)>5,\"Too Many!!!!!\",\"NO TEAM\"))","v":"NO TEAM"},{"$nulls":5},{"$f":"IF($B79=\"NO TEAM\", 0, SUM(LARGE(IF(club=$C79, vault), ROW($1:$3))))","v":{"v":0,"d":"0.00"}},{"$nulls":5},{"$f":"SUM(LARGE(IF(club=$C79, floor), ROW($1:$3)))","v":{"v":0,"d":"0.00"}},{"$nulls":5},{"$f":"SUM(LARGE(IF(club=$C79, floor), ROW($1:$3)))","v":{"v":0,"d":"0.00"}},{"$nulls":5},{"$f":"SUM(LARGE(IF(club=$C79, floor), ROW($1:$3)))","v":{"v":0,"d":"0.00"}},{"$nulls":4},{"v":0,"d":"0.00"},0,13,0,0]
[null,{"$f":"IF(AND(COUNTIF(club,C80)>=3,COUNTIF(club,C80)<=5),\"TEAM\",IF(COUNTIF(club,C80)>5,\"Too Many!!!!!\",\"NO TEAM\"))","v":"NO TEAM"},{"$nulls":5},{"$f":"IF($B80=\"NO TEAM\", 0, SUM(LARGE(IF(club=$C80, vault), ROW($1:$3))))","v":{"v":0,"d":"0.00"}},{"$nulls":5},{"$f":"SUM(LARGE(IF(club=$C80, floor), ROW($1:$3)))","v":{"v":0,"d":"0.00"}},{"$nulls":5},{"$f":"SUM(LARGE(IF(club=$C80, floor), ROW($1:$3)))","v":{"v":0,"d":"0.00"}},{"$nulls":5},{"$f":"SUM(LARGE(IF(club=$C80, floor), ROW($1:$3)))","v":{"v":0,"d":"0.00"}},{"$nulls":4},{"v":0,"d":"0.00"},0,14,0,0]
[null,{"$f":"IF(AND(COUNTIF(club,C81)>=3,COUNTIF(club,C81)<=5),\"TEAM\",IF(COUNTIF(club,C81)>5,\"Too Many!!!!!\",\"NO TEAM\"))","v":"NO TEAM"},{"$nulls":5},{"$f":"IF($B81=\"NO TEAM\", 0, SUM(LARGE(IF(club=$C81, vault), ROW($1:$3))))","v":{"v":0,"d":"0.00"}},{"$nulls":5},{"$f":"SUM(LARGE(IF(club=$C81, floor), ROW($1:$3)))","v":{"v":0,"d":"0.00"}},{"$nulls":5},{"$f":"SUM(LARGE(IF(club=$C81, floor), ROW($1:$3)))","v":{"v":0,"d":"0.00"}},{"$nulls":5},{"$f":"SUM(LARGE(IF(club=$C81, floor), ROW($1:$3)))","v":{"v":0,"d":"0.00"}},{"$nulls":4},{"v":0,"d":"0.00"},0,15,0,0]

{"sheet":"E Dev 4 9yrs","index":13,"n_rows":81,"n_cols":52,"rows_kept":81,"hidden":true,"merged":[[0,3,0,5],[0,9,0,11],[0,15,0,17],[0,21,0,23],[0,27,0,29],[0,33,0,34],[2,42,2,51],[10,41,10,42],[10,45,10,46],[10,49,10,50],[21,41,21,42]]}
[{"$nulls":3},"VAULT",{"$nulls":5},"BARS",{"$nulls":5},"BEAM",{"$nulls":5},"FLOOR",{"$nulls":5},"R&C",{"$nulls":5},"AA"]
["No","GYMNAST","CLUB","SV","SCORE","POS","idx","sort","ties","SV","SCORE","POS","idx","sort","ties","SV","SCORE","POS","idx","sort","ties","SV","SCORE","POS","idx","sort","ties","SV","SCORE","POS","idx","sort","ties","TOTAL","POS","idx","sort","ties"]
[null,"Elite Development 4 - 9 years",{"$nulls":38},{"$f":"B3","v":"Elite Development 4 - 9 years"},null,"summary results for presentation"]
[18,"Summer Seymour","SD",null,{"v":0,"d":"0.00"},{"$f":"VLOOKUP(E4, $H$4:$I$65, 2,FALSE)","v":0},{"$f":"IF(ISNUMBER(G3), G3+1, 1)","v":1},{"$f":"LARGE($E$4:$E$65,$AJ4)","v":0},{"$f":"IF(H4=H3, I3, I3+1)","v":0},{"v":0,"d":"0.0"},{"v":0,"d":"0.00"},{"$f":"VLOOKUP(K4, $N$4:$O$65, 2,FALSE)","v":0},{"$f":"IF(ISNUMBER(M3), M3+1, 1)","v":1},{"$f":"LARGE($K$4:$K$65,$AJ4)","v":0},{"$f":"IF(N4=N3, O3, O3+1)","v":0},{"v":0,"d":"0.0"},{"v":0,"d":"0.00"},{"$f":"VLOOKUP(Q4, $T$4:$U$65, 2,FALSE)","v":0},{"$f":"IF(ISNUMBER(S3), S3+1, 1)","v":1},{"$f":"LARGE($Q$4:$Q$65,$AJ4)","v":0},{"$f":"IF(T4=T3, U3, U3+1)","v":0},{"v":0,"d":"0.0"},{"v":0,"d":"0.00"},{"$f":"VLOOKUP(W4, $Z$4:$AA$65, 2,FALSE)","v":0},{"$f":"IF(ISNUMBER(Y3), Y3+1, 1)","v":1},{"$f":"LARGE($W$4:$W$65,$AJ4)","v":0},{"$f":"IF(Z4=Z3, AA3, AA3+1)","v":0},{"v":0,"d":"0.0"},{"v":0,"d":"0.00"},{"$f":"VLOOKUP(AC4, $AF$4:$AG$65, 2,FALSE)","v":0},{"$f":"IF(ISNUMBER(AE3), AE3+1, 1)","v":1},{"$f":"LARGE($AC$4:$AC$65,$AJ4)","v":0},{"$f":"IF(AF4=AF3, AG3, AG3+1)","v":0},{"$f":"E4+K4+Q4+W4+AC4","v":{"v":0,"d":"0.00"}},{"$f":"VLOOKUP(AH4, $AK$4:$AL$65, 2,FALSE)","v":0},{"$f":"IF(ISNUMBER(AJ3), AJ3+1, 1)","v":1},{"$f":"LARGE($AH$4:$AH$65,$AJ4)","v":0},{"$f":"IF(AK4=AK3, AL3, AL3+1)","v":0},null,null,"6th Place",{"$f":"IFERROR(INDEX(AAscores,MATCH(AO5,gymnasts,0)), \"\")","v":""},"5th Place",{"$f":"IFERROR(INDEX(AAscores,MATCH(AQ5,gymnasts,0)), \"\")","v":""},"4th Place",{"$f":"IFERROR(INDEX(AAscores,MATCH(AS5,gymnasts,0)), \"\")","v":""},"3rd Place",{"$f":"IFERROR(INDEX(AAscores,MATCH(AU5,gymnasts,0)), \"\")","v":""},"2nd Place",{"$f":"IFERROR(INDEX(AAscores,MATCH(AW5,gymnasts,0)), \"\")","v":""},"1st Place",{"$f":"IFERROR(INDEX(AAscores,MATCH(AY5,gymnasts,0)), \"\")","v":""}]
[{"$nulls":4},{"v":0,"d":"0.00"},{"$f":"VLOOKUP(E5, $H$4:$I$65, 2,FALSE)","v":0},2,0,{"$f":"IF(H5=H4, I4, I4+1)","v":0},{"v":0,"d":"0.0"},{"v":0,"d":"0.00"},{"$f":"VLOOKUP(K5, $N$4:$O$65, 2,FALSE)","v":0},2,0,{"$f":"IF(N5=N4, O4, O4+1)","v":0},{"v":0,"d":"0.0"},{"v":0,"d":"0.00"},{"$f":"VLOOKUP(Q5, $T$4:$U$65, 2,FALSE)","v":0},2,0,{"$f":"IF(T5=T4, U4, U4+1)","v":0},{"v":0,"d":"0.0"},{"v":0,"d":"0.00"},{"$f":"VLOOKUP(W5, $Z$4:$AA$65, 2,FALSE)","v":0},2,0,{"$f":"IF(Z5=Z4, AA4, AA4+1)","v":0},{"v":0,"d":"0.0"},{"v":0,"d":"0.00"},{"$f":"VLOOKUP(AC5, $AF$4:$AG$65, 2,FALSE)","v":0},2,0,{"$f":"IF(AF5=AF4, AG4, AG4+1)","v":0},{"$f":"E5+K5+Q5+W5+AC5","v":{"v":0,"d":"0.00"}},{"$f":"VLOOKUP(AH5, $AK$4:$AL$65, 2,FALSE)","v":0},2,{"$f":"LARGE($AH$4:$AH$65,$AJ5)","v":0},{"$f":"IF(AK5=AK4, AL4, AL4+1)","v":0},null,"AA",{"$f":"IFERROR(INDEX(gymnasts, SMALL(IF(VALUE(LEFT(AO$4, 1))=AApos, ROW(AApos)-MIN(ROW(AApos))+1, \"\"), ROW()-4)), \"\")","v":""},{"$f":"IFERROR( INDEX(entries, MATCH(AO5, gymnasts, 0), 2), \"\")","v":""},{"$f":"IFERROR(INDEX(gymnasts, SMALL(IF(VALUE(LEFT(AQ$4, 1))=AApos, ROW(AApos)-MIN(ROW(AApos))+1, \"\"), ROW()-4)), \"\")","v":""},{"$f":"IFERROR( INDEX(entries, MATCH(AQ5, gymnasts, 0), 2), \"\")","v":""},{"$f":"IFERROR(INDEX(gymnasts, SMALL(IF(VALUE(LEFT(AS$4, 1))=AApos, ROW(AApos)-MIN(ROW(AApos))+1, \"\"), ROW()-4)), \"\")","v":""},{"$f":"IFERROR( INDEX(entries, MATCH(AS5, gymnasts, 0), 2), \"\")","v":""},{"$f":"IFERROR(INDEX(gymnasts, SMALL(IF(VALUE(LEFT(AU$4, 1))=AApos, ROW(AApos)-MIN(ROW(AApos))+1, \"\"), ROW()-4)), \"\")","v":""},{"$f":"IFERROR( INDEX(entries, MATCH(AU5, gymnasts, 0), 2), \"\")","v":""},{"$f":"IFERROR(INDEX(gymnasts, SMALL(IF(VALUE(LEFT(AW$4, 1))=AApos, ROW(AApos)-MIN(ROW(AApos))+1, \"\"), ROW()-4)), \"\")","v":""},{"$f":"IFERROR( INDEX(entries, MATCH(AW5, gymnasts, 0), 2), \"\")","v":""},{"$f":"IFERROR(INDEX(gymnasts, SMALL(IF(VALUE(LEFT(AY$4, 1))=AApos, ROW(AApos)-MIN(ROW(AApos))+1, \"\"), ROW()-4)), \"\")","v":""},{"$f":"IFERROR( INDEX(entries, MATCH(AY5, gymnasts, 0), 2), \"\")","v":""}]
[{"$nulls":4},{"v":0,"d":"0.00"},0,3,0,0,{"v":0,"d":"0.0"},{"v":0,"d":"0.00"},0,3,0,0,{"v":0,"d":"0.0"},{"v":0,"d":"0.00"},0,3,0,0,{"v":0,"d":"0.0"},{"v":0,"d":"0.00"},0,3,0,0,{"v":0,"d":"0.0"},{"v":0,"d":"0.00"},0,3,0,0,{"v":0,"d":"0.00"},0,3,0,0,null,null,"",{"$f":"IFERROR( INDEX(entries, MATCH(AO6, gymnasts, 0), 2), \"\")","v":""},"",{"$f":"IFERROR( INDEX(entries, MATCH(AQ6, gymnasts, 0), 2), \"\")","v":""},"",{"$f":"IFERROR( INDEX(entries, MATCH(AS6, gymnasts, 0), 2), \"\")","v":""},"",{"$f":"IFERROR( INDEX(entries, MATCH(AU6, gymnasts, 0), 2), \"\")","v":""},"",{"$f":"IFERROR( INDEX(entries, MATCH(AW6, gymnasts, 0), 2), \"\")","v":""},"",""]
[{"$nulls":4},{"v":0,"d":"0.00"},0,4,0,0,{"v":0,"d":"0.0"},{"v":0,"d":"0.00"},0,4,0,0,{"v":0,"d":"0.0"},{"v":0,"d":"0.00"},0,4,0,0,{"v":0,"d":"0.0"},{"v":0,"d":"0.00"},0,4,0,0,{"v":0,"d":"0.0"},{"v":0,"d":"0.00"},0,4,0,0,{"v":0,"d":"0.00"},0,4,0,0,null,null,"","","","","","","","","","","",""]
[{"$nulls":4},{"v":0,"d":"0.00"},0,5,0,0,{"v":0,"d":"0.0"},{"v":0,"d":"0.00"},0,5,0,0,{"v":0,"d":"0.0"},{"v":0,"d":"0.00"},0,5,0,0,{"v":0,"d":"0.0"},{"v":0,"d":"0.00"},0,5,0,0,{"v":0,"d":"0.0"},{"v":0,"d":"0.00"},0,5,0,0,{"v":0,"d":"0.00"},0,5,0,0,null,null,"","","","","","","","","","","",""]
[{"$nulls":4},{"v":0,"d":"0.00"},0,6,0,0,{"v":0,"d":"0.0"},{"v":0,"d":"0.00"},0,6,0,0,{"v":0,"d":"0.0"},{"v":0,"d":"0.00"},0,6,0,0,{"v":0,"d":"0.0"},{"v":0,"d":"0.00"},0,6,0,0,{"v":0,"d":"0.0"},{"v":0,"d":"0.00"},0,6,0,0,{"v":0,"d":"0.00"},0,6,0,0,null,null,"","","","","","","","","","","",""]
[{"$nulls":4},{"v":0,"d":"0.00"},0,7,0,0,{"v":0,"d":"0.0"},{"v":0,"d":"0.00"},0,7,0,0,{"v":0,"d":"0.0"},{"v":0,"d":"0.00"},0,7,0,0,{"v":0,"d":"0.0"},{"v":0,"d":"0.00"},0,7,0,0,{"v":0,"d":"0.0"},{"v":0,"d":"0.00"},0,7,0,0,{"v":0,"d":"0.00"},0,7,0,0,null,null,"","","","","","","","","","","",""]
[{"$nulls":4},{"v":0,"d":"0.00"},0,8,0,0,{"v":0,"d":"0.0"},{"v":0,"d":"0.00"},0,8,0,0,{"v":0,"d":"0.0"},{"v":0,"d":"0.00"},0,8,0,0,{"v":0,"d":"0.0"},{"v":0,"d":"0.00"},0,8,0,0,{"v":0,"d":"0.0"},{"v":0,"d":"0.00"},0,8,0,0,{"v":0,"d":"0.00"},0,8,0,0,null,"Team","3rd place Team",{"$f":"IF(COUNTIF(AO12, 0), \"\", INDEX(teamTotals, MATCH(AO12, teams, 0)))","v":{"$error":"#N/A"}},null,null,"2nd Place Team",{"$f":"IF(COUNTIF(AS12, 0), \"\", INDEX(teamTotals, MATCH(AS12, teams, 0)))","v":{"$error":"#N/A"}},null,null,"1st Place Team",{"$f":"IF(COUNTIF(AW12, 0), \"\", INDEX(teamTotals, MATCH(AW12, teams, 0)))","v":{"$error":"#N/A"}}]
[{"$nulls":4},{"v":0,"d":"0.00"},0,9,0,0,{"v":0,"d":"0.0"},{"v":0,"d":"0.00"},0,9,0,0,{"v":0,"d":"0.0"},{"v":0,"d":"0.00"},0,9,0,0,{"v":0,"d":"0.0"},{"v":0,"d":"0.00"},0,9,0,0,{"v":0,"d":"0.0"},{"v":0,"d":"0.00"},0,9,0,0,{"v":0,"d":"0.00"},0,9,0,0,null,null,{"$f":"IFERROR(INDEX(teams, SMALL(IF(VALUE(LEFT(AO$11, 1))=teamPos, ROW(teamPos)-MIN(ROW(teamPos))+1, \"\"), ROW()-11)), \"\")","v":""},{"$f":"IFERROR(IF(COUNTIF(AO12, 0), \"\", INDEX(gymnasts, SMALL(IF(AO$12=club, ROW(club)-MIN(ROW(club))+1, \"\"), ROW()-11))), \"\")","v":0},null,null,{"$f":"IFERROR(INDEX(teams, SMALL(IF(VALUE(LEFT(AS$11, 1))=teamPos, ROW(teamPos)-MIN(ROW(teamPos))+1, \"\"), ROW()-11)), \"\")","v":""},{"$f":"IFERROR(IF(COUNTIF(AS12, 0), \"\", INDEX(gymnasts, SMALL(IF(AS$12=club, ROW(club)-MIN(ROW(club))+1, \"\"), ROW()-11))), \"\")","v":0},null,null,{"$f":"IFERROR(INDEX(teams, SMALL(IF(VALUE(LEFT(AW$11, 1))=teamPos, ROW(teamPos)-MIN(ROW(teamPos))+1, \"\"), ROW()-11)), \"\")","v":""},{"$f":"IFERROR(IF(COUNTIF(AW12, 0), \"\", INDEX(gymnasts, SMALL(IF(AW$12=club, ROW(club)-MIN(ROW(club))+1, \"\"), ROW()-11))), \"\")","v":0}]
[{"$nulls":4},{"v":0,"d":"0.00"},0,10,0,0,{"v":0,"d":"0.0"},{"v":0,"d":"0.00"},0,10,0,0,{"v":0,"d":"0.0"},{"v":0,"d":"0.00"},0,10,0,0,{"v":0,"d":"0.0"},{"v":0,"d":"0.00"},0,10,0,0,{"v":0,"d":"0.0"},{"v":0,"d":"0.00"},0,10,0,0,{"v":0,"d":"0.00"},0,10,0,0,{"$nulls":3},{"$f":"IFERROR(IF(COUNTIF(AO13, 0), \"\", INDEX(gymnasts, SMALL(IF(AO$12=club, ROW(club)-MIN(ROW(club))+1, \"\"), ROW()-11))), \"\")","v":0},{"$nulls":3},{"$f":"IFERROR(IF(COUNTIF(AS13, 0), \"\", INDEX(gymnasts, SMALL(IF(AS$12=club, ROW(club)-MIN(ROW(club))+1, \"\"), ROW()-11))), \"\")","v":0},{"$nulls":3},{"$f":"IFERROR(IF(COUNTIF(AW13, 0), \"\", INDEX(gymnasts, SMALL(IF(AW$12=club, ROW(club)-MIN(ROW(club))+1, \"\"), ROW()-11))), \"\")","v":0}]
[{"$nulls":4},{"v":0,"d":"0.00"},0,11,0,0,{"v":0,"d":"0.0"},{"v":0,"d":"0.00"},0,11,0,0,{"v":0,"d":"0.0"},{"v":0,"d":"0.00"},0,11,0,0,{"v":0,"d":"0.0"},{"v":0,"d":"0.00"},0,11,0,0,{"v":0,"d":"0.0"},{"v":0,"d":"0.00"},0,11,0,0,{"v":0,"d":"0.00"},0,11,0,0,{"$nulls":3},{"$f":"IFERROR(IF(COUNTIF(AO14, 0), \"\", INDEX(gymnasts, SMALL(IF(AO$12=club, ROW(club)-MIN(ROW(club))+1, \"\"), ROW()-11))), \"\")","v":0},{"$nulls":3},{"$f":"IFERROR(IF(COUNTIF(AS14, 0), \"\", INDEX(gymnasts, SMALL(IF(AS$12=club, ROW(club)-MIN(ROW(club))+1, \"\"), ROW()-11))), \"\")","v":0},{"$nulls":3},{"$f":"IFERROR(IF(COUNTIF(AW14, 0), \"\", INDEX(gymnasts, SMALL(IF(AW$12=club, ROW(club)-MIN(ROW(club))+1, \"\"), ROW()-11))), \"\")","v":0}]
[{"$nulls":4},{"v":0,"d":"0.00"},0,12,0,0,{"v":0,"d":"0.0"},{"v":0,"d":"0.00"},0,12,0,0,{"v":0,"d":"0.0"},{"v":0,"d":"0.00"},0,12,0,0,{"v":0,"d":"0.0"},{"v":0,"d":"0.00"},0,12,0,0,{"v":0,"d":"0.0"},{"v":0,"d":"0.00"},0,12,0,0,{"v":0,"d":"0.00"},0,12,0,0,{"$nulls":3},{"$f":"IFERROR(IF(COUNTIF(AO15, 0), \"\", INDEX(gymnasts, SMALL(IF(AO$12=club, ROW(club)-MIN(ROW(club))+1, \"\"), ROW()-11))), \"\")","v":0},{"$nulls":3},{"$f":"IFERROR(IF(COUNTIF(AS15, 0), \"\", INDEX(gymnasts, SMALL(IF(AS$12=club, ROW(club)-MIN(ROW(club))+1, \"\"), ROW()-11))), \"\")","v":0},{"$nulls":3},{"$f":"IFERROR(IF(COUNTIF(AW15, 0), \"\", INDEX(gymnasts, SMALL(IF(AW$12=club, ROW(club)-MIN(ROW(club))+1, \"\"), ROW()-11))), \"\")","v":0}]
[{"$nulls":4},{"v":0,"d":"0.00"},0,13,0,0,{"v":0,"d":"0.0"},{"v":0,"d":"0.00"},0,13,0,0,{"v":0,"d":"0.0"},{"v":0,"d":"0.00"},0,13,0,0,{"v":0,"d":"0.0"},{"v":0,"d":"0.00"},0,13,0,0,{"v":0,"d":"0.0"},{"v":0,"d":"0.00"},0,13,0,0,{"v":0,"d":"0.00"},0,13,0,0,{"$nulls":3},{"$f":"IFERROR(IF(COUNTIF(AO16, 0), \"\", INDEX(gymnasts, SMALL(IF(AO$12=club, ROW(club)-MIN(ROW(club))+1, \"\"), ROW()-11))), \"\")","v":0},{"$nulls":3},{"$f":"IFERROR(IF(COUNTIF(AS16, 0), \"\", INDEX(gymnasts, SMALL(IF(AS$12=club, ROW(club)-MIN(ROW(club))+1, \"\"), ROW()-11))), \"\")","v":0},{"$nulls":3},{"$f":"IFERROR(IF(COUNTIF(AW16, 0), \"\", INDEX(gymnasts, SMALL(IF(AW$12=club, ROW(club)-MIN(ROW(club))+1, \"\"), ROW()-11))), \"\")","v":0}]
[{"$nulls":4},{"v":0,"d":"0.00"},0,14,0,0,{"v":0,"d":"0.0"},{"v":0,"d":"0.00"},0,14,0,0,{"v":0,"d":"0.0"},{"v":0,"d":"0.00"},0,14,0,0,{"v":0,"d":"0.0"},{"v":0,"d":"0.00"},0,14,0,0,{"v":0,"d":"0.0"},{"v":0,"d":"0.00"},0,14,0,0,{"v":0,"d":"0.00"},0,14,0,0,null,null,{"$f":"IFERROR(INDEX(teams, SMALL(IF(VALUE(LEFT(AO$11, 1))=teamPos, ROW(teamPos)-MIN(ROW(teamPos))+1, \"\"), ROW()-11)), \"\")","v":""},{"$f":"IFERROR(IF(COUNTIF(AO$17, 0), \"\", INDEX(gymnasts, SMALL(IF(AO$17=club, ROW(club)-MIN(ROW(club))+1, \"\"), ROW()-11))), \"\")","v":0},null,null,{"$f":"IFERROR(INDEX(teams, SMALL(IF(VALUE(LEFT(AS$11, 1))=teamPos, ROW(teamPos)-MIN(ROW(teamPos))+1, \"\"), ROW()-11)), \"\")","v":""},{"$f":"IFERROR(IF(COUNTIF(AS$17, 0), \"\", INDEX(gymnasts, SMALL(IF(AS$17=club, ROW(club)-MIN(ROW(club))+1, \"\"), ROW()-11))), \"\")","v":0},null,null,{"$f":"IFERROR(INDEX(teams, SMALL(IF(VALUE(LEFT(AW$11, 1))=teamPos, ROW(teamPos)-MIN(ROW(teamPos))+1, \"\"), ROW()-11)), \"\")","v":""},{"$f":"IFERROR(IF(COUNTIF(AW$17, 0), \"\", INDEX(gymnasts, SMALL(IF(AW$17=club, ROW(club)-MIN(ROW(club))+1, \"\"), ROW()-11))), \"\")","v":0}]
[{"$nulls":4},{"v":0,"d":"0.00"},0,15,0,0,{"v":0,"d":"0.0"},{"v":0,"d":"0.00"},0,15,0,0,{"v":0,"d":"0.0"},{"v":0,"d":"0.00"},0,15,0,0,{"v":0,"d":"0.0"},{"v":0,"d":"0.00"},0,15,0,0,{"v":0,"d":"0.0"},{"v":0,"d":"0.00"},0,15,0,0,{"v":0,"d":"0.00"},0,15,0,0,{"$nulls":3},{"$f":"IFERROR(IF(COUNTIF(AO$17, 0), \"\", INDEX(gymnasts, SMALL(IF(AO$17=club, ROW(club)-MIN(ROW(club))+1, \"\"), ROW()-11))), \"\")","v":0},{"$nulls":3},{"$f":"IFERROR(IF(COUNTIF(AS$17, 0), \"\", INDEX(gymnasts, SMALL(IF(AS$17=club, ROW(club)-MIN(ROW(club))+1, \"\"), ROW()-11))), \"\")","v":0},{"$nulls":3},{"$f":"IFERROR(IF(COUNTIF(AW$17, 0), \"\", INDEX(gymnasts, SMALL(IF(AW$17=club, ROW(club)-MIN(ROW(club))+1, \"\"), ROW()-11))), \"\")","v":0}]
[{"$nulls":4},{"v":0,"d":"0.00"},0,16,0,0,{"v":0,"d":"0.0"},{"v":0,"d":"0.00"},0,16,0,0,{"v":0,"d":"0.0"},{"v":0,"d":"0.00"},0,16,0,0,{"v":0,"d":"0.0"},{"v":0,"d":"0.00"},0,16,0,0,{"v":0,"d":"0.0"},{"v":0,"d":"0.00"},0,16,0,0,{"v":0,"d":"0.00"},0,16,0,0,{"$nulls":3},{"$f":"IFERROR(IF(COUNTIF(AO$17, 0), \"\", INDEX(gymnasts, SMALL(IF(AO$17=club, ROW(club)-MIN(ROW(club))+1, \"\"), ROW()-11))), \"\")","v":0},{"$nulls":3},{"$f":"IFERROR(IF(COUNTIF(AS$17, 0), \"\", INDEX(gymnasts, SMALL(IF(AS$17=club, ROW(club)-MIN(ROW(club))+1, \"\"), ROW()-11))), \"\")","v":0},{"$nulls":3},{"$f":"IFERROR(IF(COUNTIF(AW$17, 0), \"\", INDEX(gymnasts, SMALL(IF(AW$17=club, ROW(club)-MIN(ROW(club))+1, \"\"), ROW()-11))), \"\")","v":0}]
[{"$nulls":4},{"v":0,"d":"0.00"},0,17,0,0,{"v":0,"d":"0.0"},{"v":0,"d":"0.00"},0,17,0,0,{"v":0,"d":"0.0"},{"v":0,"d":"0.00"},0,17,0,0,{"v":0,"d":"0.0"},{"v":0,"d":"0.00"},0,17,0,0,{"v":0,"d":"0.0"},{"v":0,"d":"0.00"},0,17,0,0,{"v":0,"d":"0.00"},0,17,0,0,{"$nulls":3},{"$f":"IFERROR(IF(COUNTIF(AO$17, 0), \"\", INDEX(gymnasts, SMALL(IF(AO$17=club, ROW(club)-MIN(ROW(club))+1, \"\"), ROW()-11))), \"\")","v":0},{"$nulls":3},{"$f":"IFERROR(IF(COUNTIF(AS$17, 0), \"\", INDEX(gymnasts, SMALL(IF(AS$17=club, ROW(club)-MIN(ROW(club))+1, \"\"), ROW()-11))), \"\")","v":0},{"$nulls":3},{"$f":"IFERROR(IF(COUNTIF(AW$17, 0), \"\", INDEX(gymnasts, SMALL(IF(AW$17=club, ROW(club)-MIN(ROW(club))+1, \"\"), ROW()-11))), \"\")","v":0}]
[{"$nulls":4},{"v":0,"d":"0.00"},0,18,0,0,{"v":0,"d":"0.0"},{"v":0,"d":"0.00"},0,18,0,0,{"v":0,"d":"0.0"},{"v":0,"d":"0.00"},0,18,0,0,{"v":0,"d":"0.0"},{"v":0,"d":"0.00"},0,18,0,0,{"v":0,"d":"0.0"},{"v":0,"d":"0.00"},0,18,0,0,{"v":0,"d":"0.00"},0,18,0,0,{"$nulls":3},{"$f":"IFERROR(IF(ISTEXT(AO$17), INDEX(gymnasts, SMALL(IF(AO$17=club, ROW(club)-MIN(ROW(club))+1, \"\"), ROW()-11)), \"\"), \"\")","v":0},{"$nulls":3},{"$f":"IFERROR(IF(ISTEXT(AS$17), INDEX(gymnasts, SMALL(IF(AS$17=club, ROW(club)-MIN(ROW(club))+1, \"\"), ROW()-11)), \"\"), \"\")","v":0},{"$nulls":3},{"$f":"IFERROR(IF(ISTEXT(AW$17), INDEX(gymnasts, SMALL(IF(AW$17=club, ROW(club)-MIN(ROW(club))+1, \"\"), ROW()-11)), \"\"), \"\")","v":0}]
[{"$nulls":4},{"v":0,"d":"0.00"},0,19,0,0,{"v":0,"d":"0.0"},{"v":0,"d":"0.00"},0,19,0,0,{"v":0,"d":"0.0"},{"v":0,"d":"0.00"},0,19,0,0,{"v":0,"d":"0.0"},{"v":0,"d":"0.00"},0,19,0,0,{"v":0,"d":"0.0"},{"v":0,"d":"0.00"},0,19,0,0,{"v":0,"d":"0.00"},0,19,0,0]
[{"$nulls":4},{"v":0,"d":"0.00"},0,20,0,0,{"v":0,"d":"0.0"},{"v":0,"d":"0.00"},0,20,0,0,{"v":0,"d":"0.0"},{"v":0,"d":"0.00"},0,20,0,0,{"v":0,"d":"0.0"},{"v":0,"d":"0.00"},0,20,0,0,{"v":0,"d":"0.0"},{"v":0,"d":"0.00"},0,20,0,0,{"v":0,"d":"0.00"},0,20,0,0]
[{"$nulls":4},{"v":0,"d":"0.00"},0,21,0,0,{"v":0,"d":"0.0"},{"v":0,"d":"0.00"},0,21,0,0,{"v":0,"d":"0.0"},{"v":0,"d":"0.00"},0,21,0,0,{"v":0,"d":"0.0"},{"v":0,"d":"0.00"},0,21,0,0,{"v":0,"d":"0.0"},{"v":0,"d":"0.00"},0,21,0,0,{"v":0,"d":"0.00"},0,21,0,0]
[{"$nulls":4},{"v":0,"d":"0.00"},0,22,0,0,{"v":0,"d":"0.0"},{"v":0,"d":"0.00"},0,22,0,0,{"v":0,"d":"0.0"},{"v":0,"d":"0.00"},0,22,0,0,{"v":0,"d":"0.0"},{"v":0,"d":"0.00"},0,22,0,0,{"v":0,"d":"0.0"},{"v":0,"d":"0.00"},0,22,0,0,{"v":0,"d":"0.00"},0,22,0,0]
[{"$nulls":4},{"v":0,"d":"0.00"},0,23,0,0,{"v":0,"d":"0.0"},{"v":0,"d":"0.00"},0,23,0,0,{"v":0,"d":"0.0"},{"v":0,"d":"0.00"},0,23,0,0,{"v":0,"d":"0.0"},{"v":0,"d":"0.00"},0,23,0,0,{"v":0,"d":"0.0"},{"v":0,"d":"0.00"},0,23,0,0,{"v":0,"d":"0.00"},0,23,0,0]
[{"$nulls":4},{"v":0,"d":"0.00"},0,24,0,0,{"v":0,"d":"0.0"},{"v":0,"d":"0.00"},0,24,0,0,{"v":0,"d":"0.0"},{"v":0,"d":"0.00"},0,24,0,0,{"v":0,"d":"0.0"},{"v":0,"d":"0.00"},0,24,0,0,{"v":0,"d":"0.0"},{"v":0,"d":"0.00"},0,24,0,0,{"v":0,"d":"0.00"},0,24,0,0]
[{"$nulls":4},{"v":0,"d":"0.00"},0,25,0,0,{"v":0,"d":"0.0"},{"v":0,"d":"0.00"},0,25,0,0,{"v":0,"d":"0.0"},{"v":0,"d":"0.00"},0,25,0,0,{"v":0,"d":"0.0"},{"v":0,"d":"0.00"},0,25,0,0,{"v":0,"d":"0.0"},{"v":0,"d":"0.00"},0,25,0,0,{"v":0,"d":"0.00"},0,25,0,0]
[{"$nulls":4},{"v":0,"d":"0.00"},0,26,0,0,{"v":0,"d":"0.0"},{"v":0,"d":"0.00"},0,26,0,0,{"v":0,"d":"0.0"},{"v":0,"d":"0.00"},0,26,0,0,{"v":0,"d":"0.0"},{"v":0,"d":"0.00"},0,26,0,0,{"v":0,"d":"0.0"},{"v":0,"d":"0.00"},0,26,0,0,{"v":0,"d":"0.00"},0,26,0,0]
[{"$nulls":4},{"v":0,"d":"0.00"},0,27,0,0,{"v":0,"d":"0.0"},{"v":0,"d":"0.00"},0,27,0,0,{"v":0,"d":"0.0"},{"v":0,"d":"0.00"},0,27,0,0,{"v":0,"d":"0.0"},{"v":0,"d":"0.00"},0,27,0,0,{"v":0,"d":"0.0"},{"v":0,"d":"0.00"},0,27,0,0,{"v":0,"d":"0.00"},0,27,0,0]
[{"$nulls":4},{"v":0,"d":"0.00"},0,28,0,0,{"v":0,"d":"0.0"},{"v":0,"d":"0.00"},0,28,0,0,{"v":0,"d":"0.0"},{"v":0,"d":"0.00"},0,28,0,0,{"v":0,"d":"0.0"},{"v":0,"d":"0.00"},0,28,0,0,{"v":0,"d":"0.0"},{"v":0,"d":"0.00"},0,28,0,0,{"v":0,"d":"0.00"},0,28,0,0]
[{"$nulls":4},{"v":0,"d":"0.00"},0,29,0,0,{"v":0,"d":"0.0"},{"v":0,"d":"0.00"},0,29,0,0,{"v":0,"d":"0.0"},{"v":0,"d":"0.00"},0,29,0,0,{"v":0,"d":"0.0"},{"v":0,"d":"0.00"},0,29,0,0,{"v":0,"d":"0.0"},{"v":0,"d":"0.00"},0,29,0,0,{"v":0,"d":"0.00"},0,29,0,0]
[{"$nulls":4},{"v":0,"d":"0.00"},0,30,0,0,{"v":0,"d":"0.0"},{"v":0,"d":"0.00"},0,30,0,0,{"v":0,"d":"0.0"},{"v":0,"d":"0.00"},0,30,0,0,{"v":0,"d":"0.0"},{"v":0,"d":"0.00"},0,30,0,0,{"v":0,"d":"0.0"},{"v":0,"d":"0.00"},0,30,0,0,{"v":0,"d":"0.00"},0,30,0,0]
[{"$nulls":4},{"v":0,"d":"0.00"},0,31,0,0,{"v":0,"d":"0.0"},{"v":0,"d":"0.00"},0,31,0,0,{"v":0,"d":"0.0"},{"v":0,"d":"0.00"},0,31,0,0,{"v":0,"d":"0.0"},{"v":0,"d":"0.00"},0,31,0,0,{"v":0,"d":"0.0"},{"v":0,"d":"0.00"},0,31,0,0,{"v":0,"d":"0.00"},0,31,0,0]
[{"$nulls":4},{"v":0,"d":"0.00"},0,32,0,0,{"v":0,"d":"0.0"},{"v":0,"d":"0.00"},0,32,0,0,{"v":0,"d":"0.0"},{"v":0,"d":"0.00"},0,32,0,0,{"v":0,"d":"0.0"},{"v":0,"d":"0.00"},0,32,0,0,{"v":0,"d":"0.0"},{"v":0,"d":"0.00"},0,32,0,0,{"v":0,"d":"0.00"},0,32,0,0]
[{"$nulls":4},{"v":0,"d":"0.00"},0,33,0,0,{"v":0,"d":"0.0"},{"v":0,"d":"0.00"},0,33,0,0,{"v":0,"d":"0.0"},{"v":0,"d":"0.00"},0,33,0,0,{"v":0,"d":"0.0"},{"v":0,"d":"0.00"},0,33,0,0,{"v":0,"d":"0.0"},{"v":0,"d":"0.00"},0,33,0,0,{"v":0,"d":"0.00"},0,33,0,0]
[{"$nulls":4},{"v":0,"d":"0.00"},0,34,0,0,{"v":0,"d":"0.0"},{"v":0,"d":"0.00"},0,34,0,0,{"v":0,"d":"0.0"},{"v":0,"d":"0.00"},0,34,0,0,{"v":0,"d":"0.0"},{"v":0,"d":"0.00"},0,34,0,0,{"v":0,"d":"0.0"},{"v":0,"d":"0.00"},0,34,0,0,{"v":0,"d":"0.00"},0,34,0,0]
[{"$nulls":4},{"v":0,"d":"0.00"},0,35,0,0,{"v":0,"d":"0.0"},{"v":0,"d":"0.00"},0,35,0,0,{"v":0,"d":"0.0"},{"v":0,"d":"0.00"},0,35,0,0,{"v":0,"d":"0.0"},{"v":0,"d":"0.00"},0,35,0,0,{"v":0,"d":"0.0"},{"v":0,"d":"0.00"},0,35,0,0,{"v":0,"d":"0.00"},0,35,0,0]
[{"$nulls":4},{"v":0,"d":"0.00"},0,36,0,0,{"v":0,"d":"0.0"},{"v":0,"d":"0.00"},0,36,0,0,{"v":0,"d":"0.0"},{"v":0,"d":"0.00"},0,36,0,0,{"v":0,"d":"0.0"},{"v":0,"d":"0.00"},0,36,0,0,{"v":0,"d":"0.0"},{"v":0,"d":"0.00"},0,36,0,0,{"v":0,"d":"0.00"},0,36,0,0]
[{"$nulls":4},{"v":0,"d":"0.00"},0,37,0,0,{"v":0,"d":"0.0"},{"v":0,"d":"0.00"},0,37,0,0,{"v":0,"d":"0.0"},{"v":0,"d":"0.00"},0,37,0,0,{"v":0,"d":"0.0"},{"v":0,"d":"0.00"},0,37,0,0,{"v":0,"d":"0.0"},{"v":0,"d":"0.00"},0,37,0,0,{"v":0,"d":"0.00"},0,37,0,0]
[{"$nulls":4},{"v":0,"d":"0.00"},0,38,0,0,{"v":0,"d":"0.0"},{"v":0,"d":"0.00"},0,38,0,0,{"v":0,"d":"0.0"},{"v":0,"d":"0.00"},0,38,0,0,{"v":0,"d":"0.0"},{"v":0,"d":"0.00"},0,38,0,0,{"v":0,"d":"0.0"},{"v":0,"d":"0.00"},0,38,0,0,{"v":0,"d":"0.00"},0,38,0,0]
[{"$nulls":4},{"v":0,"d":"0.00"},0,39,0,0,{"v":0,"d":"0.0"},{"v":0,"d":"0.00"},0,39,0,0,{"v":0,"d":"0.0"},{"v":0,"d":"0.00"},0,39,0,0,{"v":0,"d":"0.0"},{"v":0,"d":"0.00"},0,39,0,0,{"v":0,"d":"0.0"},{"v":0,"d":"0.00"},0,39,0,0,{"v":0,"d":"0.00"},0,39,0,0]
[{"$nulls":4},{"v":0,"d":"0.00"},0,40,0,0,{"v":0,"d":"0.0"},{"v":0,"d":"0.00"},0,40,0,0,{"v":0,"d":"0.0"},{"v":0,"d":"0.00"},0,40,0,0,{"v":0,"d":"0.0"},{"v":0,"d":"0.00"},0,40,0,0,{"v":0,"d":"0.0"},{"v":0,"d":"0.00"},0,40,0,0,{"v":0,"d":"0.00"},0,40,0,0]
[{"$nulls":4},{"v":0,"d":"0.00"},0,41,0,0,{"v":0,"d":"0.0"},{"v":0,"d":"0.00"},0,41,0,0,{"v":0,"d":"0.0"},{"v":0,"d":"0.00"},0,41,0,0,{"v":0,"d":"0.0"},{"v":0,"d":"0.00"},0,41,0,0,{"v":0,"d":"0.0"},{"v":0,"d":"0.00"},0,41,0,0,{"v":0,"d":"0.00"},0,41,0,0]
[{"$nulls":4},{"v":0,"d":"0.00"},0,42,0,0,{"v":0,"d":"0.0"},{"v":0,"d":"0.00"},0,42,0,0,{"v":0,"d":"0.0"},{"v":0,"d":"0.00"},0,42,0,0,{"v":0,"d":"0.0"},{"v":0,"d":"0.00"},0,42,0,0,{"v":0,"d":"0.0"},{"v":0,"d":"0.00"},0,42,0,0,{"v":0,"d":"0.00"},0,42,0,0]
[{"$nulls":4},{"v":0,"d":"0.00"},0,43,0,0,{"v":0,"d":"0.0"},{"v":0,"d":"0.00"},0,43,0,0,{"v":0,"d":"0.0"},{"v":0,"d":"0.00"},0,43,0,0,{"v":0,"d":"0.0"},{"v":0,"d":"0.00"},0,43,0,0,{"v":0,"d":"0.0"},{"v":0,"d":"0.00"},0,43,0,0,{"v":0,"d":"0.00"},0,43,0,0]
[{"$nulls":4},{"v":0,"d":"0.00"},0,44,0,0,{"v":0,"d":"0.0"},{"v":0,"d":"0.00"},0,44,0,0,{"v":0,"d":"0.0"},{"v":0,"d":"0.00"},0,44,0,0,{"v":0,"d":"0.0"},{"v":0,"d":"0.00"},0,44,0,0,{"v":0,"d":"0.0"},{"v":0,"d":"0.00"},0,44,0,0,{"v":0,"d":"0.00"},0,44,0,0]
[{"$nulls":4},{"v":0,"d":"0.00"},0,45,0,0,{"v":0,"d":"0.0"},{"v":0,"d":"0.00"},0,45,0,0,{"v":0,"d":"0.0"},{"v":0,"d":"0.00"},0,45,0,0,{"v":0,"d":"0.0"},{"v":0,"d":"0.00"},0,45,0,0,{"v":0,"d":"0.0"},{"v":0,"d":"0.00"},0,45,0,0,{"v":0,"d":"0.00"},0,45,0,0]
[{"$nulls":4},{"v":0,"d":"0.00"},0,46,0,0,{"v":0,"d":"0.0"},{"v":0,"d":"0.00"},0,46,0,0,{"v":0,"d":"0.0"},{"v":0,"d":"0.00"},0,46,0,0,{"v":0,"d":"0.0"},{"v":0,"d":"0.00"},0,46,0,0,{"v":0,"d":"0.0"},{"v":0,"d":"0.00"},0,46,0,0,{"v":0,"d":"0.00"},0,46,0,0]
[{"$nulls":4},{"v":0,"d":"0.00"},0,47,0,0,{"v":0,"d":"0.0"},{"v":0,"d":"0.00"},0,47,0,0,{"v":0,"d":"0.0"},{"v":0,"d":"0.00"},0,47,0,0,{"v":0,"d":"0.0"},{"v":0,"d":"0.00"},0,47,0,0,{"v":0,"d":"0.0"},{"v":0,"d":"0.00"},0,47,0,0,{"v":0,"d":"0.00"},0,47,0,0]
[{"$nulls":4},{"v":0,"d":"0.00"},0,48,0,0,{"v":0,"d":"0.0"},{"v":0,"d":"0.00"},0,48,0,0,{"v":0,"d":"0.0"},{"v":0,"d":"0.00"},0,48,0,0,{"v":0,"d":"0.0"},{"v":0,"d":"0.00"},0,48,0,0,{"v":0,"d":"0.0"},{"v":0,"d":"0.00"},0,48,0,0,{"v":0,"d":"0.00"},0,48,0,0]
[{"$nulls":4},{"v":0,"d":"0.00"},0,49,0,0,{"v":0,"d":"0.0"},{"v":0,"d":"0.00"},0,49,0,0,{"v":0,"d":"0.0"},{"v":0,"d":"0.00"},0,49,0,0,{"v":0,"d":"0.0"},{"v":0,"d":"0.00"},0,49,0,0,{"v":0,"d":"0.0"},{"v":0,"d":"0.00"},0,49,0,0,{"v":0,"d":"0.00"},0,49,0,0]
[{"$nulls":4},{"v":0,"d":"0.00"},0,50,0,0,{"v":0,"d":"0.0"},{"v":0,"d":"0.00"},0,50,0,0,{"v":0,"d":"0.0"},{"v":0,"d":"0.00"},0,50,0,0,{"v":0,"d":"0.0"},{"v":0,"d":"0.00"},0,50,0,0,{"v":0,"d":"0.0"},{"v":0,"d":"0.00"},0,50,0,0,{"v":0,"d":"0.00"},0,50,0,0]
[{"$nulls":4},{"v":0,"d":"0.00"},0,51,0,0,{"v":0,"d":"0.0"},{"v":0,"d":"0.00"},0,51,0,0,{"v":0,"d":"0.0"},{"v":0,"d":"0.00"},0,51,0,0,{"v":0,"d":"0.0"},{"v":0,"d":"0.00"},0,51,0,0,{"v":0,"d":"0.0"},{"v":0,"d":"0.00"},0,51,0,0,{"v":0,"d":"0.00"},0,51,0,0]
[{"$nulls":4},{"v":0,"d":"0.00"},0,52,0,0,{"v":0,"d":"0.0"},{"v":0,"d":"0.00"},0,52,0,0,{"v":0,"d":"0.0"},{"v":0,"d":"0.00"},0,52,0,0,{"v":0,"d":"0.0"},{"v":0,"d":"0.00"},0,52,0,0,{"v":0,"d":"0.0"},{"v":0,"d":"0.00"},0,52,0,0,{"v":0,"d":"0.00"},0,52,0,0]
[{"$nulls":4},{"v":0,"d":"0.00"},0,53,0,0,{"v":0,"d":"0.0"},{"v":0,"d":"0.00"},0,53,0,0,{"v":0,"d":"0.0"},{"v":0,"d":"0.00"},0,53,0,0,{"v":0,"d":"0.0"},{"v":0,"d":"0.00"},0,53,0,0,{"v":0,"d":"0.0"},{"v":0,"d":"0.00"},0,53,0,0,{"v":0,"d":"0.00"},0,53,0,0]
[{"$nulls":4},{"v":0,"d":"0.00"},0,54,0,0,{"v":0,"d":"0.0"},{"v":0,"d":"0.00"},0,54,0,0,{"v":0,"d":"0.0"},{"v":0,"d":"0.00"},0,54,0,0,{"v":0,"d":"0.0"},{"v":0,"d":"0.00"},0,54,0,0,{"v":0,"d":"0.0"},{"v":0,"d":"0.00"},0,54,0,0,{"v":0,"d":"0.00"},0,54,0,0]
[{"$nulls":4},{"v":0,"d":"0.00"},0,55,0,0,{"v":0,"d":"0.0"},{"v":0,"d":"0.00"},0,55,0,0,{"v":0,"d":"0.0"},{"v":0,"d":"0.00"},0,55,0,0,{"v":0,"d":"0.0"},{"v":0,"d":"0.00"},0,55,0,0,{"v":0,"d":"0.0"},{"v":0,"d":"0.00"},0,55,0,0,{"v":0,"d":"0.00"},0,55,0,0]
[{"$nulls":4},{"v":0,"d":"0.00"},0,56,0,0,{"v":0,"d":"0.0"},{"v":0,"d":"0.00"},0,56,0,0,{"v":0,"d":"0.0"},{"v":0,"d":"0.00"},0,56,0,0,{"v":0,"d":"0.0"},{"v":0,"d":"0.00"},0,56,0,0,{"v":0,"d":"0.0"},{"v":0,"d":"0.00"},0,56,0,0,{"v":0,"d":"0.00"},0,56,0,0]
[{"$nulls":4},{"v":0,"d":"0.00"},0,57,0,0,{"v":0,"d":"0.0"},{"v":0,"d":"0.00"},0,57,0,0,{"v":0,"d":"0.0"},{"v":0,"d":"0.00"},0,57,0,0,{"v":0,"d":"0.0"},{"v":0,"d":"0.00"},0,57,0,0,{"v":0,"d":"0.0"},{"v":0,"d":"0.00"},0,57,0,0,{"v":0,"d":"0.00"},0,57,0,0]
[{"$nulls":4},{"v":0,"d":"0.00"},0,58,0,0,{"v":0,"d":"0.0"},{"v":0,"d":"0.00"},0,58,0,0,{"v":0,"d":"0.0"},{"v":0,"d":"0.00"},0,58,0,0,{"v":0,"d":"0.0"},{"v":0,"d":"0.00"},0,58,0,0,{"v":0,"d":"0.0"},{"v":0,"d":"0.00"},0,58,0,0,{"v":0,"d":"0.00"},0,58,0,0]
[{"$nulls":4},{"v":0,"d":"0.00"},0,59,0,0,{"v":0,"d":"0.0"},{"v":0,"d":"0.00"},0,59,0,0,{"v":0,"d":"0.0"},{"v":0,"d":"0.00"},0,59,0,0,{"v":0,"d":"0.0"},{"v":0,"d":"0.00"},0,59,0,0,{"v":0,"d":"0.0"},{"v":0,"d":"0.00"},0,59,0,0,{"v":0,"d":"0.00"},0,59,0,0]
[{"$nulls":4},{"v":0,"d":"0.00"},0,60,0,0,{"v":0,"d":"0.0"},{"v":0,"d":"0.00"},0,60,0,0,{"v":0,"d":"0.0"},{"v":0,"d":"0.00"},0,60,0,0,{"v":0,"d":"0.0"},{"v":0,"d":"0.00"},0,60,0,0,{"v":0,"d":"0.0"},{"v":0,"d":"0.00"},0,60,0,0,{"v":0,"d":"0.00"},0,60,0,0]
[{"$nulls":4},{"v":0,"d":"0.00"},0,61,0,0,{"v":0,"d":"0.0"},{"v":0,"d":"0.00"},0,61,0,0,{"v":0,"d":"0.0"},{"v":0,"d":"0.00"},0,61,0,0,{"v":0,"d":"0.0"},{"v":0,"d":"0.00"},0,61,0,0,{"v":0,"d":"0.0"},{"v":0,"d":"0.00"},0,61,0,0,{"v":0,"d":"0.00"},0,61,0,0]
[{"$nulls":4},{"v":0,"d":"0.00"},0,62,0,0,{"v":0,"d":"0.0"},{"v":0,"d":"0.00"},0,62,0,0,{"v":0,"d":"0.0"},{"v":0,"d":"0.00"},0,62,0,0,{"v":0,"d":"0.0"},{"v":0,"d":"0.00"},0,62,0,0,{"v":0,"d":"0.0"},{"v":0,"d":"0.00"},0,62,0,0,{"v":0,"d":"0.00"},0,62,0,0]
[null,"Teams"]
[null,{"$f":"IF(AND(COUNTIF(club,C67)>=3,COUNTIF(club,C67)<=5),\"TEAM\",IF(COUNTIF(club,C67)>5,\"Too Many!!!!!\",\"NO TEAM\"))","v":"NO TEAM"},null,null,{"$f":"IF($B67=\"NO TEAM\", 0, SUM(LARGE(IF(club=$C67, vault), ROW($1:$3))))","v":{"v":0,"d":"0.00"}},{"$nulls":5},{"$f":"IF($B67=\"NO TEAM\", 0, SUM(LARGE(IF(club=$C67, bars), ROW($1:$3))))","v":{"v":0,"d":"0.00"}},{"$nulls":5},{"$f":"IF($B67=\"NO TEAM\", 0, SUM(LARGE(IF(club=$C67, beam), ROW($1:$3))))","v":{"v":0,"d":"0.00"}},{"$nulls":5},{"$f":"IF($B67=\"NO TEAM\", 0, SUM(LARGE(IF(club=$C67, floor), ROW($1:$3))))","v":{"v":0,"d":"0.00"}},{"$nulls":5},{"$f":"IF($B67=\"NO TEAM\", 0, SUM(LARGE(IF(club=$C67, RandC), ROW($1:$3))))","v":{"v":0,"d":"0.00"}},{"$nulls":4},{"$f":"IF(B67=\"TEAM\", E67+K67+Q67+W67+AC67, 0)","v":{"v":0,"d":"0.00"}},{"$f":"VLOOKUP(AH67,$AK$67:$AL$81, 2,FALSE)","v":0},{"$f":"IF(ISNUMBER(AJ66), AJ66+1, 1)","v":1},{"$f":"LARGE(($AH$67:$AH$81), $AJ67)","v":0},{"$f":"IF(AK67=AK66, AL66, AL66+1)","v":0}]
[null,{"$f":"IF(AND(COUNTIF(club,C68)>=3,COUNTIF(club,C68)<=5),\"TEAM\",IF(COUNTIF(club,C68)>5,\"Too Many!!!!!\",\"NO TEAM\"))","v":"NO TEAM"},null,null,{"$f":"IF($B68=\"NO TEAM\", 0, SUM(LARGE(IF(club=$C68, vault), ROW($1:$3))))","v":{"v":0,"d":"0.00"}},{"$nulls":5},{"$f":"IF($B68=\"NO TEAM\", 0, SUM(LARGE(IF(club=$C68, bars), ROW($1:$3))))","v":{"v":0,"d":"0.00"}},{"$nulls":5},{"$f":"IF($B68=\"NO TEAM\", 0, SUM(LARGE(IF(club=$C68, beam), ROW($1:$3))))","v":{"v":0,"d":"0.00"}},{"$nulls":5},{"$f":"IF($B68=\"NO TEAM\", 0, SUM(LARGE(IF(club=$C68, floor), ROW($1:$3))))","v":{"v":0,"d":"0.00"}},{"$nulls":5},{"$f":"IF($B68=\"NO TEAM\", 0, SUM(LARGE(IF(club=$C68, RandC), ROW($1:$3))))","v":{"v":0,"d":"0.00"}},{"$nulls":4},{"$f":"IF(B68=\"TEAM\", E68+K68+Q68+W68+AC68, 0)","v":{"v":0,"d":"0.00"}},{"$f":"VLOOKUP(AH68,$AK$67:$AL$81, 2,FALSE)","v":0},{"$f":"IF(ISNUMBER(AJ67), AJ67+1, 1)","v":2},{"$f":"LARGE(($AH$67:$AH$81), $AJ68)","v":0},{"$f":"IF(AK68=AK67, AL67, AL67+1)","v":0}]
[null,{"$f":"IF(AND(COUNTIF(club,C69)>=3,COUNTIF(club,C69)<=5),\"TEAM\",IF(COUNTIF(club,C69)>5,\"Too Many!!!!!\",\"NO TEAM\"))","v":"NO TEAM"},null,null,{"$f":"IF($B69=\"NO TEAM\", 0, SUM(LARGE(IF(club=$C69, vault), ROW($1:$3))))","v":{"v":0,"d":"0.00"}},{"$nulls":5},{"$f":"IF($B69=\"NO TEAM\", 0, SUM(LARGE(IF(club=$C69, bars), ROW($1:$3))))","v":{"v":0,"d":"0.00"}},{"$nulls":5},{"$f":"IF($B69=\"NO TEAM\", 0, SUM(LARGE(IF(club=$C69, beam), ROW($1:$3))))","v":{"v":0,"d":"0.00"}},{"$nulls":5},{"$f":"IF($B69=\"NO TEAM\", 0, SUM(LARGE(IF(club=$C69, floor), ROW($1:$3))))","v":{"v":0,"d":"0.00"}},{"$nulls":5},{"$f":"IF($B69=\"NO TEAM\", 0, SUM(LARGE(IF(club=$C69, RandC), ROW($1:$3))))","v":{"v":0,"d":"0.00"}},{"$nulls":4},{"v":0,"d":"0.00"},0,3,0,0]
[null,{"$f":"IF(AND(COUNTIF(club,C70)>=3,COUNTIF(club,C70)<=5),\"TEAM\",IF(COUNTIF(club,C70)>5,\"Too Many!!!!!\",\"NO TEAM\"))","v":"NO TEAM"},null,null,{"$f":"IF($B70=\"NO TEAM\", 0, SUM(LARGE(IF(club=$C70, vault), ROW($1:$3))))","v":{"v":0,"d":"0.00"}},{"$nulls":5},{"$f":"IF($B70=\"NO TEAM\", 0, SUM(LARGE(IF(club=$C70, bars), ROW($1:$3))))","v":{"v":0,"d":"0.00"}},{"$nulls":5},{"$f":"IF($B70=\"NO TEAM\", 0, SUM(LARGE(IF(club=$C70, beam), ROW($1:$3))))","v":{"v":0,"d":"0.00"}},{"$nulls":5},{"$f":"IF($B70=\"NO TEAM\", 0, SUM(LARGE(IF(club=$C70, floor), ROW($1:$3))))","v":{"v":0,"d":"0.00"}},{"$nulls":5},{"$f":"IF($B70=\"NO TEAM\", 0, SUM(LARGE(IF(club=$C70, RandC), ROW($1:$3))))","v":{"v":0,"d":"0.00"}},{"$nulls":4},{"v":0,"d":"0.00"},0,4,0,0]
[null,{"$f":"IF(AND(COUNTIF(club,C71)>=3,COUNTIF(club,C71)<=5),\"TEAM\",IF(COUNTIF(club,C71)>5,\"Too Many!!!!!\",\"NO TEAM\"))","v":"NO TEAM"},null,null,{"$f":"IF($B71=\"NO TEAM\", 0, SUM(LARGE(IF(club=$C71, vault), ROW($1:$3))))","v":{"v":0,"d":"0.00"}},{"$nulls":5},{"$f":"IF($B71=\"NO TEAM\", 0, SUM(LARGE(IF(club=$C71, bars), ROW($1:$3))))","v":{"v":0,"d":"0.00"}},{"$nulls":5},{"$f":"IF($B71=\"NO TEAM\", 0, SUM(LARGE(IF(club=$C71, beam), ROW($1:$3))))","v":{"v":0,"d":"0.00"}},{"$nulls":5},{"$f":"IF($B71=\"NO TEAM\", 0, SUM(LARGE(IF(club=$C71, floor), ROW($1:$3))))","v":{"v":0,"d":"0.00"}},{"$nulls":5},{"$f":"IF($B71=\"NO TEAM\", 0, SUM(LARGE(IF(club=$C71, RandC), ROW($1:$3))))","v":{"v":0,"d":"0.00"}},{"$nulls":4},{"v":0,"d":"0.00"},0,5,0,0]
[null,{"$f":"IF(AND(COUNTIF(club,C72)>=3,COUNTIF(club,C72)<=5),\"TEAM\",IF(COUNTIF(club,C72)>5,\"Too Many!!!!!\",\"NO TEAM\"))","v":"NO TEAM"},null,null,{"$f":"IF($B72=\"NO TEAM\", 0, SUM(LARGE(IF(club=$C72, vault), ROW($1:$3))))","v":{"v":0,"d":"0.00"}},{"$nulls":5},{"$f":"IF($B72=\"NO TEAM\", 0, SUM(LARGE(IF(club=$C72, bars), ROW($1:$3))))","v":{"v":0,"d":"0.00"}},{"$nulls":5},{"$f":"IF($B72=\"NO TEAM\", 0, SUM(LARGE(IF(club=$C72, beam), ROW($1:$3))))","v":{"v":0,"d":"0.00"}},{"$nulls":5},{"$f":"IF($B72=\"NO TEAM\", 0, SUM(LARGE(IF(club=$C72, floor), ROW($1:$3))))","v":{"v":0,"d":"0.00"}},{"$nulls":5},{"$f":"IF($B72=\"NO TEAM\", 0, SUM(LARGE(IF(club=$C72, RandC), ROW($1:$3))))","v":{"v":0,"d":"0.00"}},{"$nulls":4},{"v":0,"d":"0.00"},0,6,0,0]
[null,{"$f":"IF(AND(COUNTIF(club,C73)>=3,COUNTIF(club,C73)<=5),\"TEAM\",IF(COUNTIF(club,C73)>5,\"Too Many!!!!!\",\"NO TEAM\"))","v":"NO TEAM"},null,null,{"$f":"IF($B73=\"NO TEAM\", 0, SUM(LARGE(IF(club=$C73, vault), ROW($1:$3))))","v":{"v":0,"d":"0.00"}},{"$nulls":5},{"$f":"IF($B73=\"NO TEAM\", 0, SUM(LARGE(IF(club=$C73, bars), ROW($1:$3))))","v":{"v":0,"d":"0.00"}},{"$nulls":5},{"$f":"IF($B73=\"NO TEAM\", 0, SUM(LARGE(IF(club=$C73, beam), ROW($1:$3))))","v":{"v":0,"d":"0.00"}},{"$nulls":5},{"$f":"IF($B73=\"NO TEAM\", 0, SUM(LARGE(IF(club=$C73, floor), ROW($1:$3))))","v":{"v":0,"d":"0.00"}},{"$nulls":5},{"$f":"IF($B73=\"NO TEAM\", 0, SUM(LARGE(IF(club=$C73, RandC), ROW($1:$3))))","v":{"v":0,"d":"0.00"}},{"$nulls":4},{"v":0,"d":"0.00"},0,7,0,0]
[null,{"$f":"IF(AND(COUNTIF(club,C74)>=3,COUNTIF(club,C74)<=5),\"TEAM\",IF(COUNTIF(club,C74)>5,\"Too Many!!!!!\",\"NO TEAM\"))","v":"NO TEAM"},null,null,{"$f":"IF($B74=\"NO TEAM\", 0, SUM(LARGE(IF(club=$C74, vault), ROW($1:$3))))","v":{"v":0,"d":"0.00"}},{"$nulls":5},{"$f":"IF($B74=\"NO TEAM\", 0, SUM(LARGE(IF(club=$C74, bars), ROW($1:$3))))","v":{"v":0,"d":"0.00"}},{"$nulls":5},{"$f":"IF($B74=\"NO TEAM\", 0, SUM(LARGE(IF(club=$C74, beam), ROW($1:$3))))","v":{"v":0,"d":"0.00"}},{"$nulls":5},{"$f":"IF($B74=\"NO TEAM\", 0, SUM(LARGE(IF(club=$C74, floor), ROW($1:$3))))","v":{"v":0,"d":"0.00"}},{"$nulls":5},{"$f":"IF($B74=\"NO TEAM\", 0, SUM(LARGE(IF(club=$C74, RandC), ROW($1:$3))))","v":{"v":0,"d":"0.00"}},{"$nulls":4},{"v":0,"d":"0.00"},0,8,0,0]
[null,{"$f":"IF(AND(COUNTIF(club,C75)>=3,COUNTIF(club,C75)<=5),\"TEAM\",IF(COUNTIF(club,C75)>5,\"Too Many!!!!!\",\"NO TEAM\"))","v":"NO TEAM"},null,null,{"$f":"IF($B75=\"NO TEAM\", 0, SUM(LARGE(IF(club=$C75, vault), ROW($1:$3))))","v":{"v":0,"d":"0.00"}},{"$nulls":5},{"$f":"IF($B75=\"NO TEAM\", 0, SUM(LARGE(IF(club=$C75, bars), ROW($1:$3))))","v":{"v":0,"d":"0.00"}},{"$nulls":5},{"$f":"IF($B75=\"NO TEAM\", 0, SUM(LARGE(IF(club=$C75, beam), ROW($1:$3))))","v":{"v":0,"d":"0.00"}},{"$nulls":5},{"$f":"IF($B75=\"NO TEAM\", 0, SUM(LARGE(IF(club=$C75, floor), ROW($1:$3))))","v":{"v":0,"d":"0.00"}},{"$nulls":5},{"$f":"IF($B75=\"NO TEAM\", 0, SUM(LARGE(IF(club=$C75, RandC), ROW($1:$3))))","v":{"v":0,"d":"0.00"}},{"$nulls":4},{"v":0,"d":"0.00"},0,9,0,0]
[null,{"$f":"IF(AND(COUNTIF(club,C76)>=3,COUNTIF(club,C76)<=5),\"TEAM\",IF(COUNTIF(club,C76)>5,\"Too Many!!!!!\",\"NO TEAM\"))","v":"NO TEAM"},null,null,{"$f":"IF($B76=\"NO TEAM\", 0, SUM(LARGE(IF(club=$C76, vault), ROW($1:$3))))","v":{"v":0,"d":"0.00"}},{"$nulls":5},{"$f":"IF($B76=\"NO TEAM\", 0, SUM(LARGE(IF(club=$C76, bars), ROW($1:$3))))","v":{"v":0,"d":"0.00"}},{"$nulls":5},{"$f":"IF($B76=\"NO TEAM\", 0, SUM(LARGE(IF(club=$C76, beam), ROW($1:$3))))","v":{"v":0,"d":"0.00"}},{"$nulls":5},{"$f":"IF($B76=\"NO TEAM\", 0, SUM(LARGE(IF(club=$C76, floor), ROW($1:$3))))","v":{"v":0,"d":"0.00"}},{"$nulls":5},{"$f":"IF($B76=\"NO TEAM\", 0, SUM(LARGE(IF(club=$C76, RandC), ROW($1:$3))))","v":{"v":0,"d":"0.00"}},{"$nulls":4},{"v":0,"d":"0.00"},0,10,0,0]
[null,{"$f":"IF(AND(COUNTIF(club,C77)>=3,COUNTIF(club,C77)<=5),\"TEAM\",IF(COUNTIF(club,C77)>5,\"Too Many!!!!!\",\"NO TEAM\"))","v":"NO TEAM"},null,null,{"$f":"IF($B77=\"NO TEAM\", 0, SUM(LARGE(IF(club=$C77, vault), ROW($1:$3))))","v":{"v":0,"d":"0.00"}},{"$nulls":5},{"$f":"IF($B77=\"NO TEAM\", 0, SUM(LARGE(IF(club=$C77, bars), ROW($1:$3))))","v":{"v":0,"d":"0.00"}},{"$nulls":5},{"$f":"IF($B77=\"NO TEAM\", 0, SUM(LARGE(IF(club=$C77, beam), ROW($1:$3))))","v":{"v":0,"d":"0.00"}},{"$nulls":5},{"$f":"IF($B77=\"NO TEAM\", 0, SUM(LARGE(IF(club=$C77, floor), ROW($1:$3))))","v":{"v":0,"d":"0.00"}},{"$nulls":5},{"$f":"IF($B77=\"NO TEAM\", 0, SUM(LARGE(IF(club=$C77, RandC), ROW($1:$3))))","v":{"v":0,"d":"0.00"}},{"$nulls":4},{"v":0,"d":"0.00"},0,11,0,0]
[null,{"$f":"IF(AND(COUNTIF(club,C78)>=3,COUNTIF(club,C78)<=5),\"TEAM\",IF(COUNTIF(club,C78)>5,\"Too Many!!!!!\",\"NO TEAM\"))","v":"NO TEAM"},null,null,{"$f":"IF($B78=\"NO TEAM\", 0, SUM(LARGE(IF(club=$C78, vault), ROW($1:$3))))","v":{"v":0,"d":"0.00"}},{"$nulls":5},{"$f":"IF($B78=\"NO TEAM\", 0, SUM(LARGE(IF(club=$C78, bars), ROW($1:$3))))","v":{"v":0,"d":"0.00"}},{"$nulls":5},{"$f":"IF($B78=\"NO TEAM\", 0, SUM(LARGE(IF(club=$C78, beam), ROW($1:$3))))","v":{"v":0,"d":"0.00"}},{"$nulls":5},{"$f":"IF($B78=\"NO TEAM\", 0, SUM(LARGE(IF(club=$C78, floor), ROW($1:$3))))","v":{"v":0,"d":"0.00"}},{"$nulls":5},{"$f":"IF($B78=\"NO TEAM\", 0, SUM(LARGE(IF(club=$C78, RandC), ROW($1:$3))))","v":{"v":0,"d":"0.00"}},{"$nulls":4},{"v":0,"d":"0.00"},0,12,0,0]
[null,{"$f":"IF(AND(COUNTIF(club,C79)>=3,COUNTIF(club,C79)<=5),\"TEAM\",IF(COUNTIF(club,C79)>5,\"Too Many!!!!!\",\"NO TEAM\"))","v":"NO TEAM"},null,null,{"$f":"IF(B79=\"NO TEAM\", 0, SUM(LARGE(IF(club=$C79, vault), ROW($1:$3))))","v":{"v":0,"d":"0.00"}},{"$nulls":5},{"$f":"SUM(LARGE(IF(club=$C79, bars), ROW($1:$3)))","v":{"v":0,"d":"0.00"}},{"$nulls":5},{"$f":"SUM(LARGE(IF(club=$C79, beam), ROW($1:$3)))","v":{"v":0,"d":"0.00"}},{"$nulls":5},{"$f":"SUM(LARGE(IF(club=$C79, floor), ROW($1:$3)))","v":{"v":0,"d":"0.00"}},{"$nulls":5},{"$f":"IF($B79=\"NO TEAM\", 0, SUM(LARGE(IF(club=$C79, RandC), ROW($1:$3))))","v":{"v":0,"d":"0.00"}},{"$nulls":4},{"v":0,"d":"0.00"},0,13,0,0]
[null,{"$f":"IF(AND(COUNTIF(club,C80)>=3,COUNTIF(club,C80)<=5),\"TEAM\",IF(COUNTIF(club,C80)>5,\"Too Many!!!!!\",\"NO TEAM\"))","v":"NO TEAM"},null,null,{"$f":"IF(B80=\"NO TEAM\", 0, SUM(LARGE(IF(club=$C80, vault), ROW($1:$3))))","v":{"v":0,"d":"0.00"}},{"$nulls":5},{"$f":"SUM(LARGE(IF(club=$C80, bars), ROW($1:$3)))","v":{"v":0,"d":"0.00"}},{"$nulls":5},{"$f":"SUM(LARGE(IF(club=$C80, beam), ROW($1:$3)))","v":{"v":0,"d":"0.00"}},{"$nulls":5},{"$f":"SUM(LARGE(IF(club=$C80, floor), ROW($1:$3)))","v":{"v":0,"d":"0.00"}},{"$nulls":5},{"$f":"IF($B80=\"NO TEAM\", 0, SUM(LARGE(IF(club=$C80, RandC), ROW($1:$3))))","v":{"v":0,"d":"0.00"}},{"$nulls":4},{"v":0,"d":"0.00"},0,14,0,0]
[null,{"$f":"IF(AND(COUNTIF(club,C81)>=3,COUNTIF(club,C81)<=5),\"TEAM\",IF(COUNTIF(club,C81)>5,\"Too Many!!!!!\",\"NO TEAM\"))","v":"NO TEAM"},null,null,{"$f":"IF(B81=\"NO TEAM\", 0, SUM(LARGE(IF(club=$C81, vault), ROW($1:$3))))","v":{"v":0,"d":"0.00"}},{"$nulls":5},{"$f":"SUM(LARGE(IF(club=$C81, bars), ROW($1:$3)))","v":{"v":0,"d":"0.00"}},{"$nulls":5},{"$f":"SUM(LARGE(IF(club=$C81, beam), ROW($1:$3)))","v":{"v":0,"d":"0.00"}},{"$nulls":5},{"$f":"SUM(LARGE(IF(club=$C81, floor), ROW($1:$3)))","v":{"v":0,"d":"0.00"}},{"$nulls":5},{"$f":"IF($B81=\"NO TEAM\", 0, SUM(LARGE(IF(club=$C81, RandC), ROW($1:$3))))","v":{"v":0,"d":"0.00"}},{"$nulls":4},{"v":0,"d":"0.00"},0,15,0,0]